{"text_format":"3","workbook":"xlsx","n_sheets":29,"sheets":["Data","ABS","ACOS","ACOSH","AGGREGATE","ASIN","ASINH","ATAN","ATAN2","ATANH","CEILING","CEILING.PRECISE","COMBIN","COS","COSH","DEGREES","EVEN","EXP","FACT","smartart","Border","chart","OLE","formula","textbox","object","wordart","consume","Sheet1"],"not_rendered":{"charts":10,"images":2,"defined_names":10,"comments":1},"read":"whole","date_system":"1900"}

{"sheet":"Data","index":0,"n_rows":0,"n_cols":0,"rows_kept":0}

{"sheet":"ABS","index":1,"n_rows":53,"n_cols":8,"rows_kept":53}
[{"$f":"SUM(A3:A5)","v":0},{"$f":"SUM(B3:B5)","v":0},{"$f":"SUM(C3:C5)","v":0},"Total"]
["Failed","Error","NotSupport","Verification Area"]
[{"$f":"COUNTIF(INDIRECT(D3),\"=false\")","v":0},{"$f":"COUNTIF(INDIRECT(D3),\"=Error\")","v":0},{"$f":"COUNTIF(INDIRECT(D3),\"=NSup\")","v":0},"E12:E53"]
[]
[]
[]
[]
[]
["ABS(number)"]
[]
["Data",null,"Formula","Expected","Check","Mask","Comments","Description"]
[null,null,{"$f":"ABS(1)","v":1},1,{"$f":"IF(F12=0,IF(ISERR(C12),\"Error\", IF(C12=D12,TRUE,FALSE)),\"NSup\")","v":true}]
[null,null,{"$f":"ABS(1.23987349283742E+24)","v":1.23987349283742e+24},{"v":1.23987349283742e+24,"d":"1.24E+24"},true,null,null,"Scientific"]
[null,null,12.34543,12.34543,true,null,null,"Decimal"]
[null,null,{"$f":"ABS(\"-12\")","v":12},12,true,null,null,"Text - Negative number"]
[null,null,{"$f":"ABS(\"10000.234\")","v":10000.234},10000.234,true,null,null,"Text"]
[null,null,{"$f":"ABS(-1.33333333333333)","v":1.33333333333333},1.3333333333333333,true,null,null,"Fraction"]
[394858.2392,null,{"$f":"ABS(A18)","v":394858.2392},394858.2392,true]
[-1.36913,null,1.36913,1.36913,true]
[173.847849,null,173.847849,173.847849,true]
[-0.759924,null,0.759924,0.759924,true]
[0.020063216,null,0.020063216,0.020063216,true]
[-35.3555,null,35.3555,35.3555,true]
[417.3,null,417.3,417.3,true]
[-1400.4,null,1400.4,1400.4,true]
[7789593.660171,null,7789593.660171,7789593.660171,true]
[-41069.9476859,null,41069.9476859,41069.9476859,true]
[1,null,1,1,true]
[-3.60572,null,3.60572,3.60572,true]
[2.5,null,2.5,2.5,true]
[-0.56602,null,0.56602,0.56602,true]
[1.16,null,1.16,1.16,true]
[-2,null,2,2,true]
[22.43,null,22.43,22.43,true]
[-4.6369,null,4.6369,4.6369,true]
[{"v":0.381676,"d":"$0.38"},null,0.381676,0.381676,true,null,null,"Currency"]
[{"v":-24.94692,"d":"($24.95)"},null,24.94692,24.94692,true]
[{"v":1.22469659,"d":"$1.22"},null,1.22469659,1.22469659,true]
[{"v":-0.668,"d":"($0.67)"},null,0.668,0.668,true]
[{"v":1.64,"d":"164.00%"},null,1.64,1.64,true,null,null,"Percentage"]
[{"v":-0.55028,"d":"-55.03%"},null,0.55028,0.55028,true]
[{"v":125,"d":"12500.00%"},null,125,125,true]
[{"v":0,"d":"0.00%"},null,0,0,true]
[0.9285,null,0.9285,0.9285,true,null,null,"Fraction"]
[-0.56,null,0.56,0.56,true]
[21.26879,null,21.26879,21.26879,true]
[-1.730056,null,1.730056,1.730056,true]
["15302.9001",null,15302.9001,15302.9001,true,null,null,"Text"]
["-111.6926",null,111.6926,111.6926,true]
["10.77633",null,10.77633,10.77633,true]
["-181549591913735",null,181549591913735,181549591913735,true]
["93.192",null,93.192,93.192,true]
["-4.4",null,4.4,4.4,true]

{"sheet":"ACOS","index":2,"n_rows":203,"n_cols":8,"rows_kept":203}
[{"$f":"SUM(A3:A5)","v":0},{"$f":"SUM(B3:B5)","v":3},{"$f":"SUM(C3:C5)","v":0},"Total"]
["Failed","Error","NotSupport","Verification Area"]
[{"$f":"COUNTIF(INDIRECT(D3),\"=false\")","v":0},{"$f":"COUNTIF(INDIRECT(D3),\"=Error\")","v":3},{"$f":"COUNTIF(INDIRECT(D3),\"=NSup\")","v":0},"E12:E203"]
[]
[]
[]
[]
[]
["ACOS(number)"]
[]
["Data",null,"Formula","Expected","Check","Mask","Comments","Description"]
[{"v":0,"d":"0.00"},{"$f":"C12/PI()*180","v":90},{"$f":"ACOS(A12)","v":1.5707963267948966},1.5707963267948966,{"$f":"IF(F12=0,IF(ISERR(C12),\"Error\", IF(C12=D12,TRUE,FALSE)),\"NSup\")","v":true}]
[1,0,{"$f":"ACOS(A13)","v":0},0,true]
[-1,180,{"$f":"ACOS(A14)","v":3.141592653589793},3.141592653589793,true]
["0.9986",3.032161497664887,{"$f":"ACOS(A15)","v":0.052921201586454636},0.052921201586454636,true,null,null,"random number between domain of definition"]
[null,11.478340954533579,{"$f":"ACOS(\"0.98\")","v":0.2003348423231197},0.2003348423231197,true,null,null,"text"]
["0.96463013",15.28420390102933,{"$f":"ACOS(A17)","v":0.26675968161912333},0.26675968161912333,true]
[0.9395,20.032243227675263,{"$f":"ACOS(A18)","v":0.3496286008832694},0.3496286008832694,true]
[null,23.07391806563096,{"$f":"ACOS(0.92)","v":0.4027158415806613},0.4027158415806613,true]
[0.91427612,23.8968652294052,{"$f":"ACOS(A20)","v":0.4170789791584708},0.4170789791584708,true]
[0.91,24.494648471419676,{"$f":"ACOS(A21)","v":0.4275122649448695},0.4275122649448695,true]
[0.86,30.683417108975814,{"$f":"ACOS(A22)","v":0.5355266543143877},0.5355266543143877,true]
[0.84,32.8598803788891,{"$f":"ACOS(A23)","v":0.5735131044230967},0.5735131044230967,true]
[0.82,34.91520624744419,{"$f":"ACOS(A24)","v":0.609385308030795},0.609385308030795,true]
[null,37.06996753472696,{"$f":"ACOS(0.7979)","v":0.6469929870883909},0.6469929870883909,true]
[0.7734,39.339804583646384,{"$f":"ACOS(A26)","v":0.6866091170757864},0.6866091170757864,true]
[0.7649,40.10190360678971,0.69991025425587,0.69991025425587,true]
[0.74,42.26858442957247,0.7377259684532488,0.7377259684532488,true]
[0.7004,45.540895127509955,0.7948385642804915,0.7948385642804915,true]
[0.65,49.45839812649548,0.863211890069541,0.863211890069541,true]
[0.6306,50.90559666721682,0.8884702695351856,0.8884702695351856,true]
[0.6129,52.200511473242784,0.9110707964331625,0.9110707964331625,true]
[0.60498047,52.77256347578251,0.9210549873701076,0.9210549873701076,true]
[0.58,54.54945736082459,0.9520676361226456,0.9520676361226456,true]
[0.57,55.24977424631754,0.9642904715818097,0.9642904715818097,true]
[0.561,55.87501734925969,0.9752030223535361,0.9752030223535361,true]
[0.56,55.94420225743209,0.9764105267938342,0.9764105267938342,true]
[0.55,56.63298703076824,0.9884320889261531,0.9884320889261531,true]
[0.54040527,57.28876840742561,0.9998776331220851,0.9998776331220851,true]
[0.53125,57.910048743719685,1.0107210205683144,1.0107210205683144,true]
[0.53,57.994545172235746,1.0121957614520958,1.0121957614520958,true]
[0.5,60,1.0471975511965976,1.0471975511965976,true]
[0.4968,60.211485431462926,1.0508886682956267,1.0508886682956267,true]
[0.48284912,{"$f":"C44/PI()*180","v":61.12835153928252},1.0668910006770238,1.0668910006770238,{"$f":"IF(F44=0,IF(ISERR(C44),\"Error\", IF(C44=D44,TRUE,FALSE)),\"NSup\")","v":true}]
[0.47,61.965703465118715,1.0815055487807808,1.0815055487807808,true]
[0.44,63.8961188626601,1.1151976533990733,1.1151976533990733,true]
[0.43,64.53243985752762,1.1263035498590774,1.1263035498590774,true]
[0.41955566,65.19346237014278,1.1378405691340179,1.1378405691340179,true]
[0.40579224,66.05921749453826,1.1529508465707319,1.1529508465707319,true]
[0.3938,66.80884586993209,1.1660343298877303,1.1660343298877303,true]
[0.37,68.28438271673555,1.191787306098946,1.191787306098946,true]
[0.36895752,68.34866079540235,1.1929091702085375,1.1929091702085375,true]
[0.36,68.89980397590698,1.2025284333582564,1.2025284333582564,true]
[0.3438,69.89143948770574,1.219835738018844,1.219835738018844,true]
[0.33599854,70.36672991780269,1.2281311209272558,1.2281311209272558,true]
[0.32,71.33707511505752,1.2450668395002664,1.2450668395002664,true]
[0.3048,72.25386816398034,1.2610678967633673,1.2610678967633673,true]
[0.29208374,73.01725224516771,{"$f":"ACOS(A58)","v":1.2743914624373982},1.2743914624373982,true]
[0.29,73.14204397750285,1.276569489045914,1.276569489045914,true]
[0.2613,74.8527864709607,1.306427578210531,1.306427578210531,true]
[0.25,75.52248781407009,1.318116071652818,1.318116071652818,true]
[0.2,78.4630409671845,1.3694384060045657,1.3694384060045657,true]
[0.17,80.21218094328601,1.399966657665792,1.399966657665792,true]
[0.13522339,82.22846235621411,1.4351574069681505,1.4351574069681505,true]
[0.13,82.53040768358306,1.440427347091751,1.440427347091751,true]
[0.10861206,83.76468690480027,1.4619695833909427,1.4619695833909427,true]
[0.09,84.83639290915362,1.4806743817803012,1.4806743817803012,true]
[0.08,85.41143426421417,1.4907107467612375,1.4907107467612375,true]
[0.07235718,85.85061285441152,1.4983758591644483,1.4983758591644483,true]
[0.05,87.13401601740114,1.5207754699891265,1.5207754699891265,true]
[0.0189,88.91704528696735,1.5518952014024865,1.5518952014024865,true]
[-0.03,91.7191313208778,1.6008008286183735,1.6008008286183735,true]
[-0.06240845,93.57806600985492,1.6332453595205607,1.6332453595205607,true]
[-0.08,94.58856573578583,1.6508819068285556,1.6508819068285556,true]
[-0.0814,94.66904231332765,1.6522864880773969,1.6522864880773969,true]
[-0.1,{"$f":"C76/PI()*180","v":95.7391704772668},1.6709637479564563,1.6709637479564563,{"$f":"IF(F76=0,IF(ISERR(C76),\"Error\", IF(C76=D76,TRUE,FALSE)),\"NSup\")","v":true}]
[-0.116,96.66130686748525,1.6870580641182238,1.6870580641182238,true]
[-0.13,97.46959231641692,1.701165306498042,1.701165306498042,true]
[-0.15,98.62692655867863,1.7213645995715825,1.7213645995715825,true]
[-0.18,100.36975980547741,1.7517827780414443,1.7517827780414443,true]
[-0.24,103.88654036262899,1.8131621778338598,1.8131621778338598,true]
[-0.2604,105.09379804613341,1.8342327993310117,1.8342327993310117,true]
[-0.27,105.66426685137351,1.8441893582623698,1.8441893582623698,true]
[-0.29064941,106.89683924631173,1.8657018048232332,1.8657018048232332,true]
[-0.3,107.4576031237221,1.8754889808102941,1.8754889808102941,true]
[-0.32,108.66292488494247,1.8965258140895267,1.8965258140895267,true]
[-0.33,109.26877549148378,1.907099901948877,1.907099901948877,true]
[-0.33868408,109.79672138367461,1.9163142960399862,1.9163142960399862,true]
[-0.35,110.48731511472266,1.9283674304404068,1.9283674304404068,true]
[-0.36651611,111.50091652565379,{"$f":"ACOS(A90)","v":1.946058112364015},1.946058112364015,true]
[-0.37,111.71561728326445,1.9498053474908474,1.9498053474908474,true]
[-0.37,111.71561728326445,1.9498053474908474,1.9498053474908474,true]
[-0.39974976,113.56253570125062,1.9820401549004307,1.9820401549004307,true]
[-0.41,114.20483480145833,1.9932503889816524,1.9932503889816524,true]
[-0.4294,115.42948866318967,2.0146246310661278,2.0146246310661278,true]
[-0.4359,115.84257611031781,2.0218343671171715,2.0218343671171715,true]
[-0.44799805,116.61531328621113,2.0353211750890727,2.0353211750890727,true]
[-0.48,118.68540201411892,2.0714510391994847,2.0714510391994847,true]
[-0.49609375,119.74189934003877,2.089890396075302,2.089890396075302,true]
[-0.49963379,119.97577469752495,2.0939722911027143,2.0939722911027143,true]
[-0.51,120.66382974238596,2.1059811170704963,2.1059811170704963,true]
[-0.5305,122.03924403962911,2.129986625136393,2.129986625136393,true]
[-0.5384,122.57478619831076,2.139333599088626,2.139333599088626,true]
[-0.54394531,122.95261923852402,2.1459280296631675,2.1459280296631675,true]
[-0.5582,123.93140693023743,2.1630110975615615,2.1630110975615615,true]
[-0.56045532,124.08729200419464,2.1657318053568297,2.1657318053568297,true]
[-0.5678,124.59695510844716,2.174627104601971,2.174627104601971,true]
[-0.58,{"$f":"C108/PI()*180","v":125.4505426391754},2.1895250174671474,2.1895250174671474,{"$f":"IF(F108=0,IF(ISERR(C108),\"Error\", IF(C108=D108,TRUE,FALSE)),\"NSup\")","v":true}]
[-0.58,125.4505426391754,2.1895250174671474,2.1895250174671474,true]
[-0.61,127.58950296485685,2.226856917719819,2.226856917719819,true]
[-0.62,128.31613447366573,2.2395390299972684,2.2395390299972684,true]
[-0.64,129.79181949955725,2.2652945924214527,2.2652945924214527,true]
[-0.6575,131.10948613720635,2.2882922136921127,2.2882922136921127,true]
[-0.7182,135.906068372238,2.3720083665360834,2.3720083665360834,true]
[-0.74,137.73141557042754,2.4038666851365442,2.4038666851365442,true]
[-0.77203369,140.536865332865,2.452831020490371,2.452831020490371,true]
[-0.78,141.26057540214435,2.4654621440291318,2.4654621440291318,true]
[-0.80270386,143.38908325311314,2.502611614183086,2.502611614183086,true]
[-0.82980347,146.0785549121797,2.549551749772872,2.549551749772872,true]
[-0.85,148.2116693829484,2.586781620609722,2.586781620609722,true]
[-0.86,149.31658289102418,2.606065999275405,2.606065999275405,true]
[-0.91,155.50535152858035,{"$f":"ACOS(A122)","v":2.714080388644924},2.714080388644924,true]
[-0.91946411,156.84786379264372,2.7375116479012336,2.7375116479012336,true]
[-0.93,158.43481498475737,2.7652091712720654,2.7652091712720654,true]
[-0.9576,163.25569464696892,2.849349394220089,2.849349394220089,true]
[-0.97027588,165.99530046321973,2.897164535920453,2.897164535920453,true]
[-0.99,171.8903855440058,3.0000531802653656,3.0000531802653656,true]
[-1,180,3.141592653589793,3.141592653589793,true,null,null,"from -1 to 1"]
[-0.9990482215818578,177.5000000000002,3.0979594222899385,3.0979594222899385,true]
[-0.9961946980917455,175,3.0543261909900767,3.0543261909900767,true]
[-0.9914448613738104,172.50000000000003,3.010692959690219,3.010692959690219,true]
[-0.984807753012208,170.00000000000003,2.9670597283903604,2.9670597283903604,true]
[-0.9762960071199334,167.5,2.923426497090502,2.923426497090502,true]
[-0.9659258262890682,164.99999999999997,2.879793265790643,2.879793265790643,true]
[-0.9537169507482268,162.49999999999997,2.836160034490785,2.836160034490785,true]
[-0.9396926207859083,160.00000000000003,2.7925268031909276,2.7925268031909276,true]
[-0.9238795325112867,157.5,2.748893571891069,2.748893571891069,true]
[-0.9063077870366499,155.00000000000003,2.7052603405912112,2.7052603405912112,true]
[-0.8870108331782217,152.49999999999997,2.661627109291352,2.661627109291352,true]
[-0.8660254037844387,{"$f":"C140/PI()*180","v":150.00000000000003},2.617993877991495,2.617993877991495,{"$f":"IF(F140=0,IF(ISERR(C140),\"Error\", IF(C140=D140,TRUE,FALSE)),\"NSup\")","v":true}]
[-0.8433914458128855,147.5,2.574360646691636,2.574360646691636,true]
[-0.8191520442889919,145,2.530727415391778,2.530727415391778,true]
[-0.793353340291235,142.5,2.4870941840919194,2.4870941840919194,true]
[-0.7660444431189779,140,2.443460952792061,2.443460952792061,true]
[-0.737277336810124,137.5,2.399827721492203,2.399827721492203,true]
[-0.7071067811865475,135,2.356194490192345,2.356194490192345,true]
[-0.6755902076156602,132.5,2.3125612588924866,2.3125612588924866,true]
[-0.6427876096865394,130,2.2689280275926285,2.2689280275926285,true]
[-0.6087614290087207,127.5,2.2252947962927703,2.2252947962927703,true]
[-0.5735764363510458,125,2.1816615649929116,2.1816615649929116,true]
[-0.537299608346824,122.5,2.138028333693054,2.138028333693054,true]
[-0.4999999999999998,120,2.0943951023931953,2.0943951023931953,true]
[-0.46174861323503374,117.5,2.050761871093337,2.050761871093337,true]
[-0.42261826174069933,114.99999999999999,{"$f":"ACOS(A154)","v":2.007128639793479},2.007128639793479,true]
[-0.3826834323650897,112.5,1.9634954084936207,1.9634954084936207,true]
[-0.3420201433256687,110.00000000000001,1.9198621771937625,1.9198621771937625,true]
[-0.30070579950427295,107.5,1.876228945893904,1.876228945893904,true]
[-0.25881904510252085,105,1.8325957145940461,1.8325957145940461,true]
[-0.2164396139381028,102.5,1.7889624832941877,1.7889624832941877,true]
[-0.1736481776669303,100,1.7453292519943295,1.7453292519943295,true]
[-0.13052619222005138,97.5,1.7016960206944711,1.7016960206944711,true]
[-0.08715574274765824,95,1.6580627893946132,1.6580627893946132,true]
[-0.04361938736533589,92.49999999999999,1.6144295580947547,1.6144295580947547,true]
[6.1257422745431e-17,90,1.5707963267948966,1.5707963267948966,true]
[0.04361938736533601,87.5,1.5271630954950384,1.5271630954950384,true]
[0.08715574274765836,85,1.48352986419518,1.48352986419518,true]
[0.1305261922200517,82.5,1.4398966328953218,1.4398966328953218,true]
[0.17364817766693041,80,1.3962634015954636,1.3962634015954636,true]
[0.2164396139381029,77.5,1.3526301702956054,1.3526301702956054,true]
[0.25881904510252074,75,1.3089969389957472,1.3089969389957472,true]
[0.30070579950427306,72.5,1.265363707695889,1.265363707695889,true]
[0.3420201433256688,{"$f":"C172/PI()*180","v":70},1.2217304763960306,1.2217304763960306,{"$f":"IF(F172=0,IF(ISERR(C172),\"Error\", IF(C172=D172,TRUE,FALSE)),\"NSup\")","v":true}]
[0.38268343236508984,67.5,1.1780972450961724,1.1780972450961724,true]
[0.42261826174069944,65,1.1344640137963142,1.1344640137963142,true]
[0.4617486132350341,62.5,1.0908307824964558,1.0908307824964558,true]
[0.5000000000000001,59.999999999999986,1.0471975511965974,1.0471975511965974,true]
[0.5372996083468239,57.49999999999999,1.0035643198967394,1.0035643198967394,true]
[0.5735764363510462,54.99999999999999,0.9599310885968811,0.9599310885968811,true]
[0.6087614290087207,52.49999999999999,0.916297857297023,0.916297857297023,true]
[0.6427876096865394,49.99999999999999,0.8726646259971645,0.8726646259971645,true]
[0.6755902076156602,47.5,0.8290313946973065,0.8290313946973065,true]
[0.7071067811865476,44.99999999999999,0.7853981633974482,0.7853981633974482,true]
[0.7372773368101241,42.5,0.74176493209759,0.74176493209759,true]
[0.766044443118978,40.00000000000001,0.6981317007977319,0.6981317007977319,true]
[0.7933533402912352,37.5,0.6544984694978735,0.6544984694978735,true]
[0.8191520442889918,35,{"$f":"ACOS(A186)","v":0.6108652381980153},0.6108652381980153,true]
[0.8433914458128857,32.5,0.5672320068981571,0.5672320068981571,true]
[0.8660254037844387,29.999999999999993,0.5235987755982987,0.5235987755982987,true]
[0.8870108331782217,27.499999999999993,0.4799655442984405,0.4799655442984405,true]
[0.9063077870366499,24.999999999999996,0.43633231299858233,0.43633231299858233,true]
[0.9238795325112867,22.5,0.39269908169872414,0.39269908169872414,true]
[0.9396926207859084,19.99999999999999,0.34906585039886573,0.34906585039886573,true]
[0.9537169507482269,17.499999999999993,0.30543261909900754,0.30543261909900754,true]
[0.9659258262890683,14.999999999999984,0.26179938779914913,0.26179938779914913,true]
[0.9762960071199334,12.499999999999998,0.21816615649929116,0.21816615649929116,true]
[0.984807753012208,10.000000000000014,0.1745329251994332,0.1745329251994332,true]
[0.9914448613738104,7.500000000000004,0.1308996938995748,0.1308996938995748,true]
[0.9961946980917455,4.999999999999994,0.08726646259971638,0.08726646259971638,true]
[0.9990482215818578,2.4999999999999463,0.0436332312998573,0.0436332312998573,true]
[1,0,0,0,true]
[1.1,{"$error":"#NUM!"},{"$error":"#NUM!"},{"$error":"#NUM!"},"Error",null,null,"Out of valid range"]
[-1.0000001,{"$error":"#NUM!"},{"$error":"#NUM!"},{"$error":"#NUM!"},"Error"]
[100,{"$error":"#NUM!"},{"$error":"#NUM!"},{"$error":"#NUM!"},"Error"]

{"sheet":"ACOSH","index":3,"n_rows":79,"n_cols":8,"rows_kept":79}
[{"$f":"SUM(A3:A5)","v":0},{"$f":"SUM(B3:B5)","v":7},{"$f":"SUM(C3:C5)","v":0},"Total"]
["Failed","Error","NotSupport","Verification Area"]
[{"$f":"COUNTIF(INDIRECT(D3),\"=false\")","v":0},{"$f":"COUNTIF(INDIRECT(D3),\"=Error\")","v":7},{"$f":"COUNTIF(INDIRECT(D3),\"=NSup\")","v":0},"E12:E79"]
[]
[]
[]
[]
[]
["ACOSH(number)"]
[]
["Data",null,"Formula","Expected","Check","Mask","Comments","Description"]
[null,null,{"$f":"ACOSH(1)","v":0},0,{"$f":"IF(F12=0,IF(ISERR(C12),\"Error\", IF(C12=D12,TRUE,FALSE)),\"NSup\")","v":true}]
[2,null,{"$f":"ACOSH(A13)","v":1.3169578969248166},1.3169578969248166,true]
[3,null,1.762747174039086,1.762747174039086,true]
[4,null,2.0634370688955608,2.0634370688955608,true]
[5,null,2.2924316695611777,2.2924316695611777,true]
[6,null,2.477888730288475,2.477888730288475,true]
[7,null,2.6339157938496336,2.6339157938496336,true]
[8,null,2.7686593833135738,2.7686593833135738,true]
[9,null,2.8872709503576206,2.8872709503576206,true]
[10,null,2.993222846126381,2.993222846126381,true]
[11,null,3.0889699048446033,3.0889699048446033,true]
[12,null,3.176313180591656,3.176313180591656,true]
[13,null,3.2566139548000526,3.2566139548000526,true]
[14,null,3.3309265526412517,3.3309265526412517,true]
[15,null,3.4000844141133393,3.4000844141133393,true]
[100,null,5.298292365610485,5.298292365610485,true]
[0,null,{"$error":"#NUM!"},{"$error":"#NUM!"},"Error",null,null,"invalid parameter"]
[-10,null,{"$error":"#NUM!"},{"$error":"#NUM!"},"Error"]
[-1E-14,null,{"$error":"#NUM!"},{"$error":"#NUM!"},"Error"]
[0.1,null,{"$error":"#NUM!"},{"$error":"#NUM!"},"Error"]
[0.999999999999999,null,{"$error":"#NUM!"},{"$error":"#NUM!"},"Error"]
["text",null,{"$error":"#VALUE!"},{"$error":"#VALUE!"},"Error"]
[" ",null,{"$error":"#VALUE!"},{"$error":"#VALUE!"},"Error"]
[null,null,{"$f":"ACOSH(\"12\")","v":3.176313180591656},3.176313180591656,true,null,null,"Numbers in Text format"]
[10,null,{"$f":"ACOSH(A36)","v":2.993222846126381},2.993222846126381,true]
[100,null,{"$f":"ACOSH(A37:$A$38)","v":5.298292365610485},5.298292365610485,true,null,null,"array formula"]
[2,null,1.3169578969248166,1.3169578969248166,true]
[1.376687,null,{"$f":"ACOSH(A39)","v":0.8428045880975709},0.8428045880975709,true,null,null,"Random number"]
[2,null,1.3169578969248166,1.3169578969248166,true]
[2.02621089,null,1.3319602515170041,1.3319602515170041,true]
[2.3201,null,1.4846972717447642,1.4846972717447642,true]
[4.8915,null,2.2700299706342935,2.2700299706342935,true]
[5.3363938,null,2.358800388354524,2.358800388354524,{"$f":"IF(F44=0,IF(ISERR(C44),\"Error\", IF(C44=D44,TRUE,FALSE)),\"NSup\")","v":true}]
[10.38461985,null,3.031146686206382,3.031146686206382,true]
[10.59991,null,3.05176019912779,3.05176019912779,true]
[12.2918835,null,3.2004275866170495,3.2004275866170495,true]
[20.912459,null,3.732920146054778,3.732920146054778,true]
[26.355,null,3.9644450697711857,3.9644450697711857,true]
[64.5185,null,4.8600391214447844,4.8600391214447844,true]
[99.7713752,null,5.296003385441089,5.296003385441089,true]
[21847.7415134,null,10.68500001198646,10.68500001198646,true]
[46954,null,11.450070858472003,11.450070858472003,true]
[157282.60147,null,12.658946656167897,12.658946656167897,true]
[47815761.9397385,null,18.37601307136008,18.37601307136008,true]
[68298786.0276,null,18.732549730822942,18.732549730822942,true]
[1.0602,null,0.34526947723893947,0.34526947723893947,true]
[1.16765,null,0.5712518738118201,0.5712518738118201,true]
[1.1893029,null,0.6059944062829555,0.6059944062829555,true]
[1.6,null,1.0469679150031885,1.0469679150031885,true]
[1.61119631,null,1.0558811330782847,1.0558811330782847,true]
[3.063,null,1.7847622179873472,1.7847622179873472,true]
[6.1,null,2.4946485887419687,2.4946485887419687,true]
[14.32789427,null,3.3541354374010943,3.3541354374010943,true]
[19.981,null,3.687302224394443,3.687302224394443,true]
[26.40846123,null,3.9664729767680162,3.9664729767680162,true]
[33.027527999,null,4.190259311362119,4.190259311362119,true]
[36.5654299,null,4.292063402392927,4.292063402392927,true]
[68.71695169,null,4.923090151186264,4.923090151186264,true]
[142.37964696,null,5.651631908139768,5.651631908139768,true]
[160.51625099,null,5.771532667227495,5.771532667227495,true]
[444.211,null,6.789445588375655,6.789445588375655,true]
[506,null,6.919682873420791,6.919682873420791,true]
[714,null,7.264029652506934,7.264029652506934,true]
[1580,null,8.058327206436735,8.058327206436735,true]
[2605.729630288,null,8.55861514711249,8.55861514711249,{"$f":"IF(F76=0,IF(ISERR(C76),\"Error\", IF(C76=D76,TRUE,FALSE)),\"NSup\")","v":true}]
[127396.0489,null,12.448203188840019,12.448203188840019,true]
[242666367.449185,null,20.000345265012964,20.000345265012964,true]
[790275371.739387,null,21.18103919507025,21.18103919507025,true]

{"sheet":"AGGREGATE","index":4,"n_rows":44,"n_cols":15,"rows_kept":44}
[{"$f":"SUM(A3:A5)","v":0},{"$f":"SUM(B3:B5)","v":0},{"$f":"SUM(C3:C5)","v":0},"Total",null,null,"Hide row 8","Sample A","Sample B","Sample C","Sample D"]
["Failed","Error","NotSupport","Verification Area",{"$nulls":3},-1,-6,-97,1]
[{"$f":"COUNTIF(INDIRECT(D3),\"=false\")","v":0},{"$f":"COUNTIF(INDIRECT(D3),\"=Error\")","v":0},{"$f":"COUNTIF(INDIRECT(D3),\"=NSup\")","v":0},"E12:E50",{"$nulls":3},15,16,3001,2]
[{"$nulls":7},{"$f":"SUBTOTAL(9,H2:H3)","v":14},{"$f":"9/0","v":{"$error":"#DIV/0!"}},{"$f":"_xlfn.AGGREGATE(1,0,J2:J3)","v":1452},3]
[{"$nulls":7},139910165,0,{"$f":"SUBTOTAL(4,J2:J4)","v":3001}]
[{"$nulls":7},-106,-9,-1834,4]
[{"$nulls":7},678.4,92,{"$f":"reference","v":{"$error":"#NAME?"}},5]
[{"$nulls":7},-10,134.32,-1774]
[{"$nulls":7},1345,158,6,6]
[]
["Data",null,"Formula","Expected","Check","Mask","Comments","Description",null,1,null,10,null,"选项","行为"]
[null,null,{"$f":"_xlfn.AGGREGATE(1,0,J11:J18,L11:L18)","v":7.25},7.25,{"$f":"IF(F12=0,IF(ISERR(C12),\"Error\", IF(C12=D12,TRUE,FALSE)),\"NSup\")","v":true},{"$nulls":4},2,null,10]
[null,null,{"$f":"_xlfn.AGGREGATE(1,0,J11:J18)","v":4.5},4.5,true,{"$nulls":4},3,null,10]
[null,null,{"$f":"_xlfn.AGGREGATE(1,0,$H$2:$H$9)","v":19987440.914285716},19987440.914285716,true,null,null,1,"AVERAGE",4,null,10]
[null,null,{"$f":"_xlfn.AGGREGATE(2,0,$H$2:$H$9)","v":7},7,true,null,null,2,"COUNT",5,null,10]
[null,null,{"$f":"_xlfn.AGGREGATE(3,0,$H$2:$H$9)","v":7},7,true,null,null,3,"COUNTA",6,null,10]
[null,null,{"$f":"_xlfn.AGGREGATE(4,0,$H$2:$H$9)","v":139910165},139910165,true,null,null,4,"MAX",7,null,10]
[null,null,{"$f":"_xlfn.AGGREGATE(5,0,$H$2:$H$9)","v":-106},-106,true,null,null,5,"MIN",8,null,10]
[null,null,{"$f":"_xlfn.AGGREGATE(6,0,$H$2:$H$9)","v":-2.029805928719328E+18},-2.029805928719328E+18,true,null,null,6,"PRODUCT"]
[null,null,{"$f":"_xlfn.AGGREGATE(7,0,$H$2:$H$9)","v":52880950.74866059},52880950.74866059,true,null,null,7,"STDEV.S"]
[null,null,{"$f":"_xlfn.AGGREGATE(8,0,$H$2:$H$9)","v":48958247.09819232},48958247.09819232,true,null,null,8,"STDEV.P"]
[null,null,{"$f":"_xlfn.AGGREGATE(9,0,$H$2:$H$9)","v":139912086.4},139912086.4,true,null,null,9,"SUM"]
[null,null,{"$f":"_xlfn.AGGREGATE(10,0,$H$2:$H$9)","v":2796394952082266.5},2796394952082266.5,true,null,null,10,"VAR.S"]
[null,null,{"$f":"_xlfn.AGGREGATE(11,0,$H$2:$H$9)","v":2396909958927657},2396909958927657,true,null,null,11,"VAR.P"]
[null,null,{"$f":"_xlfn.AGGREGATE(12,0,$H$2:$H$9)","v":15},15,true,null,null,12,"MEDIAN"]
[null,null,{"$f":"_xlfn.AGGREGATE(13,0,$H$2:$H$9,L11:L18)","v":10},10,true,null,null,13,"MODE.SNGL"]
[null,null,{"$f":"_xlfn.AGGREGATE(14,0,$H$2:$H$9,2)","v":1345},1345,true,null,null,14,"LARGE"]
[4,null,{"$f":"_xlfn.AGGREGATE(15,0,$H$2:$H$9,A28)","v":15},15,true,null,null,15,"SMALL"]
[{"v":0.25,"d":"25%"},null,{"$f":"_xlfn.AGGREGATE(16,0,$H$2:$H$9,A29)","v":-5.5},-5.5,true,null,null,16,"PERCENTILE.INC"]
[4,null,{"$f":"_xlfn.AGGREGATE(17,0,$H$2:$H$9,A30)","v":139910165},139910165,true,null,null,17,"QUARTILE.INC"]
[{"v":0.33,"d":"33%"},null,{"$f":"_xlfn.AGGREGATE(18,0,$H$2:$H$9,A31)","v":-4.239999999999998},-4.239999999999998,true,null,null,18,"PERCENTILE.EXC"]
[3,null,{"$f":"_xlfn.AGGREGATE(19,0,$H$2:$H$9,A32)","v":1345},1345,true,null,null,19,"QUARTILE.EXC"]
[1,null,{"$f":"_xlfn.AGGREGATE(15,0,$H$2:$H$9,A33)","v":-106},-106,true]
[{"v":0.78,"d":"78%"},null,{"$f":"_xlfn.AGGREGATE(16,3,$J$2:$J$9,A34)","v":1024.2999999999997},1024.2999999999997,true,null,null,3,"忽略隐藏行、错误值、嵌套 SUBTOTAL 和 AGGREGATE 函数"]
[1,null,{"$f":"_xlfn.AGGREGATE(17,0,$H$2:$H$9,A35)","v":-5.5},-5.5,true]
[{"v":0.77,"d":"77%"},null,{"$f":"_xlfn.AGGREGATE(18,0,$H$2:$H$9,A36)","v":22386756.20000002},22386756.20000002,true]
[2,null,{"$f":"_xlfn.AGGREGATE(19,0,$H$2:$H$9,A37)","v":15},15,true,null,null,"0 或省略","忽略嵌套 SUBTOTAL 和 AGGREGATE 函数"]
[{"$f":"A33","v":1},null,{"$f":"_xlfn.AGGREGATE(15,1,$H$2:$H$9,A38)","v":-106},-106,true,null,null,1,"忽略隐藏行、嵌套 SUBTOTAL 和 AGGREGATE 函数"]
[{"$f":"A34","v":{"v":0.78,"d":"78%"}},null,{"$f":"_xlfn.AGGREGATE(16,2,$J$2:$J$9,A39)","v":365.4000000000003},365.4000000000003,true,null,null,2,"忽略错误值、嵌套 SUBTOTAL 和 AGGREGATE 函数"]
[{"$f":"A35","v":1},null,{"$f":"_xlfn.AGGREGATE(17,3,$H$2:$H$9,A40)","v":3},3,true,null,null,3,"忽略隐藏行、错误值、嵌套 SUBTOTAL 和 AGGREGATE 函数"]
[{"$f":"A36","v":{"v":0.77,"d":"77%"}},null,{"$f":"_xlfn.AGGREGATE(18,4,$H$2:$H$9,A41)","v":1298.3379999999997},1298.3379999999997,true,null,null,4,"忽略空值"]
[{"$f":"A37","v":2},null,{"$f":"_xlfn.AGGREGATE(19,5,$H$2:$H$9,A42)","v":15},15,true,null,null,5,"忽略隐藏行"]
[null,null,{"$f":"_xlfn.AGGREGATE(3,6,I2:I9)","v":7},7,true,null,null,6,"忽略错误值"]
[null,null,{"$f":"_xlfn.AGGREGATE(3,7,K2:K9)","v":6},6,true,null,null,7,"忽略隐藏行和错误值"]

{"sheet":"ASIN","index":5,"n_rows":203,"n_cols":8,"rows_kept":203}
[{"$f":"SUM(A3:A5)","v":0},{"$f":"SUM(B3:B5)","v":3},{"$f":"SUM(C3:C5)","v":0},"Total"]
["Failed","Error","NotSupport","Verification Area"]
[{"$f":"COUNTIF(INDIRECT(D3),\"=false\")","v":0},{"$f":"COUNTIF(INDIRECT(D3),\"=Error\")","v":3},{"$f":"COUNTIF(INDIRECT(D3),\"=NSup\")","v":0},"E12:E203"]
[]
[]
[]
[]
[]
["ASIN(number)"]
[]
["Data",null,"Formula","Expected","Check","Mask","Comments","Description"]
[-1,{"$f":"C12*180/PI()","v":-90},{"$f":"ASIN(A12)","v":-1.5707963267948966},-1.5707963267948966,{"$f":"IF(F12=0,IF(ISERR(C12),\"Error\", IF(C12=D12,TRUE,FALSE)),\"NSup\")","v":true},null,null,"from -1 to 1"]
[-0.9990482215818578,-87.50000000000018,-1.5271630954950417,-1.5271630954950417,true]
[-0.9961946980917455,-85,-1.4835298641951802,-1.4835298641951802,true]
[-0.9914448613738104,-82.50000000000003,-1.4398966328953224,-1.4398966328953224,true]
[-0.984807753012208,-80.00000000000003,-1.396263401595464,-1.396263401595464,true]
[-0.9762960071199334,-77.5,-1.3526301702956054,-1.3526301702956054,true]
[-0.9659258262890682,-74.99999999999999,-1.3089969389957468,-1.3089969389957468,true]
[-0.9537169507482268,-72.49999999999999,-1.2653637076958886,-1.2653637076958886,true]
[-0.9396926207859083,-70,-1.2217304763960308,-1.2217304763960308,true]
[-0.9238795325112867,-67.5,-1.1780972450961724,-1.1780972450961724,true]
[-0.9063077870366499,-65.00000000000001,-1.1344640137963145,-1.1344640137963145,true]
[-0.8870108331782217,-62.49999999999999,-1.0908307824964558,-1.0908307824964558,true]
[-0.8660254037844387,-60.00000000000002,-1.047197551196598,-1.047197551196598,true]
[-0.8433914458128855,-57.49999999999998,-1.003564319896739,-1.003564319896739,true]
[-0.8191520442889919,-55.000000000000014,-0.9599310885968815,-0.9599310885968815,true]
[-0.793353340291235,-52.499999999999986,-0.9162978572970227,-0.9162978572970227,true]
[-0.7660444431189779,-49.99999999999999,-0.8726646259971647,-0.8726646259971647,true]
[-0.737277336810124,-47.5,-0.8290313946973066,-0.8290313946973066,true]
[-0.7071067811865475,-45,-0.7853981633974483,-0.7853981633974483,true]
[-0.6755902076156602,-42.5,-0.7417649320975901,-0.7417649320975901,true]
[-0.6427876096865394,-40,-0.6981317007977318,-0.6981317007977318,true]
[-0.6087614290087207,-37.50000000000001,-0.6544984694978736,-0.6544984694978736,true]
[-0.5735764363510458,-34.99999999999998,-0.610865238198015,-0.610865238198015,true]
[-0.537299608346824,-32.500000000000014,-0.5672320068981573,-0.5672320068981573,true]
[-0.4999999999999998,-29.999999999999986,-0.5235987755982986,-0.5235987755982986,true]
[-0.46174861323503374,-27.49999999999999,-0.4799655442984404,-0.4799655442984404,true]
[-0.42261826174069933,-24.999999999999993,-0.4363323129985823,-0.4363323129985823,true]
[-0.3826834323650897,-22.499999999999996,-0.3926990816987241,-0.3926990816987241,true]
[-0.3420201433256687,-20,-0.3490658503988659,-0.3490658503988659,true]
[-0.30070579950427295,-17.49999999999999,-0.3054326190990075,-0.3054326190990075,true]
[-0.25881904510252085,-15.000000000000005,-0.2617993877991495,-0.2617993877991495,true]
[-0.2164396139381028,-12.499999999999996,-0.21816615649929114,-0.21816615649929114,true]
[-0.1736481776669303,{"$f":"C44*180/PI()","v":-9.999999999999998},{"$f":"ASIN(A44)","v":-0.17453292519943292},-0.17453292519943292,{"$f":"IF(F44=0,IF(ISERR(C44),\"Error\", IF(C44=D44,TRUE,FALSE)),\"NSup\")","v":true}]
[-0.13052619222005138,-7.4999999999999885,-0.1308996938995745,-0.1308996938995745,true]
[-0.08715574274765824,-5.000000000000003,-0.08726646259971653,-0.08726646259971653,true]
[-0.04361938736533589,-2.4999999999999933,-0.043633231299858126,-0.043633231299858126,true]
[6.1257422745431e-17,3.5097917871618886E-15,6.1257422745431e-17,6.1257422745431e-17,true]
[0.04361938736533601,2.500000000000001,0.04363323129985825,0.04363323129985825,true]
[0.08715574274765836,5.00000000000001,0.08726646259971665,0.08726646259971665,true]
[0.1305261922200517,7.500000000000007,0.13089969389957484,0.13089969389957484,true]
[0.17364817766693041,10.000000000000005,0.17453292519943303,0.17453292519943303,true]
[0.2164396139381029,12.500000000000004,0.21816615649929122,0.21816615649929122,true]
[0.25881904510252074,14.999999999999998,0.2617993877991494,0.2617993877991494,true]
[0.30070579950427306,17.499999999999996,0.3054326190990076,0.3054326190990076,true]
[0.3420201433256688,20.00000000000001,0.34906585039886606,0.34906585039886606,true]
[0.38268343236508984,22.500000000000004,0.39269908169872425,0.39269908169872425,true]
[0.42261826174069944,25.000000000000007,0.43633231299858244,0.43633231299858244,true]
[0.4617486132350341,27.50000000000001,0.4799655442984408,0.4799655442984408,true]
[0.5000000000000001,30.00000000000001,0.523598775598299,0.523598775598299,true]
[0.5372996083468239,32.5,0.5672320068981571,0.5672320068981571,true]
[0.5735764363510462,35,0.6108652381980154,0.6108652381980154,true]
[0.6087614290087207,37.50000000000001,0.6544984694978736,0.6544984694978736,true]
[0.6427876096865394,40.000000000000014,0.698131700797732,0.698131700797732,true]
[0.6755902076156602,42.5,0.7417649320975901,0.7417649320975901,true]
[0.7071067811865476,45.00000000000001,0.7853981633974484,0.7853981633974484,true]
[0.7372773368101241,47.5,0.8290313946973066,0.8290313946973066,true]
[0.766044443118978,49.99999999999999,0.8726646259971647,0.8726646259971647,true]
[0.7933533402912352,52.5,0.9162978572970231,0.9162978572970231,true]
[0.8191520442889918,55,0.9599310885968813,0.9599310885968813,true]
[0.8433914458128857,57.49999999999999,1.0035643198967394,1.0035643198967394,true]
[0.8660254037844387,60.00000000000001,1.0471975511965979,1.0471975511965979,true]
[0.8870108331782217,62.50000000000001,1.090830782496456,1.090830782496456,true]
[0.9063077870366499,65,1.1344640137963142,1.1344640137963142,true]
[0.9238795325112867,67.5,1.1780972450961724,1.1780972450961724,true]
[0.9396926207859084,{"$f":"C76*180/PI()","v":70},{"$f":"ASIN(A76)","v":1.2217304763960308},1.2217304763960308,{"$f":"IF(F76=0,IF(ISERR(C76),\"Error\", IF(C76=D76,TRUE,FALSE)),\"NSup\")","v":true}]
[0.9537169507482269,72.50000000000001,1.265363707695889,1.265363707695889,true]
[0.9659258262890683,75.00000000000001,1.3089969389957474,1.3089969389957474,true]
[0.9762960071199334,77.5,1.3526301702956054,1.3526301702956054,true]
[0.984807753012208,79.99999999999999,1.3962634015954634,1.3962634015954634,true]
[0.9914448613738104,82.49999999999999,1.4398966328953218,1.4398966328953218,true]
[0.9961946980917455,85,1.4835298641951802,1.4835298641951802,true]
[0.9990482215818578,87.50000000000004,1.5271630954950393,1.5271630954950393,true]
[1,90,1.5707963267948966,1.5707963267948966,true]
[1.1,{"$error":"#NUM!"},{"$error":"#NUM!"},{"$error":"#NUM!"},"Error",null,null,"invalid number"]
[-1.0000001,{"$error":"#NUM!"},{"$error":"#NUM!"},{"$error":"#NUM!"},"Error"]
[100,{"$error":"#NUM!"},{"$error":"#NUM!"},{"$error":"#NUM!"},"Error"]
[{"v":0,"d":"0.00"},null,0,0,true]
[1,null,1.5707963267948966,1.5707963267948966,true]
[-1,null,-1.5707963267948966,-1.5707963267948966,true]
["0.9986",null,1.517875125208442,1.517875125208442,true,null,null,"Text"]
[null,null,{"$f":"ASIN(\"0.98\")","v":1.3704614844717768},1.3704614844717768,true]
["0.96463013",null,{"$f":"ASIN(A93)","v":1.3040366451757732},1.3040366451757732,true]
[0.9395,null,{"$f":"ASIN(A94:A98)","v":1.2211677259116271},1.2211677259116271,true]
[null,null,{"$f":"ASIN(0.918)","v":1.1630075647253386},1.1630075647253386,true]
[0.91427612,{"$f":"C96*180/PI()","v":66.1031347705948},{"$f":"ASIN(A96)","v":1.1537173476364257},1.1537173476364257,true]
[0.91,65.50535152858033,{"$f":"ASIN(A97)","v":1.143284061850027},1.143284061850027,true]
[0.86,59.31658289102418,{"$f":"ASIN(A98)","v":1.0352696724805088},1.0352696724805088,true]
[0.84,57.1401196211109,{"$f":"ASIN(A99)","v":0.9972832223717999},0.9972832223717999,true]
[0.82,55.08479375255581,{"$f":"ASIN(A100)","v":0.9614110187641015},0.9614110187641015,true]
[null,52.93003246527303,{"$f":"ASIN(0.7979)","v":0.9238033397065056},0.9238033397065056,true]
[0.7734,50.660195416353616,{"$f":"ASIN(A102)","v":0.8841872097191101},0.8841872097191101,true]
[0.7649,49.89809639321029,0.8708860725390266,0.8708860725390266,true]
[0.74,47.73141557042753,0.8330703583416478,0.8330703583416478,true]
[0.7004,44.459104872490045,0.7759577625144051,0.7759577625144051,true]
[0.65,40.54160187350452,0.7075844367253555,0.7075844367253555,true]
[0.6306,39.09440333278318,0.682326057259711,0.682326057259711,true]
[0.6129,37.799488526757216,0.6597255303617341,0.6597255303617341,{"$f":"IF(F108=0,IF(ISERR(C108),\"Error\", IF(C108=D108,TRUE,FALSE)),\"NSup\")","v":true}]
[0.60498047,37.227436524217495,0.649741339424789,0.649741339424789,true]
[0.58,35.45054263917541,0.618728690672251,0.618728690672251,true]
[0.57,34.75022575368246,0.6065058552130869,0.6065058552130869,true]
[0.561,34.12498265074031,0.5955933044413605,0.5955933044413605,true]
[0.56,34.05579774256792,0.5943858000010623,0.5943858000010623,true]
[0.55,33.36701296923176,0.5823642378687435,0.5823642378687435,true]
[0.54040527,32.71123159257439,0.5709186936728115,0.5709186936728115,true]
[0.53125,32.08995125628031,0.5600753062265821,0.5600753062265821,true]
[0.53,32.00545482776425,0.5586005653428008,0.5586005653428008,true]
[0.5,30.000000000000004,0.5235987755982989,0.5235987755982989,true]
[0.4968,29.78851456853707,0.5199076584992699,0.5199076584992699,true]
[0.48284912,28.871648460717473,0.5039053261178726,0.5039053261178726,true]
[0.47,28.034296534881282,0.4892907780141157,0.4892907780141157,true]
[0.44,26.1038811373399,0.4555986733958234,0.4555986733958234,true]
[0.43,25.46756014247237,0.444492776935819,0.444492776935819,true]
[0.41955566,24.806537629857207,0.4329557576608786,0.4329557576608786,true]
[0.40579224,23.940782505461733,0.4178454802241646,0.4178454802241646,true]
[0.3938,23.191154130067908,0.4047619969071663,0.4047619969071663,true]
[0.37,21.715617283264454,0.37900902069595077,0.37900902069595077,true]
[0.36895752,{"$f":"C128*180/PI()","v":21.651339204597644},0.3778871565863591,0.3778871565863591,true]
[0.36,21.100196024093023,0.36826789343664,0.36826789343664,true]
[0.3438,20.108560512294257,0.35096058877605246,0.35096058877605246,true]
[0.33599854,19.633270082197306,0.3426652058676407,0.3426652058676407,true]
[0.32,18.66292488494248,0.3257294872946302,0.3257294872946302,true]
[0.3048,17.746131836019646,0.3097284300315293,0.3097284300315293,true]
[0.29208374,16.982747754832307,{"$f":"ASIN(A134)","v":0.29640486435749847},0.29640486435749847,true]
[0.29,16.857956022497145,0.29422683774898245,0.29422683774898245,true]
[0.2613,15.147213529039298,0.2643687485843655,0.2643687485843655,true]
[0.25,14.477512185929923,0.25268025514207865,0.25268025514207865,true]
[0.2,11.53695903281549,0.20135792079033082,0.20135792079033082,true]
[0.17,9.787819056713978,0.17082966912910452,0.17082966912910452,true]
[0.13522339,7.771537643785885,0.13563891982674595,0.13563891982674595,{"$f":"IF(F140=0,IF(ISERR(C140),\"Error\", IF(C140=D140,TRUE,FALSE)),\"NSup\")","v":true}]
[0.13,7.469592316416932,0.13036897970314554,0.13036897970314554,true]
[0.10861206,6.235313095199725,0.10882674340395385,0.10882674340395385,true]
[0.09,5.163607090846379,0.09012194501459526,0.09012194501459526,true]
[0.08,4.588565735785835,0.08008558003365901,0.08008558003365901,true]
[0.07235718,4.149387145588486,0.07242046763044839,0.07242046763044839,true]
[0.05,2.8659839825988622,0.050020856805770016,0.050020856805770016,true]
[0.0189,1.0829547130326467,0.01890112539241003,0.01890112539241003,true]
[-0.03,-1.7191313208778112,-0.03000450182347694,-0.03000450182347694,true]
[-0.06240845,-3.5780660098549144,-0.06244903272566413,-0.06244903272566413,true]
[-0.08,-4.588565735785835,-0.08008558003365901,-0.08008558003365901,true]
[-0.0814,-4.669042313327649,-0.0814901612825002,-0.0814901612825002,true]
[-0.1,-5.739170477266787,-0.1001674211615598,-0.1001674211615598,true]
[-0.116,-6.66130686748525,-0.11626173732332722,-0.11626173732332722,true]
[-0.13,-7.469592316416932,-0.13036897970314554,-0.13036897970314554,true]
[-0.15,-8.626926558678639,-0.15056827277668602,-0.15056827277668602,true]
[-0.18,-10.36975980547742,-0.1809864512465477,-0.1809864512465477,true]
[-0.24,-13.886540362628992,-0.24236585103896324,-0.24236585103896324,true]
[-0.2604,-15.093798046133413,-0.263436472536115,-0.263436472536115,true]
[-0.27,-15.664266851373522,-0.27339303146747324,-0.27339303146747324,true]
[-0.29064941,{"$f":"C160*180/PI()","v":-16.896839246311718},-0.2949054780283366,-0.2949054780283366,true]
[-0.3,-17.457603123722095,-0.3046926540153975,-0.3046926540153975,true]
[-0.32,-18.66292488494248,-0.3257294872946302,-0.3257294872946302,true]
[-0.33,-19.26877549148377,-0.33630357515398035,-0.33630357515398035,true]
[-0.33868408,-19.79672138367462,-0.3455179692450897,-0.3455179692450897,true]
[-0.35,-20.487315114722662,-0.35757110364551026,-0.35757110364551026,true]
[-0.36651611,-21.50091652565379,{"$f":"ASIN(A166)","v":-0.37526178556911843},-0.37526178556911843,true]
[-0.37,-21.715617283264454,-0.3790090206959508,-0.3790090206959508,true]
[-0.37,-21.715617283264454,-0.3790090206959508,-0.3790090206959508,true]
[-0.39974976,-23.562535701250617,-0.4112438281055342,-0.4112438281055342,true]
[-0.41,-24.204834801458325,-0.42245406218675574,-0.42245406218675574,true]
[-0.4294,-25.42948866318967,-0.4438283042712311,-0.4438283042712311,true]
[-0.4359,-25.842576110317804,-0.451038040322275,-0.451038040322275,{"$f":"IF(F172=0,IF(ISERR(C172),\"Error\", IF(C172=D172,TRUE,FALSE)),\"NSup\")","v":true}]
[-0.44799805,-26.615313286211133,-0.4645248482941762,-0.4645248482941762,true]
[-0.48,-28.685402014118925,-0.5006547124045881,-0.5006547124045881,true]
[-0.49609375,-29.741899340038778,-0.5190940692804052,-0.5190940692804052,true]
[-0.49963379,-29.975774697524947,-0.5231759643078177,-0.5231759643078177,true]
[-0.51,-30.66382974238597,-0.5351847902755998,-0.5351847902755998,true]
[-0.5305,-32.0392440396291,-0.5591902983414964,-0.5591902983414964,true]
[-0.5384,-32.574786198310775,-0.5685372722937295,-0.5685372722937295,true]
[-0.54394531,-32.95261923852402,-0.5751317028682709,-0.5751317028682709,true]
[-0.5582,-33.931406930237436,-0.5922147707666652,-0.5922147707666652,true]
[-0.56045532,-34.087292004194644,-0.5949354785619333,-0.5949354785619333,true]
[-0.5678,-34.59695510844715,-0.6038307778070745,-0.6038307778070745,true]
[-0.58,-35.45054263917541,-0.618728690672251,-0.618728690672251,true]
[-0.58,-35.45054263917541,-0.618728690672251,-0.618728690672251,true]
[-0.61,-37.589502964856855,-0.6560605909249225,-0.6560605909249225,true]
[-0.62,-38.31613447366575,-0.6687427032023718,-0.6687427032023718,true]
[-0.64,-39.79181949955724,-0.6944982656265561,-0.6944982656265561,true]
[-0.6575,-41.10948613720635,-0.7174958868972162,-0.7174958868972162,true]
[-0.7182,-45.90606837223799,-0.8012120397411868,-0.8012120397411868,true]
[-0.74,-47.73141557042753,-0.8330703583416478,-0.8330703583416478,true]
[-0.77203369,{"$f":"C192*180/PI()","v":-50.536865332865005},-0.8820346936954744,-0.8820346936954744,true]
[-0.78,-51.260575402144354,-0.8946658172342353,-0.8946658172342353,true]
[-0.80270386,-53.389083253113135,-0.9318152873881894,-0.9318152873881894,true]
[-0.82980347,-56.078554912179705,-0.9787554229779754,-0.9787554229779754,true]
[-0.85,-58.211669382948386,-1.0159852938148253,-1.0159852938148253,true]
[-0.86,-59.316582891024176,-1.0352696724805086,-1.0352696724805086,true]
[-0.91,-65.50535152858033,{"$f":"ASIN(A198)","v":-1.1432840618500273},-1.1432840618500273,true]
[-0.91946411,-66.84786379264372,-1.166715321106337,-1.166715321106337,true]
[-0.93,-68.43481498475735,-1.194412844477169,-1.194412844477169,true]
[-0.9576,-73.2556946469689,-1.2785530674251926,-1.2785530674251926,true]
[-0.97027588,-75.99530046321976,-1.3263682091255566,-1.3263682091255566,true]
[-0.99,-81.89038554400581,-1.4292568534704693,-1.4292568534704693,true]

{"sheet":"ASINH","index":6,"n_rows":128,"n_cols":8,"rows_kept":128}
[{"$f":"SUM(A3:A5)","v":0},{"$f":"SUM(B3:B5)","v":2},{"$f":"SUM(C3:C5)","v":0},"Total"]
["Failed","Error","NotSupport","Verification Area"]
[{"$f":"COUNTIF(INDIRECT(D3),\"=false\")","v":0},{"$f":"COUNTIF(INDIRECT(D3),\"=Error\")","v":2},{"$f":"COUNTIF(INDIRECT(D3),\"=NSup\")","v":0},"E12:E128"]
[]
[]
[]
[]
[]
["ASINH(number)"]
[]
["Data",null,"Formula","Expected","Check","Mask","Comments","Description"]
[null,null,{"$f":"ASINH(1)","v":0.8813735870195429},0.8813735870195429,{"$f":"IF(F12=0,IF(ISERR(C12),\"Error\", IF(C12=D12,TRUE,FALSE)),\"NSup\")","v":true}]
[2,null,{"$f":"ASINH(A13)","v":1.4436354751788103},1.4436354751788103,true]
[3,null,1.8184464592320668,1.8184464592320668,true]
[4,null,2.0947125472611012,2.0947125472611012,true]
[5,null,2.3124383412727525,2.3124383412727525,true]
[6,null,2.4917798526449118,2.4917798526449118,true]
[7,null,2.644120761058629,2.644120761058629,true]
[8,null,2.7764722807237177,2.7764722807237177,true]
[9,null,2.8934439858858716,2.8934439858858716,true]
[10,null,2.99822295029797,2.99822295029797,true]
[11,null,3.093102195050827,3.093102195050827,true]
[12,null,3.179785437699879,3.179785437699879,true]
[13,null,3.2595725562629214,3.2595725562629214,true]
[14,null,3.3334775868839923,3.3334775868839923,true]
[15,null,3.4023066454805946,3.4023066454805946,true]
[100,null,5.298342365610589,5.298342365610589,true]
[0,null,0,0,true]
[-10,null,-2.99822295029797,-2.99822295029797,true]
[-1E-14,null,-9.992007221626358e-15,-9.992007221626358e-15,true]
[0.1,null,0.09983407889920758,0.09983407889920758,true]
[0.999999999999999,null,0.8813735870195423,0.8813735870195423,true]
["text",null,{"$error":"#VALUE!"},{"$error":"#VALUE!"},"Error",null,null,"invalid parameter"]
[" ",null,{"$error":"#VALUE!"},{"$error":"#VALUE!"},"Error",null,null,"space"]
[null,null,{"$f":"ASINH(\"12\")","v":3.179785437699879},3.179785437699879,true,null,null,"Numbers in Text format"]
[10,null,{"$f":"ASINH(A36)","v":2.99822295029797},2.99822295029797,true]
[100,null,{"$f":"ASINH(A37:$A$38)","v":5.298342365610589},5.298342365610589,true,null,null,"array formula"]
[2,null,1.4436354751788103,1.4436354751788103,true]
[1.376687,null,{"$f":"ASINH(A39)","v":1.124356523939257},1.124356523939257,true,null,null,"Random number"]
[2,null,1.4436354751788103,1.4436354751788103,true]
[2.02621089,null,1.4552962671329428,1.4552962671329428,true]
[2.3201,null,1.5782636164811268,1.5782636164811268,true]
[4.8915,null,2.2909346751493116,2.2909346751493116,true]
[5.3363938,null,2.376362870036694,2.376362870036694,{"$f":"IF(F44=0,IF(ISERR(C44),\"Error\", IF(C44=D44,TRUE,FALSE)),\"NSup\")","v":true}]
[10.38461985,null,3.0357832536212754,3.0357832536212754,true]
[10.59991,null,3.0562103303344386,3.0562103303344386,true]
[12.2918835,null,3.203736893913983,3.203736893913983,true]
[20.912459,null,3.734063446236121,3.734063446236121,true]
[26.355,null,3.965164923321237,3.965164923321237,true]
[64.5185,null,4.860159237617528,4.860159237617528,true]
[99.7713752,null,5.296053614852431,5.296053614852431,true]
[21847.7415134,null,10.685000013033967,10.685000013033967,true]
[46954,null,11.450070858698794,11.450070858698794,true]
[157282.60147,null,12.65894665618811,12.65894665618811,true]
[47815761.9397385,null,18.37601307136008,18.37601307136008,true]
[68298786.0276,null,18.732549730822942,18.732549730822942,true]
[1.0602,null,0.9233073313638642,0.9233073313638642,true]
[1.16765,null,0.9950972832312387,0.9950972832312387,true]
[1.1893029,null,1.0091069628867795,1.0091069628867795,true]
[1.6,null,1.2489833279048763,1.2489833279048763,true]
[1.61119631,null,1.2549024703899603,1.2549024703899603,true]
[3.063,null,1.838182754974928,1.838182754974928,true]
[6.1,null,2.5080878593376825,2.5080878593376825,true]
[14.32789427,null,3.356571045531642,3.356571045531642,true]
[19.981,null,3.6885546044200272,3.6885546044200272,true]
[26.40846123,null,3.96718991872582,3.96718991872582,true]
[33.027527999,null,4.190717683215414,4.190717683215414,true]
[36.5654299,null,4.292437365437918,4.292437365437918,true]
[68.71695169,null,4.923196038086988,4.923196038086988,true]
[142.37964696,null,5.651656572745699,5.651656572745699,true]
[160.51625099,null,{"$f":"ASINH(A71)","v":5.771552073047053},5.771552073047053,true]
[444.211,null,6.78944812228683,6.78944812228683,true]
[506,null,6.919684826271171,6.919684826271171,true]
[714,null,7.264030633291404,7.264030633291404,true]
[1580,null,8.05832740672515,8.05832740672515,true]
[2605.729630288,null,8.55861522075207,8.55861522075207,{"$f":"IF(F76=0,IF(ISERR(C76),\"Error\", IF(C76=D76,TRUE,FALSE)),\"NSup\")","v":true}]
[127396.0489,null,12.448203188870826,12.448203188870826,true]
[242666367.449185,null,20.000345265012964,20.000345265012964,true]
[790275371.739387,null,21.18103919507025,21.18103919507025,true]
[-232833039.92502,null,-19.95897936838778,-19.95897936838778,true]
[-5122.098539648,null,-9.234466695173245,-9.234466695173245,true]
[-3112.6176,null,-8.736366529555758,-8.736366529555758,true]
[-96.9082,null,-5.266937938804746,-5.266937938804746,true]
[-37.202136978,null,-4.309693972879102,-4.309693972879102,true]
[-33,null,-4.1898842314256335,-4.1898842314256335,true]
[-28.380179718,null,-4.039148431848344,-4.039148431848344,true]
[-20,null,-3.689503868988906,-3.689503868988906,true]
[-18.461,null,-3.609540323252984,-3.609540323252984,true]
[-15,null,-3.4023066454805946,-3.4023066454805946,true]
[-5.5364446,null,-2.412557712507019,-2.412557712507019,true]
[-5.07,null,-2.3260748747236786,-2.3260748747236786,true]
[-4.394067,null,-2.18610603902117,-2.18610603902117,true]
[-4.318386,null,-2.1691730165611207,-2.1691730165611207,true]
[-3.7478094,null,-2.031660031762184,-2.031660031762184,true]
[-1.509013007,null,-1.1997523578195735,-1.1997523578195735,true]
[-1.464702,null,-1.1750225644103438,-1.1750225644103438,true]
[-1.141152336,null,-0.9777477647325582,-0.9777477647325582,true]
[-1.122492,null,-0.9653923687368228,-0.9653923687368228,true]
[-1,null,-0.8813735870195429,-0.8813735870195429,true]
[-0.4905303,null,-0.472725867384533,-0.472725867384533,true]
[-0.2472,null,-0.24474917048864342,-0.24474917048864342,true]
[-0.044,null,-0.04398581502114884,-0.04398581502114884,true]
[-49059090.08,null,{"$f":"ASINH(A103)","v":-18.401683230097362},-18.401683230097362,true]
[-393206.59,null,-13.57523760759488,-13.57523760759488,true]
[-64506.5445224,null,-11.767669143720184,-11.767669143720184,true]
[-47432.601,null,-11.46021223674878,-11.46021223674878,true]
[-30627.14465,null,-11.022789155609305,-11.022789155609305,true]
[-6810,null,-9.519294585094212,-9.519294585094212,{"$f":"IF(F108=0,IF(ISERR(C108),\"Error\", IF(C108=D108,TRUE,FALSE)),\"NSup\")","v":true}]
[-3578,null,-8.87570646415668,-8.87570646415668,true]
[-506.0514571,null,-6.919786514775655,-6.919786514775655,true]
[-116.28170401,null,-5.4491813991615246,-5.4491813991615246,true]
[-78.310696,null,-5.053872140520196,-5.053872140520196,true]
[-45.5304521,null,-4.511649134647515,-4.511649134647515,true]
[-13.2944,null,-3.2819015812892585,-3.2819015812892585,true]
[-8.289,null,-2.8116954268337957,-2.8116954268337957,true]
[-8.042,null,-2.7816683209920523,-2.7816683209920523,true]
[-5.376,null,-2.3836317640906044,-2.3836317640906044,true]
[-4,null,-2.0947125472611012,-2.0947125472611012,true]
[-3.46967394,null,-1.957355721132412,-1.957355721132412,true]
[-2.499875225,null,-1.6471848051025122,-1.6471848051025122,true]
[-1.93077524,null,-1.4122415789542397,-1.4122415789542397,true]
[-1.8372,null,-1.368365265332197,-1.368365265332197,true]
[-1.634,null,-1.2668667332106116,-1.2668667332106116,true]
[-1.592889018,null,-1.2452084821811884,-1.2452084821811884,true]
[-0.778291,null,-0.715626485183609,-0.715626485183609,true]
[-0.580331,null,-0.551885866334032,-0.551885866334032,true]
[-0.3704,null,-0.36241424155452506,-0.36241424155452506,true]
[-0.19816,null,-0.19688552355595182,-0.19688552355595182,true]

{"sheet":"ATAN","index":7,"n_rows":249,"n_cols":8,"rows_kept":249}
[{"$f":"SUM(A3:A5)","v":0},{"$f":"SUM(B3:B5)","v":0},{"$f":"SUM(C3:C5)","v":0},"Total"]
["Failed","Error","NotSupport","Verification Area"]
[{"$f":"COUNTIF(INDIRECT(D3),\"=false\")","v":0},{"$f":"COUNTIF(INDIRECT(D3),\"=Error\")","v":0},{"$f":"COUNTIF(INDIRECT(D3),\"=NSup\")","v":0},"E12:E249"]
[]
[]
[]
[]
[]
["ATAN(number)"]
[]
["Data",null,"Formula","Expected","Check","Mask","Comments","Description"]
[null,{"$f":"C12*180/PI()","v":45},{"$f":"ATAN(1)","v":0.7853981633974483},0.7853981633974483,{"$f":"IF(F12=0,IF(ISERR(C12),\"Error\", IF(C12=D12,TRUE,FALSE)),\"NSup\")","v":true}]
[1e+23,90,{"$f":"ATAN(A13)","v":1.5707963267948966},1.5707963267948966,true]
[null,89.9999994270422,{"$f":"ATAN(100000000)","v":1.5707963167948966},1.5707963167948966,true]
[450089765.667397,89.99999987270144,{"$f":"ATAN(A15)","v":1.5707963245731176},1.5707963245731176,true]
[39406759.037787,89.99999854604182,{"$f":"ATAN(A16)","v":1.5707963014185393},1.5707963014185393,true]
[1487249.3334921,89.9999614753369,{"$f":"ATAN(A17)","v":1.5707956544126824},1.5707956544126824,true]
[1407359.2084079,89.99995928844665,{"$f":"ATAN(A18)","v":1.570795616244247},1.570795616244247,true]
[296032,89.99980645410122,{"$f":"ATAN(A19)","v":1.570792948781709},1.570792948781709,true]
[null,89.99977422962691,{"$f":"ATAN(\"253779\")","v":1.5707923863585327},1.5707923863585327,true,null,null,"text"]
[74893.264857747,89.99923496752855,{"$f":"ATAN(A21)","v":1.570782974459385},1.570782974459385,true]
[null,89.99915429585134,{"$f":"ATAN(\"67749.2\")","v":1.5707815664730045},1.5707815664730045,true,null,null,"text"]
[16227.242668,89.99646916111303,{"$f":"ATAN(A23)","v":1.5707347020309614},1.5707347020309614,true]
[8315.4995203,89.99310976098344,1.5706760694378084,1.5706760694378084,true]
[7578.602,89.99243979573271,1.570664376338309,1.570664376338309,true]
[4249.09691,89.98651577507671,1.570560982672906,1.570560982672906,true]
[3967.77561,89.98555972314676,1.570544296418908,1.570544296418908,true]
[3938.28837814,89.9854516041538,1.5705424093864968,1.5705424093864968,true]
[2814.025,89.97963920821554,1.5704409639399448,1.5704409639399448,true]
[702.930293,89.91849015267763,1.5693737115863235,1.5693737115863235,true]
[603.08,89.90499481494658,1.5691381735092478,1.5691381735092478,true]
[427.454524,89.86596077062903,1.5684569009155371,1.5684569009155371,true]
[288.022651,89.80107276600243,1.567324391589754,1.567324391589754,true]
[174,89.67071753615333,1.565049263631693,1.565049263631693,true]
[163.741697,89.65008871749723,1.5646892228253473,1.5646892228253473,true]
[163.252816,89.64904089051723,1.5646709347945549,1.5646709347945549,true]
[118.000202538,89.51445500335294,1.5623219679368203,1.5623219679368203,true]
[95.73,89.40150741028611,1.5603506605556017,1.5603506605556017,true]
[84.619,89.32292850925873,1.5589792000100748,1.5589792000100748,true]
[51.775915,88.89352690825562,1.551484728259236,1.551484728259236,true]
[43.9,88.69508262808024,1.5480212221884253,1.5480212221884253,true]
[42.14919248,88.640898451063,1.547075529896991,1.547075529896991,true]
[30.353,88.11303452512864,1.537862566386933,1.537862566386933,true]
[30,88.09084756700362,1.5374753309166493,1.5374753309166493,true]
[24.629,87.67492284213958,1.5302160750273202,1.5302160750273202,true]
[23.6,87.57366416839766,1.5284487777743208,1.5284487777743208,true]
[23.55,87.56851888845233,1.5283589756983382,1.5283589756983382,true]
[23.512501,87.5646456970004,1.5282913757549417,1.5282913757549417,true]
[19,86.98721249581665,1.5182132651839548,1.5182132651839548,true]
[14.729,86.11596257066655,1.5030070853823314,1.5030070853823314,true]
[11.912835,85.20166538433219,1.4870495891390767,1.4870495891390767,true]
[11.706369922,85.11744281944158,1.4855796280772608,1.4855796280772608,true]
[11.12942965,84.86565492056815,1.481185100225241,1.481185100225241,true]
[10.4573065,84.53759107993339,1.4754593060494268,1.4754593060494268,true]
[8.775,83.49861392613812,1.4573257338626997,1.4573257338626997,true]
[6.14606435,80.75862889552035,1.4095039736230617,1.4095039736230617,true]
[5.8,80.21759296819272,1.4000611153196139,1.4000611153196139,true]
[5.166666666666667,79.04593735660166,1.379611867197882,1.379611867197882,true]
[3.8415,75.40888074425078,1.316133254230928,1.316133254230928,true]
[3.30991,73.18922474885987,1.2773929488497247,1.2773929488497247,true]
[3.28459739,73.06706020065236,1.2752607752542924,1.2752607752542924,true]
[2.7,69.67686317033706,1.2160906747839564,1.2160906747839564,true]
[2.698387,69.66570916937485,1.2158960007423951,1.2158960007423951,true]
[2.596,68.93291543559558,1.203106337349964,1.203106337349964,true]
[2.589236029,68.88272583180844,1.2022303635136071,1.2022303635136071,true]
[2.57667,68.78887589894406,1.200592373182348,1.200592373182348,true]
[2.49177082,68.13337136475126,1.1891516607989316,1.1891516607989316,true]
[2.3718705,67.13931402248194,1.171802087222708,1.171802087222708,true]
[2.24585708,65.99829661987584,1.151887576724678,1.151887576724678,true]
[2,63.43494882292201,1.1071487177940904,1.1071487177940904,true]
[1.8,60.94539590092286,1.0636978224025597,1.0636978224025597,true]
[1.6576,58.898181615829614,1.0279671926338207,1.0279671926338207,true]
[1.61389,58.2167788870386,1.0160744714843435,1.0160744714843435,true]
[1.57855,57.64603742355034,1.0061131537688224,1.0061131537688224,true]
[1.51959,56.65219511465566,0.9887673332329878,0.9887673332329878,true]
[1.43645,{"$f":"C76*180/PI()","v":55.15588193917181},0.9626517416798229,0.9626517416798229,{"$f":"IF(F76=0,IF(ISERR(C76),\"Error\", IF(C76=D76,TRUE,FALSE)),\"NSup\")","v":true}]
[1.423147,54.905510414047065,0.9582819342131564,0.9582819342131564,true]
[1.336338,53.19198877376828,0.9283753397861176,0.9283753397861176,true]
[1.294035015,52.303989396155536,0.9128768268911148,0.9128768268911148,true]
[1.23876961,51.087706215013725,0.8916486807435596,0.8916486807435596,true]
[1.223972044,50.750760909459586,0.8857678757625016,0.8857678757625016,true]
[1.13,48.49259316085605,0.8463554134870224,0.8463554134870224,true]
[1.1,47.72631099390627,0.8329812666744317,0.8329812666744317,true]
[1.1,47.72631099390627,0.8329812666744317,0.8329812666744317,true]
[1.0883,47.421206478497616,0.8276561883178489,0.8276561883178489,true]
[1.06749361,46.86976449520521,0.818031710075669,0.818031710075669,true]
[1.03,45.84667402386151,{"$f":"ATAN(A87)","v":0.8001754128049406},0.8001754128049406,true]
[1.0072273,45.20630050107878,0.788998786389787,0.788998786389787,true]
[1,45,0.7853981633974483,0.7853981633974483,true]
[0.99,44.712083933442905,0.7803730800666359,0.7803730800666359,true]
[0.934,43.0454733751738,0.7512852384763392,0.7512852384763392,true]
[0.9,41.987212495816664,0.7328151017865066,0.7328151017865066,true]
[0.839616073,40.01735967264417,0.6984346842424409,0.6984346842424409,true]
[0.83596,39.894274285225926,0.6962864389708998,0.6962864389708998,true]
[0.7908,38.33694737093663,0.6691059567866281,0.6691059567866281,true]
[0.639815,32.61172277497253,0.5691819371708925,0.5691819371708925,true]
[0.5969349,30.834451535540634,0.5381627023418054,0.5381627023418054,true]
[0.5,26.56505117707799,0.4636476090008061,0.4636476090008061,true]
[0.46,24.702430227771313,0.4311387407187822,0.4311387407187822,true]
[0.187387,10.613400611142026,0.18523878549760672,0.18523878549760672,true]
[0.1735,9.842834465824005,0.17178986915740616,0.17178986915740616,true]
[0,0,0,0,true]
[-0.14,-7.96961039432136,-0.13909594148207133,-0.13909594148207133,true]
[-0.15609,-8.871710085186443,-0.15484055126889004,-0.15484055126889004,true]
[-0.16,-9.090276920822323,-0.1586552621864014,-0.1586552621864014,true]
[-0.183064413,-10.373950144111557,-0.1810595864524869,-0.1810595864524869,true]
[-0.1934,-10.945867453538666,-0.19104142655113718,-0.19104142655113718,true]
[-0.23702,-13.334182116018104,-0.23272538098506046,-0.23272538098506046,true]
[-0.25640273,-14.380989961624868,-0.25099562452660695,-0.25099562452660695,true]
[-0.342,-18.880687965351427,-0.3295301700370515,-0.3295301700370515,true]
[-0.35566554,-19.5787200377887,-0.3417131279856014,-0.3417131279856014,true]
[-0.387404334,-21.17658368283765,-0.36960110958962356,-0.36960110958962356,true]
[-0.409432,-22.26576297557083,-0.3886108743923607,-0.3886108743923607,true]
[-0.4489727,-24.178778518303098,-0.4219992942548651,-0.4219992942548651,true]
[-0.4884049,-26.031109887038678,-0.45432857547727407,-0.45432857547727407,true]
[-0.56584,-29.502917520311467,-0.5149230496737561,-0.5149230496737561,true]
[-0.57818,-30.03564224488799,-0.5242208501243963,-0.5242208501243963,true]
[-0.6,-30.96375653207352,-0.5404195002705842,-0.5404195002705842,true]
[-0.61558,-31.615621309113717,-0.5517966869077143,-0.5517966869077143,true]
[-0.6197,-31.786495139178683,-0.5547789978478412,-0.5547789978478412,true]
[-0.6336,-32.35834701219636,-0.5647596958656962,-0.5647596958656962,true]
[-0.7132,-35.49646561620278,-0.6195301978236963,-0.6195301978236963,true]
[-0.75,-36.86989764584402,-0.6435011087932844,-0.6435011087932844,true]
[-0.8,-38.659808254090095,-0.6747409422235527,-0.6747409422235527,true]
[-0.90307757,-42.08448441720542,-0.7345128170844815,-0.7345128170844815,true]
[-0.91268862,-42.38634762682115,-0.7397813239829139,-0.7397813239829139,true]
[-0.935,-43.07605901544876,-0.7518190586029678,-0.7518190586029678,true]
[-0.97119297,-44.16273861600853,-0.7707851955469927,-0.7707851955469927,true]
[-0.97268,-44.2065511731467,-0.7715498689227718,-0.7715498689227718,true]
[-0.977083864,-44.3359214019905,-0.7738078053701546,-0.7738078053701546,true]
[-0.998103032,-44.94560429273364,-0.7844487792066993,-0.7844487792066993,true]
[-1,-45,-0.7853981633974483,-0.7853981633974483,true]
[-1.0239,-45.67656775678939,-0.7972064983662552,-0.7972064983662552,true]
[-1.1026264,-47.79431330307522,-0.834168130868389,-0.834168130868389,true]
[-1.2,-50.19442890773481,-0.8760580505981934,-0.8760580505981934,true]
[-1.24248,-51.17143101740676,-0.8931099542108997,-0.8931099542108997,true]
[-1.4833764,-56.014603913729445,-0.9776392674950806,-0.9776392674950806,true]
[-1.502116,-56.347200032519126,-0.9834441648473147,-0.9834441648473147,true]
[-1.597,-57.946268654613,-1.0113531772681816,-1.0113531772681816,true]
[-2,{"$f":"C140*180/PI()","v":-63.43494882292201},-1.1071487177940904,-1.1071487177940904,{"$f":"IF(F140=0,IF(ISERR(C140),\"Error\", IF(C140=D140,TRUE,FALSE)),\"NSup\")","v":true}]
[-2,-63.43494882292201,-1.1071487177940904,-1.1071487177940904,true]
[-2,-63.43494882292201,-1.1071487177940904,-1.1071487177940904,true]
[-2,-63.43494882292201,-1.1071487177940904,-1.1071487177940904,true]
[-2.1544,-65.10085737312943,-1.1362243070323352,-1.1362243070323352,true]
[-2.3,-66.5014343240479,-1.1606689862534056,-1.1606689862534056,true]
[-2.3,-66.5014343240479,-1.1606689862534056,-1.1606689862534056,true]
[-2.39837,-67.36631165019301,-1.1757639432204825,-1.1757639432204825,true]
[-2.404026,-67.41420954009428,-1.1765999191040173,-1.1765999191040173,true]
[-2.8,-70.3461759419467,-1.2277723863741932,-1.2277723863741932,true]
[-3.292428053,-73.10503653886911,-1.2759235873940258,-1.2759235873940258,true]
[-3.3042706,-73.1621561242558,{"$f":"ATAN(A151)","v":-1.2769205122263974},-1.2769205122263974,true]
[-3.445,-73.81326776082692,-1.288284554082612,-1.288284554082612,true]
[-3.57280649,-74.36349109987,-1.297887762970231,-1.297887762970231,true]
[-3.987648,-75.92200475471515,-1.3250889576845692,-1.3250889576845692,true]
[-4,-75.96375653207353,-1.3258176636680326,-1.3258176636680326,true]
[-4.6,-77.7352262721076,-1.356735643231075,-1.356735643231075,true]
[-4.91,-78.48824369707626,-1.3698782766216675,-1.3698782766216675,true]
[-4.9959541,-78.68114469918045,-1.3732450342387823,-1.3732450342387823,true]
[-5.229671,-79.17476963997628,-1.3818604147256315,-1.3818604147256315,true]
[-6.132288699,-80.73822832602461,-1.4091479165160792,-1.4091479165160792,true]
[-6.1964697,-80.83252152410843,-1.410793643284877,-1.410793643284877,true]
[-6.3,-80.98067756861833,-1.413379454068306,-1.413379454068306,true]
[-6.44002,-81.17365602516905,-1.416747563520533,-1.416747563520533,true]
[-7.998,-82.87322026997377,-1.4464105554415463,-1.4464105554415463,true]
[-9.4676066,-83.97058543411505,-1.4655631906524995,-1.4655631906524995,true]
[-12.959,-85.5874327904003,-1.4937825005218432,-1.4937825005218432,true]
[-14.9,-86.16040366204653,-1.5037827287500916,-1.5037827287500916,true]
[-26.345,-87.82621802883342,-1.5328566741775473,-1.5328566741775473,true]
[-55.15,-88.96120577580514,-1.552665947331996,-1.552665947331996,true]
[-79.66521622,-89.28083079131652,-1.5582444562244078,-1.5582444562244078,true]
[-113.18083656,-89.49378101099042,-1.5619611387005623,-1.5619611387005623,true]
[-266.705528779,-89.78517314102207,-1.567046890784014,-1.567046890784014,true]
[-562.3317,-89.8981104584428,-1.569018018821376,-1.569018018821376,true]
[-567.3236,-89.89900698618167,-1.5690336661822546,-1.5690336661822546,true]
[-638,-89.9101947765001,-1.569228929959334,-1.569228929959334,true]
[-1745.1148153,-89.96716790623775,-1.5702232986584217,-1.5702232986584217,true]
[-2909.563764,-89.98030777741806,-1.5704526326738062,-1.5704526326738062,true]
[-3478,-89.98352622831104,-1.5705088052387024,-1.5705088052387024,true]
[-3706.521424,-89.98454190018924,-1.570526532057097,-1.570526532057097,true]
[-5264.334604,-89.98911623535852,-1.5706063692668906,-1.5706063692668906,true]
[-8321.642,-89.99311484689713,-1.5706761582037476,-1.5706761582037476,true]
[-39353.9,-89.99854408890859,-1.570770916352735,-1.570770916352735,true]
[-115375,-89.99950339519384,-1.5707876594059478,-1.5707876594059478,true]
[-148248.61169,-89.99961351557455,-1.5707895813691648,-1.5707895813691648,true]
[-790604.679338634,-89.99992752916722,-1.5707950619402529,-1.5707950619402529,true]
[-12315612.71,-89.9999953477118,-1.57079624559715,-1.57079624559715,true]
[-47927267.68143,-89.99999880452648,-1.5707963059299475,-1.5707963059299475,true]
[-2577876053.63,-89.99999997777404,-1.5707963264069804,-1.5707963264069804,true]
[-4986267461.808,-89.99999998850929,-1.5707963265943459,-1.5707963265943459,true]
[{"v":-5.123412341234e+25,"d":"-5.12E+25"},-90,-1.5707963267948966,-1.5707963267948966,true]
[null,0,0,0,true]
[1033,89.94453459669386,1.5698282728862578,1.5698282728862578,true]
[-33,-88.2642954110716,-1.5405025668761214,-1.5405025668761214,true]
[469.72303987,89.87802239172876,1.5686674159168557,1.5686674159168557,true]
[-1.38,-54.07149757717717,-0.9437256642058782,-0.9437256642058782,true]
[0.97,44.12754287709797,0.770170914020331,0.770170914020331,true]
[-24.421,-87.6551415678026,-1.5298708266598995,-1.5298708266598995,true]
[2039,89.97190006134412,1.5703058903457432,1.5703058903457432,true]
[-1.0346,-45.9742666369344,-0.8024023240042857,-0.8024023240042857,true]
[6.4,81.11934084947976,1.4157995848709557,1.4157995848709557,true]
[-62180.78,-89.9990785612611,-1.5707802446550472,-1.5707802446550472,true]
[0.7573,37.13664690428505,0.6481567616303336,0.6481567616303336,true]
[-37.70858985,-88.48092028843506,-1.5442833842278425,-1.5442833842278425,true]
[47.708556,{"$f":"C204*180/PI()","v":88.79922186664537},1.5498387947819068,1.5498387947819068,{"$f":"IF(F204=0,IF(ISERR(C204),\"Error\", IF(C204=D204,TRUE,FALSE)),\"NSup\")","v":true}]
[-1,-45,-0.7853981633974483,-0.7853981633974483,true]
[0.5,26.56505117707799,0.4636476090008061,0.4636476090008061,true]
[-9154.542,-89.9937412729894,-1.570687091401578,-1.570687091401578,true]
[0.956,43.71135521483757,0.7629070690077089,0.7629070690077089,true]
[-0.634976217,-32.4145762238779,-0.5657410807453399,-0.5657410807453399,true]
[0.32884,18.20293320000266,0.31770111786063393,0.31770111786063393,true]
[-22.71755,-87.47953384300591,-1.5268058936702615,-1.5268058936702615,true]
[3,71.56505117707799,1.2490457723982544,1.2490457723982544,true]
[-96.1860386,-89.40434478683669,-1.560400182118528,-1.560400182118528,true]
[3,71.56505117707799,1.2490457723982544,1.2490457723982544,true]
[-619261.687,-89.99990747727381,{"$f":"ATAN(A215)","v":-1.5707947119686916},-1.5707947119686916,true]
[1.4829452,56.006882742664246,0.9775045076378831,0.9775045076378831,true]
[-8,-82.87498365109819,-1.446441332248135,-1.446441332248135,true]
[0.864798,40.85318448514692,0.7130225791904782,0.7130225791904782,true]
[-77.0059,-89.2559977986633,-1.5578110387394852,-1.5578110387394852,true]
[0.363,19.95089720497559,0.34820884495375803,0.34820884495375803,true]
[-0.9817,-44.47091741317001,-0.7761639302422961,-0.7761639302422961,true]
[12084.44727,89.99525871741568,1.5707135758030328,1.5707135758030328,true]
[-1.12,-48.239700296102136,-0.8419416003422657,-0.8419416003422657,true]
[2.3515,66.96186845810892,1.1687050778813395,1.1687050778813395,true]
[-227.97813107,-89.74868022742251,-1.566409969288056,-1.566409969288056,true]
[19744.423,89.99709812844549,1.5707456795818002,1.5707456795818002,true]
[-1,-45,-0.7853981633974483,-0.7853981633974483,true]
[16259,89.99647605760251,1.5707348223974098,1.5707348223974098,true]
[-1.899,-62.22902568903488,-1.0861013885817916,-1.0861013885817916,true]
[2335.381,89.97546619758775,1.570368131164769,1.570368131164769,true]
[-195.8,-89.70737854263189,-1.5656891189018387,-1.5656891189018387,true]
[2.025776,63.727303171759374,1.1122512637638264,1.1122512637638264,true]
[-3.293833457,-73.11183482430941,-1.2760422398584492,-1.2760422398584492,true]
[null,89.75514773195566,{"$f":"ATAN(234)","v":1.5665228485365472},1.5665228485365472,true]
[-73406.21311469,-89.99921946961874,{"$f":"ATAN(A235)","v":-1.5707827039698317},-1.5707827039698317,true]
[62.7,89.08626918411288,1.5548487155807322,1.5548487155807322,true]
[-0.46,-24.702430227771313,-0.4311387407187822,-0.4311387407187822,true]
[0.16736,9.500969280132088,0.1658231960691404,0.1658231960691404,true]
[-1.05648,-46.57319903287424,-0.8128556663102943,-0.8128556663102943,true]
[0.57842904,30.04633510664373,0.5244074757684947,0.5244074757684947,true]
[-20.3,-87.17982752755152,-1.5215750316765615,-1.5215750316765615,true]
[33910825.5132,89.99999831039857,1.5707962973057885,1.5707962973057885,true]
[-63303.0945115,-89.99909489765152,-1.5707805297788482,-1.5707805297788482,true]
[48.874951427,88.82787021450274,1.5503388027772746,1.5503388027772746,true]
[-101.057604,-89.43305691742727,-1.5609013033325962,-1.5609013033325962,true]
[1202.31587636,89.95234549636433,1.5699645988030506,1.5699645988030506,true]
[-1.495527,-56.23091276879421,-0.98141456921718,-0.98141456921718,true]
[0.09634486,5.5031683877347755,{"$f":"ATAN($A$248)","v":0.09604840765763976},0.09604840765763976,true]
[-9157.93895,-89.99374359453606,{"$f":"ATAN(A249:A254)","v":-1.570687131920211},-1.570687131920211,true]

{"sheet":"ATAN2","index":8,"n_rows":137,"n_cols":8,"rows_kept":137}
[{"$f":"SUM(A3:A5)","v":0},{"$f":"SUM(B3:B5)","v":1},{"$f":"SUM(C3:C5)","v":0},"Total"]
["Failed","Error","NotSupport","Verification Area"]
[{"$f":"COUNTIF(INDIRECT(D3),\"=false\")","v":0},{"$f":"COUNTIF(INDIRECT(D3),\"=Error\")","v":1},{"$f":"COUNTIF(INDIRECT(D3),\"=NSup\")","v":0},"E12:E137"]
{"$rows_empty":7}
["Data",null,"Formula","Expected","Check","Mask","Comments","Description"]
[null,null,{"$f":"ATAN2(1,0)","v":0},0,{"$f":"IF(F12=0,IF(ISERR(C12),\"Error\", IF(C12=D12,TRUE,FALSE)),\"NSup\")","v":true}]
[10,5,{"$f":"ATAN2(A13,B13)","v":0.4636476090008061},0.4636476090008061,true]
[1,1,0.7853981633974483,0.7853981633974483,true]
[10,-10,-0.7853981633974483,-0.7853981633974483,true]
[124,-12.34,-0.09918954940885846,-0.09918954940885846,true]
[-234,45,2.9516043656710775,2.9516043656710775,true]
[-0.325,-1.4,-1.7988989550748393,-1.7988989550748393,true]
[2,0,0,0,true,null,null,"0 degree"]
[0,5.2,1.5707963267948966,1.5707963267948966,true,null,null,"90 degree"]
[-45,0,3.141592653589793,3.141592653589793,true,null,null,"180 degree"]
[0,-3,-1.5707963267948966,-1.5707963267948966,true,null,null,"270 degree"]
["4.6","2.4",0.4808872801953358,0.4808872801953358,true,null,null,"Numeric Text"]
["3E","2F",{"$error":"#VALUE!"},{"$error":"#VALUE!"},"Error",null,null,"Text"]
[118786.2,80179944510.7,1.5707948452997331,1.5707948452997331,true,null,null,"Random number"]
[-58.28,30279190591,1.5707963287196507,1.5707963287196507,true]
[0.08,166850.2,1.5707958473228911,1.5707958473228911,true]
[-0.82172,83473,1.5708061709361154,1.5708061709361154,true]
[1.5361,3526.02,1.570360679832366,1.570360679832366,true]
[-6.6808,3035.21,1.572997422999408,1.572997422999408,true]
[8.5771,2533.480285683,1.5674108387452952,1.5674108387452952,true]
[-570.17,302.642303832,2.6536151005247217,2.6536151005247217,true]
[0.6266375,138.321533,1.5662660616979651,1.5662660616979651,true]
[-357002.71903205,122.67935804,3.1412490165621993,3.1412490165621993,true]
[5.061,68.3317603,1.4968661947389799,1.4968661947389799,true]
[-6.7937014,33.51163,1.7708123116680634,1.7708123116680634,true]
[0.6802,23.860067,1.5422961627443788,1.5422961627443788,true]
[-102.127417,8.4,3.0595271857717625,3.0595271857717625,true]
[16.82560688,5.7,0.3266349699751281,0.3266349699751281,true]
[-6633,4.7,3.140884075387863,3.140884075387863,true]
[0.56884296,4,1.4295328042383513,1.4295328042383513,true]
[-2.84508511,3.9,2.2010537028677404,2.2010537028677404,true]
[105.437132849,2.698257,0.025585561015417955,0.025585561015417955,true]
[-57.29968258,2.60842,3.096101643545546,3.096101643545546,{"$f":"IF(F44=0,IF(ISERR(C44),\"Error\", IF(C44=D44,TRUE,FALSE)),\"NSup\")","v":true}]
[9.76052149874537e+16,2,{"$f":"ATAN2(A45,B45)","v":2.0490708414064582E-17},2.0490708414064582E-17,true]
[-0.02454,1.4,1.5883231033317187,1.5883231033317187,true]
[5221115921777.61,1,1.9152993631666664E-13,1.9152993631666664E-13,true]
[-15054704.0251801,0.826,3.1415925987232214,3.1415925987232214,true]
[3.156842424,0.80348378,0.24922949887760718,0.24922949887760718,true]
[-4.88757267,0.7,2.999339647724439,2.999339647724439,true]
[7.968,0.155280086,0.019485496111808304,0.019485496111808304,true]
[-29219.169159267,0,3.141592653589793,3.141592653589793,true]
[1.62,-0.6,-0.3547056520109403,-0.3547056520109403,true]
[-30.0123,-0.86530878,-3.112768833681,-3.112768833681,true]
[0.8085,-0.9026333,-0.8403550226980386,-0.8403550226980386,true]
[-0.1,-0.90790876,-1.6804973653323505,-1.6804973653323505,true]
[190677632442.406,-0.95,-4.982230940416918e-12,-4.982230940416918e-12,true]
[-0.351,-1.0888,-1.8826505934480386,-1.8826505934480386,true]
[0.865,-1.2,-0.9462246673337876,-0.9462246673337876,true]
[-1,-1.4317117,-2.1804911061411856,-2.1804911061411856,true]
[44312050399226.1,-1.654,-3.732618971811078e-14,-3.732618971811078e-14,true]
[-1.626,-3.46,-2.0101098680606135,-2.0101098680606135,true]
[394793.747,-3.78,-9.5746197314632028E-6,-9.5746197314632028E-6,true]
[-37.4,-4.671197897,-3.0173377567953326,-3.0173377567953326,true]
[1,-5.101612,-1.3772339973781598,-1.3772339973781598,true]
[-2.039407,-6.1,-1.893442728112033,-1.893442728112033,true]
[0.497,-11.736,-1.5284732852285463,-1.5284732852285463,true]
[-12.98,-36.1067,-1.9159004060401803,-1.9159004060401803,true]
[0.49,-50.234200244,-1.5610423253795394,-1.5610423253795394,true]
[-598.59,-111.24,-2.957851981277281,-2.957851981277281,true]
[15035623.9119774,-156.791257695,-1.0427984805101208E-5,-1.0427984805101208E-5,true]
[-73583.313,-3291,-3.0968976248285753,-3.0968976248285753,true]
[0,-10911.3073,-1.5707963267948966,-1.5707963267948966,true]
[-862.520950173,-12630.04,-1.6389816884956347,-1.6389816884956347,true]
[2.775231,-16091.223268,-1.570623858181028,-1.570623858181028,true]
[-6.58107211,-288142.92216884,-1.57081916640539,-1.57081916640539,{"$f":"IF(F76=0,IF(ISERR(C76),\"Error\", IF(C76=D76,TRUE,FALSE)),\"NSup\")","v":true}]
[3363.7468,-833877.3,{"$f":"ATAN2(A77,B77)","v":-1.5667624856588465},-1.5667624856588465,true]
[-46734877.3899235,-1220118227.496,-1.6090811753783192,-1.6090811753783192,true]
[0.60324,-907796283432.985,-1.5707963267942322,-1.5707963267942322,true]
[72622874.72436,119340852701.949,1.5701877936386828,1.5701877936386828,true]
[-1.582253,13512062297.0065,1.5707963269119958,1.5707963269119958,true]
[0.68,9667524.14,1.5707962564563083,1.5707962564563083,true]
[-26.6,439399.0394,1.5708568640232068,1.5708568640232068,true]
[69027.99257325,255705.45763,1.307129986426267,1.307129986426267,true]
[-16.169407251,57947.9217656,1.5710753602155731,1.5710753602155731,true]
[110354.809,15325.007240809,0.13798780259652502,0.13798780259652502,true]
[-7942,8806.38405525,2.304630242492212,2.304630242492212,true]
[0.29,235.831007,1.5695666333058387,1.5695666333058387,true]
[-9.33163,213.4343829,1.6144898063382296,1.6144898063382296,true]
[0.2859589,155.692645,1.5689596402998665,1.5689596402998665,true]
[-19.335094798,60.03272996,1.8823811973174158,1.8823811973174158,true]
[10.51182,59.5608,1.396106370340614,1.396106370340614,true]
[-0.34152,45,1.5783855144231742,1.5783855144231742,true]
[1.69877,29.34539,1.512972041111969,1.512972041111969,true]
[-480.130849,22,3.0958038384879902,3.0958038384879902,true]
[0.7357,16.235030841,1.5255117172704296,1.5255117172704296,true]
[-1.11,3.906013205,1.847674354980737,1.847674354980737,true]
[5369.186343,3.6845124,6.862328081495971E-4,6.862328081495971E-4,true]
[-34.787,3.37767218,3.0448002490970425,3.0448002490970425,true]
[1.0414,1.896697383,1.0686753608143285,1.0686753608143285,true]
[-1.987781543,1.82,2.4002288138714043,2.4002288138714043,true]
[22.69877,1.79997,0.07913253968924351,0.07913253968924351,true]
[-0.6885,1.352,2.041812999162709,2.041812999162709,true]
[0.03407954,0.296832421,1.4564861266987128,1.4564861266987128,true]
[-206682.39613408,0.15467239,3.1415919052319605,3.1415919052319605,true]
[1.73854,0.1235564,0.07094976711980391,0.07094976711980391,true]
[-23.5979,0.0999,3.137359251329132,3.137359251329132,true]
[0.79427,0,0,0,{"$f":"IF(F108=0,IF(ISERR(C108),\"Error\", IF(C108=D108,TRUE,FALSE)),\"NSup\")","v":true}]
[-518633,0,{"$f":"ATAN2(A109,B109)","v":3.141592653589793},3.141592653589793,true]
[1148738286.39,-0.0464,-4.0392142013317606E-11,-4.0392142013317606E-11,true]
[-257,-0.5,-3.1396471307526075,-3.1396471307526075,true]
[1480.227,-0.60838949,-4.1101091639430491E-4,-4.1101091639430491E-4,true]
[-16.73731201,-0.6355983,-3.1036359594350524,-3.1036359594350524,true]
[0.148808606,-0.64267447,-1.3432602529875979,-1.3432602529875979,true]
[-66745939.853,-0.792990156,-3.1415926417090683,-3.1415926417090683,true]
[504678136427.537,-1,-1.981460911064418E-12,-1.981460911064418E-12,true]
[-1.444,-1.02188,-2.525735479707899,-2.525735479707899,true]
[30.2,-1.0412,-0.03446317062123662,-0.03446317062123662,true]
[-0.9205,-1.438581033,-2.1400148978720415,-2.1400148978720415,true]
[2069.404455537,-1.5421676,-7.4522276705705408E-4,-7.4522276705705408E-4,true]
[0,-3.1471337,-1.5707963267948966,-1.5707963267948966,true]
[1.503,-3.67,-1.1820957146590088,-1.1820957146590088,true]
[-0.15,-6.432275527,-1.5941119974872286,-1.5941119974872286,true]
[1.49006,-15.913,-1.477430664062279,-1.477430664062279,true]
[-0.22643947,-19.494065377,-1.5824116200734513,-1.5824116200734513,true]
[52.36,-29.843028418,-0.5180372243551334,-0.5180372243551334,true]
[-0.864497269,-111.91,-1.5785211062912925,-1.5785211062912925,true]
[1.19,-242.825,-1.565895717410982,-1.565895717410982,true]
[-715.1766338,-287.31333,-2.7595892609264534,-2.7595892609264534,true]
[15471234021752,-597.39938,-3.861355720946874e-11,-3.861355720946874e-11,true]
[-1.23158745,-923.67241,-1.5721296855775222,-1.5721296855775222,true]
[0.0501263,-3296.96363559,-1.5707811230178652,-1.5707811230178652,true]
[-25822119482.3695,-33237,-3.141591366437512,-3.141591366437512,true]
[3.179927185,-192986.20199427,-1.5707798493102274,-1.5707798493102274,true]
[-16,-4891960.37886828,-1.5707995974673388,-1.5707995974673388,true]
[0.1,-11328597,-1.5707963179676783,-1.5707963179676783,true]
[-9.240275452,-2.39806624588848E+16,-1.5707963267948968,-1.5707963267948968,true]

{"sheet":"ATANH","index":9,"n_rows":135,"n_cols":8,"rows_kept":135}
[{"$f":"SUM(A3:A5)","v":0},{"$f":"SUM(B3:B5)","v":19},{"$f":"SUM(C3:C5)","v":0},"Total"]
["Failed","Error","NotSupport","Verification Area"]
[{"$f":"COUNTIF(INDIRECT(D3),\"=false\")","v":0},{"$f":"COUNTIF(INDIRECT(D3),\"=Error\")","v":19},{"$f":"COUNTIF(INDIRECT(D3),\"=NSup\")","v":0},"E12:E135"]
{"$rows_empty":7}
["Data",null,"Formula","Expected","Check","Mask","Comments","Description"]
[{"v":0.999999999999999,"d":"1.00"},null,{"$f":"ATANH(A12)","v":17.616361586450413},17.616361586450413,{"$f":"IF(F12=0,IF(ISERR(C12),\"Error\", IF(C12=D12,TRUE,FALSE)),\"NSup\")","v":true}]
[0.9607049,null,1.9549797506288897,1.9549797506288897,true]
[0.94836426,null,1.8152656950615418,1.8152656950615418,true]
[0.941,null,1.746710569631645,1.746710569631645,true]
[0.93363,null,1.6859545986062232,1.6859545986062232,true]
[0.92614,null,1.6305509349019203,1.6305509349019203,true]
[0.8809,null,1.3797710941577523,1.3797710941577523,true]
[0.85495622,null,1.2742903729009019,1.2742903729009019,true]
[0.84119,null,1.2252294307826432,1.2252294307826432,true]
[0.8264712,null,1.1768987492006426,1.1768987492006426,true]
[0.8079806,null,1.1211847011079878,1.1211847011079878,true]
[0.802,null,1.1041927037368742,1.1041927037368742,true]
[0.8,null,1.0986122886681098,1.0986122886681098,true]
[0.796,null,1.0875986275089644,1.0875986275089644,true]
[0.75352481,null,0.9810609394976207,0.9810609394976207,true]
[0.7,null,0.8673005276940532,0.8673005276940532,true]
[0.66686,null,0.8050670369858431,0.8050670369858431,true]
[0.6523637,null,0.7794026344581596,0.7794026344581596,true]
[0.625,null,0.7331685343967135,0.7331685343967135,true]
[0.616,null,0.718533343246657,0.718533343246657,true]
[0.6,null,0.6931471805599453,0.6931471805599453,true]
[0.586,null,0.6715522141847393,0.6715522141847393,true]
[0.573,null,0.6519779449148265,0.6519779449148265,true]
[0.553,null,0.6226926142675592,0.6226926142675592,true]
[0.48,null,0.5229842775913438,0.5229842775913438,true]
[0.44,null,0.47223080442042564,0.47223080442042564,true]
[0.43901,null,0.4710037880408339,0.4710037880408339,true]
[0.4038,null,0.42818097152617496,0.42818097152617496,true]
[null,null,{"$f":"ATANH(0.4)","v":0.42364893019360184},0.42364893019360184,true]
[0.39235171,null,{"$f":"ATANH(A41)","v":0.41457661500844367},0.41457661500844367,true]
[0.3913328,null,0.41337288346249695,0.41337288346249695,true]
[0.323339,null,0.33537147908570286,0.33537147908570286,true]
[0.3,null,0.3095196042031118,0.3095196042031118,{"$f":"IF(F44=0,IF(ISERR(C44),\"Error\", IF(C44=D44,TRUE,FALSE)),\"NSup\")","v":true}]
[0.29708869,null,0.3063234191614164,0.3063234191614164,true]
[0.26386982,null,0.27026330040412483,0.27026330040412483,true]
[0.259,null,0.2650362043741301,0.2650362043741301,true]
[0.245,null,0.2500865298248917,0.2500865298248917,true]
[0.221,null,0.22470721411997824,0.22470721411997824,true]
[0.2,null,0.2027325540540821,0.2027325540540821,true]
[0.19256473,null,0.19499930565936827,0.19499930565936827,true]
[0.1906591,null,0.19302104279933002,0.19302104279933002,true]
[0.12561484,null,0.12628186235612873,0.12628186235612873,true]
[0.1146015,null,0.11510719738086533,0.11510719738086533,true]
[0.103,null,0.10336657859735317,0.10336657859735317,true]
[0.09085,null,0.09110119538631478,0.09110119538631478,true]
[0.06,null,0.060072155921031704,0.060072155921031704,true]
[0.058569,null,0.0586361084655418,0.0586361084655418,true]
[0.03,null,0.030009004863126475,0.030009004863126475,true]
[0.02098,null,0.020983079001590965,0.020983079001590965,true]
[0.01,null,0.010000333353334718,0.010000333353334718,true]
[0.005,null,0.005000041667291589,0.005000041667291589,true]
[0.00184,null,1.8400020765056084E-3,1.8400020765056084E-3,true]
[0,null,0,0,true]
[-0.0042,null,-0.004200024696261361,-0.004200024696261361,true]
[-0.0046601,null,-0.004660133734176415,-0.004660133734176415,true]
[-0.02358246,null,-0.02358683311615884,-0.02358683311615884,true]
[-0.0576705,null,-0.05773456306905867,-0.05773456306905867,true]
[-0.0877,null,-0.08792588537418794,-0.08792588537418794,true]
[-0.0934167,null,-0.09368987096909989,-0.09368987096909989,true]
[-0.1,null,-0.10033534773107562,-0.10033534773107562,true]
[-0.1229795,null,-0.12360516632766341,-0.12360516632766341,true]
[-0.2,null,{"$f":"ATANH(A73)","v":-0.20273255405408214},-0.20273255405408214,true]
[-0.23586264,null,-0.24038846778690473,-0.24038846778690473,true]
[-0.23963183,null,-0.24438347651567183,-0.24438347651567183,true]
[-0.249,null,-0.25434642918072153,-0.25434642918072153,{"$f":"IF(F76=0,IF(ISERR(C76),\"Error\", IF(C76=D76,TRUE,FALSE)),\"NSup\")","v":true}]
[-0.26204,null,-0.26829755786518644,-0.26829755786518644,true]
[-0.3,null,-0.30951960420311175,-0.30951960420311175,true]
[-0.34812,null,-0.36330290618693195,-0.36330290618693195,true]
[-0.348816,null,-0.36409510260576244,-0.36409510260576244,true]
[-0.355825,null,-0.3720974879021485,-0.3720974879021485,true]
[-0.37618121,null,-0.3956038887912342,-0.3956038887912342,true]
[-0.4,null,-0.4236489301936018,-0.4236489301936018,true]
[-0.4176006,null,-0.444782268219563,-0.444782268219563,true]
[-0.45069718,null,-0.48557482975587507,-0.48557482975587507,true]
[-0.47208523,null,-0.5127501741029096,-0.5127501741029096,true]
[-0.4767,null,-0.5187051170507831,-0.5187051170507831,true]
[-0.5024,null,-0.5525112835145143,-0.5525112835145143,true]
[-0.524352,null,-0.5823232979171333,-0.5823232979171333,true]
[-0.533,null,-0.5943263106014585,-0.5943263106014585,true]
[-0.54336512,null,-0.608918166210169,-0.608918166210169,true]
[-0.55,null,-0.6183813135744635,-0.6183813135744635,true]
[-0.5588,null,-0.6310866430426033,-0.6310866430426033,true]
[-0.5676731,null,-0.6440828409939505,-0.6440828409939505,true]
[-0.57356867,null,-0.6528250056766998,-0.6528250056766998,true]
[-0.62875,null,-0.7393462191610729,-0.7393462191610729,true]
[-0.63848,null,-0.7556034483375552,-0.7556034483375552,true]
[-0.67236,null,-0.8150378184129712,-0.8150378184129712,true]
[-0.67731841,null,-0.8241427825373976,-0.8241427825373976,true]
[null,null,{"$f":"ATANH(-70%)","v":-0.8673005276940531},-0.8673005276940531,true]
[null,null,{"$f":"ATANH(-0.704)","v":-0.8751871265326002},-0.8751871265326002,true]
[-0.73,null,{"$f":"ATANH(A102)","v":-0.928727364246725},-0.928727364246725,true]
[-0.73252754,null,-0.9341600096383156,-0.9341600096383156,true]
[-0.8070303,null,-1.1184534384071756,-1.1184534384071756,true]
[-0.81747353,null,-1.1491537208695697,-1.1491537208695697,true]
[-0.86834666,null,-1.3263184619046071,-1.3263184619046071,true]
[-0.87143,null,-1.3389923101981298,-1.3389923101981298,true]
[-0.8716151,null,-1.3397621219142846,-1.3397621219142846,{"$f":"IF(F108=0,IF(ISERR(C108),\"Error\", IF(C108=D108,TRUE,FALSE)),\"NSup\")","v":true}]
[-0.8789,null,-1.3709125638202153,-1.3709125638202153,true]
[-0.9206559,null,-1.5933139655937276,-1.5933139655937276,true]
[-0.92508198,null,-1.6231646918957412,-1.6231646918957412,true]
[-0.95401958,null,-1.8747140996618856,-1.8747140996618856,true]
[-0.9642,null,-2.002446211658509,-2.002446211658509,true]
[-0.98573,null,-2.4677912261062382,-2.4677912261062382,true]
[-0.9936,null,-2.870699669113757,-2.870699669113757,true]
[-0.999999999999,null,-14.162095209226402,-14.162095209226402,true]
[-1,null,{"$error":"#NUM!"},{"$error":"#NUM!"},"Error"]
[1,null,{"$error":"#NUM!"},{"$error":"#NUM!"},"Error"]
["\"0.35\"",null,{"$error":"#VALUE!"},{"$error":"#VALUE!"},"Error"]
[" ",null,{"$error":"#VALUE!"},{"$error":"#VALUE!"},"Error"]
["text",null,{"$error":"#VALUE!"},{"$error":"#VALUE!"},"Error"]
[12215909757199,null,{"$error":"#NUM!"},{"$error":"#NUM!"},"Error"]
[956637580,null,{"$error":"#NUM!"},{"$error":"#NUM!"},"Error"]
[181,null,{"$error":"#NUM!"},{"$error":"#NUM!"},"Error"]
[155,null,{"$error":"#NUM!"},{"$error":"#NUM!"},"Error"]
[9,null,{"$error":"#NUM!"},{"$error":"#NUM!"},"Error"]
[8,null,{"$error":"#NUM!"},{"$error":"#NUM!"},"Error"]
[5,null,{"$error":"#NUM!"},{"$error":"#NUM!"},"Error"]
[-36,null,{"$error":"#NUM!"},{"$error":"#NUM!"},"Error"]
[-49,null,{"$error":"#NUM!"},{"$error":"#NUM!"},"Error"]
[-51,null,{"$error":"#NUM!"},{"$error":"#NUM!"},"Error"]
[-838,null,{"$error":"#NUM!"},{"$error":"#NUM!"},"Error"]
[-1240,null,{"$error":"#NUM!"},{"$error":"#NUM!"},"Error"]
[-88252251,null,{"$error":"#NUM!"},{"$error":"#NUM!"},"Error"]
[-3294286760754750,null,{"$error":"#NUM!"},{"$error":"#NUM!"},"Error"]

{"sheet":"CEILING","index":10,"n_rows":209,"n_cols":8,"rows_kept":209}
[{"$f":"SUM(A3:A5)","v":0},{"$f":"SUM(B3:B5)","v":3},{"$f":"SUM(C3:C5)","v":0},"Total"]
["Failed","Error","NotSupport","Verification Area"]
[{"$f":"COUNTIF(INDIRECT(D3),\"=false\")","v":0},{"$f":"COUNTIF(INDIRECT(D3),\"=Error\")","v":3},{"$f":"COUNTIF(INDIRECT(D3),\"=NSup\")","v":0},"E12:E209"]
{"$rows_empty":7}
["Data",null,"Formula","Expected","Check","Mask","Comments","Description"]
[null,null,{"$f":"CEILING(0.5,0.2)","v":0.6000000000000001},0.6000000000000001,{"$f":"IF(F12=0,IF(ISERR(C12),\"Error\", IF(C12=D12,TRUE,FALSE)),\"NSup\")","v":true}]
[3.3,0,{"$f":"CEILING($A$13,B13)","v":0},0,true]
[null,1,{"$f":"CEILING($A$13,B14)","v":4},4,true]
[null,2,{"$f":"CEILING(3.3,2)","v":4},4,true]
[null,3,{"$f":"CEILING($A$13,B16)","v":6},6,true]
[null,4,4,4,true]
[null,5,5,5,true]
[null,11,11,11,true]
[null,100,100,100,true]
[null,0.01,3.3000000000000003,3.3000000000000003,true]
[null,-0.1,{"$error":"#NUM!"},{"$error":"#NUM!"},"Error"]
[null,0.2,3.4000000000000004,3.4000000000000004,true]
[null,0.3,3.3,3.3,true]
[null,0.4,3.6,3.6,true]
[null,0.5,3.5,3.5,true]
[null,0.6,3.5999999999999996,3.5999999999999996,true]
[null,0.725,3.625,3.625,true]
[null,0.8,4,4,true]
[null,0.95,3.8,3.8,true]
[0.125,1E-3,{"$f":"CEILING($A$31,B31)","v":0.125},0.125,true]
[null,2E-3,0.126,0.126,true]
[null,0.003,0.126,0.126,true]
[null,0.005,0.125,0.125,true]
[null,0.007,0.126,0.126,true]
[null,0.009,0.126,0.126,true]
[null,0.011,0.132,0.132,true]
[null,0.012,0.132,0.132,true]
[null,0.013,0.13,0.13,true]
[null,0.014,0.126,0.126,true]
[null,0.015,0.135,0.135,true]
[null,0.016,0.128,0.128,true]
[null,0.017,0.136,0.136,true]
[null,0.018,0.126,0.126,{"$f":"IF(F44=0,IF(ISERR(C44),\"Error\", IF(C44=D44,TRUE,FALSE)),\"NSup\")","v":true}]
[null,0.019,0.133,0.133,true]
[null,0.02,0.14,0.14,true]
[null,0.021,0.126,0.126,true]
[null,"0.022",0.132,0.132,true]
[null,"0.023",0.138,0.138,true]
[null,"0.024",0.14400000000000002,0.14400000000000002,true]
[null,"0.025",0.125,0.125,true]
[null,0.026,0.13,0.13,true]
[null,0.027,0.135,0.135,true]
[null,0.028,0.14,0.14,true]
[null,0.029,0.14500000000000002,0.14500000000000002,true]
[null,0.01,0.13,0.13,true]
[null,0.02,0.14,0.14,true]
[null,0.03,0.15,0.15,true]
[null,0.04,0.16,0.16,true]
[null,0.05,0.15000000000000002,0.15000000000000002,true]
[null,0.06,0.18,0.18,true]
[null,0.07,0.14,0.14,true]
[null,0.08,0.16,0.16,true]
[null,0.09,0.18,0.18,true]
[null,0.1,0.2,0.2,true]
[null,0.11,0.22,0.22,true]
[null,0.12,0.24,0.24,true]
[null,0.13,0.13,0.13,true]
[null,0.14,0.14,0.14,true]
[null,1,1,1,true]
[null,1.4,1.4,1.4,true]
[null,1.125,1.125,1.125,true]
[null,-0.01,{"$error":"#NUM!"},{"$error":"#NUM!"},"Error"]
[-1243,-0.0013,{"$f":"CEILING($A$74,B74)","v":-1243.0002},-1243.0002,true]
[null,-0.07,-1243.0600000000002,-1243.0600000000002,true]
[null,-0.05,-1243,-1243,{"$f":"IF(F76=0,IF(ISERR(C76),\"Error\", IF(C76=D76,TRUE,FALSE)),\"NSup\")","v":true}]
[null,-0.04,-1243,-1243,true]
[null,-0.13,-1243.06,-1243.06,true]
[null,-0.12,-1243.08,-1243.08,true]
[null,-0.11,-1243,-1243,true]
[null,0,0,0,true]
[null,-0.1,-1243,-1243,true]
[null,-0.2,-1243,-1243,true]
[null,-0.3,-1243.2,-1243.2,true]
[null,-0.4,-1243.2,-1243.2,true]
[null,-0.5,-1243,-1243,true]
[null,-0.6,-1243.2,-1243.2,true]
[null,-0.7,-1243.1999999999998,-1243.1999999999998,true]
[null,-0.8,-1243.2,-1243.2,true]
[null,-0.9,-1243.8,-1243.8,true]
[null,-1,-1243,-1243,true]
[null,-2,-1244,-1244,true]
[null,-3,-1245,-1245,true]
[null,-3.3,-1244.1,-1244.1,true]
[null,-5,-1245,-1245,true]
[null,-6,-1248,-1248,true]
[null,-7,-1246,-1246,true]
[null,{"$f":"-B74","v":0.0013},-1242.9989,-1242.9989,true]
[null,0.07,-1242.99,-1242.99,true]
[null,0.05,-1243,-1243,true]
[null,0.04,-1243,-1243,true]
[null,0.13,-1242.93,-1242.93,true]
[null,0.12,-1242.96,-1242.96,true]
[null,0.11,-1243,-1243,true]
[null,0,0,0,true]
[null,0.1,-1243,-1243,true]
[null,0.2,-1243,-1243,true]
[null,0.3,-1242.8999999999999,-1242.8999999999999,{"$f":"IF(F108=0,IF(ISERR(C108),\"Error\", IF(C108=D108,TRUE,FALSE)),\"NSup\")","v":true}]
[null,0.4,-1242.8000000000002,-1242.8000000000002,true]
[null,0.5,-1243,-1243,true]
[null,0.6,-1242.6,-1242.6,true]
[null,0.7,-1242.5,-1242.5,true]
[null,0.8,-1242.4,-1242.4,true]
[null,0.9,-1242.9,-1242.9,true]
[null,1,-1243,-1243,true]
[null,2,-1242,-1242,true]
[null,3,-1242,-1242,true]
[null,3.3,-1240.8,-1240.8,true]
[null,5,-1240,-1240,true]
[null,6,-1242,-1242,true]
[null,7,-1239,-1239,true]
[1243,-0.0013,{"$f":"CEILING($A$122,B122)","v":{"$error":"#NUM!"}},{"$error":"#NUM!"},"Error"]
[null,0.07,1243.0600000000002,1243.0600000000002,true]
[null,0.05,1243,1243,true]
[null,0.04,1243,1243,true]
[null,0.13,1243.06,1243.06,true]
[null,0.12,1243.08,1243.08,true]
[null,0.11,1243,1243,true]
[null,0,0,0,true]
[null,0.1,1243,1243,true]
[null,0.2,1243,1243,true]
[null,0.3,1243.2,1243.2,true]
[null,0.4,1243.2,1243.2,true]
[null,0.5,1243,1243,true]
[null,0.6,1243.2,1243.2,true]
[null,0.7,1243.1999999999998,1243.1999999999998,true]
[null,0.8,1243.2,1243.2,true]
[null,0.9,1243.8,1243.8,true]
[null,1,1243,1243,true]
[null,2,1244,1244,{"$f":"IF(F140=0,IF(ISERR(C140),\"Error\", IF(C140=D140,TRUE,FALSE)),\"NSup\")","v":true}]
[null,3,1245,1245,true]
[null,3.3,1244.1,1244.1,true]
[null,5,1245,1245,true]
[null,6,1248,1248,true]
[null,7,1246,1246,true]
[null,null,{"$f":"CEILING(\"123\",\"4\")","v":124},124,true,null,null,"Numeric text"]
[null,null,{"$f":"CEILING(\"123\",\"0.7\")","v":123.19999999999999},123.19999999999999,true]
[null,null,{"$f":"CEILING(\"123\",\"20\")","v":140},140,true]
[null,null,{"$f":"CEILING(\"123%\",\"0.4\")","v":1.6},1.6,true]
[null,null,{"$f":"CEILING(\"-1.234234567567E+15\",\"17\")","v":-1234234567566998},-1234234567566998,true]
[]
[70.15670992,56,{"$f":"CEILING(A152,B152)","v":112},112,{"$f":"IF(F152=0,IF(ISERR(C152),\"Error\", IF(C152=D152,TRUE,FALSE)),\"NSup\")","v":true},null,null,"Random data"]
[-0.2129,-75,-75,-75,true]
[2031.8,3,2034,2034,true]
[-1.3192,-146,-146,-146,true]
[3.072321,212,212,212,true]
[-829.8600947,-7,-833,-833,true]
[0.202,0.14,0.28,0.28,true]
[-143.77315,-5,-145,-145,true]
[0.523133,11,11,11,true]
[-15.62,-8,-16,-16,true]
[2.5012662,111,111,111,true]
[-0.865204,-50515240,-50515240,-50515240,true]
[2.68,393982,393982,393982,true]
[-4.139,-239,-239,-239,true]
[0.82,9,9,9,true]
[-0.819,-2,-2,-2,true]
[156.8673695,531,531,531,true]
[-3.686,-51,-51,-51,true]
[1.10067941,404012,404012,404012,true]
[-1.8,-12,-12,-12,true]
[32,5,35,35,true]
[-1.38736,-13,-13,-13,true]
[1.97059574,8,8,8,true]
[-607300.9,-450760096545,-450760096545,-450760096545,true]
[0.259733362,4,4,4,true]
[-8.129,-126,-126,-126,true]
[1.616517594,3,3,3,true]
[-112044247026.814,-1685,-112044248555,-112044248555,true]
[13.419296496,3,15,15,true]
[-1,-10,-10,-10,true]
[0.709399,22621,22621,22621,true]
[-2.262,-2,-4,-4,true]
[1600331419.37,1154,{"$f":"CEILING(A184,B184)","v":1600331426},1600331426,{"$f":"IF(F184=0,IF(ISERR(C184),\"Error\", IF(C184=D184,TRUE,FALSE)),\"NSup\")","v":true}]
[-3,-26,-26,-26,true]
[1.50309717,563875595,563875595,563875595,true]
[-1.545911,-12,-12,-12,true]
[18694.8,167,18704,18704,true]
[-259.81458,-2575,-2575,-2575,true]
[3.13852152,1166,1166,1166,true]
[-10.461091,-28,-28,-28,true]
[29.446,2,30,30,true]
[-1838652.44,-8,-1838656,-1838656,true]
[0.7327654,77,77,77,true]
[-0.41814503,-6,-6,-6,true]
[6.662623,334,334,334,true]
[-2.900101303,-63,-63,-63,true]
[4.237726,5,5,5,true]
[-120.32711234,-36,-144,-144,true]
[1.1171,3,3,3,true]
[-9027.02725937,-11,-9031,-9031,true]
[3845.8179,11,3850,3850,true]
[-0.44056585,-5656415,-5656415,-5656415,true]
[10.4763,1849,1849,1849,true]
[-1.8885717,-1020,-1020,-1020,true]
[54.3272,4,56,56,true]
[-966377.455867486,-267,-966540,-966540,true]
[0.371,18,18,18,true]
[-2.38,-511,-511,-511,true]

{"sheet":"CEILING.PRECISE","index":11,"n_rows":300,"n_cols":8,"rows_kept":300}
[{"$f":"SUM(A3:A5)","v":0},{"$f":"SUM(B3:B5)","v":0},{"$f":"SUM(C3:C5)","v":0},"Total"]
["Failed","Error","NotSupport","Verification Area"]
[{"$f":"COUNTIF(INDIRECT(D3),\"=false\")","v":0},{"$f":"COUNTIF(INDIRECT(D3),\"=Error\")","v":0},{"$f":"COUNTIF(INDIRECT(D3),\"=NSup\")","v":0},"E12:E300"]
{"$rows_empty":7}
["Data",null,"Formula","Expected","Check","Mask","Comments","Description"]
[null,null,{"$f":"_xlfn.CEILING.PRECISE(0.5)","v":1},1,{"$f":"IF(F12=0,IF(ISERR(C12),\"Error\", IF(C12=D12,TRUE,FALSE)),\"NSup\")","v":true},null,null,"Default Significance = 1"]
[null,null,{"$f":"_xlfn.CEILING.PRECISE(1000)","v":1000},1000,true]
[2342.000005,null,{"$f":"_xlfn.CEILING.PRECISE(A14)","v":2343},2343,true]
[-0.02,null,{"$f":"_xlfn.CEILING.PRECISE(A15)","v":0},0,true]
[null,null,{"$f":"_xlfn.CEILING.PRECISE(-1.234)","v":-1},-1,true]
[null,null,{"$f":"_xlfn.CEILING.PRECISE(-1002)","v":-1002},-1002,true]
[null,null,{"$f":"_xlfn.CEILING.PRECISE(0.0000000000000000013)","v":1},1,true]
[10.3,0,{"$f":"_xlfn.CEILING.PRECISE($A$19,B19)","v":0},0,true,null,null,"Specific Significance"]
[null,1,11,11,true]
[null,2,12,12,true]
[null,3,12,12,true]
[null,4,12,12,true]
[null,5,15,15,true]
[null,11,11,11,true]
[null,100,100,100,true]
[null,0.01,10.3,10.3,true]
[null,-0.1,10.3,10.3,true]
[null,0.2,10.4,10.4,true]
[null,0.3,10.5,10.5,true]
[null,0.4,10.4,10.4,true]
[null,0.5,10.5,10.5,true]
[null,0.6,10.799999999999999,10.799999999999999,true]
[null,0.725,10.875,10.875,true]
[null,0.8,10.4,10.4,true]
[null,0.95,10.45,10.45,true]
[0.125,1E-3,{"$f":"_xlfn.CEILING.PRECISE($A$37,B37)","v":0.125},0.125,true]
[null,2E-3,0.126,0.126,true]
[null,0.003,0.126,0.126,true]
[null,0.005,0.125,0.125,true]
[null,0.007,0.126,0.126,true]
[null,0.009,0.126,0.126,true]
[null,0.011,0.132,0.132,true]
[null,0.012,0.132,0.132,true]
[null,0.013,0.13,0.13,true]
[null,0.014,0.126,0.126,true]
[null,0.015,0.135,0.135,true]
[null,0.016,0.128,0.128,true]
[null,0.017,0.136,0.136,true]
[null,0.018,0.126,0.126,true]
[null,0.019,0.133,0.133,true]
[null,0.02,0.14,0.14,true]
[null,0.021,0.126,0.126,true]
[null,"0.022",0.132,0.132,true]
[null,"0.023",0.138,0.138,true]
[null,"0.024",0.14400000000000002,0.14400000000000002,true]
[null,"0.025",0.125,0.125,true]
[null,0.026,0.13,0.13,true]
[null,0.027,0.135,0.135,true]
[null,0.028,0.14,0.14,true]
[null,0.029,0.14500000000000002,0.14500000000000002,true]
[null,0.01,0.13,0.13,true]
[null,0.02,0.14,0.14,true]
[null,0.03,0.15,0.15,true]
[null,0.04,0.16,0.16,true]
[null,0.05,0.15000000000000002,0.15000000000000002,true]
[null,0.06,0.18,0.18,true]
[null,0.07,0.14,0.14,true]
[null,0.08,{"$f":"_xlfn.CEILING.PRECISE($A$37,B69)","v":0.16},0.16,true]
[null,0.09,0.18,0.18,true]
[null,0.1,0.2,0.2,true]
[null,0.11,0.22,0.22,true]
[null,0.12,0.24,0.24,true]
[null,0.13,0.13,0.13,true]
[null,0.14,0.14,0.14,true]
[null,1,1,1,{"$f":"IF(F76=0,IF(ISERR(C76),\"Error\", IF(C76=D76,TRUE,FALSE)),\"NSup\")","v":true}]
[null,1.4,1.4,1.4,true]
[null,1.125,1.125,1.125,true]
[null,{"$f":"-B37","v":-1E-3},0.125,0.125,true]
[null,-2E-3,0.126,0.126,true]
[null,-0.003,0.126,0.126,true]
[null,-0.005,0.125,0.125,true]
[null,-0.007,0.126,0.126,true]
[null,-0.009,0.126,0.126,true]
[null,-0.011,0.132,0.132,true]
[null,-0.012,0.132,0.132,true]
[null,-0.013,0.13,0.13,true]
[null,-0.014,0.126,0.126,true]
[null,-0.015,0.135,0.135,true]
[null,-0.016,0.128,0.128,true]
[null,-0.017,0.136,0.136,true]
[null,-0.018,0.126,0.126,true]
[null,-0.019,0.133,0.133,true]
[null,-0.02,0.14,0.14,true]
[null,-0.021,0.126,0.126,true]
[null,-0.022,0.132,0.132,true]
[null,-0.023,0.138,0.138,true]
[null,-0.024,0.14400000000000002,0.14400000000000002,true]
[null,-0.025,0.125,0.125,true]
[null,-0.026,0.13,0.13,true]
[null,-0.027,{"$f":"_xlfn.CEILING.PRECISE($A$37,B101)","v":0.135},0.135,true]
[null,-0.028,0.14,0.14,true]
[null,-0.029,0.14500000000000002,0.14500000000000002,true]
[null,-0.01,0.13,0.13,true]
[null,-0.02,0.14,0.14,true]
[null,-0.03,0.15,0.15,true]
[null,-0.04,0.16,0.16,true]
[null,-0.05,0.15000000000000002,0.15000000000000002,true]
[null,-0.06,0.18,0.18,true]
[null,-0.07,0.14,0.14,true]
[null,-0.08,0.16,0.16,true]
[null,-0.09,0.18,0.18,true]
[null,-0.1,0.2,0.2,true]
[null,-0.11,0.22,0.22,true]
[null,-0.12,0.24,0.24,true]
[null,-0.13,0.13,0.13,true]
[null,-0.14,0.14,0.14,true]
[null,-1,1,1,true]
[null,-1.4,1.4,1.4,true]
[null,-1.125,1.125,1.125,true]
[2017,-0.0013,{"$f":"_xlfn.CEILING.PRECISE($A$121,B121)","v":2017.0006999999998},2017.0006999999998,true]
[null,-0.07,2017.0500000000002,2017.0500000000002,true]
[null,-0.05,2017,2017,true]
[null,-0.04,2017,2017,true]
[null,-0.13,2017.0800000000002,2017.0800000000002,true]
[null,-0.12,2017.08,2017.08,true]
[null,-0.11,2017.07,2017.07,true]
[null,0,0,0,true]
[null,-0.1,2017,2017,true]
[null,-0.2,2017,2017,true]
[null,-0.3,2017.1999999999998,2017.1999999999998,true]
[null,-0.4,2017.2,2017.2,true]
[null,-0.5,2017,2017,true]
[null,-0.6,2017.1999999999998,2017.1999999999998,true]
[null,-0.7,2017.3999999999999,2017.3999999999999,true]
[null,-0.8,2017.6000000000001,2017.6000000000001,true]
[null,-0.9,2017.8,2017.8,true]
[null,-1,2017,2017,true]
[null,-2,2018,2018,true]
[null,-3,2019,2019,{"$f":"IF(F140=0,IF(ISERR(C140),\"Error\", IF(C140=D140,TRUE,FALSE)),\"NSup\")","v":true}]
[null,-3.3,2019.6,2019.6,true]
[null,-5,2020,2020,true]
[null,-6,2022,2022,true]
[null,-7,2023,2023,true]
[null,0.0013,2017.0006999999998,2017.0006999999998,true]
[null,0.07,2017.0500000000002,2017.0500000000002,true]
[null,0.05,2017,2017,true]
[null,0.04,2017,2017,true]
[null,0.13,2017.0800000000002,2017.0800000000002,true]
[null,0.12,2017.08,2017.08,true]
[null,0.11,2017.07,2017.07,true]
[null,0,0,0,true]
[null,0.1,2017,2017,true]
[null,0.2,2017,2017,true]
[null,0.3,2017.1999999999998,2017.1999999999998,true]
[null,0.4,2017.2,2017.2,true]
[null,0.5,2017,2017,true]
[null,0.6,2017.1999999999998,2017.1999999999998,true]
[null,0.7,2017.3999999999999,2017.3999999999999,true]
[null,0.8,2017.6000000000001,2017.6000000000001,true]
[null,0.9,2017.8,2017.8,true]
[null,1,2017,2017,true]
[null,2,2018,2018,true]
[null,3,2019,2019,true]
[null,3.3,2019.6,2019.6,true]
[null,5,2020,2020,true]
[null,6,2022,2022,true]
[null,7,2023,2023,true]
[null,null,{"$f":"_xlfn.CEILING.PRECISE(-$A$121,B121)","v":-2016.9994},-2016.9994,true]
[null,null,-2016.9800000000002,-2016.9800000000002,true]
[null,null,-2017,-2017,true]
[null,null,-2017,-2017,true]
[null,null,-2016.95,-2016.95,true]
[null,null,-2016.96,-2016.96,true]
[null,null,-2016.96,-2016.96,true]
[null,null,0,0,true]
[null,null,-2017,-2017,true]
[null,null,-2017,-2017,true]
[null,null,-2016.8999999999999,-2016.8999999999999,true]
[null,null,-2016.8000000000002,-2016.8000000000002,true]
[null,null,-2017,-2017,true]
[null,null,-2016.6,-2016.6,true]
[null,null,-2016.6999999999998,-2016.6999999999998,true]
[null,null,-2016.8000000000002,-2016.8000000000002,true]
[null,null,-2016.9,-2016.9,true]
[null,null,-2017,-2017,true]
[null,null,-2016,-2016,true]
[null,null,-2016,-2016,true]
[null,null,-2016.3,-2016.3,true]
[null,null,-2015,-2015,true]
[null,null,-2016,-2016,true]
[null,null,-2016,-2016,true]
[null,null,-2016.9994,-2016.9994,true]
[null,null,-2016.9800000000002,-2016.9800000000002,true]
[null,null,-2017,-2017,true]
[null,null,-2017,-2017,true]
[null,null,-2016.95,-2016.95,true]
[null,null,-2016.96,-2016.96,true]
[null,null,-2016.96,-2016.96,true]
[null,null,0,0,true]
[null,null,-2017,-2017,true]
[null,null,-2017,-2017,true]
[null,null,-2016.8999999999999,-2016.8999999999999,true]
[null,null,-2016.8000000000002,-2016.8000000000002,{"$f":"IF(F204=0,IF(ISERR(C204),\"Error\", IF(C204=D204,TRUE,FALSE)),\"NSup\")","v":true}]
[null,null,-2017,-2017,true]
[null,null,-2016.6,-2016.6,true]
[null,null,-2016.6999999999998,-2016.6999999999998,true]
[null,null,-2016.8000000000002,-2016.8000000000002,true]
[null,null,-2016.9,-2016.9,true]
[null,null,-2017,-2017,true]
[null,null,-2016,-2016,true]
[null,null,-2016,-2016,true]
[null,null,-2016.3,-2016.3,true]
[null,null,-2015,-2015,true]
[null,null,-2016,-2016,true]
[null,null,-2016,-2016,true]
[]
[0.4422,-170273,{"$f":"_xlfn.CEILING.PRECISE(A218,B218)","v":170273},170273,{"$f":"IF(F218=0,IF(ISERR(C218),\"Error\", IF(C218=D218,TRUE,FALSE)),\"NSup\")","v":true},null,null,"Random number"]
[-2.27520123918865e+17,-14304,-2.2752012391886515E+17,-2.2752012391886515E+17,true]
[2975505746750.1,-10099,2975505756498,2975505756498,true]
[-1639675109.335,-3336,-1639674024,-1639674024,true]
[1.39962725,-1749,1749,1749,true]
[-1.4,-616,0,0,true]
[1,-265,265,265,true]
[-209.0055,-127,-127,-127,true]
[17.621,-74,74,74,true]
[0,-39,0,0,true]
[13381.7575,-13,13390,13390,true]
[-5,-11,0,0,true]
[0.195875525,-7,7,7,true]
[-3266.31636,-4,-3264,-3264,true]
[6.27533463,-4,8,8,true]
[-145.8,-0.9972476,-145.5981496,-145.5981496,true]
[21.14,-0.9918122,21.8198684,21.8198684,true]
[-52380.136,-0.9798596,-52379.3747776,-52379.3747776,true]
[7262,-0.978150319,7262.766118575,7262.766118575,true]
[-9161.86765985,-0.898022,-9161.620444,-9161.620444,true]
[2463748.11,-0.7942,2463748.1792,2463748.1792,true]
[-4.6120675,-0.7414768,-4.4488608,-4.4488608,true]
[1875.17258,-0.7,1875.3,1875.3,true]
[-1.628883261,-0.7,-1.4,-1.4,true]
[0.92,-0.685559,1.371118,1.371118,true]
[-15,-0.650334707,-14.957698260999999,-14.957698260999999,true]
[0.1,-0.616338,0.616338,0.616338,true]
[-529305.6,-0.6,-529305.6,-529305.6,true]
[0.113233,-0.5130846,0.5130846,0.5130846,true]
[-3.0513,-0.5074366,-3.0446196,-3.0446196,true]
[5.3,-0.464871039,5.578452468,5.578452468,true]
[-22.66,-0.442,-22.542,-22.542,true]
[0.7,-0.4,{"$f":"_xlfn.CEILING.PRECISE(A250,B250)","v":0.8},0.8,{"$f":"IF(F250=0,IF(ISERR(C250),\"Error\", IF(C250=D250,TRUE,FALSE)),\"NSup\")","v":true}]
[-979776.196,-0.3746782,-979775.999436,-979775.999436,true]
[8.48041516,-0.31371,8.78388,8.78388,true]
[-1.6,-0.227,-1.589,-1.589,true]
[9.085,-0.1,9.1,9.1,true]
[-9.13379771684528e+24,-0.062,-9.133797716845308e+24,-9.133797716845308e+24,true]
[544.673296,-0.06175148,544.70980508,544.70980508,true]
[-67179.382838995,-0.057,-67179.345,-67179.345,true]
[2604,0.005,2604,2604,true]
[-361.2835604,0.0588,-361.2672,-361.2672,true]
[0.0335316,0.1,0.1,0.1,true]
[-255.44760064,0.109,-255.387,-255.387,true]
[980.355,0.2,980.4000000000001,980.4000000000001,true]
[-737581231802848,0.282,-737581231802847.1,-737581231802847.1,true]
[1.26317,0.2861581,1.4307905,1.4307905,true]
[-3.476892216,0.29637,-3.2600700000000002,-3.2600700000000002,true]
[1.551566899,0.3,1.7999999999999998,1.7999999999999998,true]
[-13160.8078,0.3,-13160.699999999999,-13160.699999999999,true]
[6.126525,0.4,6.4,6.4,true]
[-4.2,0.41,-4.1,-4.1,true]
[0.14,0.4173647,0.4173647,0.4173647,true]
[-1.462511,0.4238,-1.2714,-1.2714,true]
[200934,0.48854301,200934.32021193,200934.32021193,true]
[-1.238658,0.4896493,-0.9792986,-0.9792986,true]
[1.19,0.5,1.5,1.5,true]
[-1.04646292,0.6,-0.6,-0.6,true]
[-0.85214617,0.756,-0.756,-0.756,true]
[2.6,0.8,3.2,3.2,true]
[-2.504234,0.837813,-1.675626,-1.675626,true]
[5.8596466,0.881,6.167,6.167,true]
[-6.6394,0.945,-6.614999999999999,-6.614999999999999,true]
[2.616401,0.948672465,2.846017395,2.846017395,true]
[-0.858132237,0.95977,{"$f":"_xlfn.CEILING.PRECISE(A282,B282)","v":0},0,{"$f":"IF(F282=0,IF(ISERR(C282),\"Error\", IF(C282=D282,TRUE,FALSE)),\"NSup\")","v":true}]
[2859116.206,1,2859117,2859117,true]
[-28.80132,1,-28,-28,true]
[38942.247432,3,38943,38943,true]
[-304.823228,5,-300,-300,true]
[1.180981,9,9,9,true]
[-3139.9224,12,-3132,-3132,true]
[690.33438059,14,700,700,true]
[-313.64705396,16,-304,-304,true]
[0.32,18,18,18,true]
[-239.682247,28,-224,-224,true]
[0.79256,60,60,60,true]
[-433.36,77,-385,-385,true]
[4.855256,520,520,520,true]
[-7405507301.1,1114,-7405506608,-7405506608,true]
[2.8656151,1433,1433,1433,true]
[-44.53,2671,0,0,true]
[347.94669522,7622,7622,7622,true]
[-1.08513893850531E+24,1.14796329932314E+20,-1.085054910520232E+24,-1.085054910520232E+24,true]

{"sheet":"COMBIN","index":12,"n_rows":208,"n_cols":8,"rows_kept":208}
[{"$f":"SUM(A3:A5)","v":0},{"$f":"SUM(B3:B5)","v":9},{"$f":"SUM(C3:C5)","v":0},"Total"]
["Failed","Error","NotSupport","Verification Area"]
[{"$f":"COUNTIF(INDIRECT(D3),\"=false\")","v":0},{"$f":"COUNTIF(INDIRECT(D3),\"=Error\")","v":9},{"$f":"COUNTIF(INDIRECT(D3),\"=NSup\")","v":0},"E12:E208"]
{"$rows_empty":7}
["Data",null,"Formula","Expected","Check","Mask","Comments","Description"]
[null,null,{"$f":"COMBIN(10,1)","v":10},10,{"$f":"IF(F12=0,IF(ISERR(C12),\"Error\", IF(C12=D12,TRUE,FALSE)),\"NSup\")","v":true}]
[null,null,{"$f":"COMBIN(10,2)","v":45},45,true]
[null,null,{"$f":"COMBIN(10,3)","v":120},120,true]
[null,null,{"$f":"COMBIN(10,4)","v":209.99999999999997},209.99999999999997,true]
[null,null,{"$f":"COMBIN(10,5)","v":252},252,true]
[null,null,{"$f":"COMBIN(10,6)","v":209.99999999999997},209.99999999999997,true]
[null,null,{"$f":"COMBIN(10,7)","v":120},120,true]
[null,null,{"$f":"COMBIN(10,8)","v":45},45,true]
[null,null,{"$f":"COMBIN(10,9)","v":10},10,true]
[null,null,{"$f":"COMBIN(10,10)","v":1},1,true]
[null,null,{"$f":"COMBIN(10,0)","v":1},1,true]
[null,null,{"$f":"COMBIN(10,)","v":1},1,true,null,null,"default number_chosen = 0"]
[null,null,{"$f":"COMBIN(10,-1)","v":{"$error":"#NUM!"}},{"$error":"#NUM!"},"Error",null,null,"number_chosen <0"]
[null,null,{"$f":"COMBIN(10,0.5)","v":1},1,true,null,null,"Decimal part will be ignored"]
[null,null,{"$f":"COMBIN(10,2.7)","v":45},45,true]
[null,null,{"$f":"COMBIN(10,11)","v":{"$error":"#NUM!"}},{"$error":"#NUM!"},"Error",null,null,"number_chosen > number"]
[123,0,{"$f":"COMBIN($A$28,B28)","v":1},1,true]
[null,1,123,123,true]
[null,2,7503,7503,true]
[null,3,302620.99999999994,302620.99999999994,true]
[null,4,9078630,9078630,true]
[null,5,216071394,216071394,true]
[null,6,4249404081.9999986,4249404081.9999986,true]
[null,"7",71025753942,71025753942,true]
[null,"8",1029873432159,1029873432159,true]
[null,"9",13159493855365,13159493855365,true]
[null,"10",150018229951161,150018229951161,true]
[null,"11.124",1541096362225563,1541096362225563,true]
[null,"12.987",1.4383566047438586E+16,1.4383566047438586E+16,true]
[null,13,1.2281352548197566E+17,1.2281352548197566E+17,true]
[null,14,9.649634145012369e+17,9.649634145012369e+17,true]
[null,15,7.012067478708985e+18,7.012067478708985e+18,true]
[null,16,4.7331455481285706E+19,4.7331455481285706E+19,{"$f":"IF(F44=0,IF(ISERR(C44),\"Error\", IF(C44=D44,TRUE,FALSE)),\"NSup\")","v":true}]
[null,17,2.979097492057393e+20,2.979097492057393e+20,true]
[null,18,1.754357411989353e+21,1.754357411989353e+21,true]
[null,19,9.69513306625696e+21,9.69513306625696e+21,true]
[null,20,5.041469194453617e+22,5.041469194453617e+22,true]
[null,21,2.472720604898678e+23,2.472720604898678e+23,true]
[null,22,1.1464431895439332E+24,1.1464431895439332E+24,true]
[null,23,5.034380962779876e+24,5.034380962779876e+24,true]
[null,24,2.0976587344916157E+25,2.0976587344916157E+25,true]
[null,25,8.3067285885868e+25,8.3067285885868e+25,true]
[null,26,3.130997698775024e+26,3.130997698775024e+26,true]
[null,27,1.1248399140043604E+27,1.1248399140043604E+27,true]
[null,28,3.856593990872094e+27,3.856593990872094e+27,true]
[null,29,1.2633669970098244E+28,1.2633669970098244E+28,true]
[null,30,3.958549923964111e+28,3.958549923964111e+28,true]
[null,31,1.1875649771892346E+29,1.1875649771892346E+29,true]
[null,32,{"$f":"COMBIN($A$28,B60)","v":3.4142493094190485E+29},3.4142493094190485E+29,true]
[null,33,9.415051125973746e+29,9.415051125973746e+29,true]
[null,34,2.492219415698934e+30,2.492219415698934e+30,true]
[null,35,6.337357942777279e+30,6.337357942777279e+30,true]
[null,36,1.549131941567779e+31,1.549131941567779e+31,true]
[null,37,3.642553484226943e+31,3.642553484226943e+31,true]
[null,38,8.243673674829398e+31,8.243673674829398e+31,true]
[null,39,1.796698108616665e+32,1.796698108616665e+32,true]
[null,40,3.773066028094991e+32,3.773066028094991e+32,true]
[null,41,7.638158056875228e+32,7.638158056875228e+32,true]
[null,42,1.4912594301518308E+33,1.4912594301518308E+33,true]
[null,43,2.8091166009836836E+33,2.8091166009836836E+33,true]
[null,44,5.1074847290612405E+33,5.1074847290612405E+33,true]
[null,45,8.966473191018626e+33,8.966473191018626e+33,true]
[null,46,1.520401975868373E+34,1.520401975868373E+34,true]
[null,47,2.490871322167338e+34,2.490871322167338e+34,true]
[null,48,3.9438795934316127E+34,3.9438795934316127E+34,{"$f":"IF(F76=0,IF(ISERR(C76),\"Error\", IF(C76=D76,TRUE,FALSE)),\"NSup\")","v":true}]
[null,49,6.0365503981096175E+34,6.0365503981096175E+34,true]
[null,50,8.93409458920223E+34,8.93409458920223E+34,true]
[null,51,1.278801774532869E+35,1.278801774532869E+35,true]
[null,52,1.770648610891665e+35,1.770648610891665e+35,true]
[null,53,2.372000969307701e+35,2.372000969307701e+35,true]
[null,54,3.0748160713247945E+35,3.0748160713247945E+35,true]
[null,55,3.857496525843838e+35,3.857496525843838e+35,true]
[null,56,4.684102924238953e+35,4.684102924238953e+35,true]
[null,57,5.505875367087879e+35,5.505875367087879e+35,true]
[null,58,6.265306452203449e+35,6.265306452203449e+35,true]
[null,59,6.902456260902108e+35,6.902456260902108e+35,true]
[null,60,7.362620011628926e+35,7.362620011628926e+35,true]
[null,61,7.604017389059372e+35,7.604017389059372e+35,true]
[null,62,7.604017389059372e+35,7.604017389059372e+35,true]
[null,63,7.362620011628926e+35,7.362620011628926e+35,true]
[null,64,{"$f":"COMBIN($A$28,B92)","v":6.902456260902108e+35},6.902456260902108e+35,true]
[null,65,6.265306452203449e+35,6.265306452203449e+35,true]
[null,66,5.505875367087879e+35,5.505875367087879e+35,true]
[null,67,4.684102924238953e+35,4.684102924238953e+35,true]
[null,68,3.857496525843838e+35,3.857496525843838e+35,true]
[null,69,3.0748160713247945E+35,3.0748160713247945E+35,true]
[null,70,2.372000969307701e+35,2.372000969307701e+35,true]
[null,71,1.770648610891665e+35,1.770648610891665e+35,true]
[null,72,1.278801774532869E+35,1.278801774532869E+35,true]
[null,73,8.93409458920223E+34,8.93409458920223E+34,true]
[null,74,6.0365503981096175E+34,6.0365503981096175E+34,true]
[null,75,3.9438795934316127E+34,3.9438795934316127E+34,true]
[null,76,2.490871322167338e+34,2.490871322167338e+34,true]
[null,77,1.520401975868373E+34,1.520401975868373E+34,true]
[null,78,8.966473191018626e+33,8.966473191018626e+33,true]
[null,79,5.1074847290612405E+33,5.1074847290612405E+33,true]
[null,80,2.8091166009836836E+33,2.8091166009836836E+33,{"$f":"IF(F108=0,IF(ISERR(C108),\"Error\", IF(C108=D108,TRUE,FALSE)),\"NSup\")","v":true}]
[null,81,1.4912594301518308E+33,1.4912594301518308E+33,true]
[null,82,7.638158056875228e+32,7.638158056875228e+32,true]
[null,83,3.773066028094991e+32,3.773066028094991e+32,true]
[null,84,1.796698108616665e+32,1.796698108616665e+32,true]
[null,85,8.243673674829398e+31,8.243673674829398e+31,true]
[null,86,3.642553484226943e+31,3.642553484226943e+31,true]
[null,87,1.549131941567779e+31,1.549131941567779e+31,true]
[null,88,6.337357942777279e+30,6.337357942777279e+30,true]
[null,89,2.492219415698934e+30,2.492219415698934e+30,true]
[null,90,9.415051125973746e+29,9.415051125973746e+29,true]
[null,91,3.4142493094190485E+29,3.4142493094190485E+29,true]
[null,92,1.1875649771892346E+29,1.1875649771892346E+29,true]
[null,93,3.958549923964111e+28,3.958549923964111e+28,true]
[null,94,1.2633669970098244E+28,1.2633669970098244E+28,true]
[null,95,3.856593990872094e+27,3.856593990872094e+27,true]
[null,96,{"$f":"COMBIN($A$28,B124)","v":1.1248399140043604E+27},1.1248399140043604E+27,true]
[null,97,3.130997698775024e+26,3.130997698775024e+26,true]
[null,98,8.3067285885868e+25,8.3067285885868e+25,true]
[null,99,2.0976587344916157E+25,2.0976587344916157E+25,true]
[null,100,5.034380962779876e+24,5.034380962779876e+24,true]
[null,101,1.1464431895439332E+24,1.1464431895439332E+24,true]
[null,102,2.472720604898678e+23,2.472720604898678e+23,true]
[null,103,5.041469194453617e+22,5.041469194453617e+22,true]
["123",104,{"$f":"COMBIN($A$132,B132)","v":9.69513306625696e+21},9.69513306625696e+21,true]
[null,105,1.754357411989353e+21,1.754357411989353e+21,true]
[null,106,2.979097492057393e+20,2.979097492057393e+20,true]
[null,107,4.7331455481285706E+19,4.7331455481285706E+19,true]
[null,108,7.012067478708985e+18,7.012067478708985e+18,true]
[null,109,9.649634145012369e+17,9.649634145012369e+17,true]
[null,110,1.2281352548197566E+17,1.2281352548197566E+17,true]
[null,111,1.4383566047438586E+16,1.4383566047438586E+16,true]
[null,112,1541096362225563,1541096362225563,{"$f":"IF(F140=0,IF(ISERR(C140),\"Error\", IF(C140=D140,TRUE,FALSE)),\"NSup\")","v":true}]
[null,113,150018229951161,150018229951161,true]
[null,114,13159493855365,13159493855365,true]
[null,115,1029873432159,1029873432159,true]
[null,116,71025753942,71025753942,true]
[null,117,4249404081.9999986,4249404081.9999986,true]
[null,118,216071394,216071394,true]
[null,119,9078630,9078630,true]
[null,120,302620.99999999994,302620.99999999994,true]
[null,121,7503,7503,true]
[null,122,123,123,true]
[null,123,1,1,true]
[-10,0,{"$f":"COMBIN($A$152,B152)","v":{"$error":"#NUM!"}},{"$error":"#NUM!"},"Error"]
[null,3,{"$f":"COMBIN($A$152,B153)","v":{"$error":"#NUM!"}},{"$error":"#NUM!"},"Error"]
[null,-4,{"$f":"COMBIN($A$152,B154)","v":{"$error":"#NUM!"}},{"$error":"#NUM!"},"Error"]
[null,10,{"$f":"COMBIN($A$152,B155)","v":{"$error":"#NUM!"}},{"$error":"#NUM!"},"Error"]
[{"$nulls":4},true]
[1,1,{"$f":"COMBIN(A157,B157)","v":1},1,true,null,null,"Random Data"]
[3,2,3,3,true]
[3,3,1,1,true]
[4,3,4,4,true]
[4,4,1,1,true]
[6,4,15,15,true]
[7,4,35,35,true]
[7,5,21,21,true]
[8,5,56,56,true]
[9,5,126,126,true]
[10,5,252,252,true]
[10,6,209.99999999999997,209.99999999999997,true]
[11,7,330,330,true]
[12,7,792,792,true]
[13,9,715,715,true]
[14,9,2002,2002,{"$f":"IF(F172=0,IF(ISERR(C172),\"Error\", IF(C172=D172,TRUE,FALSE)),\"NSup\")","v":true}]
[15,10,3003,3003,true]
[16,10,8008,8008,true]
[18,11,31823.999999999996,31823.999999999996,true]
[19,11,75581.99999999999,75581.99999999999,true]
[20,12,125970.00000000001,125970.00000000001,true]
[21,13,203490,203490,true]
[23,15,490314,490314,true]
[26,16,5311735,5311735,true]
[27,18,4686825.000000001,4686825.000000001,true]
[27,21,296010,296010,true]
[30,24,593774.9999999999,593774.9999999999,true]
[33,24,38567099.99999999,38567099.99999999,true]
[42,27,98672427616,98672427616,true]
[46,38,260932815,260932815,true]
[49,64,{"$f":"COMBIN(B187,A187)","v":159518999862720},159518999862720,true]
[50,89,2.660929273198787e+25,2.660929273198787e+25,true]
[52,97,9.969700941885365e+27,9.969700941885365e+27,true]
[58,97,2.0062530973466068E+27,2.0062530973466068E+27,true]
[60,145,3.433256336118295E+41,3.433256336118295E+41,true]
[77,148,2.0703151373519094E+43,2.0703151373519094E+43,true]
[79,149,3.5543433687189e+43,3.5543433687189e+43,true]
[80,198,5.910336471610848e+56,5.910336471610848e+56,true]
[88,270,5.427344699160361E+72,5.427344699160361E+72,true]
[101,349,7.213301808510147E+89,7.213301808510147E+89,true]
[103,415,4.441715138516499e+99,4.441715138516499e+99,true]
[103,596,6.114099809612092e+117,6.114099809612092e+117,true]
[135,607,1.9495517715401717E+138,1.9495517715401717E+138,true]
[421,618,3.428370362168768e+166,3.428370362168768e+166,true]
[456,802,3.920873822751269e+236,3.920873822751269e+236,true]
[549,1067,{"$error":"#NUM!"},{"$error":"#NUM!"},"Error",null,null,"Boundary value"]
[1091,1171,2.694007305370911E+125,2.694007305370911E+125,true]
[1446,1165,{"$f":"COMBIN(A204,B204)","v":4.6829113494271795E+307},4.6829113494271795E+307,{"$f":"IF(F204=0,IF(ISERR(C204),\"Error\", IF(C204=D204,TRUE,FALSE)),\"NSup\")","v":true}]
[1446,1164,{"$f":"COMBIN(A205,B205)","v":{"$error":"#NUM!"}},{"$error":"#NUM!"},"Error"]
[6621,149,{"$f":"COMBIN(A206,B206)","v":1.0188497284985026E+308},1.0188497284985026E+308,true]
[6621,150,{"$f":"COMBIN(A207,B207)","v":{"$error":"#NUM!"}},{"$error":"#NUM!"},"Error"]
[59278,96,{"$f":"COMBIN(A208,B208)","v":1.4722551128350561E+308},1.4722551128350561E+308,true]

{"sheet":"COS","index":13,"n_rows":433,"n_cols":8,"rows_kept":433}
[{"$f":"SUM(A3:A5)","v":0},{"$f":"SUM(B3:B5)","v":2},{"$f":"SUM(C3:C5)","v":0},"Total"]
["Failed","Error","NotSupport","Verification Area"]
[{"$f":"COUNTIF(INDIRECT(D3),\"=false\")","v":0},{"$f":"COUNTIF(INDIRECT(D3),\"=Error\")","v":2},{"$f":"COUNTIF(INDIRECT(D3),\"=NSup\")","v":0},"E12:E435"]
{"$rows_empty":7}
["Data",null,"Formula","Expected","Check","Mask","Comments","Description"]
[null,null,{"$f":"COS(PI())","v":-1},-1,{"$f":"IF(F12=0,IF(ISERR(C12),\"Error\", IF(C12=D12,TRUE,FALSE)),\"NSup\")","v":true}]
[null,null,{"$f":"COS(0)","v":1},1,true]
[null,null,{"$f":"COS(-PI())","v":-1},-1,true]
[0,null,{"$f":"COS(A15)","v":1},1,true,null,null,"From PI to 2PI"]
[0.017453292519943295,1,0.9998476951563913,0.9998476951563913,true]
[0.03490658503988659,2,0.9993908270190958,0.9993908270190958,true]
["0.0523598775598299",3,0.9986295347545738,0.9986295347545738,true]
["0.0698131700797732",4,0.9975640502598242,0.9975640502598242,true]
[0.08726646259971647,5,0.9961946980917455,0.9961946980917455,true]
[0.10471975511965978,6,0.9945218953682733,0.9945218953682733,true]
[0.12217304763960307,7,0.992546151641322,0.992546151641322,true]
[0.13962634015954636,8,0.9902680687415704,0.9902680687415704,true]
[0.15707963267948966,9,0.9876883405951378,0.9876883405951378,true]
[0.17453292519943295,10,0.984807753012208,0.984807753012208,true]
[0.19198621771937624,11,0.981627183447664,0.981627183447664,true]
[0.20943951023931956,12,0.9781476007338057,0.9781476007338057,true]
[0.22689280275926285,13,0.9743700647852352,0.9743700647852352,true]
[0.24434609527920614,14,0.9702957262759965,0.9702957262759965,true]
[0.2617993877991494,15,0.9659258262890683,0.9659258262890683,true]
[0.2792526803190927,16,0.9612616959383189,0.9612616959383189,true]
[0.29670597283903605,17,0.9563047559630354,0.9563047559630354,true]
[0.3141592653589793,18,0.9510565162951535,0.9510565162951535,true]
[0.33161255787892263,19,0.9455185755993168,0.9455185755993168,true]
[0.3490658503988659,20,0.9396926207859084,0.9396926207859084,true]
[0.3665191429188092,21,0.9335804264972017,0.9335804264972017,true]
[0.3839724354387525,22,0.9271838545667874,0.9271838545667874,true]
[0.4014257279586958,23,0.9205048534524404,0.9205048534524404,true]
[0.4188790204786391,24,0.9135454576426009,0.9135454576426009,true]
[0.4363323129985824,25,0.9063077870366499,0.9063077870366499,true]
[0.4537856055185257,26,0.898794046299167,0.898794046299167,true]
[0.47123889803846897,27,0.8910065241883679,0.8910065241883679,true]
[0.4886921905584123,28,0.882947592858927,0.882947592858927,true]
[0.5061454830783556,29,0.8746197071393957,0.8746197071393957,true]
[0.5235987755982988,30,0.8660254037844387,0.8660254037844387,true]
[0.5410520681182421,31,0.8571673007021123,0.8571673007021123,true]
[0.5585053606381855,32,0.848048096156426,0.848048096156426,true]
[0.5759586531581288,33,0.838670567945424,0.838670567945424,true]
[0.5934119456780721,34,0.8290375725550416,0.8290375725550416,true]
[0.6108652381980153,35,0.8191520442889918,0.8191520442889918,true]
[0.6283185307179586,36,0.8090169943749475,0.8090169943749475,true]
[0.6457718232379019,37,0.7986355100472928,0.7986355100472928,true]
[0.6632251157578453,38,0.7880107536067219,0.7880107536067219,true]
[0.6806784082777885,39,0.7771459614569709,0.7771459614569709,true]
[0.6981317007977318,40,0.766044443118978,0.766044443118978,true]
[0.7155849933176751,41,0.754709580222772,0.754709580222772,true]
[0.7330382858376184,42,0.7431448254773942,0.7431448254773942,true]
[0.7504915783575618,43,0.7313537016191705,0.7313537016191705,true]
[0.767944870877505,44,0.7193398003386512,0.7193398003386512,true]
[0.7853981633974483,45,0.7071067811865476,0.7071067811865476,true]
[0.8028514559173916,46,0.6946583704589973,0.6946583704589973,true]
[0.8203047484373349,47,0.6819983600624985,0.6819983600624985,true]
[0.8377580409572782,48,0.6691306063588582,0.6691306063588582,true]
[0.8552113334772214,49,0.6560590289905073,0.6560590289905073,true]
[0.8726646259971648,50,0.6427876096865394,0.6427876096865394,true]
[0.8901179185171081,51,0.6293203910498375,0.6293203910498375,true]
[0.9075712110370514,52,0.6156614753256583,0.6156614753256583,true]
[0.9250245035569946,53,0.6018150231520484,0.6018150231520484,true]
[0.9424777960769379,54,0.5877852522924731,0.5877852522924731,true]
[0.9599310885968813,55,0.5735764363510462,0.5735764363510462,true]
[0.9773843811168246,56,0.5591929034707468,0.5591929034707468,true]
[0.9948376736367679,57,0.5446390350150271,0.5446390350150271,true]
[1.0122909661567112,58,0.5299192642332049,0.5299192642332049,true]
[1.0297442586766545,59,0.5150380749100542,0.5150380749100542,true]
[1.0471975511965976,60,0.5000000000000001,0.5000000000000001,true]
[1.064650843716541,61,0.4848096202463371,0.4848096202463371,{"$f":"IF(F76=0,IF(ISERR(C76),\"Error\", IF(C76=D76,TRUE,FALSE)),\"NSup\")","v":true}]
[1.0821041362364843,62,0.46947156278589086,0.46947156278589086,true]
[1.0995574287564276,63,0.4539904997395468,0.4539904997395468,true]
[1.117010721276371,64,{"$f":"COS(A79)","v":0.43837114678907746},0.43837114678907746,true]
[1.1344640137963142,65,0.42261826174069944,0.42261826174069944,true]
[1.1519173063162575,66,0.4067366430758002,0.4067366430758002,true]
[1.1693705988362009,67,0.3907311284892737,0.3907311284892737,true]
[1.1868238913561442,68,0.37460659341591196,0.37460659341591196,true]
[1.2042771838760873,69,0.3583679495453004,0.3583679495453004,true]
[1.2217304763960306,70,0.3420201433256688,0.3420201433256688,true]
[1.239183768915974,71,0.32556815445715676,0.32556815445715676,true]
[1.2566370614359172,72,0.30901699437494745,0.30901699437494745,true]
[1.2740903539558606,73,0.29237170472273677,0.29237170472273677,true]
[1.2915436464758039,74,0.27563735581699916,0.27563735581699916,true]
[1.3089969389957472,75,0.25881904510252074,0.25881904510252074,true]
[1.3264502315156905,76,0.24192189559966767,0.24192189559966767,true]
[1.3439035240356338,77,0.22495105434386492,0.22495105434386492,true]
[1.361356816555577,78,0.20791169081775945,0.20791169081775945,true]
[1.3788101090755203,79,0.19080899537654492,0.19080899537654492,true]
[1.3962634015954636,80,0.17364817766693041,0.17364817766693041,true]
[1.413716694115407,81,0.15643446504023092,0.15643446504023092,true]
[1.4311699866353502,82,0.13917310096006547,0.13917310096006547,true]
[1.4486232791552935,83,0.12186934340514749,0.12186934340514749,true]
[1.4660765716752369,84,0.10452846326765346,0.10452846326765346,true]
[1.4835298641951802,85,0.08715574274765814,0.08715574274765814,true]
[1.5009831567151235,86,0.06975647374412523,0.06975647374412523,true]
[1.5184364492350666,87,0.052335956242943966,0.052335956242943966,true]
[1.53588974175501,88,0.03489949670250108,0.03489949670250108,true]
[1.5533430342749532,89,0.0174524064372836,0.0174524064372836,true]
[1.5707963267948966,90,6.1257422745431e-17,6.1257422745431e-17,true]
[1.5882496193148399,91,-0.017452406437283477,-0.017452406437283477,true]
[1.6057029118347832,92,-0.034899496702500955,-0.034899496702500955,true]
[1.6231562043547265,93,-0.05233595624294384,-0.05233595624294384,true]
[1.6406094968746698,94,-0.06975647374412533,-0.06975647374412533,true]
[1.6580627893946132,95,-0.08715574274765824,-0.08715574274765824,true]
[1.6755160819145565,96,-0.10452846326765355,-0.10452846326765355,true]
[1.6929693744344996,97,-0.12186934340514737,-0.12186934340514737,true]
[1.710422666954443,98,-0.13917310096006535,-0.13917310096006535,true]
[1.7278759594743862,99,-0.1564344650402308,-0.1564344650402308,true]
[1.7453292519943295,100,-0.1736481776669303,-0.1736481776669303,true]
[1.7627825445142729,101,-0.1908089953765448,-0.1908089953765448,true]
[1.7802358370342162,102,-0.20791169081775934,-0.20791169081775934,true]
[1.7976891295541595,103,-0.22495105434386503,-0.22495105434386503,true]
[1.8151424220741028,104,-0.24192189559966779,-0.24192189559966779,true]
[1.8325957145940461,105,-0.25881904510252085,-0.25881904510252085,true]
[1.8500490071139892,106,-0.27563735581699905,-0.27563735581699905,true]
[1.8675022996339325,107,-0.29237170472273666,-0.29237170472273666,true]
[1.8849555921538759,108,-0.30901699437494734,-0.30901699437494734,true]
[1.9024088846738192,109,-0.32556815445715664,-0.32556815445715664,true]
[1.9198621771937625,110,-0.3420201433256687,-0.3420201433256687,true]
[1.9373154697137058,111,-0.35836794954530027,-0.35836794954530027,true]
[1.9547687622336491,112,-0.37460659341591207,-0.37460659341591207,true]
[1.9722220547535925,113,-0.39073112848927377,-0.39073112848927377,true]
[1.9896753472735358,114,-0.40673664307580026,-0.40673664307580026,true]
[2.007128639793479,115,-0.42261826174069933,-0.42261826174069933,true]
[2.0245819323134224,116,-0.4383711467890775,-0.4383711467890775,true]
[2.0420352248333655,117,-0.4539904997395467,-0.4539904997395467,true]
[2.059488517353309,118,-0.4694715627858909,-0.4694715627858909,true]
[2.076941809873252,119,-0.484809620246337,-0.484809620246337,true]
[2.0943951023931953,120,-0.4999999999999998,-0.4999999999999998,true]
[2.111848394913139,121,-0.5150380749100543,-0.5150380749100543,true]
[2.129301687433082,122,-0.5299192642332048,-0.5299192642332048,true]
[2.1467549799530254,123,-0.5446390350150271,-0.5446390350150271,true]
[2.1642082724729685,124,-0.5591929034707467,-0.5591929034707467,true]
[2.181661564992912,125,-0.5735764363510462,-0.5735764363510462,{"$f":"IF(F140=0,IF(ISERR(C140),\"Error\", IF(C140=D140,TRUE,FALSE)),\"NSup\")","v":true}]
[2.199114857512855,126,-0.587785252292473,-0.587785252292473,true]
[2.2165681500327987,127,-0.6018150231520484,-0.6018150231520484,true]
[2.234021442552742,128,{"$f":"COS(A143)","v":-0.6156614753256583},-0.6156614753256583,true]
[2.251474735072685,129,-0.6293203910498373,-0.6293203910498373,true]
[2.2689280275926285,130,-0.6427876096865394,-0.6427876096865394,true]
[2.2863813201125716,131,-0.6560590289905072,-0.6560590289905072,true]
[2.303834612632515,132,-0.6691306063588582,-0.6691306063588582,true]
[2.321287905152458,133,-0.6819983600624984,-0.6819983600624984,true]
[2.3387411976724017,134,-0.6946583704589974,-0.6946583704589974,true]
[2.356194490192345,135,-0.7071067811865475,-0.7071067811865475,true]
[2.3736477827122884,136,-0.7193398003386512,-0.7193398003386512,true]
[2.3911010752322315,137,-0.7313537016191705,-0.7313537016191705,true]
[2.4085543677521746,138,-0.743144825477394,-0.743144825477394,true]
[2.426007660272118,139,-0.754709580222772,-0.754709580222772,true]
[2.443460952792061,140,-0.7660444431189779,-0.7660444431189779,true]
[2.4609142453120048,141,-0.7771459614569709,-0.7771459614569709,true]
[2.478367537831948,142,-0.7880107536067219,-0.7880107536067219,true]
[2.4958208303518914,143,-0.7986355100472929,-0.7986355100472929,true]
[2.5132741228718345,144,-0.8090169943749473,-0.8090169943749473,true]
[2.530727415391778,145,-0.8191520442889919,-0.8191520442889919,true]
[2.548180707911721,146,-0.8290375725550416,-0.8290375725550416,true]
[2.5656340004316642,147,-0.8386705679454239,-0.8386705679454239,true]
[2.5830872929516078,148,-0.848048096156426,-0.848048096156426,true]
[2.600540585471551,149,-0.8571673007021122,-0.8571673007021122,true]
[2.6179938779914944,150,-0.8660254037844387,-0.8660254037844387,true]
[2.6354471705114375,151,-0.8746197071393957,-0.8746197071393957,true]
[2.652900463031381,152,-0.882947592858927,-0.882947592858927,true]
[2.670353755551324,153,-0.8910065241883678,-0.8910065241883678,true]
[2.6878070480712677,154,-0.898794046299167,-0.898794046299167,true]
[2.705260340591211,155,-0.9063077870366499,-0.9063077870366499,true]
[2.722713633111154,156,-0.9135454576426008,-0.9135454576426008,true]
[2.7401669256310974,157,-0.9205048534524404,-0.9205048534524404,true]
[2.7576202181510405,158,-0.9271838545667873,-0.9271838545667873,true]
[2.775073510670984,159,-0.9335804264972017,-0.9335804264972017,true]
[2.792526803190927,160,-0.9396926207859083,-0.9396926207859083,true]
[2.8099800957108707,161,-0.9455185755993168,-0.9455185755993168,true]
[2.827433388230814,162,-0.9510565162951535,-0.9510565162951535,true]
[2.8448866807507573,163,-0.9563047559630355,-0.9563047559630355,true]
[2.8623399732707004,164,-0.9612616959383189,-0.9612616959383189,true]
[2.8797932657906435,165,-0.9659258262890682,-0.9659258262890682,true]
[2.897246558310587,166,-0.9702957262759965,-0.9702957262759965,true]
[2.91469985083053,167,-0.9743700647852351,-0.9743700647852351,true]
[2.9321531433504737,168,-0.9781476007338057,-0.9781476007338057,true]
[2.949606435870417,169,-0.981627183447664,-0.981627183447664,true]
[2.9670597283903604,170,-0.984807753012208,-0.984807753012208,true]
[2.9845130209103035,171,-0.9876883405951377,-0.9876883405951377,true]
[3.001966313430247,172,-0.9902680687415704,-0.9902680687415704,true]
[3.01941960595019,173,-0.992546151641322,-0.992546151641322,true]
[3.036872898470133,174,-0.9945218953682733,-0.9945218953682733,true]
[3.0543261909900767,175,-0.9961946980917455,-0.9961946980917455,true]
[3.07177948351002,176,-0.9975640502598242,-0.9975640502598242,true]
[3.0892327760299634,177,-0.9986295347545738,-0.9986295347545738,true]
[3.1066860685499065,178,-0.9993908270190958,-0.9993908270190958,true]
[3.12413936106985,179,-0.9998476951563913,-0.9998476951563913,true]
[3.141592653589793,180,-1,-1,true]
[3.1590459461097367,181,-0.9998476951563913,-0.9998476951563913,true]
[3.1764992386296798,182,-0.9993908270190958,-0.9993908270190958,true]
[3.193952531149623,183,-0.9986295347545738,-0.9986295347545738,true]
[3.2114058236695664,184,-0.9975640502598242,-0.9975640502598242,true]
[3.2288591161895095,185,-0.9961946980917455,-0.9961946980917455,true]
[3.246312408709453,186,-0.9945218953682733,-0.9945218953682733,true]
[3.263765701229396,187,-0.9925461516413221,-0.9925461516413221,true]
[3.2812189937493397,188,-0.9902680687415703,-0.9902680687415703,true]
[3.2986722862692828,189,-0.9876883405951378,-0.9876883405951378,{"$f":"IF(F204=0,IF(ISERR(C204),\"Error\", IF(C204=D204,TRUE,FALSE)),\"NSup\")","v":true}]
[3.3161255787892263,190,-0.984807753012208,-0.984807753012208,true]
[3.3335788713091694,191,-0.981627183447664,-0.981627183447664,true]
[3.351032163829113,192,{"$f":"COS(A207)","v":-0.9781476007338056},-0.9781476007338056,true]
[3.368485456349056,193,-0.9743700647852352,-0.9743700647852352,true]
[3.385938748868999,194,-0.9702957262759965,-0.9702957262759965,true]
[3.4033920413889427,195,-0.9659258262890683,-0.9659258262890683,true]
[3.420845333908886,196,-0.9612616959383189,-0.9612616959383189,true]
[3.4382986264288293,197,-0.9563047559630354,-0.9563047559630354,true]
[3.4557519189487724,198,-0.9510565162951536,-0.9510565162951536,true]
[3.473205211468716,199,-0.9455185755993167,-0.9455185755993167,true]
[3.490658503988659,200,-0.9396926207859084,-0.9396926207859084,true]
[3.5081117965086026,201,-0.9335804264972017,-0.9335804264972017,true]
[3.5255650890285457,202,-0.9271838545667874,-0.9271838545667874,true]
[3.543018381548489,203,-0.9205048534524404,-0.9205048534524404,true]
[3.5604716740684323,204,-0.9135454576426009,-0.9135454576426009,true]
[3.5779249665883754,205,-0.90630778703665,-0.90630778703665,true]
[3.595378259108319,206,-0.8987940462991669,-0.8987940462991669,true]
[3.612831551628262,207,-0.8910065241883679,-0.8910065241883679,true]
[3.6302848441482056,208,-0.8829475928589269,-0.8829475928589269,true]
[3.6477381366681487,209,-0.8746197071393959,-0.8746197071393959,true]
[3.6651914291880923,210,-0.8660254037844386,-0.8660254037844386,true]
[3.6826447217080354,211,-0.8571673007021123,-0.8571673007021123,true]
[3.7000980142279785,212,-0.8480480961564261,-0.8480480961564261,true]
[3.717551306747922,213,-0.838670567945424,-0.838670567945424,true]
[3.735004599267865,214,-0.8290375725550418,-0.8290375725550418,true]
[3.7524578917878086,215,-0.8191520442889918,-0.8191520442889918,true]
[3.7699111843077517,216,-0.8090169943749476,-0.8090169943749476,true]
[3.7873644768276953,217,-0.7986355100472928,-0.7986355100472928,true]
[3.8048177693476384,218,-0.788010753606722,-0.788010753606722,true]
[3.822271061867582,219,-0.7771459614569708,-0.7771459614569708,true]
[3.839724354387525,220,-0.766044443118978,-0.766044443118978,true]
[3.857177646907468,221,-0.7547095802227721,-0.7547095802227721,true]
[3.8746309394274117,222,-0.7431448254773942,-0.7431448254773942,true]
[3.8920842319473548,223,-0.7313537016191706,-0.7313537016191706,true]
[3.9095375244672983,224,-0.7193398003386511,-0.7193398003386511,true]
[3.9269908169872414,225,-0.7071067811865477,-0.7071067811865477,true]
[3.944444109507185,226,-0.6946583704589973,-0.6946583704589973,true]
[3.961897402027128,227,-0.6819983600624986,-0.6819983600624986,true]
[3.9793506945470716,228,-0.6691306063588581,-0.6691306063588581,true]
[3.9968039870670147,229,-0.6560590289905073,-0.6560590289905073,true]
[4.014257279586958,230,-0.6427876096865395,-0.6427876096865395,true]
[4.031710572106901,231,-0.6293203910498378,-0.6293203910498378,true]
[4.049163864626845,232,-0.6156614753256581,-0.6156614753256581,true]
[4.066617157146788,233,-0.6018150231520483,-0.6018150231520483,true]
[4.084070449666731,234,-0.5877852522924732,-0.5877852522924732,true]
[4.101523742186674,235,-0.5735764363510464,-0.5735764363510464,true]
[4.118977034706618,236,-0.5591929034707466,-0.5591929034707466,true]
[4.136430327226561,237,-0.544639035015027,-0.544639035015027,true]
[4.153883619746504,238,-0.529919264233205,-0.529919264233205,true]
[4.171336912266447,239,-0.5150380749100545,-0.5150380749100545,true]
[4.1887902047863905,240,-0.5000000000000004,-0.5000000000000004,true]
[4.2062434973063345,241,-0.48480962024633684,-0.48480962024633684,true]
[4.223696789826278,242,-0.46947156278589075,-0.46947156278589075,true]
[4.241150082346221,243,-0.4539904997395469,-0.4539904997395469,true]
[4.258603374866164,244,-0.43837114678907774,-0.43837114678907774,true]
[4.276056667386108,245,-0.42261826174069916,-0.42261826174069916,true]
[4.293509959906051,246,-0.4067366430758001,-0.4067366430758001,true]
[4.310963252425994,247,-0.3907311284892738,-0.3907311284892738,true]
[4.328416544945937,248,-0.3746065934159123,-0.3746065934159123,true]
[4.34586983746588,249,-0.3583679495453007,-0.3583679495453007,true]
[4.363323129985824,250,-0.34202014332566855,-0.34202014332566855,true]
[4.380776422505767,251,-0.32556815445715664,-0.32556815445715664,true]
[4.39822971502571,252,-0.30901699437494756,-0.30901699437494756,true]
[4.4156830075456535,253,-0.2923717047227371,-0.2923717047227371,{"$f":"IF(F268=0,IF(ISERR(C268),\"Error\", IF(C268=D268,TRUE,FALSE)),\"NSup\")","v":true}]
[4.4331363000655974,254,-0.2756373558169989,-0.2756373558169989,true]
[4.4505895925855405,255,-0.25881904510252063,-0.25881904510252063,true]
[4.468042885105484,256,{"$f":"COS(A271)","v":-0.24192189559966779},-0.24192189559966779,true]
[4.485496177625427,257,-0.22495105434386525,-0.22495105434386525,true]
[4.50294947014537,258,-0.2079116908177598,-0.2079116908177598,true]
[4.520402762665314,259,-0.1908089953765446,-0.1908089953765446,true]
[4.537856055185257,260,-0.17364817766693033,-0.17364817766693033,true]
[4.5553093477052,261,-0.15643446504023104,-0.15643446504023104,true]
[4.572762640225143,262,-0.13917310096006583,-0.13917310096006583,true]
[4.590215932745087,263,-0.12186934340514717,-0.12186934340514717,true]
[4.60766922526503,264,-0.10452846326765336,-0.10452846326765336,true]
[4.625122517784973,265,-0.08715574274765825,-0.08715574274765825,true]
[4.642575810304916,266,-0.06975647374412558,-0.06975647374412558,true]
[4.6600291028248595,267,-0.052335956242944306,-0.052335956242944306,true]
[4.6774823953448035,268,-0.03489949670250076,-0.03489949670250076,true]
[4.694935687864747,269,-0.017452406437283498,-0.017452406437283498,true]
[4.71238898038469,270,-1.83772268236293E-16,-1.83772268236293E-16,true]
[4.729842272904633,271,0.01745240643728313,0.01745240643728313,true]
[4.747295565424577,272,0.03489949670250128,0.03489949670250128,true]
[4.76474885794452,273,0.052335956242943946,0.052335956242943946,true]
[4.782202150464463,274,0.06975647374412522,0.06975647374412522,true]
[4.799655442984406,275,0.08715574274765789,0.08715574274765789,true]
[4.817108735504349,276,0.10452846326765299,0.10452846326765299,true]
[4.834562028024293,277,0.12186934340514768,0.12186934340514768,true]
[4.852015320544236,278,0.13917310096006547,0.13917310096006547,true]
[4.869468613064179,279,0.15643446504023067,0.15643446504023067,true]
[4.886921905584122,280,0.17364817766692997,0.17364817766692997,true]
[4.904375198104066,281,0.1908089953765451,0.1908089953765451,true]
[4.9218284906240095,282,0.20791169081775943,0.20791169081775943,true]
[4.939281783143953,283,0.22495105434386492,0.22495105434386492,true]
[4.956735075663896,284,0.24192189559966745,0.24192189559966745,true]
[4.974188368183839,285,0.2588190451025203,0.2588190451025203,true]
[4.991641660703783,286,0.2756373558169994,0.2756373558169994,true]
[5.009094953223726,287,0.2923717047227367,0.2923717047227367,true]
[5.026548245743669,288,0.30901699437494723,0.30901699437494723,true]
[5.044001538263612,289,0.3255681544571563,0.3255681544571563,true]
[5.061454830783556,290,0.342020143325669,0.342020143325669,true]
[5.078908123303499,291,0.3583679495453004,0.3583679495453004,true]
[5.096361415823442,292,0.37460659341591196,0.37460659341591196,true]
[5.113814708343385,293,0.3907311284892735,0.3907311284892735,true]
[5.1312680008633285,294,0.40673664307579976,0.40673664307579976,true]
[5.1487212933832724,295,0.4226182617406996,0.4226182617406996,true]
[5.1661745859032155,296,0.4383711467890774,0.4383711467890774,true]
[5.183627878423159,297,0.45399049973954664,0.45399049973954664,true]
[5.201081170943102,298,0.4694715627858904,0.4694715627858904,true]
[5.218534463463046,299,0.4848096202463373,0.4848096202463373,true]
[5.235987755982989,300,0.5000000000000001,0.5000000000000001,true]
[5.253441048502932,301,0.5150380749100542,0.5150380749100542,true]
[5.270894341022875,302,0.5299192642332047,0.5299192642332047,true]
[5.288347633542818,303,0.5446390350150266,0.5446390350150266,true]
[5.305800926062762,304,0.559192903470747,0.559192903470747,true]
[5.323254218582705,305,0.573576436351046,0.573576436351046,true]
[5.340707511102648,306,0.5877852522924729,0.5877852522924729,true]
[5.358160803622591,307,0.6018150231520479,0.6018150231520479,true]
[5.375614096142535,308,0.6156614753256585,0.6156614753256585,true]
[5.3930673886624785,309,0.6293203910498375,0.6293203910498375,true]
[5.410520681182422,310,0.6427876096865393,0.6427876096865393,true]
[5.427973973702365,311,0.656059028990507,0.656059028990507,true]
[5.445427266222308,312,0.6691306063588578,0.6691306063588578,true]
[5.462880558742252,313,0.6819983600624986,0.6819983600624986,true]
[5.480333851262195,314,0.6946583704589973,0.6946583704589973,true]
[5.497787143782138,315,0.7071067811865474,0.7071067811865474,true]
[5.515240436302081,316,0.7193398003386509,0.7193398003386509,true]
[5.532693728822025,317,0.7313537016191707,0.7313537016191707,{"$f":"IF(F332=0,IF(ISERR(C332),\"Error\", IF(C332=D332,TRUE,FALSE)),\"NSup\")","v":true}]
[5.550147021341968,318,0.7431448254773942,0.7431448254773942,true]
[5.567600313861911,319,0.7547095802227719,0.7547095802227719,true]
[5.585053606381854,320,{"$f":"COS(A335)","v":0.7660444431189778},0.7660444431189778,true]
[5.602506898901797,321,0.7771459614569706,0.7771459614569706,true]
[5.619960191421741,322,0.788010753606722,0.788010753606722,true]
[5.6374134839416845,323,0.7986355100472928,0.7986355100472928,true]
[5.654866776461628,324,0.8090169943749473,0.8090169943749473,true]
[5.672320068981571,325,0.8191520442889916,0.8191520442889916,true]
[5.689773361501515,326,0.8290375725550418,0.8290375725550418,true]
[5.707226654021458,327,0.838670567945424,0.838670567945424,true]
[5.724679946541401,328,0.848048096156426,0.848048096156426,true]
[5.742133239061344,329,0.8571673007021121,0.8571673007021121,true]
[5.759586531581287,330,0.8660254037844384,0.8660254037844384,true]
[5.777039824101231,331,0.8746197071393959,0.8746197071393959,true]
[5.794493116621174,332,0.8829475928589269,0.8829475928589269,true]
[5.811946409141117,333,0.8910065241883678,0.8910065241883678,true]
[5.82939970166106,334,0.8987940462991668,0.8987940462991668,true]
[5.846852994181004,335,0.90630778703665,0.90630778703665,true]
[5.8643062867009474,336,0.913545457642601,0.913545457642601,true]
[5.8817595792208905,337,0.9205048534524403,0.9205048534524403,true]
[5.899212871740834,338,0.9271838545667873,0.9271838545667873,true]
[5.916666164260777,339,0.9335804264972015,0.9335804264972015,true]
[5.934119456780721,340,0.9396926207859084,0.9396926207859084,true]
[5.951572749300664,341,0.9455185755993168,0.9455185755993168,true]
[5.969026041820607,342,0.9510565162951535,0.9510565162951535,true]
[5.98647933434055,343,0.9563047559630353,0.9563047559630353,true]
[6.003932626860494,344,0.9612616959383189,0.9612616959383189,true]
[6.021385919380437,345,0.9659258262890683,0.9659258262890683,true]
[6.03883921190038,346,0.9702957262759965,0.9702957262759965,true]
[6.056292504420323,347,0.9743700647852351,0.9743700647852351,true]
[6.073745796940266,348,0.9781476007338056,0.9781476007338056,true]
[6.09119908946021,349,0.981627183447664,0.981627183447664,true]
[6.1086523819801535,350,0.984807753012208,0.984807753012208,true]
[6.126105674500097,351,0.9876883405951377,0.9876883405951377,true]
[6.14355896702004,352,0.9902680687415703,0.9902680687415703,true]
[6.161012259539984,353,0.9925461516413221,0.9925461516413221,true]
[6.178465552059927,354,0.9945218953682733,0.9945218953682733,true]
[6.19591884457987,355,0.9961946980917455,0.9961946980917455,true]
[6.213372137099813,356,0.9975640502598242,0.9975640502598242,true]
[6.230825429619756,357,0.9986295347545738,0.9986295347545738,true]
[6.2482787221397,358,0.9993908270190958,0.9993908270190958,true]
[6.265732014659643,359,0.9998476951563913,0.9998476951563913,true]
[6.283185307179586,360,1,1,true]
["?!#$",null,{"$error":"#VALUE!"},{"$error":"#VALUE!"},"Error"]
["PI()",null,{"$error":"#VALUE!"},{"$error":"#VALUE!"},"Error"]
[15.84977209,null,-0.989961967775108,-0.989961967775108,true,null,null,"Random data"]
[2.83,null,-0.9518465095402424,-0.9518465095402424,true]
[1.44334,null,0.12711151653540287,0.12711151653540287,true]
[-7.089376025,null,0.6922524379829536,0.6922524379829536,true]
[18.71857,null,0.9914336027226192,0.9914336027226192,true]
[-73854.0832,null,0.04767883267089571,0.04767883267089571,true]
[1,null,0.5403023058681398,0.5403023058681398,true]
[-33697201,null,0.7803865686863659,0.7803865686863659,true]
[0.6765,null,0.7797687272137047,0.7797687272137047,true]
[-162670.86295911,null,0.6933679729056927,0.6933679729056927,true]
[688.4634,null,-0.898432849066795,-0.898432849066795,true]
[-5.29395,null,0.5493290031582044,0.5493290031582044,true]
[86597,null,-0.5390426904536905,-0.5390426904536905,true]
[-1.373430299,null,0.19608717649023674,0.19608717649023674,true]
[130532.6137753,null,0.846733420400744,0.846733420400744,true]
[-1.469,null,0.10162060725802598,0.10162060725802598,true]
[2171.0971128,null,-0.9672612132622478,-0.9672612132622478,true]
[-22.5835637,null,-0.8295945756965549,-0.8295945756965549,true]
[76045849.678,null,0.7197723736857928,0.7197723736857928,{"$f":"IF(F396=0,IF(ISERR(C396),\"Error\", IF(C396=D396,TRUE,FALSE)),\"NSup\")","v":true}]
[-1.766716,null,-0.1946686961461037,-0.1946686961461037,true]
[1421.921,null,-0.3432023816074847,-0.3432023816074847,true]
[-0.6,null,{"$f":"COS(A399)","v":0.8253356149096783},0.8253356149096783,true]
[0.5795,null,0.8367365573143366,0.8367365573143366,true]
[-0.63,null,0.8080275083121519,0.8080275083121519,true]
[3.19,null,-0.9988285931772186,-0.9988285931772186,true]
[-0.69953,null,0.7651448851095247,0.7651448851095247,true]
[10.530771,null,-0.44824696695346034,-0.44824696695346034,true]
[-8.4,null,-0.5192886541166856,-0.5192886541166856,true]
[3708.3883,null,0.25884625991328647,0.25884625991328647,true]
[-7951621.0269,null,0.260990644949351,0.260990644949351,true]
[44,null,0.9998433086476912,0.9998433086476912,true]
[-0.639212,null,0.8025660988151232,0.8025660988151232,true]
[0.4350322,null,0.9068564724142754,0.9068564724142754,true]
[0.0322,null,0.999481624791668,0.999481624791668,true]
[2.363882,null,-0.7125217238334473,-0.7125217238334473,true]
[-2176.3951032,null,-0.7461034689196915,-0.7461034689196915,true]
[51.21605,null,0.581221347886656,0.581221347886656,true]
[-51.151121,null,0.632795194754679,0.632795194754679,true]
[320.38,null,0.9980505908436207,0.9980505908436207,true]
[-0.53,null,0.862807070514761,0.862807070514761,true]
[0.35,null,0.9393727128473789,0.9393727128473789,true]
[-2920.96,null,0.751035161830782,0.751035161830782,true]
[11.686,null,0.6368654535514783,0.6368654535514783,true]
[-2.1392303,null,-0.5383129480796597,-0.5383129480796597,true]
[7034450.3047766,null,-0.9717215852077299,-0.9717215852077299,true]
[-0.17806,null,0.9841891585462265,0.9841891585462265,true]
[1.3245,null,0.24381373564197878,0.24381373564197878,true]
[-15.1961182,null,-0.8718423024341091,-0.8718423024341091,true]
[23.098424028,null,-0.44710023660949666,-0.44710023660949666,true]
[-0.2,null,0.9800665778412416,0.9800665778412416,true]
[2356.0631003,null,0.9913807585204713,0.9913807585204713,true]
[-0.030382,null,0.9995385025390202,0.9995385025390202,true]
[404.3984942,null,-0.6471485625357883,-0.6471485625357883,true]
[-8,null,-0.14550003380861354,-0.14550003380861354,true]
[0.08204068,null,0.9966365505708543,0.9966365505708543,true]
[-0.71191,null,0.7571154909552797,0.7571154909552797,true]

{"sheet":"COSH","index":14,"n_rows":139,"n_cols":8,"rows_kept":139}
[{"$f":"SUM(A3:A5)","v":0},{"$f":"SUM(B3:B5)","v":7},{"$f":"SUM(C3:C5)","v":0},"Total"]
["Failed","Error","NotSupport","Verification Area"]
[{"$f":"COUNTIF(INDIRECT(D3),\"=false\")","v":0},{"$f":"COUNTIF(INDIRECT(D3),\"=Error\")","v":7},{"$f":"COUNTIF(INDIRECT(D3),\"=NSup\")","v":0},"E12:E140"]
[]
[]
[]
[]
[]
["COSH(x)=[e^x+e^(-x)]/2"]
[]
["Data",null,"Formula","Expected","Check","Mask","Comments","Description"]
[null,null,{"$f":"COSH(0)","v":1},1,{"$f":"IF(F12=0,IF(ISERR(C12),\"Error\", IF(C12=D12,TRUE,FALSE)),\"NSup\")","v":true}]
[null,null,{"$f":"COSH(PI())","v":11.591953275521519},11.591953275521519,true]
[null,null,{"$f":"COSH(709.782712)","v":8.988457644163299E+307},8.988457644163299E+307,true]
[null,null,{"$f":"COSH(-709.782712)","v":8.988457644163299E+307},8.988457644163299E+307,true]
[709.782713,null,{"$f":"COSH(A16)","v":{"$error":"#NUM!"}},{"$error":"#NUM!"},"Error"]
[null,null,{"$f":"COSH(-709.782713)","v":{"$error":"#NUM!"}},{"$error":"#NUM!"},"Error"]
[1,null,{"$f":"COSH(A18)","v":1.5430806348152437},1.5430806348152437,true]
[2,null,3.7621956910836314,3.7621956910836314,true]
[3,null,10.067661995777765,10.067661995777765,true]
[4,null,27.308232836016487,27.308232836016487,true]
[5,null,74.20994852478785,74.20994852478785,true]
[6,null,201.7156361224559,201.7156361224559,true]
[7,null,548.317035155212,548.317035155212,true]
[8,null,1490.479161252178,1490.479161252178,true]
[9,null,4051.5420254925943,4051.5420254925943,true]
[10,null,11013.232920103324,11013.232920103324,true]
[-1,null,1.5430806348152437,1.5430806348152437,true]
[-2,null,3.7621956910836314,3.7621956910836314,true]
[-3,null,10.067661995777765,10.067661995777765,true]
[-4,null,27.308232836016487,27.308232836016487,true]
[-5,null,74.20994852478785,74.20994852478785,true]
[-6,null,201.7156361224559,201.7156361224559,true]
[-7,null,548.317035155212,548.317035155212,true]
[-8,null,1490.479161252178,1490.479161252178,true]
[-9,null,4051.5420254925943,4051.5420254925943,true]
[-10,null,11013.232920103324,11013.232920103324,true]
[-882718810732,null,{"$error":"#NUM!"},{"$error":"#NUM!"},"Error",null,null,"Random Data"]
[-4005.99,null,{"$error":"#NUM!"},{"$error":"#NUM!"},"Error"]
[-1305.6,null,{"$error":"#NUM!"},{"$error":"#NUM!"},"Error"]
[-561.439,null,3.3793224198104136E+243,3.3793224198104136E+243,true]
[-191,null,4.4587800352994216E+82,4.4587800352994216E+82,true]
[-168,null,4.575546402647817e+72,4.575546402647817e+72,true]
[-99.8477,null,1.1541842538200646E+43,1.1541842538200646E+43,{"$f":"IF(F44=0,IF(ISERR(C44),\"Error\", IF(C44=D44,TRUE,FALSE)),\"NSup\")","v":true}]
[-99.5189,null,8.30766775041823e+42,8.30766775041823e+42,true]
[-97.17427,null,7.96561383301284e+41,7.96561383301284e+41,true]
[-56.40149788,null,1.5625333830980811E+24,1.5625333830980811E+24,true]
[-27.4853021,null,432200275925.5822,432200275925.5822,true]
[-23.1492,null,5656396238.733722,5656396238.733722,true]
[-17.731,null,{"$f":"COSH(A50)","v":25086811.291180052},25086811.291180052,true]
[-16.4,null,6628259.570231812,6628259.570231812,true]
[-13.9718627,null,584618.9342036842,584618.9342036842,true]
[-13.843945259,null,514421.41313551104,514421.41313551104,true]
[-13.76,null,473001.0178815344,473001.0178815344,true]
[-9.5,null,6679.863452256852,6679.863452256852,true]
[-7.32,null,755.1023159627372,755.1023159627372,true]
[-6.9459,null,519.44126628582,519.44126628582,true]
[-6.8166884,null,456.4788732940863,456.4788732940863,true]
[-5.26,null,96.24334330098216,96.24334330098216,true]
[-5.08,null,80.39013791881163,80.39013791881163,true]
[-4.808233,null,61.26155225389576,61.26155225389576,true]
[-4.2,null,33.35066330887282,33.35066330887282,true]
[-3.6977,null,20.18958145860557,20.18958145860557,true]
[-1.9,null,3.417731530750952,3.417731530750952,true]
[-1.74,null,2.936431911644494,2.936431911644494,true]
[-1.57129085,null,2.510316831227332,2.510316831227332,true]
[-1.474153,null,2.298153828905936,2.298153828905936,true]
[-1.4,null,2.1508984653931407,2.1508984653931407,true]
[-1.34266987,null,2.0452004928679224,2.0452004928679224,true]
[-1.167826099,null,1.7630191677449194,1.7630191677449194,true]
[-1.1169141,null,1.6913495821289208,1.6913495821289208,true]
[-1.115519,null,1.6894482254410517,1.6894482254410517,true]
[-1,null,1.5430806348152437,1.5430806348152437,true]
[-0.999999999,null,1.5430806336400427,1.5430806336400427,true]
[-0.969,null,1.507385072086849,1.507385072086849,true]
[-0.90235,null,1.4355026590861264,1.4355026590861264,{"$f":"IF(F76=0,IF(ISERR(C76),\"Error\", IF(C76=D76,TRUE,FALSE)),\"NSup\")","v":true}]
[-0.855794,null,1.3890938817374077,1.3890938817374077,true]
[-0.77294,null,1.3138895593918225,1.3138895593918225,true]
[-0.49797,null,1.1265704644274153,1.1265704644274153,true]
[-0.469254,null,1.1121348682898453,1.1121348682898453,true]
[-0.4,null,1.081072371838455,1.081072371838455,true]
[-0.31,null,{"$f":"COSH(A82)","v":1.0484360351782336},1.0484360351782336,true]
[-0.2563,null,1.033025036463644,1.033025036463644,true]
[-0.23848389,null,1.0285723185156799,1.0285723185156799,true]
[-0.23026437,null,1.0266281847093317,1.0266281847093317,true]
[-0.1326713,null,1.0088137536200519,1.0088137536200519,true]
[-0.1107,null,1.0061335047450628,1.0061335047450628,true]
[-0.07785064,null,1.0030318918981458,1.0030318918981458,true]
[-0.069465,null,1.002413663449906,1.002413663449906,true]
[-0.052257,null,1.0013657077709575,1.0013657077709575,true]
[0.061,null,1.0018610769816023,1.0018610769816023,true]
[0.191565,null,1.0184047549938613,1.0184047549938613,true]
[0.2,null,1.020066755619076,1.020066755619076,true]
[0.223,null,1.024967711515269,1.024967711515269,true]
[0.3579223,null,1.0647409363569522,1.0647409363569522,true]
[0.3872,null,1.0759031611565257,1.0759031611565257,true]
[0.3912,null,1.077499564110877,1.077499564110877,true]
[0.4288873,null,1.0933906437148588,1.0933906437148588,true]
[0.50245,null,1.1289060342711772,1.1289060342711772,true]
[0.61659,null,1.1961909260852774,1.1961909260852774,true]
[0.65141,null,1.2197769287665008,1.2197769287665008,true]
[0.786082,null,1.3252034280124831,1.3252034280124831,true]
[1,null,1.5430806348152437,1.5430806348152437,true]
[1,null,1.5430806348152437,1.5430806348152437,true]
[1,null,1.5430806348152437,1.5430806348152437,true]
[1,null,1.5430806348152437,1.5430806348152437,true]
[1.2,null,1.8106555673243747,1.8106555673243747,true]
[1.26895719,null,1.9191329168510154,1.9191329168510154,{"$f":"IF(F108=0,IF(ISERR(C108),\"Error\", IF(C108=D108,TRUE,FALSE)),\"NSup\")","v":true}]
[1.4,null,2.1508984653931407,2.1508984653931407,true]
[1.5177993,null,2.390683949537632,2.390683949537632,true]
[1.665601,null,2.7389639413639926,2.7389639413639926,true]
[2.761387,null,7.9424882893053175,7.9424882893053175,true]
[2.887584888,null,9.002808387188148,9.002808387188148,true]
[2.9,null,{"$f":"COSH(A114)","v":9.114584294749735},9.114584294749735,true]
[4.55,null,47.321487759653955,47.321487759653955,true]
[4.7,null,54.97813386461261,54.97813386461261,true]
[4.82,null,61.98657878348152,61.98657878348152,true]
[6.4,null,300.9233497146777,300.9233497146777,true]
[7.5931,null,992.2281525909552,992.2281525909552,true]
[7.882176611,null,1324.816943303931,1324.816943303931,true]
[9.28545333,null,5390.0296135075205,5390.0296135075205,true]
[9.3741989,null,5890.238255319216,5890.238255319216,true]
[14.113,null,673237.0796262008,673237.0796262008,true]
[17.98083858,null,32206904.063449405,32206904.063449405,true]
[24.51002168,null,22056529102.704758,22056529102.704758,true]
[30,null,5343237290762.231,5343237290762.231,true]
[45.967,null,4.5939308529475576E+19,4.5939308529475576E+19,true]
[93.9368774,null,3.127789420729364e+40,3.127789420729364e+40,true]
[140,null,3.1637158535777925E+60,3.1637158535777925E+60,true]
[147.296803,null,4.6682999117866416E+63,4.6682999117866416E+63,true]
[155.052119,null,1.0895563432458632E+67,1.0895563432458632E+67,true]
[179.959537362,null,7.151613681045347e+77,7.151613681045347e+77,true]
[186.129,null,3.417965120250155e+80,3.417965120250155e+80,true]
[234.9,null,5.184940815429156E+101,5.184940815429156E+101,true]
[237.0204571,null,4.321620441178176e+102,4.321620441178176e+102,true]
[283.32575974,null,5.5690874872211134E+122,5.5690874872211134E+122,true]
[633.17811834,null,4.838746400754178e+274,4.838746400754178e+274,true]
[2327.306482,null,{"$error":"#NUM!"},{"$error":"#NUM!"},"Error"]
[2396443323676,null,{"$error":"#NUM!"},{"$error":"#NUM!"},"Error"]

{"sheet":"DEGREES","index":15,"n_rows":489,"n_cols":8,"rows_kept":489}
[{"$f":"SUM(A3:A5)","v":0},{"$f":"SUM(B3:B5)","v":0},{"$f":"SUM(C3:C5)","v":0},"Total"]
["Failed","Error","NotSupport","Verification Area"]
[{"$f":"COUNTIF(INDIRECT(D3),\"=false\")","v":0},{"$f":"COUNTIF(INDIRECT(D3),\"=Error\")","v":0},{"$f":"COUNTIF(INDIRECT(D3),\"=NSup\")","v":0},"E12:E490"]
{"$rows_empty":7}
["Data",null,"Formula","Expected","Check","Mask","Comments","Description"]
[null,null,{"$f":"DEGREES(0)","v":0},0,{"$f":"IF(F12=0,IF(ISERR(C12),\"Error\", IF(C12=D12,TRUE,FALSE)),\"NSup\")","v":true}]
[null,null,{"$f":"DEGREES(PI())","v":180},180,true,null,null,"PI"]
[0.0174532925199433,null,{"$f":"DEGREES(A14)","v":1.0000000000000002},1.0000000000000002,true,null,null,"From 0 to 360"]
[0.03490658503988659,null,2,2,true]
["0.0523598775598299",null,3.0000000000000004,3.0000000000000004,true]
["0.0698131700797732",null,4.000000000000001,4.000000000000001,true]
[0.08726646259971647,null,5,5,true]
[0.10471975511965978,null,6.000000000000001,6.000000000000001,true]
[0.12217304763960307,null,7,7,true]
[0.13962634015954636,null,8,8,true]
[0.15707963267948966,null,9,9,true]
[0.17453292519943295,null,10,10,true]
[0.19198621771937624,null,11,11,true]
[0.20943951023931956,null,12.000000000000002,12.000000000000002,true]
[0.22689280275926285,null,13,13,true]
[0.24434609527920614,null,14,14,true]
[0.2617993877991494,null,14.999999999999998,14.999999999999998,true]
[0.2792526803190927,null,16,16,true]
[0.29670597283903605,null,17,17,true]
[0.3141592653589793,null,18,18,true]
[0.33161255787892263,null,19,19,true]
[0.3490658503988659,null,20,20,true]
[0.3665191429188092,null,21,21,true]
[0.3839724354387525,null,22,22,true]
[0.4014257279586958,null,23,23,true]
[0.4188790204786391,null,24.000000000000004,24.000000000000004,true]
[0.4363323129985824,null,25,25,true]
[0.4537856055185257,null,26,26,true]
[0.47123889803846897,null,27,27,true]
[0.4886921905584123,null,28,28,true]
[0.5061454830783556,null,29.000000000000004,29.000000000000004,true]
[0.5235987755982988,null,29.999999999999996,29.999999999999996,true]
[0.5410520681182421,null,31,31,true]
[0.5585053606381855,null,32,32,true]
[0.5759586531581288,null,33,33,true]
[0.5934119456780721,null,34,34,true]
[0.6108652381980153,null,35,35,true]
[0.6283185307179586,null,36,36,true]
[0.6457718232379019,null,37,37,true]
[0.6632251157578453,null,38,38,true]
[0.6806784082777885,null,39,39,true]
[0.6981317007977318,null,40,40,true]
[0.7155849933176751,null,41,41,true]
[0.7330382858376184,null,42,42,true]
[0.7504915783575618,null,43,43,true]
[0.767944870877505,null,44,44,true]
[0.7853981633974483,null,45,45,true]
[0.8028514559173916,null,46,46,true]
[0.8203047484373349,null,47,47,true]
[0.8377580409572782,null,48.00000000000001,48.00000000000001,true]
[0.8552113334772214,null,49,49,true]
[0.8726646259971648,null,50,50,true]
[0.8901179185171081,null,51,51,true]
[0.9075712110370514,null,52,52,true]
[0.9250245035569946,null,53,53,true]
[0.9424777960769379,null,54,54,true]
[0.9599310885968813,null,55,55,true]
[0.9773843811168246,null,56,56,true]
[0.9948376736367679,null,57.00000000000001,57.00000000000001,true]
[1.0122909661567112,null,58.00000000000001,58.00000000000001,true]
[1.0297442586766545,null,59.00000000000001,59.00000000000001,true]
[1.0471975511965976,null,59.99999999999999,59.99999999999999,true]
[1.064650843716541,null,61,61,true]
[1.0821041362364843,null,62,62,true]
[1.0995574287564276,null,63,63,{"$f":"IF(F76=0,IF(ISERR(C76),\"Error\", IF(C76=D76,TRUE,FALSE)),\"NSup\")","v":true}]
[1.117010721276371,null,64,64,true]
[1.1344640137963142,null,{"$f":"DEGREES(A78)","v":65},65,true]
[1.1519173063162575,null,66,66,true]
[1.1693705988362009,null,67,67,true]
[1.1868238913561442,null,68,68,true]
[1.2042771838760873,null,69,69,true]
[1.2217304763960306,null,70,70,true]
[1.239183768915974,null,71,71,true]
[1.2566370614359172,null,72,72,true]
[1.2740903539558606,null,73,73,true]
[1.2915436464758039,null,74,74,true]
[1.3089969389957472,null,75,75,true]
[1.3264502315156905,null,76,76,true]
[1.3439035240356338,null,77,77,true]
[1.361356816555577,null,78,78,true]
[1.3788101090755203,null,79,79,true]
[1.3962634015954636,null,80,80,true]
[1.413716694115407,null,81,81,true]
[1.4311699866353502,null,82,82,true]
[1.4486232791552935,null,83,83,true]
[1.4660765716752369,null,84,84,true]
[1.4835298641951802,null,85,85,true]
[1.5009831567151235,null,86,86,true]
[1.5184364492350666,null,87,87,true]
[1.53588974175501,null,88,88,true]
[1.5533430342749532,null,89,89,true]
[1.5707963267948966,null,90,90,true]
[1.5882496193148399,null,91,91,true]
[1.6057029118347832,null,92,92,true]
[1.6231562043547265,null,93,93,true]
[1.6406094968746698,null,94,94,true]
[1.6580627893946132,null,95,95,true]
[1.6755160819145565,null,96.00000000000001,96.00000000000001,true]
[1.6929693744344996,null,97,97,true]
[1.710422666954443,null,98,98,true]
[1.7278759594743862,null,99,99,true]
[1.7453292519943295,null,100,100,true]
[1.7627825445142729,null,101,101,true]
[1.7802358370342162,null,102,102,true]
[1.7976891295541595,null,103,103,true]
[1.8151424220741028,null,104,104,true]
[1.8325957145940461,null,105.00000000000001,105.00000000000001,true]
[1.8500490071139892,null,106,106,true]
[1.8675022996339325,null,107,107,true]
[1.8849555921538759,null,108,108,true]
[1.9024088846738192,null,109,109,true]
[1.9198621771937625,null,110,110,true]
[1.9373154697137058,null,111,111,true]
[1.9547687622336491,null,112,112,true]
[1.9722220547535925,null,113,113,true]
[1.9896753472735358,null,114.00000000000001,114.00000000000001,true]
[2.007128639793479,null,115,115,true]
[2.0245819323134224,null,116.00000000000001,116.00000000000001,true]
[2.0420352248333655,null,117,117,true]
[2.059488517353309,null,118.00000000000001,118.00000000000001,true]
[2.076941809873252,null,119,119,true]
[2.0943951023931953,null,119.99999999999999,119.99999999999999,true]
[2.111848394913139,null,121,121,true]
[2.129301687433082,null,122,122,true]
[2.1467549799530254,null,123.00000000000001,123.00000000000001,true]
[2.1642082724729685,null,124,124,true]
[2.181661564992912,null,125.00000000000001,125.00000000000001,true]
[2.199114857512855,null,126,126,true]
[2.2165681500327987,null,127.00000000000001,127.00000000000001,{"$f":"IF(F140=0,IF(ISERR(C140),\"Error\", IF(C140=D140,TRUE,FALSE)),\"NSup\")","v":true}]
[2.234021442552742,null,128,128,true]
[2.251474735072685,null,{"$f":"DEGREES(A142)","v":129},129,true]
[2.2689280275926285,null,130,130,true]
[2.2863813201125716,null,131,131,true]
[2.303834612632515,null,132,132,true]
[2.321287905152458,null,133,133,true]
[2.3387411976724017,null,134,134,true]
[2.356194490192345,null,135,135,true]
[2.3736477827122884,null,136,136,true]
[2.3911010752322315,null,137,137,true]
[2.4085543677521746,null,138,138,true]
[2.426007660272118,null,139,139,true]
[2.443460952792061,null,140,140,true]
[2.4609142453120048,null,141,141,true]
[2.478367537831948,null,142,142,true]
[2.4958208303518914,null,143,143,true]
[2.5132741228718345,null,144,144,true]
[2.530727415391778,null,145,145,true]
[2.548180707911721,null,146,146,true]
[2.5656340004316642,null,147,147,true]
[2.5830872929516078,null,148,148,true]
[2.600540585471551,null,149,149,true]
[2.6179938779914944,null,150,150,true]
[2.6354471705114375,null,151,151,true]
[2.652900463031381,null,152,152,true]
[2.670353755551324,null,153,153,true]
[2.6878070480712677,null,154,154,true]
[2.705260340591211,null,155,155,true]
[2.722713633111154,null,156,156,true]
[2.7401669256310974,null,157,157,true]
[2.7576202181510405,null,158,158,true]
[2.775073510670984,null,159,159,true]
[2.792526803190927,null,160,160,true]
[2.8099800957108707,null,161,161,true]
[2.827433388230814,null,162,162,true]
[2.8448866807507573,null,163,163,true]
[2.8623399732707004,null,164,164,true]
[2.8797932657906435,null,165,165,true]
[2.897246558310587,null,166,166,true]
[2.91469985083053,null,167,167,true]
[2.9321531433504737,null,168,168,true]
[2.949606435870417,null,169,169,true]
[2.9670597283903604,null,170,170,true]
[2.9845130209103035,null,171,171,true]
[3.001966313430247,null,172,172,true]
[3.01941960595019,null,173,173,true]
[3.036872898470133,null,174,174,true]
[3.0543261909900767,null,175,175,true]
[3.07177948351002,null,176,176,true]
[3.0892327760299634,null,177,177,true]
[3.1066860685499065,null,178,178,true]
[3.12413936106985,null,179,179,true]
[3.141592653589793,null,180,180,true]
[3.1590459461097367,null,181,181,true]
[3.1764992386296798,null,182,182,true]
[3.193952531149623,null,183,183,true]
[3.2114058236695664,null,184,184,true]
[3.2288591161895095,null,185,185,true]
[3.246312408709453,null,186,186,true]
[3.263765701229396,null,187,187,true]
[3.2812189937493397,null,188,188,true]
[3.2986722862692828,null,189,189,true]
[3.3161255787892263,null,190,190,true]
[3.3335788713091694,null,191,191,{"$f":"IF(F204=0,IF(ISERR(C204),\"Error\", IF(C204=D204,TRUE,FALSE)),\"NSup\")","v":true}]
[3.351032163829113,null,192.00000000000003,192.00000000000003,true]
[3.368485456349056,null,{"$f":"DEGREES(A206)","v":193},193,true]
[3.385938748868999,null,194,194,true]
[3.4033920413889427,null,195,195,true]
[3.420845333908886,null,196,196,true]
[3.4382986264288293,null,197,197,true]
[3.4557519189487724,null,198,198,true]
[3.473205211468716,null,199,199,true]
[3.490658503988659,null,200,200,true]
[3.5081117965086026,null,201.00000000000003,201.00000000000003,true]
[3.5255650890285457,null,202,202,true]
[3.543018381548489,null,203,203,true]
[3.5604716740684323,null,204,204,true]
[3.5779249665883754,null,205,205,true]
[3.595378259108319,null,206,206,true]
[3.612831551628262,null,207,207,true]
[3.6302848441482056,null,208,208,true]
[3.6477381366681487,null,209,209,true]
[3.6651914291880923,null,210.00000000000003,210.00000000000003,true]
[3.6826447217080354,null,211,211,true]
[3.7000980142279785,null,212,212,true]
[3.717551306747922,null,213,213,true]
[3.735004599267865,null,214,214,true]
[3.7524578917878086,null,215,215,true]
[3.7699111843077517,null,216,216,true]
[3.7873644768276953,null,217,217,true]
[3.8048177693476384,null,218,218,true]
[3.822271061867582,null,219.00000000000003,219.00000000000003,true]
[3.839724354387525,null,220,220,true]
[3.857177646907468,null,221,221,true]
[3.8746309394274117,null,222,222,true]
[3.8920842319473548,null,223,223,true]
[3.9095375244672983,null,224,224,true]
[3.9269908169872414,null,225,225,true]
[3.944444109507185,null,226,226,true]
[3.961897402027128,null,227,227,true]
[3.9793506945470716,null,228.00000000000003,228.00000000000003,true]
[3.9968039870670147,null,229,229,true]
[4.014257279586958,null,230,230,true]
[4.031710572106901,null,230.99999999999997,230.99999999999997,true]
[4.049163864626845,null,232.00000000000003,232.00000000000003,true]
[4.066617157146788,null,233,233,true]
[4.084070449666731,null,234,234,true]
[4.101523742186674,null,235,235,true]
[4.118977034706618,null,236.00000000000003,236.00000000000003,true]
[4.136430327226561,null,237.00000000000003,237.00000000000003,true]
[4.153883619746504,null,238,238,true]
[4.171336912266447,null,239,239,true]
[4.1887902047863905,null,239.99999999999997,239.99999999999997,true]
[4.2062434973063345,null,241.00000000000003,241.00000000000003,true]
[4.223696789826278,null,242,242,true]
[4.241150082346221,null,243,243,true]
[4.258603374866164,null,244,244,true]
[4.276056667386108,null,245.00000000000003,245.00000000000003,true]
[4.293509959906051,null,246.00000000000003,246.00000000000003,true]
[4.310963252425994,null,247,247,true]
[4.328416544945937,null,248,248,true]
[4.34586983746588,null,248.99999999999997,248.99999999999997,true]
[4.363323129985824,null,250.00000000000003,250.00000000000003,true]
[4.380776422505767,null,251,251,true]
[4.39822971502571,null,252,252,true]
[4.4156830075456535,null,253,253,true]
[4.4331363000655974,null,254.00000000000003,254.00000000000003,true]
[4.4505895925855405,null,255.00000000000003,255.00000000000003,{"$f":"IF(F268=0,IF(ISERR(C268),\"Error\", IF(C268=D268,TRUE,FALSE)),\"NSup\")","v":true}]
[4.468042885105484,null,256,256,true]
[4.485496177625427,null,{"$f":"DEGREES(A270)","v":257},257,true]
[4.50294947014537,null,258,258,true]
[4.520402762665314,null,259,259,true]
[4.537856055185257,null,260,260,true]
[4.5553093477052,null,261,261,true]
[4.572762640225143,null,262,262,true]
[4.590215932745087,null,263,263,true]
[4.60766922526503,null,264,264,true]
[4.625122517784973,null,265,265,true]
[4.642575810304916,null,266,266,true]
[4.6600291028248595,null,267,267,true]
[4.6774823953448035,null,268,268,true]
[4.694935687864747,null,269,269,true]
[4.71238898038469,null,270,270,true]
[4.729842272904633,null,271,271,true]
[4.747295565424577,null,272,272,true]
[4.76474885794452,null,273,273,true]
[4.782202150464463,null,274,274,true]
[4.799655442984406,null,275,275,true]
[4.817108735504349,null,276,276,true]
[4.834562028024293,null,277,277,true]
[4.852015320544236,null,278,278,true]
[4.869468613064179,null,279,279,true]
[4.886921905584122,null,280,280,true]
[4.904375198104066,null,281,281,true]
[4.9218284906240095,null,282,282,true]
[4.939281783143953,null,283,283,true]
[4.956735075663896,null,284,284,true]
[4.974188368183839,null,285,285,true]
[4.991641660703783,null,286,286,true]
[5.009094953223726,null,287,287,true]
[5.026548245743669,null,288,288,true]
[5.044001538263612,null,289,289,true]
[5.061454830783556,null,290,290,true]
[5.078908123303499,null,291,291,true]
[5.096361415823442,null,292,292,true]
[5.113814708343385,null,293,293,true]
[5.1312680008633285,null,294,294,true]
[5.1487212933832724,null,295,295,true]
[5.1661745859032155,null,296,296,true]
[5.183627878423159,null,297,297,true]
[5.201081170943102,null,298,298,true]
[5.218534463463046,null,299,299,true]
[5.235987755982989,null,300,300,true]
[5.253441048502932,null,301,301,true]
[5.270894341022875,null,302,302,true]
[5.288347633542818,null,303,303,true]
[5.305800926062762,null,304,304,true]
[5.323254218582705,null,305,305,true]
[5.340707511102648,null,306,306,true]
[5.358160803622591,null,307,307,true]
[5.375614096142535,null,308,308,true]
[5.3930673886624785,null,309,309,true]
[5.410520681182422,null,310,310,true]
[5.427973973702365,null,311,311,true]
[5.445427266222308,null,312,312,true]
[5.462880558742252,null,313,313,true]
[5.480333851262195,null,314,314,true]
[5.497787143782138,null,315,315,true]
[5.515240436302081,null,316,316,true]
[5.532693728822025,null,317,317,true]
[5.550147021341968,null,318,318,true]
[5.567600313861911,null,319,319,{"$f":"IF(F332=0,IF(ISERR(C332),\"Error\", IF(C332=D332,TRUE,FALSE)),\"NSup\")","v":true}]
[5.585053606381854,null,320,320,true]
[5.602506898901797,null,{"$f":"DEGREES(A334)","v":321},321,true]
[5.619960191421741,null,322,322,true]
[5.6374134839416845,null,323,323,true]
[5.654866776461628,null,324,324,true]
[5.672320068981571,null,325,325,true]
[5.689773361501515,null,326,326,true]
[5.707226654021458,null,327,327,true]
[5.724679946541401,null,328,328,true]
[5.742133239061344,null,329,329,true]
[5.759586531581287,null,330,330,true]
[5.777039824101231,null,331,331,true]
[5.794493116621174,null,332,332,true]
[5.811946409141117,null,333,333,true]
[5.82939970166106,null,334,334,true]
[5.846852994181004,null,335,335,true]
[5.8643062867009474,null,336,336,true]
[5.8817595792208905,null,337,337,true]
[5.899212871740834,null,338,338,true]
[5.916666164260777,null,339,339,true]
[5.934119456780721,null,340,340,true]
[5.951572749300664,null,341,341,true]
[5.969026041820607,null,342,342,true]
[5.98647933434055,null,343,343,true]
[6.003932626860494,null,344,344,true]
[6.021385919380437,null,345,345,true]
[6.03883921190038,null,346,346,true]
[6.056292504420323,null,347,347,true]
[6.073745796940266,null,348,348,true]
[6.09119908946021,null,349,349,true]
[6.1086523819801535,null,350,350,true]
[6.126105674500097,null,351,351,true]
[6.14355896702004,null,352,352,true]
[6.161012259539984,null,353,353,true]
[6.178465552059927,null,354,354,true]
[6.19591884457987,null,355,355,true]
[6.213372137099813,null,356,356,true]
[6.230825429619756,null,357,357,true]
[6.2482787221397,null,358,358,true]
[6.265732014659643,null,359,359,true]
[6.283185307179586,null,360,360,true]
[-3.39598487924582e+19,null,-1.9457560087103E+21,-1.9457560087103E+21,true,null,null,"Random Data"]
[-128950.3,null,-7388307.95694582,-7388307.95694582,true]
[-84790,null,-4858109.14491425,-4858109.14491425,true]
[-1444.9785,null,-82791.16953714442,-82791.16953714442,true]
[-599.8054,null,-34366.317949156146,-34366.317949156146,true]
[-576.8706,null,-33052.250705179504,-33052.250705179504,true]
[-502.4307,null,-28787.158607803613,-28787.158607803613,true]
[-438.99379,null,-25152.491399452363,-25152.491399452363,true]
[-402,null,-23032.903364259095,-23032.903364259095,true]
[-365.6220787,null,-20948.60200631003,-20948.60200631003,true]
[-129.0363,null,-7393.235393983945,-7393.235393983945,true]
[-107.67956,null,-6169.584327825719,-6169.584327825719,true]
[-106.4576,null,-6099.571177091912,-6099.571177091912,true]
[-86.63729,null,-4963.951065450971,-4963.951065450971,true]
[-56.0628698,null,-3212.1658269314416,-3212.1658269314416,true]
[-29.009,null,-1662.093267895005,-1662.093267895005,true]
[-27.137648394,null,-1554.8727188861765,-1554.8727188861765,true]
[-21.54,null,-1234.1510907117931,-1234.1510907117931,true]
[-20.62357,null,-1181.6435194926194,-1181.6435194926194,true]
[-16.08693,null,-921.7131943223893,-921.7131943223893,true]
[-8.24,null,-472.11722318779834,-472.11722318779834,true]
[-5.40157,null,-309.4871637444801,-309.4871637444801,true]
[-5,null,-286.4788975654116,-286.4788975654116,{"$f":"IF(F396=0,IF(ISERR(C396),\"Error\", IF(C396=D396,TRUE,FALSE)),\"NSup\")","v":true}]
[-3.2,null,-183.34649444186346,-183.34649444186346,true]
[-2.86090913,null,{"$f":"DEGREES(A398)","v":-163.91801871944418},-163.91801871944418,true]
[-2.598184,null,-148.86497759841828,-148.86497759841828,true]
[-2.56,null,-146.67719555349075,-146.67719555349075,true]
[-2.54885,null,-146.03834761191987,-146.03834761191987,true]
[-2.3923,null,-137.06869332914684,-137.06869332914684,true]
[-2.3285318,null,-133.4150446020007,-133.4150446020007,true]
[-2.063158327,null,-118.2102646043718,-118.2102646043718,true]
[-2.0559,null,-117.79439310094594,-117.79439310094594,true]
[-1.89,null,-108.28902327972558,-108.28902327972558,true]
[-1.78146243,null,-102.07027860011985,-102.07027860011985,true]
[-1.297,null,-74.31262602846778,-74.31262602846778,true]
[-1.25477091,null,-71.89307739878966,-71.89307739878966,true]
[-1.19,null,-68.18197762056796,-68.18197762056796,true]
[-1,null,-57.29577951308232,-57.29577951308232,true]
[-0.98,null,-56.14986392282068,-56.14986392282068,true]
[-0.933829,null,-53.504460486922156,-53.504460486922156,true]
[-0.90587445,null,-51.90278275373472,-51.90278275373472,true]
[-0.8458708,null,-48.46482685335456,-48.46482685335456,true]
[-0.8361881,null,-47.91004900906323,-47.91004900906323,true]
[-0.82638,null,-47.34808627402097,-47.34808627402097,true]
[-0.7986824,null,-45.76113069137942,-45.76113069137942,true]
[-0.65316,null,-37.42331134676485,-37.42331134676485,true]
[-0.521,null,-29.851101126315893,-29.851101126315893,true]
[-0.35,null,-20.05352282957881,-20.05352282957881,true]
[-0.23893066,null,-13.689718414275237,-13.689718414275237,true]
[-0.2183,null,-12.50766866770587,-12.50766866770587,true]
[-0.101,null,-5.786873730821315,-5.786873730821315,true]
[-0.1,null,-5.729577951308233,-5.729577951308233,true]
[-0.1,null,-5.729577951308233,-5.729577951308233,true]
[-0.093,null,-5.328507494716656,-5.328507494716656,true]
[-0.056949852,null,-3.2629861634946704,-3.2629861634946704,true]
[-0.03341074,null,-1.9142943924089202,-1.9142943924089202,true]
[0,null,0,0,true]
[0,null,0,0,true]
[0,null,0,0,true]
[0.094,null,5.385803274229739,5.385803274229739,true]
[0.221205,null,12.674112907191375,12.674112907191375,true]
[0.2907187,null,16.656954535529927,16.656954535529927,true]
[0.46,null,26.35605857601787,26.35605857601787,true]
[0.6446,null,36.93285947413286,36.93285947413286,true]
[0.7,null,40.10704565915762,40.10704565915762,true]
[0.708168,null,40.57503758622048,40.57503758622048,true]
[0.736,null,42.16969372162859,42.16969372162859,true]
[0.834,null,47.78468011391065,47.78468011391065,true]
[0.84122,null,48.19835564199511,48.19835564199511,true]
[0.893036,null,51.16719375324499,51.16719375324499,true]
[0.9,null,51.56620156177409,51.56620156177409,true]
[1,null,57.29577951308232,57.29577951308232,true]
[1.1,null,63.02535746439056,63.02535746439056,true]
[1.22,null,69.90085100596043,69.90085100596043,true]
[1.473253,null,84.41117905498707,84.41117905498707,true]
[1.527,null,87.4906553164767,87.4906553164767,true]
[2,null,114.59155902616465,114.59155902616465,true]
[2.33073,null,133.54099218452637,133.54099218452637,true]
[3.729542,null,213.68701611678006,213.68701611678006,true]
[3.873951638,null,221.9610788951921,221.9610788951921,true]
[4,null,229.1831180523293,229.1831180523293,true]
[4.198298,null,240.5447565382145,240.5447565382145,true]
[4.30820954,null,246.8422238999978,246.8422238999978,true]
[4.3529735,null,249.40700988229025,249.40700988229025,true]
[4.824,null,276.3948403711091,276.3948403711091,true]
[5.45,null,312.2619983462987,312.2619983462987,true]
[5.671257,null,324.9390906340247,324.9390906340247,{"$f":"IF(F460=0,IF(ISERR(C460),\"Error\", IF(C460=D460,TRUE,FALSE)),\"NSup\")","v":true}]
[6,null,343.77467707849394,343.77467707849394,true]
[6.9,null,{"$f":"DEGREES(A462)","v":395.34087864026804},395.34087864026804,true]
[7.395,null,423.70228949924376,423.70228949924376,true]
[8.52,null,488.1600414514614,488.1600414514614,true]
[13.73708616,null,787.0770597755748,787.0770597755748,true]
[17.8701621,null,1023.8848675446403,1023.8848675446403,true]
[19.3773,null,1110.2375083588502,1110.2375083588502,true]
[23.96778951,null,1373.2531831809274,1373.2531831809274,true]
[25.43559,null,1457.3519564251617,1457.3519564251617,true]
[25.73,null,1474.2204068716082,1474.2204068716082,true]
[66.543353,null,3812.653281549205,3812.653281549205,true]
[95,null,5443.099053742821,5443.099053742821,true]
[95.056100312,null,5446.313364849788,5446.313364849788,true]
[133.2,null,7631.797831142565,7631.797831142565,true]
[205.62553761,null,11781.475465161577,11781.475465161577,true]
[352.9711,null,20223.75432009013,20223.75432009013,true]
[371.90166335,null,21308.39570385017,21308.39570385017,true]
[405.978,null,23260.825975162137,23260.825975162137,true]
[1159.987495856,null,66462.38780049786,66462.38780049786,true]
[1621.74895847,null,92919.37075006802,92919.37075006802,true]
[6714.935,null,384737.4352046795,384737.4352046795,true]
[7386,null,423186.627483626,423186.627483626,true]
[15026.9460671,null,860980.5886155411,860980.5886155411,true]
[60385.13,null,3459813.0943488125,3459813.0943488125,true]
[75413.4,null,4320869.538731882,4320869.538731882,true]
[3110217.0885,null,178202312.54051685,178202312.54051685,true]
[19660912,null,1126487278.9781144,1126487278.9781144,true]
[32894797.7713,null,1884733080.2318366,1884733080.2318366,true]
[312646564.371555,null,17913328617.755314,17913328617.755314,true]

{"sheet":"EVEN","index":16,"n_rows":110,"n_cols":8,"rows_kept":110}
[{"$f":"SUM(A3:A5)","v":0},{"$f":"SUM(B3:B5)","v":0},{"$f":"SUM(C3:C5)","v":0},"Total"]
["Failed","Error","NotSupport","Verification Area"]
[{"$f":"COUNTIF(INDIRECT(D3),\"=false\")","v":0},{"$f":"COUNTIF(INDIRECT(D3),\"=Error\")","v":0},{"$f":"COUNTIF(INDIRECT(D3),\"=NSup\")","v":0},"E12:E110"]
{"$rows_empty":7}
["Data",null,"Formula","Expected","Check","Mask","Comments","Description"]
[null,null,{"$f":"EVEN(\"0\")","v":0},0,{"$f":"IF(F12=0,IF(ISERR(C12),\"Error\", IF(C12=D12,TRUE,FALSE)),\"NSup\")","v":true}]
[null,null,{"$f":"EVEN(ROW())","v":14},14,true]
[1,null,{"$f":"EVEN(A14)","v":2},2,true]
[2,null,2,2,true]
[3,null,4,4,true]
[20.00001,null,22,22,true]
[19.9999999999999,null,20,20,true]
[20.5,null,22,22,true]
[19.4,null,20,20,true]
["0.1",null,2,2,true]
[1E-13,null,2,2,true]
[-1,null,-2,-2,true]
[-2,null,-2,-2,true]
[-3,null,-4,-4,true]
[-197.00001,null,-198,-198,true]
[-19.9999999999999,null,-20,-20,true]
["-20.5",null,-22,-22,true]
[-19.4,null,-20,-20,true]
[-0.1,null,-2,-2,true]
[-1E-13,null,-2,-2,true]
[-39834280.0909455,null,-39834282,-39834282,true,null,null,"Random data"]
[-296553.19662,null,-296554,-296554,true]
[-10363.054355,null,-10364,-10364,true]
[-9557.338,null,-9558,-9558,true]
[-9547.13272812,null,-9548,-9548,true]
[-3253.749758,null,-3254,-3254,true]
[-2954.919345,null,-2956,-2956,true]
[-2565.91744,null,-2566,-2566,true]
[-1321.5667,null,-1322,-1322,true]
[-865.8867007,null,-866,-866,true]
[-623.1380963,null,-624,-624,true]
[-133.4,null,-134,-134,true]
[-123.7491,null,-124,-124,{"$f":"IF(F44=0,IF(ISERR(C44),\"Error\", IF(C44=D44,TRUE,FALSE)),\"NSup\")","v":true}]
[-109.000077,null,-110,-110,true]
[-40.0287745,null,{"$f":"EVEN(A46)","v":-42},-42,true]
[-34.3,null,-36,-36,true]
[-29,null,-30,-30,true]
[-21.78,null,-22,-22,true]
[-18.231,null,-20,-20,true]
[-17.273171977,null,-18,-18,true]
[-11.27688,null,-12,-12,true]
[-8.28,null,-10,-10,true]
[-5.459035424,null,-6,-6,true]
[-4.99898821,null,-6,-6,true]
[-4.39017,null,-6,-6,true]
[-4.088919209,null,-6,-6,true]
[-3.05519639,null,-4,-4,true]
[-1.9,null,-2,-2,true]
[-0.05,null,-2,-2,true]
[0,null,0,0,true]
[0.084105,null,2,2,true]
[0.29,null,2,2,true]
[0.3753,null,2,2,true]
[0.612,null,2,2,true]
[0.985,null,2,2,true]
[1,null,2,2,true]
[1.07966,null,2,2,true]
[1.094456372,null,2,2,true]
[1.12029,null,2,2,true]
[2.03,null,4,4,true]
[2.22442,null,4,4,true]
[3.78708,null,4,4,true]
[3.9,null,4,4,true]
[4.22255567,null,6,6,true]
[4.527,null,6,6,{"$f":"IF(F76=0,IF(ISERR(C76),\"Error\", IF(C76=D76,TRUE,FALSE)),\"NSup\")","v":true}]
[4.7645822,null,6,6,true]
[4.932,null,{"$f":"EVEN(A78)","v":6},6,true]
[4.986,null,6,6,true]
[5.7,null,6,6,true]
[7,null,8,8,true]
[7.199,null,8,8,true]
[8,null,8,8,true]
[10,null,10,10,true]
[10.318884,null,12,12,true]
[10.77685,null,12,12,true]
[11.6019419,null,12,12,true]
[12.8082791,null,14,14,true]
[13,null,14,14,true]
[13.7,null,14,14,true]
[23.56292,null,24,24,true]
[29.30219799,null,30,30,true]
[32.863341897,null,34,34,true]
[74.18352,null,76,76,true]
[96.6,null,98,98,true]
[157.08589,null,158,158,true]
[215.691,null,216,216,true]
[512.9345,null,514,514,true]
[775.661055,null,776,776,true]
[1296,null,1296,1296,true]
[3960.56354,null,3962,3962,true]
[12756.82,null,12758,12758,true]
[16942.09,null,16944,16944,true]
[31314.6949,null,31316,31316,true]
[1049340.24278,null,1049342,1049342,true]
[4746842.699612,null,4746844,4746844,true]
[18622968.387,null,18622970,18622970,true]
[34899582.35122,null,34899584,34899584,{"$f":"IF(F108=0,IF(ISERR(C108),\"Error\", IF(C108=D108,TRUE,FALSE)),\"NSup\")","v":true}]
[154021208.041,null,154021210,154021210,true]
[297495407.9,null,297495408,297495408,true]

{"sheet":"EXP","index":17,"n_rows":118,"n_cols":8,"rows_kept":118}
[{"$f":"SUM(A3:A5)","v":0},{"$f":"SUM(B3:B5)","v":2},{"$f":"SUM(C3:C5)","v":0},"Total"]
["Failed","Error","NotSupport","Verification Area"]
[{"$f":"COUNTIF(INDIRECT(D3),\"=false\")","v":0},{"$f":"COUNTIF(INDIRECT(D3),\"=Error\")","v":2},{"$f":"COUNTIF(INDIRECT(D3),\"=NSup\")","v":0},"E12:E120"]
{"$rows_empty":7}
["Data",null,"Formula","Expected","Check","Mask","Comments","Description"]
[null,null,{"$f":"EXP(0)","v":1},1,{"$f":"IF(F12=0,IF(ISERR(C12),\"Error\", IF(C12=D12,TRUE,FALSE)),\"NSup\")","v":true}]
[null,null,{"$f":"EXP(1)","v":2.718281828459045},2.718281828459045,true]
["1",null,{"$f":"EXP(A14)","v":2.718281828459045},2.718281828459045,true]
[null,null,{"$f":"EXP(C14)","v":15.154262241479262},15.154262241479262,true]
[" ",null,{"$f":"EXP(A16)","v":{"$error":"#VALUE!"}},{"$error":"#VALUE!"},"Error"]
[1.03484523644539e+17,null,{"$error":"#NUM!"},{"$error":"#NUM!"},"Error"]
[709.782712,null,1.7976915288326598E+308,1.7976915288326598E+308,true]
[593.6,null,6.269089322843191e+257,6.269089322843191e+257,true]
[337.148874,null,2.6417733704248067E+146,2.6417733704248067E+146,true]
[225.50566800000001,null,8.627148036131167e+97,8.627148036131167e+97,true]
[195.1798611,null,5.828229628698203e+84,5.828229628698203e+84,true]
[121.69075,null,7.073286082152469e+52,7.073286082152469e+52,true]
[59.90119018,null,1.0345616000516107E+26,1.0345616000516107E+26,true]
[47.47479354,null,4.149930885962909E+20,4.149930885962909E+20,true]
[31.24684511,null,37181971030155.164,37181971030155.164,true]
[29.506,null,6520681428633.242,6520681428633.242,true]
[26.42512,null,299422063918.72424,299422063918.72424,true]
[17,null,24154952.7535753,24154952.7535753,true]
[12.565,null,286358.5568895178,286358.5568895178,true]
[8.962625,null,7805.82087199248,7805.82087199248,true]
[7,null,1096.6331584284585,1096.6331584284585,true]
[6.0105487,null,407.7069677238025,407.7069677238025,true]
[5.760407,null,317.47751597550297,317.47751597550297,true]
[3.14,null,23.103866858722185,23.103866858722185,true]
[3.1061,null,22.333772618176404,22.333772618176404,true]
[2.834419493,null,17.02051690277731,17.02051690277731,true]
[1.490313,null,4.438484547272696,4.438484547272696,true]
[1.20307,null,3.3303253435975932,3.3303253435975932,true]
[1.163,null,3.199517445009748,3.199517445009748,true]
[1.0854494,null,2.9607700898835705,2.9607700898835705,true]
[1.07,null,2.915379499976997,2.915379499976997,true]
[1.058,null,2.88060401618483,2.88060401618483,true]
[0.97358,null,2.6474052251850666,2.6474052251850666,{"$f":"IF(F44=0,IF(ISERR(C44),\"Error\", IF(C44=D44,TRUE,FALSE)),\"NSup\")","v":true}]
[0.9625152,null,2.618273680421182,2.618273680421182,true]
[0.904,null,2.46946122668849,2.46946122668849,true]
[0.9,null,2.45960311115695,2.45960311115695,true]
[0.67596135,null,{"$f":"EXP(A48)","v":1.9659220069357695},1.9659220069357695,true]
[0.67,null,1.9542373206359396,1.9542373206359396,true]
[0.60397,null,1.8293669901649312,1.8293669901649312,true]
[0.6,null,1.8221188003905089,1.8221188003905089,true]
[0.471329513,null,1.6021228210027758,1.6021228210027758,true]
[0.46,null,1.5840739849944818,1.5840739849944818,true]
[0.3840392,null,1.4682029941113235,1.4682029941113235,true]
[0.2995838,null,1.3492971132369902,1.3492971132369902,true]
[0.2565,null,1.2923987657996796,1.2923987657996796,true]
[0.25442224,null,1.289716259107655,1.289716259107655,true]
[0.1529407,null,1.165255877220373,1.165255877220373,true]
[0.1,null,1.1051709180756477,1.1051709180756477,true]
[0.0159,null,1.0160270776180282,1.0160270776180282,true]
[0,null,1,1,true]
[-0.00234,null,0.9976627356657647,0.9976627356657647,true]
[-0.124033042,null,0.8833506527282686,0.8833506527282686,true]
[-0.1545057,null,0.856838608148111,0.856838608148111,true]
[-0.173945331,null,0.8403428371052499,0.8403428371052499,true]
[-0.24,null,0.7866278610665535,0.7866278610665535,true]
[-0.36,null,0.697676326071031,0.697676326071031,true]
[-0.576,null,0.5621424451968224,0.5621424451968224,true]
[-0.62303,null,0.5363169328635933,0.5363169328635933,true]
[-0.68729,null,0.5029371836905273,0.5029371836905273,true]
[-0.753361,null,0.4707815937728151,0.4707815937728151,true]
[-0.7891,null,0.4542534394604066,0.4542534394604066,true]
[-0.8,null,0.44932896411722156,0.44932896411722156,true]
[-0.814450109,null,0.44288279767864625,0.44288279767864625,true]
[-0.99210281,null,0.37079615678561095,0.37079615678561095,true]
[-1,null,0.36787944117144233,0.36787944117144233,{"$f":"IF(F76=0,IF(ISERR(C76),\"Error\", IF(C76=D76,TRUE,FALSE)),\"NSup\")","v":true}]
[-1.0531577,null,0.3488344934726716,0.3488344934726716,true]
[-1.2094,null,0.2983762514837923,0.2983762514837923,true]
[-1.365,null,0.2553806759880777,0.2553806759880777,true]
[-1.552,null,{"$f":"EXP(A80)","v":0.21182390209218135},0.21182390209218135,true]
[-1.81076616,null,0.16352879956956967,0.16352879956956967,true]
[-2.0228,null,0.1322845493023179,0.1322845493023179,true]
[-2.09896,null,0.12258384918576519,0.12258384918576519,true]
[-2.56627,null,0.0768215560866256,0.0768215560866256,true]
[-2.876187361,null,0.05634919293269905,0.05634919293269905,true]
[-3.634,null,0.026410331518177187,0.026410331518177187,true]
[-4.065662,null,0.017151631134662337,0.017151631134662337,true]
[-4.5,null,0.011108996538242306,0.011108996538242306,true]
[-4.553826445,null,0.010526846819715701,0.010526846819715701,true]
[-5.5,null,0.004086771438464067,0.004086771438464067,true]
[-10.71452,null,2.2219950532842054E-5,2.2219950532842054E-5,true]
[-10.90789,null,1.8313171553424972E-5,1.8313171553424972E-5,true]
[-12.072857705,null,5.7124777026933335E-6,5.7124777026933335E-6,true]
[-13,null,2.2603294069810542E-6,2.2603294069810542E-6,true]
[-13.38,null,1.5457520535421912E-6,1.5457520535421912E-6,true]
[-13.901,null,9.1806283587761329E-7,9.1806283587761329E-7,true]
[-19.6136224,null,3.033276647207879E-9,3.033276647207879E-9,true]
[-39.91,null,4.648439974209673e-18,4.648439974209673e-18,true]
[-42.164922684,null,4.875360658220972e-19,4.875360658220972e-19,true]
[-46,null,1.0530617357553812E-20,1.0530617357553812E-20,true]
[-105.00369,null,2.4973352857801713E-46,2.4973352857801713E-46,true]
[-118.803,null,2.5381230106995055E-52,2.5381230106995055E-52,true]
[-194.5,null,3.386283151809556e-85,3.386283151809556e-85,true]
[-202.69,null,9.394019622820792e-89,9.394019622820792e-89,true]
[-499.51,null,1.1629561629035316E-217,1.1629561629035316E-217,true]
[-913.06,null,0,0,true]
[-1070.35,null,0,0,true]
[-1564.2,null,0,0,{"$f":"IF(F108=0,IF(ISERR(C108),\"Error\", IF(C108=D108,TRUE,FALSE)),\"NSup\")","v":true}]
[-2641,null,0,0,true]
[-18726.1920324,null,0,0,true]
[-35144.347,null,0,0,true]
[-2304127,null,{"$f":"EXP(A112)","v":0},0,true]
[-13714818.1231367,null,0,0,true]
[-147955717.231814,null,0,0,true]
[-437389705.041913,null,0,0,true]
[-570153314,null,0,0,true]
[-706999589763.25,null,0,0,true]
[-47129109461482.5,null,0,0,true]

{"sheet":"FACT","index":18,"n_rows":65,"n_cols":8,"rows_kept":65}
[{"$f":"SUM(A3:A5)","v":0},{"$f":"SUM(B3:B5)","v":8},{"$f":"SUM(C3:C5)","v":0},"Total"]
["Failed","Error","NotSupport","Verification Area"]
[{"$f":"COUNTIF(INDIRECT(D3),\"=false\")","v":0},{"$f":"COUNTIF(INDIRECT(D3),\"=Error\")","v":8},{"$f":"COUNTIF(INDIRECT(D3),\"=NSup\")","v":0},"E12:E65"]
{"$rows_empty":7}
["Data",null,"Formula","Expected","Check","Mask","Comments","Description"]
[null,null,{"$f":"FACT(0)","v":1},1,{"$f":"IF(F12=0,IF(ISERR(C12),\"Error\", IF(C12=D12,TRUE,FALSE)),\"NSup\")","v":true},null,null,0]
[null,null,{"$f":"FACT(-123)","v":{"$error":"#NUM!"}},{"$error":"#NUM!"},"Error",null,null,"Negative number is invalid parameter"]
[170.99999976147,null,{"$f":"FACT(A14)","v":{"$error":"#NUM!"}},{"$error":"#NUM!"},"Error"]
[170.99999976146,null,7.257415615308004E+306,7.257415615308004E+306,true]
[2,null,2,2,true]
[3,null,6,6,true]
[4,null,24,24,true]
[5,null,120,120,true]
[6,null,720,720,true]
[7,null,5040,5040,true]
[8,null,40320,40320,true]
[9,null,362880,362880,true]
[10,null,3628800,3628800,true]
[11,null,39916800,39916800,true]
[12,null,479001600,479001600,true]
[13,null,6227020800,6227020800,true]
[13,null,6227020800,6227020800,true]
[74.8,null,3.307885441519387e+107,3.307885441519387e+107,true,null,null,"Random data"]
[61.6254182,null,5.075802138772246e+83,5.075802138772246e+83,true]
[35.86075,null,1.0333147966386144E+40,1.0333147966386144E+40,true]
[28,null,3.048883446117138E+29,3.048883446117138E+29,true]
[22.7255948,null,1.1240007277776077E+21,1.1240007277776077E+21,true]
[16.1,null,20922789888000,20922789888000,true]
[16,null,20922789888000,20922789888000,true]
[15.98321653,null,1307674368000,1307674368000,true]
[15.3207,null,1307674368000,1307674368000,true]
[13.6657,null,6227020800,6227020800,true]
[10.520394,null,3628800,3628800,true]
[9.409,null,362880,362880,true]
[9.2,null,362880,362880,true]
[8.25,null,40320,40320,true]
[6.1954713,null,720,720,true]
[4.91097,null,24,24,{"$f":"IF(F44=0,IF(ISERR(C44),\"Error\", IF(C44=D44,TRUE,FALSE)),\"NSup\")","v":true}]
[4.341,null,24,24,true]
[4,null,{"$f":"FACT(A46)","v":24},24,true]
[3.914826,null,6,6,true]
[3.51688548,null,6,6,true]
[2.936729,null,2,2,true]
[2.6359096,null,2,2,true]
[2,null,2,2,true]
[1.84827209,null,1,1,true]
[1.5988,null,1,1,true]
[1.1441231,null,1,1,true]
[1.099603175,null,1,1,true]
[0.58755,null,1,1,true]
[0.22,null,1,1,true]
[0.0302,null,1,1,true]
[0,null,1,1,true]
[-0.0369,null,{"$error":"#NUM!"},{"$error":"#NUM!"},"Error"]
[-1.4032149,null,{"$error":"#NUM!"},{"$error":"#NUM!"},"Error"]
[-37,null,{"$error":"#NUM!"},{"$error":"#NUM!"},"Error"]
[-121.5643,null,{"$error":"#NUM!"},{"$error":"#NUM!"},"Error"]
[-4013.65,null,{"$error":"#NUM!"},{"$error":"#NUM!"},"Error"]
[-908717222271,null,{"$error":"#NUM!"},{"$error":"#NUM!"},"Error"]

{"sheet":"smartart","index":19,"n_rows":4,"n_cols":2,"rows_kept":4,"merged":[[0,1,0,7],[1,1,1,7],[2,1,2,7],[3,0,3,7]]}
["Testcase_ID","SmartArt_GraphicHierary_Win"]
["Feature name: ","SmartArt_GraphicHierary interoperability with MS Office "]
["TestPoint"]
["Example:"]

{"sheet":"Border","index":20,"n_rows":243,"n_cols":6,"rows_kept":243,"merged":[[19,1,19,8],[20,1,20,8],[21,1,21,8],[22,1,22,8],[23,1,23,8],[79,1,79,8],[80,1,80,8],[81,1,81,8],[82,1,82,8],[83,1,83,8],[123,0,124,0],[139,1,139,8],[140,1,140,8],[141,1,141,8],[142,1,142,8],[143,1,143,8],[169,1,169,8],[170,1,170,8],[171,1,171,8],[172,1,172,8],[173,1,173,8]]}
[]
[null,{"$f":"HYPERLINK(\"#\"&\"Border\"&\"!A20\",\"Go To Border_001\")","v":"Go To Border_001"},null,null,{"$f":"HYPERLINK(\"#\"&\"Homepage\"&\"!A1\",\"Back To Homepage\")","v":"Back To Homepage"}]
[null,{"$f":"HYPERLINK(\"#\"&\"Border\"&\"!A80\",\"Go To Border_002\")","v":"Go To Border_002"}]
[null,{"$f":"HYPERLINK(\"#\"&\"Border\"&\"!A140\",\"Go To Border_003\")","v":"Go To Border_003"}]
[null,{"$f":"HYPERLINK(\"#\"&\"Border\"&\"!A170\",\"Go To Border_004\")","v":"Go To Border_004"}]
{"$rows_empty":14}
["Sample ID","Border_001"]
["Testcase_ID"]
["Test Object","Cell-> Cell Properties-> Border"]
["Check Point","Line Style"]
["Other Info","Line Color is black (default), Preset is Outline/Inline."]
[]
[]
["Line 1"]
[]
["Line 2"]
[]
["Line 3"]
[]
["Line 4"]
[]
["Line 5 "]
[]
["Line 6 (Default Line Style)"]
[]
["Line 7"]
[]
["Line 8"]
[]
["Line 9"]
[]
["Line 10"]
[]
["Line 11"]
[]
["Line 12"]
[]
["Line 13"]
[]
[]
["Line 2"]
["Inline"]
[]
[]
["Line 8"]
["Inline"]
[]
[]
[]
["Line 13"]
["Outline & Inline"]
{"$rows_empty":8}
[{"$nulls":5},{"$f":"HYPERLINK(\"#\"&\"Border\"&\"!A1\",\"Go To Top\")","v":"Go To Top"}]
[]
[]
[]
[]
[]
[]
["Sample ID","Border_002"]
["Testcase_ID"]
["Test Object","Cell-> Cell Properties-> Border"]
["Check Point","Line Color"]
["Other Info","Line Color is black (default), Preset is Outline/Inline."]
[]
[]
["Line 1","Dark Red"]
[]
["Line 2","Red"]
[]
["Line 3","Orange"]
[]
["Line 4","Yellow"]
[]
["Line 5","Light Green"]
[]
["Line 6 (Default Line Style)","Green"]
[]
["Line 7","Light Blue"]
[]
["Line 8","Blue"]
[]
["Line 9","Dark Blue"]
[]
["Line 10","Purple"]
[]
["Line 11","RGB(204,153,0)"]
[]
["Line 12","Default Black"]
[]
["Line 13","Default Black"]
[]
[]
["Line 2"]
["Inline"]
["RGB(246,0,100)"]
[]
["Line 8"]
["Inline"]
["Blue"]
[]
[]
["Line 13"]
["Outline(Yellow) & Inline (Red)"]
{"$rows_empty":11}
[{"$nulls":5},{"$f":"HYPERLINK(\"#\"&\"Border\"&\"!A1\",\"Go To Top\")","v":"Go To Top"}]
[]
[]
[]
["Sample ID","Border_003"]
["Testcase_ID"]
["Test Object","Cell-> Cell Properties-> Border"]
["Check Point","Preset"]
["Other Info","Line Color is black (default), Line style 6, 12."]
[]
["Line 6 (Default Line Style)","Outline"]
[]
["Line 6 (Default Line Style)","Inline"]
[]
[]
[]
["Line 12"]
["Outline&Inline"]
{"$rows_empty":12}
[{"$nulls":5},{"$f":"HYPERLINK(\"#\"&\"Border\"&\"!A1\",\"Go To Top\")","v":"Go To Top"}]
[]
[]
[]
["Sample ID","Border_004"]
["Testcase_ID"]
["Test Object","Cell-> Cell Properties-> Border"]
["Check Point","Border"]
["Other Info","Line Color: black (default), red, blue, yellow, Preset: Outline/Inline."]
[]
["Line 1","Top Border",null,"Line 1 Top, Line 2 Bottom"]
[]
["Line 2","Bottom Border",null,"Line 2 Top, Line 3 Diagonal up, Line 4 Bottom"]
[]
["Line 3","Left Border",null,"Line 5 Left, Line 6 Right, Line 7  Diagonal up/down"]
[]
["Line 4","Right Border"]
[]
["Line 5","Diagonal up"]
[]
["Line 6","Diagonal down"]
[]
["Line 7","Top and Left Border"]
[]
["Line 8","Top and Bottom Border"]
[]
["Line 9","Top and Right Border"]
[]
["Line 10","Left and  Bottom Border"]
[]
["Line 11","Left and Right Border"]
[]
["Line 12","Bottom and Right Border"]
[]
["Line 13","Top and Diagonal up"]
[]
["Line 2"]
[]
[]
[]
["Line 5"]
{"$rows_empty":36}
[{"$nulls":5},{"$f":"HYPERLINK(\"#\"&\"Border\"&\"!A1\",\"Go To Top\")","v":"Go To Top"}]

{"sheet":"chart","index":21,"n_rows":196,"n_cols":4,"rows_kept":196,"merged":[[7,1,7,7],[23,1,23,7],[41,1,41,7],[61,1,61,7],[80,1,80,7],[98,1,98,7],[117,1,117,7],[137,1,137,7],[156,1,156,7],[176,1,176,7],[195,1,195,7]]}
[" ","A","B","C"]
["Category 1",4.3,2.4,2]
["Category 2",2.5,4.4,2]
["Category 3",3.5,1.8,3]
["Category 4",4.5,2.8,5]
[]
[]
["Feature name: ","Charts-Column"]
{"$rows_empty":15}
["Feature name: ","Charts-Line"]
{"$rows_empty":17}
["Feature name: ","Charts-Pie"]
{"$rows_empty":19}
["Feature name: ","Charts-Pie"]
{"$rows_empty":18}
["Feature name: ","Charts-Area"]
{"$rows_empty":17}
["Feature name: ","Charts-Scatter"]
{"$rows_empty":18}
["Feature name: ","Charts-Surface"]
{"$rows_empty":19}
["Feature name: ","Charts-Doughnut"]
{"$rows_empty":18}
["Feature name: ","Charts-Radnar"]
{"$rows_empty":19}
["Feature name: ","Charts-Bubble"]
{"$rows_empty":18}
["Feature name: ","Charts-Stock(undo)"]

{"sheet":"OLE","index":22,"n_rows":0,"n_cols":0,"rows_kept":0}

{"sheet":"formula","index":23,"n_rows":44,"n_cols":15,"rows_kept":44}
[{"$f":"SUM(A3:A5)","v":0},{"$f":"SUM(B3:B5)","v":0},{"$f":"SUM(C3:C5)","v":0},"Total",null,null,"Hide row 8","Sample A","Sample B","Sample C","Sample D"]
["Failed","Error","NotSupport","Verification Area",{"$nulls":3},-1,-6,-97,1]
[{"$f":"COUNTIF(INDIRECT(D3),\"=false\")","v":0},{"$f":"COUNTIF(INDIRECT(D3),\"=Error\")","v":0},{"$f":"COUNTIF(INDIRECT(D3),\"=NSup\")","v":0},"E12:E50",{"$nulls":3},15,16,3001,2]
[{"$nulls":7},{"$f":"SUBTOTAL(9,H2:H3)","v":14},{"$f":"9/0","v":{"$error":"#DIV/0!"}},{"$f":"_xlfn.AGGREGATE(1,0,J2:J3)","v":1452},3]
[{"$nulls":7},139910165,0,{"$f":"SUBTOTAL(4,J2:J4)","v":3001}]
[{"$nulls":7},-106,-9,-1834,4]
[{"$nulls":7},678.4,92,{"$f":"reference","v":{"$error":"#NAME?"}},5]
[{"$nulls":7},-10,134.32,-1774]
[{"$nulls":7},1345,158,6,6]
[]
["Data",null,"Formula","Expected","Check","Mask","Comments","Description",null,1,null,10,null,"选项","行为"]
[null,null,{"$f":"_xlfn.AGGREGATE(1,0,J11:J18,L11:L18)","v":7.25},7.25,{"$f":"IF(F12=0,IF(ISERR(C12),\"Error\", IF(C12=D12,TRUE,FALSE)),\"NSup\")","v":true},{"$nulls":4},2,null,10]
[null,null,{"$f":"_xlfn.AGGREGATE(1,0,J11:J18)","v":4.5},4.5,{"$f":"IF(F13=0,IF(ISERR(C13),\"Error\", IF(C13=D13,TRUE,FALSE)),\"NSup\")","v":true},{"$nulls":4},3,null,10]
[null,null,{"$f":"_xlfn.AGGREGATE(1,0,$H$2:$H$9)","v":19987440.914285716},19987440.914285716,true,null,null,1,"AVERAGE",4,null,10]
[null,null,{"$f":"_xlfn.AGGREGATE(2,0,$H$2:$H$9)","v":7},7,true,null,null,2,"COUNT",5,null,10]
[null,null,{"$f":"_xlfn.AGGREGATE(3,0,$H$2:$H$9)","v":7},7,true,null,null,3,"COUNTA",6,null,10]
[null,null,{"$f":"_xlfn.AGGREGATE(4,0,$H$2:$H$9)","v":139910165},139910165,true,null,null,4,"MAX",7,null,10]
[null,null,{"$f":"_xlfn.AGGREGATE(5,0,$H$2:$H$9)","v":-106},-106,true,null,null,5,"MIN",8,null,10]
[null,null,{"$f":"_xlfn.AGGREGATE(6,0,$H$2:$H$9)","v":-2.029805928719328E+18},-2.029805928719328E+18,true,null,null,6,"PRODUCT"]
[null,null,{"$f":"_xlfn.AGGREGATE(7,0,$H$2:$H$9)","v":52880950.74866059},52880950.74866059,true,null,null,7,"STDEV.S"]
[null,null,{"$f":"_xlfn.AGGREGATE(8,0,$H$2:$H$9)","v":48958247.09819232},48958247.09819232,true,null,null,8,"STDEV.P"]
[null,null,{"$f":"_xlfn.AGGREGATE(9,0,$H$2:$H$9)","v":139912086.4},139912086.4,true,null,null,9,"SUM"]
[null,null,{"$f":"_xlfn.AGGREGATE(10,0,$H$2:$H$9)","v":2796394952082266.5},2796394952082266.5,true,null,null,10,"VAR.S"]
[null,null,{"$f":"_xlfn.AGGREGATE(11,0,$H$2:$H$9)","v":2396909958927657},2396909958927657,true,null,null,11,"VAR.P"]
[null,null,{"$f":"_xlfn.AGGREGATE(12,0,$H$2:$H$9)","v":15},15,true,null,null,12,"MEDIAN"]
[null,null,{"$f":"_xlfn.AGGREGATE(13,0,$H$2:$H$9,L11:L18)","v":10},10,true,null,null,13,"MODE.SNGL"]
[null,null,{"$f":"_xlfn.AGGREGATE(14,0,$H$2:$H$9,2)","v":1345},1345,true,null,null,14,"LARGE"]
[4,null,{"$f":"_xlfn.AGGREGATE(15,0,$H$2:$H$9,A28)","v":15},15,true,null,null,15,"SMALL"]
[{"v":0.25,"d":"25%"},null,{"$f":"_xlfn.AGGREGATE(16,0,$H$2:$H$9,A29)","v":-5.5},-5.5,true,null,null,16,"PERCENTILE.INC"]
[4,null,{"$f":"_xlfn.AGGREGATE(17,0,$H$2:$H$9,A30)","v":139910165},139910165,true,null,null,17,"QUARTILE.INC"]
[{"v":0.33,"d":"33%"},null,{"$f":"_xlfn.AGGREGATE(18,0,$H$2:$H$9,A31)","v":-4.239999999999998},-4.239999999999998,true,null,null,18,"PERCENTILE.EXC"]
[3,null,{"$f":"_xlfn.AGGREGATE(19,0,$H$2:$H$9,A32)","v":1345},1345,true,null,null,19,"QUARTILE.EXC"]
[1,null,{"$f":"_xlfn.AGGREGATE(15,0,$H$2:$H$9,A33)","v":-106},-106,true]
[{"v":0.78,"d":"78%"},null,{"$f":"_xlfn.AGGREGATE(16,3,$J$2:$J$9,A34)","v":1024.2999999999997},1024.2999999999997,true,null,null,3,"忽略隐藏行、错误值、嵌套 SUBTOTAL 和 AGGREGATE 函数"]
[1,null,{"$f":"_xlfn.AGGREGATE(17,0,$H$2:$H$9,A35)","v":-5.5},-5.5,true]
[{"v":0.77,"d":"77%"},null,{"$f":"_xlfn.AGGREGATE(18,0,$H$2:$H$9,A36)","v":22386756.20000002},22386756.20000002,true]
[2,null,{"$f":"_xlfn.AGGREGATE(19,0,$H$2:$H$9,A37)","v":15},15,true,null,null,"0 或省略","忽略嵌套 SUBTOTAL 和 AGGREGATE 函数"]
[{"$f":"A33","v":1},null,{"$f":"_xlfn.AGGREGATE(15,1,$H$2:$H$9,A38)","v":-106},-106,true,null,null,1,"忽略隐藏行、嵌套 SUBTOTAL 和 AGGREGATE 函数"]
[{"$f":"A34","v":{"v":0.78,"d":"78%"}},null,{"$f":"_xlfn.AGGREGATE(16,2,$J$2:$J$9,A39)","v":365.4000000000003},365.4000000000003,true,null,null,2,"忽略错误值、嵌套 SUBTOTAL 和 AGGREGATE 函数"]
[{"$f":"A35","v":1},null,{"$f":"_xlfn.AGGREGATE(17,3,$H$2:$H$9,A40)","v":3},3,true,null,null,3,"忽略隐藏行、错误值、嵌套 SUBTOTAL 和 AGGREGATE 函数"]
[{"$f":"A36","v":{"v":0.77,"d":"77%"}},null,{"$f":"_xlfn.AGGREGATE(18,4,$H$2:$H$9,A41)","v":1298.3379999999997},1298.3379999999997,true,null,null,4,"忽略空值"]
[{"$f":"A37","v":2},null,{"$f":"_xlfn.AGGREGATE(19,5,$H$2:$H$9,A42)","v":15},15,true,null,null,5,"忽略隐藏行"]
[null,null,{"$f":"_xlfn.AGGREGATE(3,6,I2:I9)","v":7},7,true,null,null,6,"忽略错误值"]
[null,null,{"$f":"_xlfn.AGGREGATE(3,7,K2:K9)","v":6},6,true,null,null,7,"忽略隐藏行和错误值"]

{"sheet":"textbox","index":24,"n_rows":14,"n_cols":2,"rows_kept":14,"merged":[[9,1,9,8],[10,1,10,8],[11,1,11,8],[12,1,12,8],[13,1,13,8]]}
{"$rows_empty":9}
["Sample ID","OutlineStyle_001"]
["Testcase_ID"]
["Test Object","TextBox(context menu)->Format Text Effects"]
["Check Point","Text Fill"]
["Other Info","Font size: defult(11), 16, 20"]

{"sheet":"object","index":25,"n_rows":0,"n_cols":0,"rows_kept":0}

{"sheet":"wordart","index":26,"n_rows":4,"n_cols":2,"rows_kept":4,"merged":[[0,1,0,7],[1,1,1,7],[2,1,2,7],[3,0,3,7]]}
["Testcase_ID","WordArt_PredefineStyle"]
["Feature name: ","WordArt interoperability with MS Office "]
["TestPoint"]
["Example:"]

{"sheet":"consume","index":27,"n_rows":42,"n_cols":71,"rows_kept":42,"merged":[[0,2,0,3],[14,8,16,8],[15,5,16,6],[19,5,20,6],[19,8,24,8],[23,5,36,6],[25,8,26,8],[27,8,28,8],[39,6,39,7],[40,6,40,7]]}
[null,{"$f":"IF(OR(B2=\"\",D2=\"\"),\"\",DATE(B2,D2,1))","v":"2006-01-01"},{"$f":"IF(B1=\"\",\"\",DATE(YEAR(B1),MONTH(B1)+1,DAY(B1)-1))","v":"2006-01-31"}]
[null,2006,"年",1,"月家計簿",{"$nulls":3},"每日的紀錄",{"$f":"$B$1","v":"2006-01-01"},{"$f":"IF(J2=\"\",\"\",TEXT(J2,\"aaa\"))","v":"Sun"},{"$f":"IF(J2=\"\",\"\",IF(J2>=$C$1,\"\",J2+1))","v":"2006-01-02"},{"$f":"IF(L2=\"\",\"\",TEXT(L2,\"aaa\"))","v":"Mon"},{"$f":"IF(L2=\"\",\"\",IF(L2>=$C$1,\"\",L2+1))","v":"2006-01-03"},{"$f":"IF(N2=\"\",\"\",TEXT(N2,\"aaa\"))","v":"Tue"},{"$f":"IF(N2=\"\",\"\",IF(N2>=$C$1,\"\",N2+1))","v":"2006-01-04"},{"$f":"IF(P2=\"\",\"\",TEXT(P2,\"aaa\"))","v":"Wed"},{"$f":"IF(P2=\"\",\"\",IF(P2>=$C$1,\"\",P2+1))","v":"2006-01-05"},{"$f":"IF(R2=\"\",\"\",TEXT(R2,\"aaa\"))","v":"Thu"},{"$f":"IF(R2=\"\",\"\",IF(R2>=$C$1,\"\",R2+1))","v":"2006-01-06"},{"$f":"IF(T2=\"\",\"\",TEXT(T2,\"aaa\"))","v":"Fri"},{"$f":"IF(T2=\"\",\"\",IF(T2>=$C$1,\"\",T2+1))","v":"2006-01-07"},{"$f":"IF(V2=\"\",\"\",TEXT(V2,\"aaa\"))","v":"Sat"},{"$f":"IF(V2=\"\",\"\",IF(V2>=$C$1,\"\",V2+1))","v":"2006-01-08"},{"$f":"IF(X2=\"\",\"\",TEXT(X2,\"aaa\"))","v":"Sun"},{"$f":"IF(X2=\"\",\"\",IF(X2>=$C$1,\"\",X2+1))","v":"2006-01-09"},{"$f":"IF(Z2=\"\",\"\",TEXT(Z2,\"aaa\"))","v":"Mon"},{"$f":"IF(Z2=\"\",\"\",IF(Z2>=$C$1,\"\",Z2+1))","v":"2006-01-10"},{"$f":"IF(AB2=\"\",\"\",TEXT(AB2,\"aaa\"))","v":"Tue"},{"$f":"IF(AB2=\"\",\"\",IF(AB2>=$C$1,\"\",AB2+1))","v":"2006-01-11"},{"$f":"IF(AD2=\"\",\"\",TEXT(AD2,\"aaa\"))","v":"Wed"},{"$f":"IF(AD2=\"\",\"\",IF(AD2>=$C$1,\"\",AD2+1))","v":"2006-01-12"},{"$f":"IF(AF2=\"\",\"\",TEXT(AF2,\"aaa\"))","v":"Thu"},{"$f":"IF(AF2=\"\",\"\",IF(AF2>=$C$1,\"\",AF2+1))","v":"2006-01-13"},{"$f":"IF(AH2=\"\",\"\",TEXT(AH2,\"aaa\"))","v":"Fri"},{"$f":"IF(AH2=\"\",\"\",IF(AH2>=$C$1,\"\",AH2+1))","v":"2006-01-14"},{"$f":"IF(AJ2=\"\",\"\",TEXT(AJ2,\"aaa\"))","v":"Sat"},{"$f":"IF(AJ2=\"\",\"\",IF(AJ2>=$C$1,\"\",AJ2+1))","v":"2006-01-15"},{"$f":"IF(AL2=\"\",\"\",TEXT(AL2,\"aaa\"))","v":"Sun"},{"$f":"IF(AL2=\"\",\"\",IF(AL2>=$C$1,\"\",AL2+1))","v":"2006-01-16"},{"$f":"IF(AN2=\"\",\"\",TEXT(AN2,\"aaa\"))","v":"Mon"},{"$f":"IF(AN2=\"\",\"\",IF(AN2>=$C$1,\"\",AN2+1))","v":"2006-01-17"},{"$f":"IF(AP2=\"\",\"\",TEXT(AP2,\"aaa\"))","v":"Tue"},{"$f":"IF(AP2=\"\",\"\",IF(AP2>=$C$1,\"\",AP2+1))","v":"2006-01-18"},{"$f":"IF(AR2=\"\",\"\",TEXT(AR2,\"aaa\"))","v":"Wed"},{"$f":"IF(AR2=\"\",\"\",IF(AR2>=$C$1,\"\",AR2+1))","v":"2006-01-19"},{"$f":"IF(AT2=\"\",\"\",TEXT(AT2,\"aaa\"))","v":"Thu"},{"$f":"IF(AT2=\"\",\"\",IF(AT2>=$C$1,\"\",AT2+1))","v":"2006-01-20"},{"$f":"IF(AV2=\"\",\"\",TEXT(AV2,\"aaa\"))","v":"Fri"},{"$f":"IF(AV2=\"\",\"\",IF(AV2>=$C$1,\"\",AV2+1))","v":"2006-01-21"},{"$f":"IF(AX2=\"\",\"\",TEXT(AX2,\"aaa\"))","v":"Sat"},{"$f":"IF(AX2=\"\",\"\",IF(AX2>=$C$1,\"\",AX2+1))","v":"2006-01-22"},{"$f":"IF(AZ2=\"\",\"\",TEXT(AZ2,\"aaa\"))","v":"Sun"},{"$f":"IF(AZ2=\"\",\"\",IF(AZ2>=$C$1,\"\",AZ2+1))","v":"2006-01-23"},{"$f":"IF(BB2=\"\",\"\",TEXT(BB2,\"aaa\"))","v":"Mon"},{"$f":"IF(BB2=\"\",\"\",IF(BB2>=$C$1,\"\",BB2+1))","v":"2006-01-24"},{"$f":"IF(BD2=\"\",\"\",TEXT(BD2,\"aaa\"))","v":"Tue"},{"$f":"IF(BD2=\"\",\"\",IF(BD2>=$C$1,\"\",BD2+1))","v":"2006-01-25"},{"$f":"IF(BF2=\"\",\"\",TEXT(BF2,\"aaa\"))","v":"Wed"},{"$f":"IF(BF2=\"\",\"\",IF(BF2>=$C$1,\"\",BF2+1))","v":"2006-01-26"},{"$f":"IF(BH2=\"\",\"\",TEXT(BH2,\"aaa\"))","v":"Thu"},{"$f":"IF(BH2=\"\",\"\",IF(BH2>=$C$1,\"\",BH2+1))","v":"2006-01-27"},{"$f":"IF(BJ2=\"\",\"\",TEXT(BJ2,\"aaa\"))","v":"Fri"},{"$f":"IF(BJ2=\"\",\"\",IF(BJ2>=$C$1,\"\",BJ2+1))","v":"2006-01-28"},{"$f":"IF(BL2=\"\",\"\",TEXT(BL2,\"aaa\"))","v":"Sat"},{"$f":"IF(BL2=\"\",\"\",IF(BL2>=$C$1,\"\",BL2+1))","v":"2006-01-29"},{"$f":"IF(BN2=\"\",\"\",TEXT(BN2,\"aaa\"))","v":"Sun"},{"$f":"IF(BN2=\"\",\"\",IF(BN2>=$C$1,\"\",BN2+1))","v":"2006-01-30"},{"$f":"IF(BP2=\"\",\"\",TEXT(BP2,\"aaa\"))","v":"Mon"},{"$f":"IF(BP2=\"\",\"\",IF(BP2>=$C$1,\"\",BP2+1))","v":"2006-01-31"},{"$f":"IF(BR2=\"\",\"\",TEXT(BR2,\"aaa\"))","v":"Tue"}]
[{"$nulls":9},"品名","金額","品名","金額","品名","金額","品名","金額","品名","金額","品名","金額","品名","金額","品名","金額","品名","金額","品名","金額","品名","金額","品名","金額","品名","金額","品名","金額","品名","金額","品名","金額","品名","金額","品名","金額","品名","金額","品名","金額","品名","金額","品名","金額","品名","金額","品名","金額","品名","金額","品名","金額","品名","金額","品名","金額","品名","金額","品名","金額","品名","金額"]
[null,"本月收入",{"$nulls":3},"本月生活費",null,null,"主食"]
[null,"項目","金額","進帳日",null,"項目","購買金額"]
[null,"薪水（實領）",{"$nulls":3},"伙食費",{"$f":"SUM(J19:BS19)","v":{"v":0,"d":"0 "}}]
[{"$nulls":5},"日用雜貨合計",{"$f":"SUM(J20:BS25)","v":{"v":0,"d":"0 "}},null,"副食"]
[{"$nulls":5},"教育・教養費",{"$f":"SUM(J26:BS27)","v":{"v":0,"d":"0 "}}]
[null,"獎金",{"$nulls":3},"上記事項以外的合計",{"$f":"SUM(J28:BS39)","v":{"v":0,"d":"0 "}}]
[null,"收入合計",{"$f":"SUM(C6:C9)","v":{"v":0,"d":"$0"}},null,null,"生活費合計",{"$f":"SUM(G6:G9)","v":{"v":0,"d":"$0"}}]
[]
[]
[]
[null,"本月固定支出"]
[null,"項目","金額","支出日",null,"本月餘額",null,null,"零食"]
[null,"電費",{"$nulls":3},{"$f":"C10-C37-G10+SUM(J41:BS41)","v":{"v":0,"d":"$0"}}]
[null,"瓦斯費"]
[null,"自來水費",{"$nulls":6},"外食"]
[null,"電話費",{"$nulls":3},"累計餘額",null,null,"伙食費合計",null,{"$f":"SUM(K4:K18)","v":{"v":0,"d":"$0"}},null,{"$f":"SUM(M4:M18)","v":{"v":0,"d":"$0"}},null,{"$f":"SUM(O4:O18)","v":{"v":0,"d":"$0"}},null,{"$f":"SUM(Q4:Q18)","v":{"v":0,"d":"$0"}},null,{"$f":"SUM(S4:S18)","v":{"v":0,"d":"$0"}},null,{"$f":"SUM(U4:U18)","v":{"v":0,"d":"$0"}},null,{"$f":"SUM(W4:W18)","v":{"v":0,"d":"$0"}},null,{"$f":"SUM(Y4:Y18)","v":{"v":0,"d":"$0"}},null,{"$f":"SUM(AA4:AA18)","v":{"v":0,"d":"$0"}},null,{"$f":"SUM(AC4:AC18)","v":{"v":0,"d":"$0"}},null,{"$f":"SUM(AE4:AE18)","v":{"v":0,"d":"$0"}},null,{"$f":"SUM(AG4:AG18)","v":{"v":0,"d":"$0"}},null,{"$f":"SUM(AI4:AI18)","v":{"v":0,"d":"$0"}},null,{"$f":"SUM(AK4:AK18)","v":{"v":0,"d":"$0"}},null,{"$f":"SUM(AM4:AM18)","v":{"v":0,"d":"$0"}},null,{"$f":"SUM(AO4:AO18)","v":{"v":0,"d":"$0"}},null,{"$f":"SUM(AQ4:AQ18)","v":{"v":0,"d":"$0"}},null,{"$f":"SUM(AS4:AS18)","v":{"v":0,"d":"$0"}},null,{"$f":"SUM(AU4:AU18)","v":{"v":0,"d":"$0"}},null,{"$f":"SUM(AW4:AW18)","v":{"v":0,"d":"$0"}},null,{"$f":"SUM(AY4:AY18)","v":{"v":0,"d":"$0"}},null,{"$f":"SUM(BA4:BA18)","v":{"v":0,"d":"$0"}},null,{"$f":"SUM(BC4:BC18)","v":{"v":0,"d":"$0"}},null,{"$f":"SUM(BE4:BE18)","v":{"v":0,"d":"$0"}},null,{"$f":"SUM(BG4:BG18)","v":{"v":0,"d":"$0"}},null,{"$f":"SUM(BI4:BI18)","v":{"v":0,"d":"$0"}},null,{"$f":"SUM(BK4:BK18)","v":{"v":0,"d":"$0"}},null,{"$f":"SUM(BM4:BM18)","v":{"v":0,"d":"$0"}},null,{"$f":"SUM(BO4:BO18)","v":{"v":0,"d":"$0"}},null,{"$f":"SUM(BQ4:BQ18)","v":{"v":0,"d":"$0"}},null,{"$f":"SUM(BS4:BS18)","v":{"v":0,"d":"$0"}}]
[null,"行動電話費",{"$nulls":3},{"$f":"F16","v":{"v":0,"d":"$0"}},null,null,"日用雜貨"]
[null,"報紙費"]
[null,"接收費"]
[null,"房租",{"$nulls":3},"本月留言"]
[null,"上網費"]
[null,"保險"]
[null,"定期存款",{"$nulls":6},"教育・教養費"]
[null,"貸款"]
[null,"信用卡",{"$nulls":6},"治裝費"]
[null,"稅金"]
[null,"零用金",{"$nulls":6},"醫療費"]
[null,"存款",{"$nulls":6},"美髮費"]
[{"$nulls":8},"交通費"]
[{"$nulls":8},"娛樂費"]
[{"$nulls":8},"喜慶・交際費"]
[{"$nulls":8},"其他"]
[]
[null,"固定支出合計",{"$f":"SUM(C16:C36)","v":{"v":0,"d":"$0"}}]
[]
[]
[{"$nulls":8},"每日生活費支出",null,{"$f":"SUM(K19:K39)","v":{"v":0,"d":"$0"}},null,{"$f":"SUM(M19:M39)","v":{"v":0,"d":"$0"}},null,{"$f":"SUM(O19:O39)","v":{"v":0,"d":"$0"}},null,{"$f":"SUM(Q19:Q39)","v":{"v":0,"d":"$0"}},null,{"$f":"SUM(S19:S39)","v":{"v":0,"d":"$0"}},null,{"$f":"SUM(U19:U39)","v":{"v":0,"d":"$0"}},null,{"$f":"SUM(W19:W39)","v":{"v":0,"d":"$0"}},null,{"$f":"SUM(Y19:Y39)","v":{"v":0,"d":"$0"}},null,{"$f":"SUM(AA19:AA39)","v":{"v":0,"d":"$0"}},null,{"$f":"SUM(AC19:AC39)","v":{"v":0,"d":"$0"}},null,{"$f":"SUM(AE19:AE39)","v":{"v":0,"d":"$0"}},null,{"$f":"SUM(AG19:AG39)","v":{"v":0,"d":"$0"}},null,{"$f":"SUM(AI19:AI39)","v":{"v":0,"d":"$0"}},null,{"$f":"SUM(AK19:AK39)","v":{"v":0,"d":"$0"}},null,{"$f":"SUM(AM19:AM39)","v":{"v":0,"d":"$0"}},null,{"$f":"SUM(AO19:AO39)","v":{"v":0,"d":"$0"}},null,{"$f":"SUM(AQ19:AQ39)","v":{"v":0,"d":"$0"}},null,{"$f":"SUM(AS19:AS39)","v":{"v":0,"d":"$0"}},null,{"$f":"SUM(AU19:AU39)","v":{"v":0,"d":"$0"}},null,{"$f":"SUM(AW19:AW39)","v":{"v":0,"d":"$0"}},null,{"$f":"SUM(AY19:AY39)","v":{"v":0,"d":"$0"}},null,{"$f":"SUM(BA19:BA39)","v":{"v":0,"d":"$0"}},null,{"$f":"SUM(BC19:BC39)","v":{"v":0,"d":"$0"}},null,{"$f":"SUM(BE19:BE39)","v":{"v":0,"d":"$0"}},null,{"$f":"SUM(BG19:BG39)","v":{"v":0,"d":"$0"}},null,{"$f":"SUM(BI19:BI39)","v":{"v":0,"d":"$0"}},null,{"$f":"SUM(BK19:BK39)","v":{"v":0,"d":"$0"}},null,{"$f":"SUM(BM19:BM39)","v":{"v":0,"d":"$0"}},null,{"$f":"SUM(BO19:BO39)","v":{"v":0,"d":"$0"}},null,{"$f":"SUM(BQ19:BQ39)","v":{"v":0,"d":"$0"}},null,{"$f":"SUM(BS19:BS39)","v":{"v":0,"d":"$0"}}]
[{"$nulls":5},"每日收入總計",{"$f":"SUM(J41:BS41)","v":{"v":0,"d":"$0"}},null,"每日臨時收入"]
[{"$nulls":8},"每日餘額",null,{"$f":"K41-K40","v":{"v":0,"d":"$0"}},null,{"$f":"M41-M40","v":{"v":0,"d":"$0"}},null,{"$f":"O41-O40","v":{"v":0,"d":"$0"}},null,{"$f":"Q41-Q40","v":{"v":0,"d":"$0"}},null,{"$f":"S41-S40","v":{"v":0,"d":"$0"}},null,{"$f":"U41-U40","v":{"v":0,"d":"$0"}},null,{"$f":"W41-W40","v":{"v":0,"d":"$0"}},null,{"$f":"Y41-Y40","v":{"v":0,"d":"$0"}},null,{"$f":"AA41-AA40","v":{"v":0,"d":"$0"}},null,{"$f":"AC41-AC40","v":{"v":0,"d":"$0"}},null,{"$f":"AE41-AE40","v":{"v":0,"d":"$0"}},null,{"$f":"AG41-AG40","v":{"v":0,"d":"$0"}},null,{"$f":"AI41-AI40","v":{"v":0,"d":"$0"}},null,{"$f":"AK41-AK40","v":{"v":0,"d":"$0"}},null,{"$f":"AM41-AM40","v":{"v":0,"d":"$0"}},null,{"$f":"AO41-AO40","v":{"v":0,"d":"$0"}},null,{"$f":"AQ41-AQ40","v":{"v":0,"d":"$0"}},null,{"$f":"AS41-AS40","v":{"v":0,"d":"$0"}},null,{"$f":"AU41-AU40","v":{"v":0,"d":"$0"}},null,{"$f":"AW41-AW40","v":{"v":0,"d":"$0"}},null,{"$f":"AY41-AY40","v":{"v":0,"d":"$0"}},null,{"$f":"BA41-BA40","v":{"v":0,"d":"$0"}},null,{"$f":"BC41-BC40","v":{"v":0,"d":"$0"}},null,{"$f":"BE41-BE40","v":{"v":0,"d":"$0"}},null,{"$f":"BG41-BG40","v":{"v":0,"d":"$0"}},null,{"$f":"BI41-BI40","v":{"v":0,"d":"$0"}},null,{"$f":"BK41-BK40","v":{"v":0,"d":"$0"}},null,{"$f":"BM41-BM40","v":{"v":0,"d":"$0"}},null,{"$f":"BO41-BO40","v":{"v":0,"d":"$0"}},null,{"$f":"BQ41-BQ40","v":{"v":0,"d":"$0"}},null,{"$f":"BS41-BS40","v":{"v":0,"d":"$0"}}]

{"sheet":"Sheet1","index":28,"n_rows":49999,"n_cols":6,"rows_kept":4500,"cut":true,"bounds":{"rows_first":2000,"rows_last":500,"rows_between":2000,"halvings":0}}
[{"$f":"ASIN!A1","v":0},{"$f":"ASIN!B1","v":3},{"$f":"ASIN!C1","v":0},{"$f":"ASIN!D1","v":"Total"},{"$f":"ASIN!E1","v":0},{"$f":"ASIN!F1","v":0}]
[{"$f":"ASIN!A2","v":"Failed"},{"$f":"ASIN!B2","v":"Error"},{"$f":"ASIN!C2","v":"NotSupport"},{"$f":"ASIN!D2","v":"Verification Area"},{"$f":"ASIN!E2","v":0},{"$f":"ASIN!F2","v":0}]
[{"$f":"ASIN!A3","v":0},{"$f":"ASIN!B3","v":3},{"$f":"ASIN!C3","v":0},{"$f":"ASIN!D3","v":"E12:E203"},{"$f":"ASIN!E3","v":0},{"$f":"ASIN!F3","v":0}]
[{"$f":"ASIN!A4","v":0},{"$f":"ASIN!B4","v":0},{"$f":"ASIN!C4","v":0},{"$f":"ASIN!D4","v":0},{"$f":"ASIN!E4","v":0},{"$f":"ASIN!F4","v":0}]
[{"$f":"ASIN!A5","v":0},{"$f":"ASIN!B5","v":0},{"$f":"ASIN!C5","v":0},{"$f":"ASIN!D5","v":0},{"$f":"ASIN!E5","v":0},{"$f":"ASIN!F5","v":0}]
[{"$f":"ASIN!A6","v":0},{"$f":"ASIN!B6","v":0},{"$f":"ASIN!C6","v":0},{"$f":"ASIN!D6","v":0},{"$f":"ASIN!E6","v":0},{"$f":"ASIN!F6","v":0}]
[{"$f":"ASIN!A7","v":0},{"$f":"ASIN!B7","v":0},{"$f":"ASIN!C7","v":0},{"$f":"ASIN!D7","v":0},{"$f":"ASIN!E7","v":0},{"$f":"ASIN!F7","v":0}]
[{"$f":"ASIN!A8","v":0},{"$f":"ASIN!B8","v":0},{"$f":"ASIN!C8","v":0},{"$f":"ASIN!D8","v":0},{"$f":"ASIN!E8","v":0},{"$f":"ASIN!F8","v":0}]
[{"$f":"ASIN!A9","v":"ASIN(number)"},{"$f":"ASIN!B9","v":0},{"$f":"ASIN!C9","v":0},{"$f":"ASIN!D9","v":0},{"$f":"ASIN!E9","v":0},{"$f":"ASIN!F9","v":0}]
[{"$f":"ASIN!A10","v":0},{"$f":"ASIN!B10","v":0},{"$f":"ASIN!C10","v":0},{"$f":"ASIN!D10","v":0},{"$f":"ASIN!E10","v":0},{"$f":"ASIN!F10","v":0}]
[{"$f":"ASIN!A11","v":"Data"},{"$f":"ASIN!B11","v":0},{"$f":"ASIN!C11","v":"Formula"},{"$f":"ASIN!D11","v":"Expected"},{"$f":"ASIN!E11","v":"Check"},{"$f":"ASIN!F11","v":"Mask"}]
[{"$f":"ASIN!A12","v":-1},{"$f":"ASIN!B12","v":-90},{"$f":"ASIN!C12","v":-1.5707963267948966},{"$f":"ASIN!D12","v":-1.5707963267948966},{"$f":"ASIN!E12","v":true},{"$f":"ASIN!F12","v":0}]
[{"$f":"ASIN!A13","v":-0.9990482215818578},{"$f":"ASIN!B13","v":-87.50000000000018},{"$f":"ASIN!C13","v":-1.5271630954950417},{"$f":"ASIN!D13","v":-1.5271630954950417},{"$f":"ASIN!E13","v":true},{"$f":"ASIN!F13","v":0}]
[{"$f":"ASIN!A14","v":-0.9961946980917455},{"$f":"ASIN!B14","v":-85},{"$f":"ASIN!C14","v":-1.4835298641951802},{"$f":"ASIN!D14","v":-1.4835298641951802},{"$f":"ASIN!E14","v":true},{"$f":"ASIN!F14","v":0}]
[{"$f":"ASIN!A15","v":-0.9914448613738104},{"$f":"ASIN!B15","v":-82.50000000000003},{"$f":"ASIN!C15","v":-1.4398966328953224},{"$f":"ASIN!D15","v":-1.4398966328953224},{"$f":"ASIN!E15","v":true},{"$f":"ASIN!F15","v":0}]
[{"$f":"ASIN!A16","v":-0.984807753012208},{"$f":"ASIN!B16","v":-80.00000000000003},{"$f":"ASIN!C16","v":-1.396263401595464},{"$f":"ASIN!D16","v":-1.396263401595464},{"$f":"ASIN!E16","v":true},{"$f":"ASIN!F16","v":0}]
[{"$f":"ASIN!A17","v":-0.9762960071199334},{"$f":"ASIN!B17","v":-77.5},{"$f":"ASIN!C17","v":-1.3526301702956054},{"$f":"ASIN!D17","v":-1.3526301702956054},{"$f":"ASIN!E17","v":true},{"$f":"ASIN!F17","v":0}]
[{"$f":"ASIN!A18","v":-0.9659258262890682},{"$f":"ASIN!B18","v":-74.99999999999999},{"$f":"ASIN!C18","v":-1.3089969389957468},{"$f":"ASIN!D18","v":-1.3089969389957468},{"$f":"ASIN!E18","v":true},{"$f":"ASIN!F18","v":0}]
[{"$f":"ASIN!A19","v":-0.9537169507482268},{"$f":"ASIN!B19","v":-72.49999999999999},{"$f":"ASIN!C19","v":-1.2653637076958886},{"$f":"ASIN!D19","v":-1.2653637076958886},{"$f":"ASIN!E19","v":true},{"$f":"ASIN!F19","v":0}]
[{"$f":"ASIN!A20","v":-0.9396926207859083},{"$f":"ASIN!B20","v":-70},{"$f":"ASIN!C20","v":-1.2217304763960308},{"$f":"ASIN!D20","v":-1.2217304763960308},{"$f":"ASIN!E20","v":true},{"$f":"ASIN!F20","v":0}]
[{"$f":"ASIN!A21","v":-0.9238795325112867},{"$f":"ASIN!B21","v":-67.5},{"$f":"ASIN!C21","v":-1.1780972450961724},{"$f":"ASIN!D21","v":-1.1780972450961724},{"$f":"ASIN!E21","v":true},{"$f":"ASIN!F21","v":0}]
[{"$f":"ASIN!A22","v":-0.9063077870366499},{"$f":"ASIN!B22","v":-65.00000000000001},{"$f":"ASIN!C22","v":-1.1344640137963145},{"$f":"ASIN!D22","v":-1.1344640137963145},{"$f":"ASIN!E22","v":true},{"$f":"ASIN!F22","v":0}]
[{"$f":"ASIN!A23","v":-0.8870108331782217},{"$f":"ASIN!B23","v":-62.49999999999999},{"$f":"ASIN!C23","v":-1.0908307824964558},{"$f":"ASIN!D23","v":-1.0908307824964558},{"$f":"ASIN!E23","v":true},{"$f":"ASIN!F23","v":0}]
[{"$f":"ASIN!A24","v":-0.8660254037844387},{"$f":"ASIN!B24","v":-60.00000000000002},{"$f":"ASIN!C24","v":-1.047197551196598},{"$f":"ASIN!D24","v":-1.047197551196598},{"$f":"ASIN!E24","v":true},{"$f":"ASIN!F24","v":0}]
[{"$f":"ASIN!A25","v":-0.8433914458128855},{"$f":"ASIN!B25","v":-57.49999999999998},{"$f":"ASIN!C25","v":-1.003564319896739},{"$f":"ASIN!D25","v":-1.003564319896739},{"$f":"ASIN!E25","v":true},{"$f":"ASIN!F25","v":0}]
[{"$f":"ASIN!A26","v":-0.8191520442889919},{"$f":"ASIN!B26","v":-55.000000000000014},{"$f":"ASIN!C26","v":-0.9599310885968815},{"$f":"ASIN!D26","v":-0.9599310885968815},{"$f":"ASIN!E26","v":true},{"$f":"ASIN!F26","v":0}]
[{"$f":"ASIN!A27","v":-0.793353340291235},{"$f":"ASIN!B27","v":-52.499999999999986},{"$f":"ASIN!C27","v":-0.9162978572970227},{"$f":"ASIN!D27","v":-0.9162978572970227},{"$f":"ASIN!E27","v":true},{"$f":"ASIN!F27","v":0}]
[{"$f":"ASIN!A28","v":-0.7660444431189779},{"$f":"ASIN!B28","v":-49.99999999999999},{"$f":"ASIN!C28","v":-0.8726646259971647},{"$f":"ASIN!D28","v":-0.8726646259971647},{"$f":"ASIN!E28","v":true},{"$f":"ASIN!F28","v":0}]
[{"$f":"ASIN!A29","v":-0.737277336810124},{"$f":"ASIN!B29","v":-47.5},{"$f":"ASIN!C29","v":-0.8290313946973066},{"$f":"ASIN!D29","v":-0.8290313946973066},{"$f":"ASIN!E29","v":true},{"$f":"ASIN!F29","v":0}]
[{"$f":"ASIN!A30","v":-0.7071067811865475},{"$f":"ASIN!B30","v":-45},{"$f":"ASIN!C30","v":-0.7853981633974483},{"$f":"ASIN!D30","v":-0.7853981633974483},{"$f":"ASIN!E30","v":true},{"$f":"ASIN!F30","v":0}]
[{"$f":"ASIN!A31","v":-0.6755902076156602},{"$f":"ASIN!B31","v":-42.5},{"$f":"ASIN!C31","v":-0.7417649320975901},{"$f":"ASIN!D31","v":-0.7417649320975901},{"$f":"ASIN!E31","v":true},{"$f":"ASIN!F31","v":0}]
[{"$f":"ASIN!A32","v":-0.6427876096865394},{"$f":"ASIN!B32","v":-40},{"$f":"ASIN!C32","v":-0.6981317007977318},{"$f":"ASIN!D32","v":-0.6981317007977318},{"$f":"ASIN!E32","v":true},{"$f":"ASIN!F32","v":0}]
[{"$f":"ASIN!A33","v":-0.6087614290087207},{"$f":"ASIN!B33","v":-37.50000000000001},{"$f":"ASIN!C33","v":-0.6544984694978736},{"$f":"ASIN!D33","v":-0.6544984694978736},{"$f":"ASIN!E33","v":true},{"$f":"ASIN!F33","v":0}]
[{"$f":"ASIN!A34","v":-0.5735764363510458},{"$f":"ASIN!B34","v":-34.99999999999998},{"$f":"ASIN!C34","v":-0.610865238198015},{"$f":"ASIN!D34","v":-0.610865238198015},{"$f":"ASIN!E34","v":true},{"$f":"ASIN!F34","v":0}]
[{"$f":"ASIN!A35","v":-0.537299608346824},{"$f":"ASIN!B35","v":-32.500000000000014},{"$f":"ASIN!C35","v":-0.5672320068981573},{"$f":"ASIN!D35","v":-0.5672320068981573},{"$f":"ASIN!E35","v":true},{"$f":"ASIN!F35","v":0}]
[{"$f":"ASIN!A36","v":-0.4999999999999998},{"$f":"ASIN!B36","v":-29.999999999999986},{"$f":"ASIN!C36","v":-0.5235987755982986},{"$f":"ASIN!D36","v":-0.5235987755982986},{"$f":"ASIN!E36","v":true},{"$f":"ASIN!F36","v":0}]
[{"$f":"ASIN!A37","v":-0.46174861323503374},{"$f":"ASIN!B37","v":-27.49999999999999},{"$f":"ASIN!C37","v":-0.4799655442984404},{"$f":"ASIN!D37","v":-0.4799655442984404},{"$f":"ASIN!E37","v":true},{"$f":"ASIN!F37","v":0}]
[{"$f":"ASIN!A38","v":-0.42261826174069933},{"$f":"ASIN!B38","v":-24.999999999999993},{"$f":"ASIN!C38","v":-0.4363323129985823},{"$f":"ASIN!D38","v":-0.4363323129985823},{"$f":"ASIN!E38","v":true},{"$f":"ASIN!F38","v":0}]
[{"$f":"ASIN!A39","v":-0.3826834323650897},{"$f":"ASIN!B39","v":-22.499999999999996},{"$f":"ASIN!C39","v":-0.3926990816987241},{"$f":"ASIN!D39","v":-0.3926990816987241},{"$f":"ASIN!E39","v":true},{"$f":"ASIN!F39","v":0}]
[{"$f":"ASIN!A40","v":-0.3420201433256687},{"$f":"ASIN!B40","v":-20},{"$f":"ASIN!C40","v":-0.3490658503988659},{"$f":"ASIN!D40","v":-0.3490658503988659},{"$f":"ASIN!E40","v":true},{"$f":"ASIN!F40","v":0}]
[{"$f":"ASIN!A41","v":-0.30070579950427295},{"$f":"ASIN!B41","v":-17.49999999999999},{"$f":"ASIN!C41","v":-0.3054326190990075},{"$f":"ASIN!D41","v":-0.3054326190990075},{"$f":"ASIN!E41","v":true},{"$f":"ASIN!F41","v":0}]
[{"$f":"ASIN!A42","v":-0.25881904510252085},{"$f":"ASIN!B42","v":-15.000000000000005},{"$f":"ASIN!C42","v":-0.2617993877991495},{"$f":"ASIN!D42","v":-0.2617993877991495},{"$f":"ASIN!E42","v":true},{"$f":"ASIN!F42","v":0}]
[{"$f":"ASIN!A43","v":-0.2164396139381028},{"$f":"ASIN!B43","v":-12.499999999999996},{"$f":"ASIN!C43","v":-0.21816615649929114},{"$f":"ASIN!D43","v":-0.21816615649929114},{"$f":"ASIN!E43","v":true},{"$f":"ASIN!F43","v":0}]
[{"$f":"ASIN!A44","v":-0.1736481776669303},{"$f":"ASIN!B44","v":-9.999999999999998},{"$f":"ASIN!C44","v":-0.17453292519943292},{"$f":"ASIN!D44","v":-0.17453292519943292},{"$f":"ASIN!E44","v":true},{"$f":"ASIN!F44","v":0}]
[{"$f":"ASIN!A45","v":-0.13052619222005138},{"$f":"ASIN!B45","v":-7.4999999999999885},{"$f":"ASIN!C45","v":-0.1308996938995745},{"$f":"ASIN!D45","v":-0.1308996938995745},{"$f":"ASIN!E45","v":true},{"$f":"ASIN!F45","v":0}]
[{"$f":"ASIN!A46","v":-0.08715574274765824},{"$f":"ASIN!B46","v":-5.000000000000003},{"$f":"ASIN!C46","v":-0.08726646259971653},{"$f":"ASIN!D46","v":-0.08726646259971653},{"$f":"ASIN!E46","v":true},{"$f":"ASIN!F46","v":0}]
[{"$f":"ASIN!A47","v":-0.04361938736533589},{"$f":"ASIN!B47","v":-2.4999999999999933},{"$f":"ASIN!C47","v":-0.043633231299858126},{"$f":"ASIN!D47","v":-0.043633231299858126},{"$f":"ASIN!E47","v":true},{"$f":"ASIN!F47","v":0}]
[{"$f":"ASIN!A48","v":6.1257422745431e-17},{"$f":"ASIN!B48","v":3.5097917871618886E-15},{"$f":"ASIN!C48","v":6.1257422745431e-17},{"$f":"ASIN!D48","v":6.1257422745431e-17},{"$f":"ASIN!E48","v":true},{"$f":"ASIN!F48","v":0}]
[{"$f":"ASIN!A49","v":0.04361938736533601},{"$f":"ASIN!B49","v":2.500000000000001},{"$f":"ASIN!C49","v":0.04363323129985825},{"$f":"ASIN!D49","v":0.04363323129985825},{"$f":"ASIN!E49","v":true},{"$f":"ASIN!F49","v":0}]
[{"$f":"ASIN!A50","v":0.08715574274765836},{"$f":"ASIN!B50","v":5.00000000000001},{"$f":"ASIN!C50","v":0.08726646259971665},{"$f":"ASIN!D50","v":0.08726646259971665},{"$f":"ASIN!E50","v":true},{"$f":"ASIN!F50","v":0}]
[{"$f":"ASIN!A51","v":0.1305261922200517},{"$f":"ASIN!B51","v":7.500000000000007},{"$f":"ASIN!C51","v":0.13089969389957484},{"$f":"ASIN!D51","v":0.13089969389957484},{"$f":"ASIN!E51","v":true},{"$f":"ASIN!F51","v":0}]
[{"$f":"ASIN!A52","v":0.17364817766693041},{"$f":"ASIN!B52","v":10.000000000000005},{"$f":"ASIN!C52","v":0.17453292519943303},{"$f":"ASIN!D52","v":0.17453292519943303},{"$f":"ASIN!E52","v":true},{"$f":"ASIN!F52","v":0}]
[{"$f":"ASIN!A53","v":0.2164396139381029},{"$f":"ASIN!B53","v":12.500000000000004},{"$f":"ASIN!C53","v":0.21816615649929122},{"$f":"ASIN!D53","v":0.21816615649929122},{"$f":"ASIN!E53","v":true},{"$f":"ASIN!F53","v":0}]
[{"$f":"ASIN!A54","v":0.25881904510252074},{"$f":"ASIN!B54","v":14.999999999999998},{"$f":"ASIN!C54","v":0.2617993877991494},{"$f":"ASIN!D54","v":0.2617993877991494},{"$f":"ASIN!E54","v":true},{"$f":"ASIN!F54","v":0}]
[{"$f":"ASIN!A55","v":0.30070579950427306},{"$f":"ASIN!B55","v":17.499999999999996},{"$f":"ASIN!C55","v":0.3054326190990076},{"$f":"ASIN!D55","v":0.3054326190990076},{"$f":"ASIN!E55","v":true},{"$f":"ASIN!F55","v":0}]
[{"$f":"ASIN!A56","v":0.3420201433256688},{"$f":"ASIN!B56","v":20.00000000000001},{"$f":"ASIN!C56","v":0.34906585039886606},{"$f":"ASIN!D56","v":0.34906585039886606},{"$f":"ASIN!E56","v":true},{"$f":"ASIN!F56","v":0}]
[{"$f":"ASIN!A57","v":0.38268343236508984},{"$f":"ASIN!B57","v":22.500000000000004},{"$f":"ASIN!C57","v":0.39269908169872425},{"$f":"ASIN!D57","v":0.39269908169872425},{"$f":"ASIN!E57","v":true},{"$f":"ASIN!F57","v":0}]
[{"$f":"ASIN!A58","v":0.42261826174069944},{"$f":"ASIN!B58","v":25.000000000000007},{"$f":"ASIN!C58","v":0.43633231299858244},{"$f":"ASIN!D58","v":0.43633231299858244},{"$f":"ASIN!E58","v":true},{"$f":"ASIN!F58","v":0}]
[{"$f":"ASIN!A59","v":0.4617486132350341},{"$f":"ASIN!B59","v":27.50000000000001},{"$f":"ASIN!C59","v":0.4799655442984408},{"$f":"ASIN!D59","v":0.4799655442984408},{"$f":"ASIN!E59","v":true},{"$f":"ASIN!F59","v":0}]
[{"$f":"ASIN!A60","v":0.5000000000000001},{"$f":"ASIN!B60","v":30.00000000000001},{"$f":"ASIN!C60","v":0.523598775598299},{"$f":"ASIN!D60","v":0.523598775598299},{"$f":"ASIN!E60","v":true},{"$f":"ASIN!F60","v":0}]
[{"$f":"ASIN!A61","v":0.5372996083468239},{"$f":"ASIN!B61","v":32.5},{"$f":"ASIN!C61","v":0.5672320068981571},{"$f":"ASIN!D61","v":0.5672320068981571},{"$f":"ASIN!E61","v":true},{"$f":"ASIN!F61","v":0}]
[{"$f":"ASIN!A62","v":0.5735764363510462},{"$f":"ASIN!B62","v":35},{"$f":"ASIN!C62","v":0.6108652381980154},{"$f":"ASIN!D62","v":0.6108652381980154},{"$f":"ASIN!E62","v":true},{"$f":"ASIN!F62","v":0}]
[{"$f":"ASIN!A63","v":0.6087614290087207},{"$f":"ASIN!B63","v":37.50000000000001},{"$f":"ASIN!C63","v":0.6544984694978736},{"$f":"ASIN!D63","v":0.6544984694978736},{"$f":"ASIN!E63","v":true},{"$f":"ASIN!F63","v":0}]
[{"$f":"ASIN!A64","v":0.6427876096865394},{"$f":"ASIN!B64","v":40.000000000000014},{"$f":"ASIN!C64","v":0.698131700797732},{"$f":"ASIN!D64","v":0.698131700797732},{"$f":"ASIN!E64","v":true},{"$f":"ASIN!F64","v":0}]
[{"$f":"ASIN!A65","v":0.6755902076156602},{"$f":"ASIN!B65","v":42.5},{"$f":"ASIN!C65","v":0.7417649320975901},{"$f":"ASIN!D65","v":0.7417649320975901},{"$f":"ASIN!E65","v":true},{"$f":"ASIN!F65","v":0}]
[{"$f":"ASIN!A66","v":0.7071067811865476},{"$f":"ASIN!B66","v":45.00000000000001},{"$f":"ASIN!C66","v":0.7853981633974484},{"$f":"ASIN!D66","v":0.7853981633974484},{"$f":"ASIN!E66","v":true},{"$f":"ASIN!F66","v":0}]
[{"$f":"ASIN!A67","v":0.7372773368101241},{"$f":"ASIN!B67","v":47.5},{"$f":"ASIN!C67","v":0.8290313946973066},{"$f":"ASIN!D67","v":0.8290313946973066},{"$f":"ASIN!E67","v":true},{"$f":"ASIN!F67","v":0}]
[{"$f":"ASIN!A68","v":0.766044443118978},{"$f":"ASIN!B68","v":49.99999999999999},{"$f":"ASIN!C68","v":0.8726646259971647},{"$f":"ASIN!D68","v":0.8726646259971647},{"$f":"ASIN!E68","v":true},{"$f":"ASIN!F68","v":0}]
[{"$f":"ASIN!A69","v":0.7933533402912352},{"$f":"ASIN!B69","v":52.5},{"$f":"ASIN!C69","v":0.9162978572970231},{"$f":"ASIN!D69","v":0.9162978572970231},{"$f":"ASIN!E69","v":true},{"$f":"ASIN!F69","v":0}]
[{"$f":"ASIN!A70","v":0.8191520442889918},{"$f":"ASIN!B70","v":55},{"$f":"ASIN!C70","v":0.9599310885968813},{"$f":"ASIN!D70","v":0.9599310885968813},{"$f":"ASIN!E70","v":true},{"$f":"ASIN!F70","v":0}]
[{"$f":"ASIN!A71","v":0.8433914458128857},{"$f":"ASIN!B71","v":57.49999999999999},{"$f":"ASIN!C71","v":1.0035643198967394},{"$f":"ASIN!D71","v":1.0035643198967394},{"$f":"ASIN!E71","v":true},{"$f":"ASIN!F71","v":0}]
[{"$f":"ASIN!A72","v":0.8660254037844387},{"$f":"ASIN!B72","v":60.00000000000001},{"$f":"ASIN!C72","v":1.0471975511965979},{"$f":"ASIN!D72","v":1.0471975511965979},{"$f":"ASIN!E72","v":true},{"$f":"ASIN!F72","v":0}]
[{"$f":"ASIN!A73","v":0.8870108331782217},{"$f":"ASIN!B73","v":62.50000000000001},{"$f":"ASIN!C73","v":1.090830782496456},{"$f":"ASIN!D73","v":1.090830782496456},{"$f":"ASIN!E73","v":true},{"$f":"ASIN!F73","v":0}]
[{"$f":"ASIN!A74","v":0.9063077870366499},{"$f":"ASIN!B74","v":65},{"$f":"ASIN!C74","v":1.1344640137963142},{"$f":"ASIN!D74","v":1.1344640137963142},{"$f":"ASIN!E74","v":true},{"$f":"ASIN!F74","v":0}]
[{"$f":"ASIN!A75","v":0.9238795325112867},{"$f":"ASIN!B75","v":67.5},{"$f":"ASIN!C75","v":1.1780972450961724},{"$f":"ASIN!D75","v":1.1780972450961724},{"$f":"ASIN!E75","v":true},{"$f":"ASIN!F75","v":0}]
[{"$f":"ASIN!A76","v":0.9396926207859084},{"$f":"ASIN!B76","v":70},{"$f":"ASIN!C76","v":1.2217304763960308},{"$f":"ASIN!D76","v":1.2217304763960308},{"$f":"ASIN!E76","v":true},{"$f":"ASIN!F76","v":0}]
[{"$f":"ASIN!A77","v":0.9537169507482269},{"$f":"ASIN!B77","v":72.50000000000001},{"$f":"ASIN!C77","v":1.265363707695889},{"$f":"ASIN!D77","v":1.265363707695889},{"$f":"ASIN!E77","v":true},{"$f":"ASIN!F77","v":0}]
[{"$f":"ASIN!A78","v":0.9659258262890683},{"$f":"ASIN!B78","v":75.00000000000001},{"$f":"ASIN!C78","v":1.3089969389957474},{"$f":"ASIN!D78","v":1.3089969389957474},{"$f":"ASIN!E78","v":true},{"$f":"ASIN!F78","v":0}]
[{"$f":"ASIN!A79","v":0.9762960071199334},{"$f":"ASIN!B79","v":77.5},{"$f":"ASIN!C79","v":1.3526301702956054},{"$f":"ASIN!D79","v":1.3526301702956054},{"$f":"ASIN!E79","v":true},{"$f":"ASIN!F79","v":0}]
[{"$f":"ASIN!A80","v":0.984807753012208},{"$f":"ASIN!B80","v":79.99999999999999},{"$f":"ASIN!C80","v":1.3962634015954634},{"$f":"ASIN!D80","v":1.3962634015954634},{"$f":"ASIN!E80","v":true},{"$f":"ASIN!F80","v":0}]
[{"$f":"ASIN!A81","v":0.9914448613738104},{"$f":"ASIN!B81","v":82.49999999999999},{"$f":"ASIN!C81","v":1.4398966328953218},{"$f":"ASIN!D81","v":1.4398966328953218},{"$f":"ASIN!E81","v":true},{"$f":"ASIN!F81","v":0}]
[{"$f":"ASIN!A82","v":0.9961946980917455},{"$f":"ASIN!B82","v":85},{"$f":"ASIN!C82","v":1.4835298641951802},{"$f":"ASIN!D82","v":1.4835298641951802},{"$f":"ASIN!E82","v":true},{"$f":"ASIN!F82","v":0}]
[{"$f":"ASIN!A83","v":0.9990482215818578},{"$f":"ASIN!B83","v":87.50000000000004},{"$f":"ASIN!C83","v":1.5271630954950393},{"$f":"ASIN!D83","v":1.5271630954950393},{"$f":"ASIN!E83","v":true},{"$f":"ASIN!F83","v":0}]
[{"$f":"ASIN!A84","v":1},{"$f":"ASIN!B84","v":90},{"$f":"ASIN!C84","v":1.5707963267948966},{"$f":"ASIN!D84","v":1.5707963267948966},{"$f":"ASIN!E84","v":true},{"$f":"ASIN!F84","v":0}]
[{"$f":"ASIN!A85","v":1.1},{"$f":"ASIN!B85","v":{"$error":"#NUM!"}},{"$f":"ASIN!C85","v":{"$error":"#NUM!"}},{"$f":"ASIN!D85","v":{"$error":"#NUM!"}},{"$f":"ASIN!E85","v":"Error"},{"$f":"ASIN!F85","v":0}]
[{"$f":"ASIN!A86","v":-1.0000001},{"$f":"ASIN!B86","v":{"$error":"#NUM!"}},{"$f":"ASIN!C86","v":{"$error":"#NUM!"}},{"$f":"ASIN!D86","v":{"$error":"#NUM!"}},{"$f":"ASIN!E86","v":"Error"},{"$f":"ASIN!F86","v":0}]
[{"$f":"ASIN!A87","v":100},{"$f":"ASIN!B87","v":{"$error":"#NUM!"}},{"$f":"ASIN!C87","v":{"$error":"#NUM!"}},{"$f":"ASIN!D87","v":{"$error":"#NUM!"}},{"$f":"ASIN!E87","v":"Error"},{"$f":"ASIN!F87","v":0}]
[{"$f":"ASIN!A88","v":0},{"$f":"ASIN!B88","v":0},{"$f":"ASIN!C88","v":0},{"$f":"ASIN!D88","v":0},{"$f":"ASIN!E88","v":true},{"$f":"ASIN!F88","v":0}]
[{"$f":"ASIN!A89","v":1},{"$f":"ASIN!B89","v":0},{"$f":"ASIN!C89","v":1.5707963267948966},{"$f":"ASIN!D89","v":1.5707963267948966},{"$f":"ASIN!E89","v":true},{"$f":"ASIN!F89","v":0}]
[{"$f":"ASIN!A90","v":-1},{"$f":"ASIN!B90","v":0},{"$f":"ASIN!C90","v":-1.5707963267948966},{"$f":"ASIN!D90","v":-1.5707963267948966},{"$f":"ASIN!E90","v":true},{"$f":"ASIN!F90","v":0}]
[{"$f":"ASIN!A91","v":"0.9986"},{"$f":"ASIN!B91","v":0},{"$f":"ASIN!C91","v":1.517875125208442},{"$f":"ASIN!D91","v":1.517875125208442},{"$f":"ASIN!E91","v":true},{"$f":"ASIN!F91","v":0}]
[{"$f":"ASIN!A92","v":0},{"$f":"ASIN!B92","v":0},{"$f":"ASIN!C92","v":1.3704614844717768},{"$f":"ASIN!D92","v":1.3704614844717768},{"$f":"ASIN!E92","v":true},{"$f":"ASIN!F92","v":0}]
[{"$f":"ASIN!A93","v":"0.96463013"},{"$f":"ASIN!B93","v":0},{"$f":"ASIN!C93","v":1.3040366451757732},{"$f":"ASIN!D93","v":1.3040366451757732},{"$f":"ASIN!E93","v":true},{"$f":"ASIN!F93","v":0}]
[{"$f":"ASIN!A94","v":0.9395},{"$f":"ASIN!B94","v":0},{"$f":"ASIN!C94","v":1.2211677259116271},{"$f":"ASIN!D94","v":1.2211677259116271},{"$f":"ASIN!E94","v":true},{"$f":"ASIN!F94","v":0}]
[{"$f":"ASIN!A95","v":0},{"$f":"ASIN!B95","v":0},{"$f":"ASIN!C95","v":1.1630075647253386},{"$f":"ASIN!D95","v":1.1630075647253386},{"$f":"ASIN!E95","v":true},{"$f":"ASIN!F95","v":0}]
[{"$f":"ASIN!A96","v":0.91427612},{"$f":"ASIN!B96","v":66.1031347705948},{"$f":"ASIN!C96","v":1.1537173476364257},{"$f":"ASIN!D96","v":1.1537173476364257},{"$f":"ASIN!E96","v":true},{"$f":"ASIN!F96","v":0}]
[{"$f":"ASIN!A97","v":0.91},{"$f":"ASIN!B97","v":65.50535152858033},{"$f":"ASIN!C97","v":1.143284061850027},{"$f":"ASIN!D97","v":1.143284061850027},{"$f":"ASIN!E97","v":true},{"$f":"ASIN!F97","v":0}]
[{"$f":"ASIN!A98","v":0.86},{"$f":"ASIN!B98","v":59.31658289102418},{"$f":"ASIN!C98","v":1.0352696724805088},{"$f":"ASIN!D98","v":1.0352696724805088},{"$f":"ASIN!E98","v":true},{"$f":"ASIN!F98","v":0}]
[{"$f":"ASIN!A99","v":0.84},{"$f":"ASIN!B99","v":57.1401196211109},{"$f":"ASIN!C99","v":0.9972832223717999},{"$f":"ASIN!D99","v":0.9972832223717999},{"$f":"ASIN!E99","v":true},{"$f":"ASIN!F99","v":0}]
[{"$f":"ASIN!A100","v":0.82},{"$f":"ASIN!B100","v":55.08479375255581},{"$f":"ASIN!C100","v":0.9614110187641015},{"$f":"ASIN!D100","v":0.9614110187641015},{"$f":"ASIN!E100","v":true},{"$f":"ASIN!F100","v":0}]
[{"$f":"ASIN!A101","v":0},{"$f":"ASIN!B101","v":52.93003246527303},{"$f":"ASIN!C101","v":0.9238033397065056},{"$f":"ASIN!D101","v":0.9238033397065056},{"$f":"ASIN!E101","v":true},{"$f":"ASIN!F101","v":0}]
[{"$f":"ASIN!A102","v":0.7734},{"$f":"ASIN!B102","v":50.660195416353616},{"$f":"ASIN!C102","v":0.8841872097191101},{"$f":"ASIN!D102","v":0.8841872097191101},{"$f":"ASIN!E102","v":true},{"$f":"ASIN!F102","v":0}]
[{"$f":"ASIN!A103","v":0.7649},{"$f":"ASIN!B103","v":49.89809639321029},{"$f":"ASIN!C103","v":0.8708860725390266},{"$f":"ASIN!D103","v":0.8708860725390266},{"$f":"ASIN!E103","v":true},{"$f":"ASIN!F103","v":0}]
[{"$f":"ASIN!A104","v":0.74},{"$f":"ASIN!B104","v":47.73141557042753},{"$f":"ASIN!C104","v":0.8330703583416478},{"$f":"ASIN!D104","v":0.8330703583416478},{"$f":"ASIN!E104","v":true},{"$f":"ASIN!F104","v":0}]
[{"$f":"ASIN!A105","v":0.7004},{"$f":"ASIN!B105","v":44.459104872490045},{"$f":"ASIN!C105","v":0.7759577625144051},{"$f":"ASIN!D105","v":0.7759577625144051},{"$f":"ASIN!E105","v":true},{"$f":"ASIN!F105","v":0}]
[{"$f":"ASIN!A106","v":0.65},{"$f":"ASIN!B106","v":40.54160187350452},{"$f":"ASIN!C106","v":0.7075844367253555},{"$f":"ASIN!D106","v":0.7075844367253555},{"$f":"ASIN!E106","v":true},{"$f":"ASIN!F106","v":0}]
[{"$f":"ASIN!A107","v":0.6306},{"$f":"ASIN!B107","v":39.09440333278318},{"$f":"ASIN!C107","v":0.682326057259711},{"$f":"ASIN!D107","v":0.682326057259711},{"$f":"ASIN!E107","v":true},{"$f":"ASIN!F107","v":0}]
[{"$f":"ASIN!A108","v":0.6129},{"$f":"ASIN!B108","v":37.799488526757216},{"$f":"ASIN!C108","v":0.6597255303617341},{"$f":"ASIN!D108","v":0.6597255303617341},{"$f":"ASIN!E108","v":true},{"$f":"ASIN!F108","v":0}]
[{"$f":"ASIN!A109","v":0.60498047},{"$f":"ASIN!B109","v":37.227436524217495},{"$f":"ASIN!C109","v":0.649741339424789},{"$f":"ASIN!D109","v":0.649741339424789},{"$f":"ASIN!E109","v":true},{"$f":"ASIN!F109","v":0}]
[{"$f":"ASIN!A110","v":0.58},{"$f":"ASIN!B110","v":35.45054263917541},{"$f":"ASIN!C110","v":0.618728690672251},{"$f":"ASIN!D110","v":0.618728690672251},{"$f":"ASIN!E110","v":true},{"$f":"ASIN!F110","v":0}]
[{"$f":"ASIN!A111","v":0.57},{"$f":"ASIN!B111","v":34.75022575368246},{"$f":"ASIN!C111","v":0.6065058552130869},{"$f":"ASIN!D111","v":0.6065058552130869},{"$f":"ASIN!E111","v":true},{"$f":"ASIN!F111","v":0}]
[{"$f":"ASIN!A112","v":0.561},{"$f":"ASIN!B112","v":34.12498265074031},{"$f":"ASIN!C112","v":0.5955933044413605},{"$f":"ASIN!D112","v":0.5955933044413605},{"$f":"ASIN!E112","v":true},{"$f":"ASIN!F112","v":0}]
[{"$f":"ASIN!A113","v":0.56},{"$f":"ASIN!B113","v":34.05579774256792},{"$f":"ASIN!C113","v":0.5943858000010623},{"$f":"ASIN!D113","v":0.5943858000010623},{"$f":"ASIN!E113","v":true},{"$f":"ASIN!F113","v":0}]
[{"$f":"ASIN!A114","v":0.55},{"$f":"ASIN!B114","v":33.36701296923176},{"$f":"ASIN!C114","v":0.5823642378687435},{"$f":"ASIN!D114","v":0.5823642378687435},{"$f":"ASIN!E114","v":true},{"$f":"ASIN!F114","v":0}]
[{"$f":"ASIN!A115","v":0.54040527},{"$f":"ASIN!B115","v":32.71123159257439},{"$f":"ASIN!C115","v":0.5709186936728115},{"$f":"ASIN!D115","v":0.5709186936728115},{"$f":"ASIN!E115","v":true},{"$f":"ASIN!F115","v":0}]
[{"$f":"ASIN!A116","v":0.53125},{"$f":"ASIN!B116","v":32.08995125628031},{"$f":"ASIN!C116","v":0.5600753062265821},{"$f":"ASIN!D116","v":0.5600753062265821},{"$f":"ASIN!E116","v":true},{"$f":"ASIN!F116","v":0}]
[{"$f":"ASIN!A117","v":0.53},{"$f":"ASIN!B117","v":32.00545482776425},{"$f":"ASIN!C117","v":0.5586005653428008},{"$f":"ASIN!D117","v":0.5586005653428008},{"$f":"ASIN!E117","v":true},{"$f":"ASIN!F117","v":0}]
[{"$f":"ASIN!A118","v":0.5},{"$f":"ASIN!B118","v":30.000000000000004},{"$f":"ASIN!C118","v":0.5235987755982989},{"$f":"ASIN!D118","v":0.5235987755982989},{"$f":"ASIN!E118","v":true},{"$f":"ASIN!F118","v":0}]
[{"$f":"ASIN!A119","v":0.4968},{"$f":"ASIN!B119","v":29.78851456853707},{"$f":"ASIN!C119","v":0.5199076584992699},{"$f":"ASIN!D119","v":0.5199076584992699},{"$f":"ASIN!E119","v":true},{"$f":"ASIN!F119","v":0}]
[{"$f":"ASIN!A120","v":0.48284912},{"$f":"ASIN!B120","v":28.871648460717473},{"$f":"ASIN!C120","v":0.5039053261178726},{"$f":"ASIN!D120","v":0.5039053261178726},{"$f":"ASIN!E120","v":true},{"$f":"ASIN!F120","v":0}]
[{"$f":"ASIN!A121","v":0.47},{"$f":"ASIN!B121","v":28.034296534881282},{"$f":"ASIN!C121","v":0.4892907780141157},{"$f":"ASIN!D121","v":0.4892907780141157},{"$f":"ASIN!E121","v":true},{"$f":"ASIN!F121","v":0}]
[{"$f":"ASIN!A122","v":0.44},{"$f":"ASIN!B122","v":26.1038811373399},{"$f":"ASIN!C122","v":0.4555986733958234},{"$f":"ASIN!D122","v":0.4555986733958234},{"$f":"ASIN!E122","v":true},{"$f":"ASIN!F122","v":0}]
[{"$f":"ASIN!A123","v":0.43},{"$f":"ASIN!B123","v":25.46756014247237},{"$f":"ASIN!C123","v":0.444492776935819},{"$f":"ASIN!D123","v":0.444492776935819},{"$f":"ASIN!E123","v":true},{"$f":"ASIN!F123","v":0}]
[{"$f":"ASIN!A124","v":0.41955566},{"$f":"ASIN!B124","v":24.806537629857207},{"$f":"ASIN!C124","v":0.4329557576608786},{"$f":"ASIN!D124","v":0.4329557576608786},{"$f":"ASIN!E124","v":true},{"$f":"ASIN!F124","v":0}]
[{"$f":"ASIN!A125","v":0.40579224},{"$f":"ASIN!B125","v":23.940782505461733},{"$f":"ASIN!C125","v":0.4178454802241646},{"$f":"ASIN!D125","v":0.4178454802241646},{"$f":"ASIN!E125","v":true},{"$f":"ASIN!F125","v":0}]
[{"$f":"ASIN!A126","v":0.3938},{"$f":"ASIN!B126","v":23.191154130067908},{"$f":"ASIN!C126","v":0.4047619969071663},{"$f":"ASIN!D126","v":0.4047619969071663},{"$f":"ASIN!E126","v":true},{"$f":"ASIN!F126","v":0}]
[{"$f":"ASIN!A127","v":0.37},{"$f":"ASIN!B127","v":21.715617283264454},{"$f":"ASIN!C127","v":0.37900902069595077},{"$f":"ASIN!D127","v":0.37900902069595077},{"$f":"ASIN!E127","v":true},{"$f":"ASIN!F127","v":0}]
[{"$f":"ASIN!A128","v":0.36895752},{"$f":"ASIN!B128","v":21.651339204597644},{"$f":"ASIN!C128","v":0.3778871565863591},{"$f":"ASIN!D128","v":0.3778871565863591},{"$f":"ASIN!E128","v":true},{"$f":"ASIN!F128","v":0}]
[{"$f":"ASIN!A129","v":0.36},{"$f":"ASIN!B129","v":21.100196024093023},{"$f":"ASIN!C129","v":0.36826789343664},{"$f":"ASIN!D129","v":0.36826789343664},{"$f":"ASIN!E129","v":true},{"$f":"ASIN!F129","v":0}]
[{"$f":"ASIN!A130","v":0.3438},{"$f":"ASIN!B130","v":20.108560512294257},{"$f":"ASIN!C130","v":0.35096058877605246},{"$f":"ASIN!D130","v":0.35096058877605246},{"$f":"ASIN!E130","v":true},{"$f":"ASIN!F130","v":0}]
[{"$f":"ASIN!A131","v":0.33599854},{"$f":"ASIN!B131","v":19.633270082197306},{"$f":"ASIN!C131","v":0.3426652058676407},{"$f":"ASIN!D131","v":0.3426652058676407},{"$f":"ASIN!E131","v":true},{"$f":"ASIN!F131","v":0}]
[{"$f":"ASIN!A132","v":0.32},{"$f":"ASIN!B132","v":18.66292488494248},{"$f":"ASIN!C132","v":0.3257294872946302},{"$f":"ASIN!D132","v":0.3257294872946302},{"$f":"ASIN!E132","v":true},{"$f":"ASIN!F132","v":0}]
[{"$f":"ASIN!A133","v":0.3048},{"$f":"ASIN!B133","v":17.746131836019646},{"$f":"ASIN!C133","v":0.3097284300315293},{"$f":"ASIN!D133","v":0.3097284300315293},{"$f":"ASIN!E133","v":true},{"$f":"ASIN!F133","v":0}]
[{"$f":"ASIN!A134","v":0.29208374},{"$f":"ASIN!B134","v":16.982747754832307},{"$f":"ASIN!C134","v":0.29640486435749847},{"$f":"ASIN!D134","v":0.29640486435749847},{"$f":"ASIN!E134","v":true},{"$f":"ASIN!F134","v":0}]
[{"$f":"ASIN!A135","v":0.29},{"$f":"ASIN!B135","v":16.857956022497145},{"$f":"ASIN!C135","v":0.29422683774898245},{"$f":"ASIN!D135","v":0.29422683774898245},{"$f":"ASIN!E135","v":true},{"$f":"ASIN!F135","v":0}]
[{"$f":"ASIN!A136","v":0.2613},{"$f":"ASIN!B136","v":15.147213529039298},{"$f":"ASIN!C136","v":0.2643687485843655},{"$f":"ASIN!D136","v":0.2643687485843655},{"$f":"ASIN!E136","v":true},{"$f":"ASIN!F136","v":0}]
[{"$f":"ASIN!A137","v":0.25},{"$f":"ASIN!B137","v":14.477512185929923},{"$f":"ASIN!C137","v":0.25268025514207865},{"$f":"ASIN!D137","v":0.25268025514207865},{"$f":"ASIN!E137","v":true},{"$f":"ASIN!F137","v":0}]
[{"$f":"ASIN!A138","v":0.2},{"$f":"ASIN!B138","v":11.53695903281549},{"$f":"ASIN!C138","v":0.20135792079033082},{"$f":"ASIN!D138","v":0.20135792079033082},{"$f":"ASIN!E138","v":true},{"$f":"ASIN!F138","v":0}]
[{"$f":"ASIN!A139","v":0.17},{"$f":"ASIN!B139","v":9.787819056713978},{"$f":"ASIN!C139","v":0.17082966912910452},{"$f":"ASIN!D139","v":0.17082966912910452},{"$f":"ASIN!E139","v":true},{"$f":"ASIN!F139","v":0}]
[{"$f":"ASIN!A140","v":0.13522339},{"$f":"ASIN!B140","v":7.771537643785885},{"$f":"ASIN!C140","v":0.13563891982674595},{"$f":"ASIN!D140","v":0.13563891982674595},{"$f":"ASIN!E140","v":true},{"$f":"ASIN!F140","v":0}]
[{"$f":"ASIN!A141","v":0.13},{"$f":"ASIN!B141","v":7.469592316416932},{"$f":"ASIN!C141","v":0.13036897970314554},{"$f":"ASIN!D141","v":0.13036897970314554},{"$f":"ASIN!E141","v":true},{"$f":"ASIN!F141","v":0}]
[{"$f":"ASIN!A142","v":0.10861206},{"$f":"ASIN!B142","v":6.235313095199725},{"$f":"ASIN!C142","v":0.10882674340395385},{"$f":"ASIN!D142","v":0.10882674340395385},{"$f":"ASIN!E142","v":true},{"$f":"ASIN!F142","v":0}]
[{"$f":"ASIN!A143","v":0.09},{"$f":"ASIN!B143","v":5.163607090846379},{"$f":"ASIN!C143","v":0.09012194501459526},{"$f":"ASIN!D143","v":0.09012194501459526},{"$f":"ASIN!E143","v":true},{"$f":"ASIN!F143","v":0}]
[{"$f":"ASIN!A144","v":0.08},{"$f":"ASIN!B144","v":4.588565735785835},{"$f":"ASIN!C144","v":0.08008558003365901},{"$f":"ASIN!D144","v":0.08008558003365901},{"$f":"ASIN!E144","v":true},{"$f":"ASIN!F144","v":0}]
[{"$f":"ASIN!A145","v":0.07235718},{"$f":"ASIN!B145","v":4.149387145588486},{"$f":"ASIN!C145","v":0.07242046763044839},{"$f":"ASIN!D145","v":0.07242046763044839},{"$f":"ASIN!E145","v":true},{"$f":"ASIN!F145","v":0}]
[{"$f":"ASIN!A146","v":0.05},{"$f":"ASIN!B146","v":2.8659839825988622},{"$f":"ASIN!C146","v":0.050020856805770016},{"$f":"ASIN!D146","v":0.050020856805770016},{"$f":"ASIN!E146","v":true},{"$f":"ASIN!F146","v":0}]
[{"$f":"ASIN!A147","v":0.0189},{"$f":"ASIN!B147","v":1.0829547130326467},{"$f":"ASIN!C147","v":0.01890112539241003},{"$f":"ASIN!D147","v":0.01890112539241003},{"$f":"ASIN!E147","v":true},{"$f":"ASIN!F147","v":0}]
[{"$f":"ASIN!A148","v":-0.03},{"$f":"ASIN!B148","v":-1.7191313208778112},{"$f":"ASIN!C148","v":-0.03000450182347694},{"$f":"ASIN!D148","v":-0.03000450182347694},{"$f":"ASIN!E148","v":true},{"$f":"ASIN!F148","v":0}]
[{"$f":"ASIN!A149","v":-0.06240845},{"$f":"ASIN!B149","v":-3.5780660098549144},{"$f":"ASIN!C149","v":-0.06244903272566413},{"$f":"ASIN!D149","v":-0.06244903272566413},{"$f":"ASIN!E149","v":true},{"$f":"ASIN!F149","v":0}]
[{"$f":"ASIN!A150","v":-0.08},{"$f":"ASIN!B150","v":-4.588565735785835},{"$f":"ASIN!C150","v":-0.08008558003365901},{"$f":"ASIN!D150","v":-0.08008558003365901},{"$f":"ASIN!E150","v":true},{"$f":"ASIN!F150","v":0}]
[{"$f":"ASIN!A151","v":-0.0814},{"$f":"ASIN!B151","v":-4.669042313327649},{"$f":"ASIN!C151","v":-0.0814901612825002},{"$f":"ASIN!D151","v":-0.0814901612825002},{"$f":"ASIN!E151","v":true},{"$f":"ASIN!F151","v":0}]
[{"$f":"ASIN!A152","v":-0.1},{"$f":"ASIN!B152","v":-5.739170477266787},{"$f":"ASIN!C152","v":-0.1001674211615598},{"$f":"ASIN!D152","v":-0.1001674211615598},{"$f":"ASIN!E152","v":true},{"$f":"ASIN!F152","v":0}]
[{"$f":"ASIN!A153","v":-0.116},{"$f":"ASIN!B153","v":-6.66130686748525},{"$f":"ASIN!C153","v":-0.11626173732332722},{"$f":"ASIN!D153","v":-0.11626173732332722},{"$f":"ASIN!E153","v":true},{"$f":"ASIN!F153","v":0}]
[{"$f":"ASIN!A154","v":-0.13},{"$f":"ASIN!B154","v":-7.469592316416932},{"$f":"ASIN!C154","v":-0.13036897970314554},{"$f":"ASIN!D154","v":-0.13036897970314554},{"$f":"ASIN!E154","v":true},{"$f":"ASIN!F154","v":0}]
[{"$f":"ASIN!A155","v":-0.15},{"$f":"ASIN!B155","v":-8.626926558678639},{"$f":"ASIN!C155","v":-0.15056827277668602},{"$f":"ASIN!D155","v":-0.15056827277668602},{"$f":"ASIN!E155","v":true},{"$f":"ASIN!F155","v":0}]
[{"$f":"ASIN!A156","v":-0.18},{"$f":"ASIN!B156","v":-10.36975980547742},{"$f":"ASIN!C156","v":-0.1809864512465477},{"$f":"ASIN!D156","v":-0.1809864512465477},{"$f":"ASIN!E156","v":true},{"$f":"ASIN!F156","v":0}]
[{"$f":"ASIN!A157","v":-0.24},{"$f":"ASIN!B157","v":-13.886540362628992},{"$f":"ASIN!C157","v":-0.24236585103896324},{"$f":"ASIN!D157","v":-0.24236585103896324},{"$f":"ASIN!E157","v":true},{"$f":"ASIN!F157","v":0}]
[{"$f":"ASIN!A158","v":-0.2604},{"$f":"ASIN!B158","v":-15.093798046133413},{"$f":"ASIN!C158","v":-0.263436472536115},{"$f":"ASIN!D158","v":-0.263436472536115},{"$f":"ASIN!E158","v":true},{"$f":"ASIN!F158","v":0}]
[{"$f":"ASIN!A159","v":-0.27},{"$f":"ASIN!B159","v":-15.664266851373522},{"$f":"ASIN!C159","v":-0.27339303146747324},{"$f":"ASIN!D159","v":-0.27339303146747324},{"$f":"ASIN!E159","v":true},{"$f":"ASIN!F159","v":0}]
[{"$f":"ASIN!A160","v":-0.29064941},{"$f":"ASIN!B160","v":-16.896839246311718},{"$f":"ASIN!C160","v":-0.2949054780283366},{"$f":"ASIN!D160","v":-0.2949054780283366},{"$f":"ASIN!E160","v":true},{"$f":"ASIN!F160","v":0}]
[{"$f":"ASIN!A161","v":-0.3},{"$f":"ASIN!B161","v":-17.457603123722095},{"$f":"ASIN!C161","v":-0.3046926540153975},{"$f":"ASIN!D161","v":-0.3046926540153975},{"$f":"ASIN!E161","v":true},{"$f":"ASIN!F161","v":0}]
[{"$f":"ASIN!A162","v":-0.32},{"$f":"ASIN!B162","v":-18.66292488494248},{"$f":"ASIN!C162","v":-0.3257294872946302},{"$f":"ASIN!D162","v":-0.3257294872946302},{"$f":"ASIN!E162","v":true},{"$f":"ASIN!F162","v":0}]
[{"$f":"ASIN!A163","v":-0.33},{"$f":"ASIN!B163","v":-19.26877549148377},{"$f":"ASIN!C163","v":-0.33630357515398035},{"$f":"ASIN!D163","v":-0.33630357515398035},{"$f":"ASIN!E163","v":true},{"$f":"ASIN!F163","v":0}]
[{"$f":"ASIN!A164","v":-0.33868408},{"$f":"ASIN!B164","v":-19.79672138367462},{"$f":"ASIN!C164","v":-0.3455179692450897},{"$f":"ASIN!D164","v":-0.3455179692450897},{"$f":"ASIN!E164","v":true},{"$f":"ASIN!F164","v":0}]
[{"$f":"ASIN!A165","v":-0.35},{"$f":"ASIN!B165","v":-20.487315114722662},{"$f":"ASIN!C165","v":-0.35757110364551026},{"$f":"ASIN!D165","v":-0.35757110364551026},{"$f":"ASIN!E165","v":true},{"$f":"ASIN!F165","v":0}]
[{"$f":"ASIN!A166","v":-0.36651611},{"$f":"ASIN!B166","v":-21.50091652565379},{"$f":"ASIN!C166","v":-0.37526178556911843},{"$f":"ASIN!D166","v":-0.37526178556911843},{"$f":"ASIN!E166","v":true},{"$f":"ASIN!F166","v":0}]
[{"$f":"ASIN!A167","v":-0.37},{"$f":"ASIN!B167","v":-21.715617283264454},{"$f":"ASIN!C167","v":-0.3790090206959508},{"$f":"ASIN!D167","v":-0.3790090206959508},{"$f":"ASIN!E167","v":true},{"$f":"ASIN!F167","v":0}]
[{"$f":"ASIN!A168","v":-0.37},{"$f":"ASIN!B168","v":-21.715617283264454},{"$f":"ASIN!C168","v":-0.3790090206959508},{"$f":"ASIN!D168","v":-0.3790090206959508},{"$f":"ASIN!E168","v":true},{"$f":"ASIN!F168","v":0}]
[{"$f":"ASIN!A169","v":-0.39974976},{"$f":"ASIN!B169","v":-23.562535701250617},{"$f":"ASIN!C169","v":-0.4112438281055342},{"$f":"ASIN!D169","v":-0.4112438281055342},{"$f":"ASIN!E169","v":true},{"$f":"ASIN!F169","v":0}]
[{"$f":"ASIN!A170","v":-0.41},{"$f":"ASIN!B170","v":-24.204834801458325},{"$f":"ASIN!C170","v":-0.42245406218675574},{"$f":"ASIN!D170","v":-0.42245406218675574},{"$f":"ASIN!E170","v":true},{"$f":"ASIN!F170","v":0}]
[{"$f":"ASIN!A171","v":-0.4294},{"$f":"ASIN!B171","v":-25.42948866318967},{"$f":"ASIN!C171","v":-0.4438283042712311},{"$f":"ASIN!D171","v":-0.4438283042712311},{"$f":"ASIN!E171","v":true},{"$f":"ASIN!F171","v":0}]
[{"$f":"ASIN!A172","v":-0.4359},{"$f":"ASIN!B172","v":-25.842576110317804},{"$f":"ASIN!C172","v":-0.451038040322275},{"$f":"ASIN!D172","v":-0.451038040322275},{"$f":"ASIN!E172","v":true},{"$f":"ASIN!F172","v":0}]
[{"$f":"ASIN!A173","v":-0.44799805},{"$f":"ASIN!B173","v":-26.615313286211133},{"$f":"ASIN!C173","v":-0.4645248482941762},{"$f":"ASIN!D173","v":-0.4645248482941762},{"$f":"ASIN!E173","v":true},{"$f":"ASIN!F173","v":0}]
[{"$f":"ASIN!A174","v":-0.48},{"$f":"ASIN!B174","v":-28.685402014118925},{"$f":"ASIN!C174","v":-0.5006547124045881},{"$f":"ASIN!D174","v":-0.5006547124045881},{"$f":"ASIN!E174","v":true},{"$f":"ASIN!F174","v":0}]
[{"$f":"ASIN!A175","v":-0.49609375},{"$f":"ASIN!B175","v":-29.741899340038778},{"$f":"ASIN!C175","v":-0.5190940692804052},{"$f":"ASIN!D175","v":-0.5190940692804052},{"$f":"ASIN!E175","v":true},{"$f":"ASIN!F175","v":0}]
[{"$f":"ASIN!A176","v":-0.49963379},{"$f":"ASIN!B176","v":-29.975774697524947},{"$f":"ASIN!C176","v":-0.5231759643078177},{"$f":"ASIN!D176","v":-0.5231759643078177},{"$f":"ASIN!E176","v":true},{"$f":"ASIN!F176","v":0}]
[{"$f":"ASIN!A177","v":-0.51},{"$f":"ASIN!B177","v":-30.66382974238597},{"$f":"ASIN!C177","v":-0.5351847902755998},{"$f":"ASIN!D177","v":-0.5351847902755998},{"$f":"ASIN!E177","v":true},{"$f":"ASIN!F177","v":0}]
[{"$f":"ASIN!A178","v":-0.5305},{"$f":"ASIN!B178","v":-32.0392440396291},{"$f":"ASIN!C178","v":-0.5591902983414964},{"$f":"ASIN!D178","v":-0.5591902983414964},{"$f":"ASIN!E178","v":true},{"$f":"ASIN!F178","v":0}]
[{"$f":"ASIN!A179","v":-0.5384},{"$f":"ASIN!B179","v":-32.574786198310775},{"$f":"ASIN!C179","v":-0.5685372722937295},{"$f":"ASIN!D179","v":-0.5685372722937295},{"$f":"ASIN!E179","v":true},{"$f":"ASIN!F179","v":0}]
[{"$f":"ASIN!A180","v":-0.54394531},{"$f":"ASIN!B180","v":-32.95261923852402},{"$f":"ASIN!C180","v":-0.5751317028682709},{"$f":"ASIN!D180","v":-0.5751317028682709},{"$f":"ASIN!E180","v":true},{"$f":"ASIN!F180","v":0}]
[{"$f":"ASIN!A181","v":-0.5582},{"$f":"ASIN!B181","v":-33.931406930237436},{"$f":"ASIN!C181","v":-0.5922147707666652},{"$f":"ASIN!D181","v":-0.5922147707666652},{"$f":"ASIN!E181","v":true},{"$f":"ASIN!F181","v":0}]
[{"$f":"ASIN!A182","v":-0.56045532},{"$f":"ASIN!B182","v":-34.087292004194644},{"$f":"ASIN!C182","v":-0.5949354785619333},{"$f":"ASIN!D182","v":-0.5949354785619333},{"$f":"ASIN!E182","v":true},{"$f":"ASIN!F182","v":0}]
[{"$f":"ASIN!A183","v":-0.5678},{"$f":"ASIN!B183","v":-34.59695510844715},{"$f":"ASIN!C183","v":-0.6038307778070745},{"$f":"ASIN!D183","v":-0.6038307778070745},{"$f":"ASIN!E183","v":true},{"$f":"ASIN!F183","v":0}]
[{"$f":"ASIN!A184","v":-0.58},{"$f":"ASIN!B184","v":-35.45054263917541},{"$f":"ASIN!C184","v":-0.618728690672251},{"$f":"ASIN!D184","v":-0.618728690672251},{"$f":"ASIN!E184","v":true},{"$f":"ASIN!F184","v":0}]
[{"$f":"ASIN!A185","v":-0.58},{"$f":"ASIN!B185","v":-35.45054263917541},{"$f":"ASIN!C185","v":-0.618728690672251},{"$f":"ASIN!D185","v":-0.618728690672251},{"$f":"ASIN!E185","v":true},{"$f":"ASIN!F185","v":0}]
[{"$f":"ASIN!A186","v":-0.61},{"$f":"ASIN!B186","v":-37.589502964856855},{"$f":"ASIN!C186","v":-0.6560605909249225},{"$f":"ASIN!D186","v":-0.6560605909249225},{"$f":"ASIN!E186","v":true},{"$f":"ASIN!F186","v":0}]
[{"$f":"ASIN!A187","v":-0.62},{"$f":"ASIN!B187","v":-38.31613447366575},{"$f":"ASIN!C187","v":-0.6687427032023718},{"$f":"ASIN!D187","v":-0.6687427032023718},{"$f":"ASIN!E187","v":true},{"$f":"ASIN!F187","v":0}]
[{"$f":"ASIN!A188","v":-0.64},{"$f":"ASIN!B188","v":-39.79181949955724},{"$f":"ASIN!C188","v":-0.6944982656265561},{"$f":"ASIN!D188","v":-0.6944982656265561},{"$f":"ASIN!E188","v":true},{"$f":"ASIN!F188","v":0}]
[{"$f":"ASIN!A189","v":-0.6575},{"$f":"ASIN!B189","v":-41.10948613720635},{"$f":"ASIN!C189","v":-0.7174958868972162},{"$f":"ASIN!D189","v":-0.7174958868972162},{"$f":"ASIN!E189","v":true},{"$f":"ASIN!F189","v":0}]
[{"$f":"ASIN!A190","v":-0.7182},{"$f":"ASIN!B190","v":-45.90606837223799},{"$f":"ASIN!C190","v":-0.8012120397411868},{"$f":"ASIN!D190","v":-0.8012120397411868},{"$f":"ASIN!E190","v":true},{"$f":"ASIN!F190","v":0}]
[{"$f":"ASIN!A191","v":-0.74},{"$f":"ASIN!B191","v":-47.73141557042753},{"$f":"ASIN!C191","v":-0.8330703583416478},{"$f":"ASIN!D191","v":-0.8330703583416478},{"$f":"ASIN!E191","v":true},{"$f":"ASIN!F191","v":0}]
[{"$f":"ASIN!A192","v":-0.77203369},{"$f":"ASIN!B192","v":-50.536865332865005},{"$f":"ASIN!C192","v":-0.8820346936954744},{"$f":"ASIN!D192","v":-0.8820346936954744},{"$f":"ASIN!E192","v":true},{"$f":"ASIN!F192","v":0}]
[{"$f":"ASIN!A193","v":-0.78},{"$f":"ASIN!B193","v":-51.260575402144354},{"$f":"ASIN!C193","v":-0.8946658172342353},{"$f":"ASIN!D193","v":-0.8946658172342353},{"$f":"ASIN!E193","v":true},{"$f":"ASIN!F193","v":0}]
[{"$f":"ASIN!A194","v":-0.80270386},{"$f":"ASIN!B194","v":-53.389083253113135},{"$f":"ASIN!C194","v":-0.9318152873881894},{"$f":"ASIN!D194","v":-0.9318152873881894},{"$f":"ASIN!E194","v":true},{"$f":"ASIN!F194","v":0}]
[{"$f":"ASIN!A195","v":-0.82980347},{"$f":"ASIN!B195","v":-56.078554912179705},{"$f":"ASIN!C195","v":-0.9787554229779754},{"$f":"ASIN!D195","v":-0.9787554229779754},{"$f":"ASIN!E195","v":true},{"$f":"ASIN!F195","v":0}]
[{"$f":"ASIN!A196","v":-0.85},{"$f":"ASIN!B196","v":-58.211669382948386},{"$f":"ASIN!C196","v":-1.0159852938148253},{"$f":"ASIN!D196","v":-1.0159852938148253},{"$f":"ASIN!E196","v":true},{"$f":"ASIN!F196","v":0}]
[{"$f":"ASIN!A197","v":-0.86},{"$f":"ASIN!B197","v":-59.316582891024176},{"$f":"ASIN!C197","v":-1.0352696724805086},{"$f":"ASIN!D197","v":-1.0352696724805086},{"$f":"ASIN!E197","v":true},{"$f":"ASIN!F197","v":0}]
[{"$f":"ASIN!A198","v":-0.91},{"$f":"ASIN!B198","v":-65.50535152858033},{"$f":"ASIN!C198","v":-1.1432840618500273},{"$f":"ASIN!D198","v":-1.1432840618500273},{"$f":"ASIN!E198","v":true},{"$f":"ASIN!F198","v":0}]
[{"$f":"ASIN!A199","v":-0.91946411},{"$f":"ASIN!B199","v":-66.84786379264372},{"$f":"ASIN!C199","v":-1.166715321106337},{"$f":"ASIN!D199","v":-1.166715321106337},{"$f":"ASIN!E199","v":true},{"$f":"ASIN!F199","v":0}]
[{"$f":"ASIN!A200","v":-0.93},{"$f":"ASIN!B200","v":-68.43481498475735},{"$f":"ASIN!C200","v":-1.194412844477169},{"$f":"ASIN!D200","v":-1.194412844477169},{"$f":"ASIN!E200","v":true},{"$f":"ASIN!F200","v":0}]
[{"$f":"ASIN!A201","v":-0.9576},{"$f":"ASIN!B201","v":-73.2556946469689},{"$f":"ASIN!C201","v":-1.2785530674251926},{"$f":"ASIN!D201","v":-1.2785530674251926},{"$f":"ASIN!E201","v":true},{"$f":"ASIN!F201","v":0}]
[{"$f":"ASIN!A202","v":-0.97027588},{"$f":"ASIN!B202","v":-75.99530046321976},{"$f":"ASIN!C202","v":-1.3263682091255566},{"$f":"ASIN!D202","v":-1.3263682091255566},{"$f":"ASIN!E202","v":true},{"$f":"ASIN!F202","v":0}]
[{"$f":"ASIN!A203","v":-0.99},{"$f":"ASIN!B203","v":-81.89038554400581},{"$f":"ASIN!C203","v":-1.4292568534704693},{"$f":"ASIN!D203","v":-1.4292568534704693},{"$f":"ASIN!E203","v":true},{"$f":"ASIN!F203","v":0}]
[{"$f":"ASIN!A204","v":0},{"$f":"ASIN!B204","v":0},{"$f":"ASIN!C204","v":0},{"$f":"ASIN!D204","v":0},{"$f":"ASIN!E204","v":0},{"$f":"ASIN!F204","v":0}]
[{"$f":"ASIN!A205","v":0},{"$f":"ASIN!B205","v":0},{"$f":"ASIN!C205","v":0},{"$f":"ASIN!D205","v":0},{"$f":"ASIN!E205","v":0},{"$f":"ASIN!F205","v":0}]
[{"$f":"ASIN!A206","v":0},{"$f":"ASIN!B206","v":0},{"$f":"ASIN!C206","v":0},{"$f":"ASIN!D206","v":0},{"$f":"ASIN!E206","v":0},{"$f":"ASIN!F206","v":0}]
[{"$f":"ASIN!A207","v":0},{"$f":"ASIN!B207","v":0},{"$f":"ASIN!C207","v":0},{"$f":"ASIN!D207","v":0},{"$f":"ASIN!E207","v":0},{"$f":"ASIN!F207","v":0}]
[{"$f":"ASIN!A208","v":0},{"$f":"ASIN!B208","v":0},{"$f":"ASIN!C208","v":0},{"$f":"ASIN!D208","v":0},{"$f":"ASIN!E208","v":0},{"$f":"ASIN!F208","v":0}]
[{"$f":"ASIN!A209","v":0},{"$f":"ASIN!B209","v":0},{"$f":"ASIN!C209","v":0},{"$f":"ASIN!D209","v":0},{"$f":"ASIN!E209","v":0},{"$f":"ASIN!F209","v":0}]
[{"$f":"ASIN!A210","v":0},{"$f":"ASIN!B210","v":0},{"$f":"ASIN!C210","v":0},{"$f":"ASIN!D210","v":0},{"$f":"ASIN!E210","v":0},{"$f":"ASIN!F210","v":0}]
[{"$f":"ASIN!A211","v":0},{"$f":"ASIN!B211","v":0},{"$f":"ASIN!C211","v":0},{"$f":"ASIN!D211","v":0},{"$f":"ASIN!E211","v":0},{"$f":"ASIN!F211","v":0}]
[{"$f":"ASIN!A212","v":0},{"$f":"ASIN!B212","v":0},{"$f":"ASIN!C212","v":0},{"$f":"ASIN!D212","v":0},{"$f":"ASIN!E212","v":0},{"$f":"ASIN!F212","v":0}]
[{"$f":"ASIN!A213","v":0},{"$f":"ASIN!B213","v":0},{"$f":"ASIN!C213","v":0},{"$f":"ASIN!D213","v":0},{"$f":"ASIN!E213","v":0},{"$f":"ASIN!F213","v":0}]
[{"$f":"ASIN!A214","v":0},{"$f":"ASIN!B214","v":0},{"$f":"ASIN!C214","v":0},{"$f":"ASIN!D214","v":0},{"$f":"ASIN!E214","v":0},{"$f":"ASIN!F214","v":0}]
[{"$f":"ASIN!A215","v":0},{"$f":"ASIN!B215","v":0},{"$f":"ASIN!C215","v":0},{"$f":"ASIN!D215","v":0},{"$f":"ASIN!E215","v":0},{"$f":"ASIN!F215","v":0}]
[{"$f":"ASIN!A216","v":0},{"$f":"ASIN!B216","v":0},{"$f":"ASIN!C216","v":0},{"$f":"ASIN!D216","v":0},{"$f":"ASIN!E216","v":0},{"$f":"ASIN!F216","v":0}]
[{"$f":"ASIN!A217","v":0},{"$f":"ASIN!B217","v":0},{"$f":"ASIN!C217","v":0},{"$f":"ASIN!D217","v":0},{"$f":"ASIN!E217","v":0},{"$f":"ASIN!F217","v":0}]
[{"$f":"ASIN!A218","v":0},{"$f":"ASIN!B218","v":0},{"$f":"ASIN!C218","v":0},{"$f":"ASIN!D218","v":0},{"$f":"ASIN!E218","v":0},{"$f":"ASIN!F218","v":0}]
[{"$f":"ASIN!A219","v":0},{"$f":"ASIN!B219","v":0},{"$f":"ASIN!C219","v":0},{"$f":"ASIN!D219","v":0},{"$f":"ASIN!E219","v":0},{"$f":"ASIN!F219","v":0}]
[{"$f":"ASIN!A220","v":0},{"$f":"ASIN!B220","v":0},{"$f":"ASIN!C220","v":0},{"$f":"ASIN!D220","v":0},{"$f":"ASIN!E220","v":0},{"$f":"ASIN!F220","v":0}]
[{"$f":"ASIN!A221","v":0},{"$f":"ASIN!B221","v":0},{"$f":"ASIN!C221","v":0},{"$f":"ASIN!D221","v":0},{"$f":"ASIN!E221","v":0},{"$f":"ASIN!F221","v":0}]
[{"$f":"ASIN!A222","v":0},{"$f":"ASIN!B222","v":0},{"$f":"ASIN!C222","v":0},{"$f":"ASIN!D222","v":0},{"$f":"ASIN!E222","v":0},{"$f":"ASIN!F222","v":0}]
[{"$f":"ASIN!A223","v":0},{"$f":"ASIN!B223","v":0},{"$f":"ASIN!C223","v":0},{"$f":"ASIN!D223","v":0},{"$f":"ASIN!E223","v":0},{"$f":"ASIN!F223","v":0}]
[{"$f":"ASIN!A224","v":0},{"$f":"ASIN!B224","v":0},{"$f":"ASIN!C224","v":0},{"$f":"ASIN!D224","v":0},{"$f":"ASIN!E224","v":0},{"$f":"ASIN!F224","v":0}]
[{"$f":"ASIN!A225","v":0},{"$f":"ASIN!B225","v":0},{"$f":"ASIN!C225","v":0},{"$f":"ASIN!D225","v":0},{"$f":"ASIN!E225","v":0},{"$f":"ASIN!F225","v":0}]
[{"$f":"ASIN!A226","v":0},{"$f":"ASIN!B226","v":0},{"$f":"ASIN!C226","v":0},{"$f":"ASIN!D226","v":0},{"$f":"ASIN!E226","v":0},{"$f":"ASIN!F226","v":0}]
[{"$f":"ASIN!A227","v":0},{"$f":"ASIN!B227","v":0},{"$f":"ASIN!C227","v":0},{"$f":"ASIN!D227","v":0},{"$f":"ASIN!E227","v":0},{"$f":"ASIN!F227","v":0}]
[{"$f":"ASIN!A228","v":0},{"$f":"ASIN!B228","v":0},{"$f":"ASIN!C228","v":0},{"$f":"ASIN!D228","v":0},{"$f":"ASIN!E228","v":0},{"$f":"ASIN!F228","v":0}]
[{"$f":"ASIN!A229","v":0},{"$f":"ASIN!B229","v":0},{"$f":"ASIN!C229","v":0},{"$f":"ASIN!D229","v":0},{"$f":"ASIN!E229","v":0},{"$f":"ASIN!F229","v":0}]
[{"$f":"ASIN!A230","v":0},{"$f":"ASIN!B230","v":0},{"$f":"ASIN!C230","v":0},{"$f":"ASIN!D230","v":0},{"$f":"ASIN!E230","v":0},{"$f":"ASIN!F230","v":0}]
[{"$f":"ASIN!A231","v":0},{"$f":"ASIN!B231","v":0},{"$f":"ASIN!C231","v":0},{"$f":"ASIN!D231","v":0},{"$f":"ASIN!E231","v":0},{"$f":"ASIN!F231","v":0}]
[{"$f":"ASIN!A232","v":0},{"$f":"ASIN!B232","v":0},{"$f":"ASIN!C232","v":0},{"$f":"ASIN!D232","v":0},{"$f":"ASIN!E232","v":0},{"$f":"ASIN!F232","v":0}]
[{"$f":"ASIN!A233","v":0},{"$f":"ASIN!B233","v":0},{"$f":"ASIN!C233","v":0},{"$f":"ASIN!D233","v":0},{"$f":"ASIN!E233","v":0},{"$f":"ASIN!F233","v":0}]
[{"$f":"ASIN!A234","v":0},{"$f":"ASIN!B234","v":0},{"$f":"ASIN!C234","v":0},{"$f":"ASIN!D234","v":0},{"$f":"ASIN!E234","v":0},{"$f":"ASIN!F234","v":0}]
[{"$f":"ASIN!A235","v":0},{"$f":"ASIN!B235","v":0},{"$f":"ASIN!C235","v":0},{"$f":"ASIN!D235","v":0},{"$f":"ASIN!E235","v":0},{"$f":"ASIN!F235","v":0}]
[{"$f":"ASIN!A236","v":0},{"$f":"ASIN!B236","v":0},{"$f":"ASIN!C236","v":0},{"$f":"ASIN!D236","v":0},{"$f":"ASIN!E236","v":0},{"$f":"ASIN!F236","v":0}]
[{"$f":"ASIN!A237","v":0},{"$f":"ASIN!B237","v":0},{"$f":"ASIN!C237","v":0},{"$f":"ASIN!D237","v":0},{"$f":"ASIN!E237","v":0},{"$f":"ASIN!F237","v":0}]
[{"$f":"ASIN!A238","v":0},{"$f":"ASIN!B238","v":0},{"$f":"ASIN!C238","v":0},{"$f":"ASIN!D238","v":0},{"$f":"ASIN!E238","v":0},{"$f":"ASIN!F238","v":0}]
[{"$f":"ASIN!A239","v":0},{"$f":"ASIN!B239","v":0},{"$f":"ASIN!C239","v":0},{"$f":"ASIN!D239","v":0},{"$f":"ASIN!E239","v":0},{"$f":"ASIN!F239","v":0}]
[{"$f":"ASIN!A240","v":0},{"$f":"ASIN!B240","v":0},{"$f":"ASIN!C240","v":0},{"$f":"ASIN!D240","v":0},{"$f":"ASIN!E240","v":0},{"$f":"ASIN!F240","v":0}]
[{"$f":"ASIN!A241","v":0},{"$f":"ASIN!B241","v":0},{"$f":"ASIN!C241","v":0},{"$f":"ASIN!D241","v":0},{"$f":"ASIN!E241","v":0},{"$f":"ASIN!F241","v":0}]
[{"$f":"ASIN!A242","v":0},{"$f":"ASIN!B242","v":0},{"$f":"ASIN!C242","v":0},{"$f":"ASIN!D242","v":0},{"$f":"ASIN!E242","v":0},{"$f":"ASIN!F242","v":0}]
[{"$f":"ASIN!A243","v":0},{"$f":"ASIN!B243","v":0},{"$f":"ASIN!C243","v":0},{"$f":"ASIN!D243","v":0},{"$f":"ASIN!E243","v":0},{"$f":"ASIN!F243","v":0}]
[{"$f":"ASIN!A244","v":0},{"$f":"ASIN!B244","v":0},{"$f":"ASIN!C244","v":0},{"$f":"ASIN!D244","v":0},{"$f":"ASIN!E244","v":0},{"$f":"ASIN!F244","v":0}]
[{"$f":"ASIN!A245","v":0},{"$f":"ASIN!B245","v":0},{"$f":"ASIN!C245","v":0},{"$f":"ASIN!D245","v":0},{"$f":"ASIN!E245","v":0},{"$f":"ASIN!F245","v":0}]
[{"$f":"ASIN!A246","v":0},{"$f":"ASIN!B246","v":0},{"$f":"ASIN!C246","v":0},{"$f":"ASIN!D246","v":0},{"$f":"ASIN!E246","v":0},{"$f":"ASIN!F246","v":0}]
[{"$f":"ASIN!A247","v":0},{"$f":"ASIN!B247","v":0},{"$f":"ASIN!C247","v":0},{"$f":"ASIN!D247","v":0},{"$f":"ASIN!E247","v":0},{"$f":"ASIN!F247","v":0}]
[{"$f":"ASIN!A248","v":0},{"$f":"ASIN!B248","v":0},{"$f":"ASIN!C248","v":0},{"$f":"ASIN!D248","v":0},{"$f":"ASIN!E248","v":0},{"$f":"ASIN!F248","v":0}]
[{"$f":"ASIN!A249","v":0},{"$f":"ASIN!B249","v":0},{"$f":"ASIN!C249","v":0},{"$f":"ASIN!D249","v":0},{"$f":"ASIN!E249","v":0},{"$f":"ASIN!F249","v":0}]
[{"$f":"ASIN!A250","v":0},{"$f":"ASIN!B250","v":0},{"$f":"ASIN!C250","v":0},{"$f":"ASIN!D250","v":0},{"$f":"ASIN!E250","v":0},{"$f":"ASIN!F250","v":0}]
[{"$f":"ASIN!A251","v":0},{"$f":"ASIN!B251","v":0},{"$f":"ASIN!C251","v":0},{"$f":"ASIN!D251","v":0},{"$f":"ASIN!E251","v":0},{"$f":"ASIN!F251","v":0}]
[{"$f":"ASIN!A252","v":0},{"$f":"ASIN!B252","v":0},{"$f":"ASIN!C252","v":0},{"$f":"ASIN!D252","v":0},{"$f":"ASIN!E252","v":0},{"$f":"ASIN!F252","v":0}]
[{"$f":"ASIN!A253","v":0},{"$f":"ASIN!B253","v":0},{"$f":"ASIN!C253","v":0},{"$f":"ASIN!D253","v":0},{"$f":"ASIN!E253","v":0},{"$f":"ASIN!F253","v":0}]
[{"$f":"ASIN!A254","v":0},{"$f":"ASIN!B254","v":0},{"$f":"ASIN!C254","v":0},{"$f":"ASIN!D254","v":0},{"$f":"ASIN!E254","v":0},{"$f":"ASIN!F254","v":0}]
[{"$f":"ASIN!A255","v":0},{"$f":"ASIN!B255","v":0},{"$f":"ASIN!C255","v":0},{"$f":"ASIN!D255","v":0},{"$f":"ASIN!E255","v":0},{"$f":"ASIN!F255","v":0}]
[{"$f":"ASIN!A256","v":0},{"$f":"ASIN!B256","v":0},{"$f":"ASIN!C256","v":0},{"$f":"ASIN!D256","v":0},{"$f":"ASIN!E256","v":0},{"$f":"ASIN!F256","v":0}]
[{"$f":"ASIN!A257","v":0},{"$f":"ASIN!B257","v":0},{"$f":"ASIN!C257","v":0},{"$f":"ASIN!D257","v":0},{"$f":"ASIN!E257","v":0},{"$f":"ASIN!F257","v":0}]
[{"$f":"ASIN!A258","v":0},{"$f":"ASIN!B258","v":0},{"$f":"ASIN!C258","v":0},{"$f":"ASIN!D258","v":0},{"$f":"ASIN!E258","v":0},{"$f":"ASIN!F258","v":0}]
[{"$f":"ASIN!A259","v":0},{"$f":"ASIN!B259","v":0},{"$f":"ASIN!C259","v":0},{"$f":"ASIN!D259","v":0},{"$f":"ASIN!E259","v":0},{"$f":"ASIN!F259","v":0}]
[{"$f":"ASIN!A260","v":0},{"$f":"ASIN!B260","v":0},{"$f":"ASIN!C260","v":0},{"$f":"ASIN!D260","v":0},{"$f":"ASIN!E260","v":0},{"$f":"ASIN!F260","v":0}]
[{"$f":"ASIN!A261","v":0},{"$f":"ASIN!B261","v":0},{"$f":"ASIN!C261","v":0},{"$f":"ASIN!D261","v":0},{"$f":"ASIN!E261","v":0},{"$f":"ASIN!F261","v":0}]
[{"$f":"ASIN!A262","v":0},{"$f":"ASIN!B262","v":0},{"$f":"ASIN!C262","v":0},{"$f":"ASIN!D262","v":0},{"$f":"ASIN!E262","v":0},{"$f":"ASIN!F262","v":0}]
[{"$f":"ASIN!A263","v":0},{"$f":"ASIN!B263","v":0},{"$f":"ASIN!C263","v":0},{"$f":"ASIN!D263","v":0},{"$f":"ASIN!E263","v":0},{"$f":"ASIN!F263","v":0}]
[{"$f":"ASIN!A264","v":0},{"$f":"ASIN!B264","v":0},{"$f":"ASIN!C264","v":0},{"$f":"ASIN!D264","v":0},{"$f":"ASIN!E264","v":0},{"$f":"ASIN!F264","v":0}]
[{"$f":"ASIN!A265","v":0},{"$f":"ASIN!B265","v":0},{"$f":"ASIN!C265","v":0},{"$f":"ASIN!D265","v":0},{"$f":"ASIN!E265","v":0},{"$f":"ASIN!F265","v":0}]
[{"$f":"ASIN!A266","v":0},{"$f":"ASIN!B266","v":0},{"$f":"ASIN!C266","v":0},{"$f":"ASIN!D266","v":0},{"$f":"ASIN!E266","v":0},{"$f":"ASIN!F266","v":0}]
[{"$f":"ASIN!A267","v":0},{"$f":"ASIN!B267","v":0},{"$f":"ASIN!C267","v":0},{"$f":"ASIN!D267","v":0},{"$f":"ASIN!E267","v":0},{"$f":"ASIN!F267","v":0}]
[{"$f":"ASIN!A268","v":0},{"$f":"ASIN!B268","v":0},{"$f":"ASIN!C268","v":0},{"$f":"ASIN!D268","v":0},{"$f":"ASIN!E268","v":0},{"$f":"ASIN!F268","v":0}]
[{"$f":"ASIN!A269","v":0},{"$f":"ASIN!B269","v":0},{"$f":"ASIN!C269","v":0},{"$f":"ASIN!D269","v":0},{"$f":"ASIN!E269","v":0},{"$f":"ASIN!F269","v":0}]
[{"$f":"ASIN!A270","v":0},{"$f":"ASIN!B270","v":0},{"$f":"ASIN!C270","v":0},{"$f":"ASIN!D270","v":0},{"$f":"ASIN!E270","v":0},{"$f":"ASIN!F270","v":0}]
[{"$f":"ASIN!A271","v":0},{"$f":"ASIN!B271","v":0},{"$f":"ASIN!C271","v":0},{"$f":"ASIN!D271","v":0},{"$f":"ASIN!E271","v":0},{"$f":"ASIN!F271","v":0}]
[{"$f":"ASIN!A272","v":0},{"$f":"ASIN!B272","v":0},{"$f":"ASIN!C272","v":0},{"$f":"ASIN!D272","v":0},{"$f":"ASIN!E272","v":0},{"$f":"ASIN!F272","v":0}]
[{"$f":"ASIN!A273","v":0},{"$f":"ASIN!B273","v":0},{"$f":"ASIN!C273","v":0},{"$f":"ASIN!D273","v":0},{"$f":"ASIN!E273","v":0},{"$f":"ASIN!F273","v":0}]
[{"$f":"ASIN!A274","v":0},{"$f":"ASIN!B274","v":0},{"$f":"ASIN!C274","v":0},{"$f":"ASIN!D274","v":0},{"$f":"ASIN!E274","v":0},{"$f":"ASIN!F274","v":0}]
[{"$f":"ASIN!A275","v":0},{"$f":"ASIN!B275","v":0},{"$f":"ASIN!C275","v":0},{"$f":"ASIN!D275","v":0},{"$f":"ASIN!E275","v":0},{"$f":"ASIN!F275","v":0}]
[{"$f":"ASIN!A276","v":0},{"$f":"ASIN!B276","v":0},{"$f":"ASIN!C276","v":0},{"$f":"ASIN!D276","v":0},{"$f":"ASIN!E276","v":0},{"$f":"ASIN!F276","v":0}]
[{"$f":"ASIN!A277","v":0},{"$f":"ASIN!B277","v":0},{"$f":"ASIN!C277","v":0},{"$f":"ASIN!D277","v":0},{"$f":"ASIN!E277","v":0},{"$f":"ASIN!F277","v":0}]
[{"$f":"ASIN!A278","v":0},{"$f":"ASIN!B278","v":0},{"$f":"ASIN!C278","v":0},{"$f":"ASIN!D278","v":0},{"$f":"ASIN!E278","v":0},{"$f":"ASIN!F278","v":0}]
[{"$f":"ASIN!A279","v":0},{"$f":"ASIN!B279","v":0},{"$f":"ASIN!C279","v":0},{"$f":"ASIN!D279","v":0},{"$f":"ASIN!E279","v":0},{"$f":"ASIN!F279","v":0}]
[{"$f":"ASIN!A280","v":0},{"$f":"ASIN!B280","v":0},{"$f":"ASIN!C280","v":0},{"$f":"ASIN!D280","v":0},{"$f":"ASIN!E280","v":0},{"$f":"ASIN!F280","v":0}]
[{"$f":"ASIN!A281","v":0},{"$f":"ASIN!B281","v":0},{"$f":"ASIN!C281","v":0},{"$f":"ASIN!D281","v":0},{"$f":"ASIN!E281","v":0},{"$f":"ASIN!F281","v":0}]
[{"$f":"ASIN!A282","v":0},{"$f":"ASIN!B282","v":0},{"$f":"ASIN!C282","v":0},{"$f":"ASIN!D282","v":0},{"$f":"ASIN!E282","v":0},{"$f":"ASIN!F282","v":0}]
[{"$f":"ASIN!A283","v":0},{"$f":"ASIN!B283","v":0},{"$f":"ASIN!C283","v":0},{"$f":"ASIN!D283","v":0},{"$f":"ASIN!E283","v":0},{"$f":"ASIN!F283","v":0}]
[{"$f":"ASIN!A284","v":0},{"$f":"ASIN!B284","v":0},{"$f":"ASIN!C284","v":0},{"$f":"ASIN!D284","v":0},{"$f":"ASIN!E284","v":0},{"$f":"ASIN!F284","v":0}]
[{"$f":"ASIN!A285","v":0},{"$f":"ASIN!B285","v":0},{"$f":"ASIN!C285","v":0},{"$f":"ASIN!D285","v":0},{"$f":"ASIN!E285","v":0},{"$f":"ASIN!F285","v":0}]
[{"$f":"ASIN!A286","v":0},{"$f":"ASIN!B286","v":0},{"$f":"ASIN!C286","v":0},{"$f":"ASIN!D286","v":0},{"$f":"ASIN!E286","v":0},{"$f":"ASIN!F286","v":0}]
[{"$f":"ASIN!A287","v":0},{"$f":"ASIN!B287","v":0},{"$f":"ASIN!C287","v":0},{"$f":"ASIN!D287","v":0},{"$f":"ASIN!E287","v":0},{"$f":"ASIN!F287","v":0}]
[{"$f":"ASIN!A288","v":0},{"$f":"ASIN!B288","v":0},{"$f":"ASIN!C288","v":0},{"$f":"ASIN!D288","v":0},{"$f":"ASIN!E288","v":0},{"$f":"ASIN!F288","v":0}]
[{"$f":"ASIN!A289","v":0},{"$f":"ASIN!B289","v":0},{"$f":"ASIN!C289","v":0},{"$f":"ASIN!D289","v":0},{"$f":"ASIN!E289","v":0},{"$f":"ASIN!F289","v":0}]
[{"$f":"ASIN!A290","v":0},{"$f":"ASIN!B290","v":0},{"$f":"ASIN!C290","v":0},{"$f":"ASIN!D290","v":0},{"$f":"ASIN!E290","v":0},{"$f":"ASIN!F290","v":0}]
[{"$f":"ASIN!A291","v":0},{"$f":"ASIN!B291","v":0},{"$f":"ASIN!C291","v":0},{"$f":"ASIN!D291","v":0},{"$f":"ASIN!E291","v":0},{"$f":"ASIN!F291","v":0}]
[{"$f":"ASIN!A292","v":0},{"$f":"ASIN!B292","v":0},{"$f":"ASIN!C292","v":0},{"$f":"ASIN!D292","v":0},{"$f":"ASIN!E292","v":0},{"$f":"ASIN!F292","v":0}]
[{"$f":"ASIN!A293","v":0},{"$f":"ASIN!B293","v":0},{"$f":"ASIN!C293","v":0},{"$f":"ASIN!D293","v":0},{"$f":"ASIN!E293","v":0},{"$f":"ASIN!F293","v":0}]
[{"$f":"ASIN!A294","v":0},{"$f":"ASIN!B294","v":0},{"$f":"ASIN!C294","v":0},{"$f":"ASIN!D294","v":0},{"$f":"ASIN!E294","v":0},{"$f":"ASIN!F294","v":0}]
[{"$f":"ASIN!A295","v":0},{"$f":"ASIN!B295","v":0},{"$f":"ASIN!C295","v":0},{"$f":"ASIN!D295","v":0},{"$f":"ASIN!E295","v":0},{"$f":"ASIN!F295","v":0}]
[{"$f":"ASIN!A296","v":0},{"$f":"ASIN!B296","v":0},{"$f":"ASIN!C296","v":0},{"$f":"ASIN!D296","v":0},{"$f":"ASIN!E296","v":0},{"$f":"ASIN!F296","v":0}]
[{"$f":"ASIN!A297","v":0},{"$f":"ASIN!B297","v":0},{"$f":"ASIN!C297","v":0},{"$f":"ASIN!D297","v":0},{"$f":"ASIN!E297","v":0},{"$f":"ASIN!F297","v":0}]
[{"$f":"ASIN!A298","v":0},{"$f":"ASIN!B298","v":0},{"$f":"ASIN!C298","v":0},{"$f":"ASIN!D298","v":0},{"$f":"ASIN!E298","v":0},{"$f":"ASIN!F298","v":0}]
[{"$f":"ASIN!A299","v":0},{"$f":"ASIN!B299","v":0},{"$f":"ASIN!C299","v":0},{"$f":"ASIN!D299","v":0},{"$f":"ASIN!E299","v":0},{"$f":"ASIN!F299","v":0}]
[{"$f":"ASIN!A300","v":0},{"$f":"ASIN!B300","v":0},{"$f":"ASIN!C300","v":0},{"$f":"ASIN!D300","v":0},{"$f":"ASIN!E300","v":0},{"$f":"ASIN!F300","v":0}]
[{"$f":"ASIN!A301","v":0},{"$f":"ASIN!B301","v":0},{"$f":"ASIN!C301","v":0},{"$f":"ASIN!D301","v":0},{"$f":"ASIN!E301","v":0},{"$f":"ASIN!F301","v":0}]
[{"$f":"ASIN!A302","v":0},{"$f":"ASIN!B302","v":0},{"$f":"ASIN!C302","v":0},{"$f":"ASIN!D302","v":0},{"$f":"ASIN!E302","v":0},{"$f":"ASIN!F302","v":0}]
[{"$f":"ASIN!A303","v":0},{"$f":"ASIN!B303","v":0},{"$f":"ASIN!C303","v":0},{"$f":"ASIN!D303","v":0},{"$f":"ASIN!E303","v":0},{"$f":"ASIN!F303","v":0}]
[{"$f":"ASIN!A304","v":0},{"$f":"ASIN!B304","v":0},{"$f":"ASIN!C304","v":0},{"$f":"ASIN!D304","v":0},{"$f":"ASIN!E304","v":0},{"$f":"ASIN!F304","v":0}]
[{"$f":"ASIN!A305","v":0},{"$f":"ASIN!B305","v":0},{"$f":"ASIN!C305","v":0},{"$f":"ASIN!D305","v":0},{"$f":"ASIN!E305","v":0},{"$f":"ASIN!F305","v":0}]
[{"$f":"ASIN!A306","v":0},{"$f":"ASIN!B306","v":0},{"$f":"ASIN!C306","v":0},{"$f":"ASIN!D306","v":0},{"$f":"ASIN!E306","v":0},{"$f":"ASIN!F306","v":0}]
[{"$f":"ASIN!A307","v":0},{"$f":"ASIN!B307","v":0},{"$f":"ASIN!C307","v":0},{"$f":"ASIN!D307","v":0},{"$f":"ASIN!E307","v":0},{"$f":"ASIN!F307","v":0}]
[{"$f":"ASIN!A308","v":0},{"$f":"ASIN!B308","v":0},{"$f":"ASIN!C308","v":0},{"$f":"ASIN!D308","v":0},{"$f":"ASIN!E308","v":0},{"$f":"ASIN!F308","v":0}]
[{"$f":"ASIN!A309","v":0},{"$f":"ASIN!B309","v":0},{"$f":"ASIN!C309","v":0},{"$f":"ASIN!D309","v":0},{"$f":"ASIN!E309","v":0},{"$f":"ASIN!F309","v":0}]
[{"$f":"ASIN!A310","v":0},{"$f":"ASIN!B310","v":0},{"$f":"ASIN!C310","v":0},{"$f":"ASIN!D310","v":0},{"$f":"ASIN!E310","v":0},{"$f":"ASIN!F310","v":0}]
[{"$f":"ASIN!A311","v":0},{"$f":"ASIN!B311","v":0},{"$f":"ASIN!C311","v":0},{"$f":"ASIN!D311","v":0},{"$f":"ASIN!E311","v":0},{"$f":"ASIN!F311","v":0}]
[{"$f":"ASIN!A312","v":0},{"$f":"ASIN!B312","v":0},{"$f":"ASIN!C312","v":0},{"$f":"ASIN!D312","v":0},{"$f":"ASIN!E312","v":0},{"$f":"ASIN!F312","v":0}]
[{"$f":"ASIN!A313","v":0},{"$f":"ASIN!B313","v":0},{"$f":"ASIN!C313","v":0},{"$f":"ASIN!D313","v":0},{"$f":"ASIN!E313","v":0},{"$f":"ASIN!F313","v":0}]
[{"$f":"ASIN!A314","v":0},{"$f":"ASIN!B314","v":0},{"$f":"ASIN!C314","v":0},{"$f":"ASIN!D314","v":0},{"$f":"ASIN!E314","v":0},{"$f":"ASIN!F314","v":0}]
[{"$f":"ASIN!A315","v":0},{"$f":"ASIN!B315","v":0},{"$f":"ASIN!C315","v":0},{"$f":"ASIN!D315","v":0},{"$f":"ASIN!E315","v":0},{"$f":"ASIN!F315","v":0}]
[{"$f":"ASIN!A316","v":0},{"$f":"ASIN!B316","v":0},{"$f":"ASIN!C316","v":0},{"$f":"ASIN!D316","v":0},{"$f":"ASIN!E316","v":0},{"$f":"ASIN!F316","v":0}]
[{"$f":"ASIN!A317","v":0},{"$f":"ASIN!B317","v":0},{"$f":"ASIN!C317","v":0},{"$f":"ASIN!D317","v":0},{"$f":"ASIN!E317","v":0},{"$f":"ASIN!F317","v":0}]
[{"$f":"ASIN!A318","v":0},{"$f":"ASIN!B318","v":0},{"$f":"ASIN!C318","v":0},{"$f":"ASIN!D318","v":0},{"$f":"ASIN!E318","v":0},{"$f":"ASIN!F318","v":0}]
[{"$f":"ASIN!A319","v":0},{"$f":"ASIN!B319","v":0},{"$f":"ASIN!C319","v":0},{"$f":"ASIN!D319","v":0},{"$f":"ASIN!E319","v":0},{"$f":"ASIN!F319","v":0}]
[{"$f":"ASIN!A320","v":0},{"$f":"ASIN!B320","v":0},{"$f":"ASIN!C320","v":0},{"$f":"ASIN!D320","v":0},{"$f":"ASIN!E320","v":0},{"$f":"ASIN!F320","v":0}]
[{"$f":"ASIN!A321","v":0},{"$f":"ASIN!B321","v":0},{"$f":"ASIN!C321","v":0},{"$f":"ASIN!D321","v":0},{"$f":"ASIN!E321","v":0},{"$f":"ASIN!F321","v":0}]
[{"$f":"ASIN!A322","v":0},{"$f":"ASIN!B322","v":0},{"$f":"ASIN!C322","v":0},{"$f":"ASIN!D322","v":0},{"$f":"ASIN!E322","v":0},{"$f":"ASIN!F322","v":0}]
[{"$f":"ASIN!A323","v":0},{"$f":"ASIN!B323","v":0},{"$f":"ASIN!C323","v":0},{"$f":"ASIN!D323","v":0},{"$f":"ASIN!E323","v":0},{"$f":"ASIN!F323","v":0}]
[{"$f":"ASIN!A324","v":0},{"$f":"ASIN!B324","v":0},{"$f":"ASIN!C324","v":0},{"$f":"ASIN!D324","v":0},{"$f":"ASIN!E324","v":0},{"$f":"ASIN!F324","v":0}]
[{"$f":"ASIN!A325","v":0},{"$f":"ASIN!B325","v":0},{"$f":"ASIN!C325","v":0},{"$f":"ASIN!D325","v":0},{"$f":"ASIN!E325","v":0},{"$f":"ASIN!F325","v":0}]
[{"$f":"ASIN!A326","v":0},{"$f":"ASIN!B326","v":0},{"$f":"ASIN!C326","v":0},{"$f":"ASIN!D326","v":0},{"$f":"ASIN!E326","v":0},{"$f":"ASIN!F326","v":0}]
[{"$f":"ASIN!A327","v":0},{"$f":"ASIN!B327","v":0},{"$f":"ASIN!C327","v":0},{"$f":"ASIN!D327","v":0},{"$f":"ASIN!E327","v":0},{"$f":"ASIN!F327","v":0}]
[{"$f":"ASIN!A328","v":0},{"$f":"ASIN!B328","v":0},{"$f":"ASIN!C328","v":0},{"$f":"ASIN!D328","v":0},{"$f":"ASIN!E328","v":0},{"$f":"ASIN!F328","v":0}]
[{"$f":"ASIN!A329","v":0},{"$f":"ASIN!B329","v":0},{"$f":"ASIN!C329","v":0},{"$f":"ASIN!D329","v":0},{"$f":"ASIN!E329","v":0},{"$f":"ASIN!F329","v":0}]
[{"$f":"ASIN!A330","v":0},{"$f":"ASIN!B330","v":0},{"$f":"ASIN!C330","v":0},{"$f":"ASIN!D330","v":0},{"$f":"ASIN!E330","v":0},{"$f":"ASIN!F330","v":0}]
[{"$f":"ASIN!A331","v":0},{"$f":"ASIN!B331","v":0},{"$f":"ASIN!C331","v":0},{"$f":"ASIN!D331","v":0},{"$f":"ASIN!E331","v":0},{"$f":"ASIN!F331","v":0}]
[{"$f":"ASIN!A332","v":0},{"$f":"ASIN!B332","v":0},{"$f":"ASIN!C332","v":0},{"$f":"ASIN!D332","v":0},{"$f":"ASIN!E332","v":0},{"$f":"ASIN!F332","v":0}]
[{"$f":"ASIN!A333","v":0},{"$f":"ASIN!B333","v":0},{"$f":"ASIN!C333","v":0},{"$f":"ASIN!D333","v":0},{"$f":"ASIN!E333","v":0},{"$f":"ASIN!F333","v":0}]
[{"$f":"ASIN!A334","v":0},{"$f":"ASIN!B334","v":0},{"$f":"ASIN!C334","v":0},{"$f":"ASIN!D334","v":0},{"$f":"ASIN!E334","v":0},{"$f":"ASIN!F334","v":0}]
[{"$f":"ASIN!A335","v":0},{"$f":"ASIN!B335","v":0},{"$f":"ASIN!C335","v":0},{"$f":"ASIN!D335","v":0},{"$f":"ASIN!E335","v":0},{"$f":"ASIN!F335","v":0}]
[{"$f":"ASIN!A336","v":0},{"$f":"ASIN!B336","v":0},{"$f":"ASIN!C336","v":0},{"$f":"ASIN!D336","v":0},{"$f":"ASIN!E336","v":0},{"$f":"ASIN!F336","v":0}]
[{"$f":"ASIN!A337","v":0},{"$f":"ASIN!B337","v":0},{"$f":"ASIN!C337","v":0},{"$f":"ASIN!D337","v":0},{"$f":"ASIN!E337","v":0},{"$f":"ASIN!F337","v":0}]
[{"$f":"ASIN!A338","v":0},{"$f":"ASIN!B338","v":0},{"$f":"ASIN!C338","v":0},{"$f":"ASIN!D338","v":0},{"$f":"ASIN!E338","v":0},{"$f":"ASIN!F338","v":0}]
[{"$f":"ASIN!A339","v":0},{"$f":"ASIN!B339","v":0},{"$f":"ASIN!C339","v":0},{"$f":"ASIN!D339","v":0},{"$f":"ASIN!E339","v":0},{"$f":"ASIN!F339","v":0}]
[{"$f":"ASIN!A340","v":0},{"$f":"ASIN!B340","v":0},{"$f":"ASIN!C340","v":0},{"$f":"ASIN!D340","v":0},{"$f":"ASIN!E340","v":0},{"$f":"ASIN!F340","v":0}]
[{"$f":"ASIN!A341","v":0},{"$f":"ASIN!B341","v":0},{"$f":"ASIN!C341","v":0},{"$f":"ASIN!D341","v":0},{"$f":"ASIN!E341","v":0},{"$f":"ASIN!F341","v":0}]
[{"$f":"ASIN!A342","v":0},{"$f":"ASIN!B342","v":0},{"$f":"ASIN!C342","v":0},{"$f":"ASIN!D342","v":0},{"$f":"ASIN!E342","v":0},{"$f":"ASIN!F342","v":0}]
[{"$f":"ASIN!A343","v":0},{"$f":"ASIN!B343","v":0},{"$f":"ASIN!C343","v":0},{"$f":"ASIN!D343","v":0},{"$f":"ASIN!E343","v":0},{"$f":"ASIN!F343","v":0}]
[{"$f":"ASIN!A344","v":0},{"$f":"ASIN!B344","v":0},{"$f":"ASIN!C344","v":0},{"$f":"ASIN!D344","v":0},{"$f":"ASIN!E344","v":0},{"$f":"ASIN!F344","v":0}]
[{"$f":"ASIN!A345","v":0},{"$f":"ASIN!B345","v":0},{"$f":"ASIN!C345","v":0},{"$f":"ASIN!D345","v":0},{"$f":"ASIN!E345","v":0},{"$f":"ASIN!F345","v":0}]
[{"$f":"ASIN!A346","v":0},{"$f":"ASIN!B346","v":0},{"$f":"ASIN!C346","v":0},{"$f":"ASIN!D346","v":0},{"$f":"ASIN!E346","v":0},{"$f":"ASIN!F346","v":0}]
[{"$f":"ASIN!A347","v":0},{"$f":"ASIN!B347","v":0},{"$f":"ASIN!C347","v":0},{"$f":"ASIN!D347","v":0},{"$f":"ASIN!E347","v":0},{"$f":"ASIN!F347","v":0}]
[{"$f":"ASIN!A348","v":0},{"$f":"ASIN!B348","v":0},{"$f":"ASIN!C348","v":0},{"$f":"ASIN!D348","v":0},{"$f":"ASIN!E348","v":0},{"$f":"ASIN!F348","v":0}]
[{"$f":"ASIN!A349","v":0},{"$f":"ASIN!B349","v":0},{"$f":"ASIN!C349","v":0},{"$f":"ASIN!D349","v":0},{"$f":"ASIN!E349","v":0},{"$f":"ASIN!F349","v":0}]
[{"$f":"ASIN!A350","v":0},{"$f":"ASIN!B350","v":0},{"$f":"ASIN!C350","v":0},{"$f":"ASIN!D350","v":0},{"$f":"ASIN!E350","v":0},{"$f":"ASIN!F350","v":0}]
[{"$f":"ASIN!A351","v":0},{"$f":"ASIN!B351","v":0},{"$f":"ASIN!C351","v":0},{"$f":"ASIN!D351","v":0},{"$f":"ASIN!E351","v":0},{"$f":"ASIN!F351","v":0}]
[{"$f":"ASIN!A352","v":0},{"$f":"ASIN!B352","v":0},{"$f":"ASIN!C352","v":0},{"$f":"ASIN!D352","v":0},{"$f":"ASIN!E352","v":0},{"$f":"ASIN!F352","v":0}]
[{"$f":"ASIN!A353","v":0},{"$f":"ASIN!B353","v":0},{"$f":"ASIN!C353","v":0},{"$f":"ASIN!D353","v":0},{"$f":"ASIN!E353","v":0},{"$f":"ASIN!F353","v":0}]
[{"$f":"ASIN!A354","v":0},{"$f":"ASIN!B354","v":0},{"$f":"ASIN!C354","v":0},{"$f":"ASIN!D354","v":0},{"$f":"ASIN!E354","v":0},{"$f":"ASIN!F354","v":0}]
[{"$f":"ASIN!A355","v":0},{"$f":"ASIN!B355","v":0},{"$f":"ASIN!C355","v":0},{"$f":"ASIN!D355","v":0},{"$f":"ASIN!E355","v":0},{"$f":"ASIN!F355","v":0}]
[{"$f":"ASIN!A356","v":0},{"$f":"ASIN!B356","v":0},{"$f":"ASIN!C356","v":0},{"$f":"ASIN!D356","v":0},{"$f":"ASIN!E356","v":0},{"$f":"ASIN!F356","v":0}]
[{"$f":"ASIN!A357","v":0},{"$f":"ASIN!B357","v":0},{"$f":"ASIN!C357","v":0},{"$f":"ASIN!D357","v":0},{"$f":"ASIN!E357","v":0},{"$f":"ASIN!F357","v":0}]
[{"$f":"ASIN!A358","v":0},{"$f":"ASIN!B358","v":0},{"$f":"ASIN!C358","v":0},{"$f":"ASIN!D358","v":0},{"$f":"ASIN!E358","v":0},{"$f":"ASIN!F358","v":0}]
[{"$f":"ASIN!A359","v":0},{"$f":"ASIN!B359","v":0},{"$f":"ASIN!C359","v":0},{"$f":"ASIN!D359","v":0},{"$f":"ASIN!E359","v":0},{"$f":"ASIN!F359","v":0}]
[{"$f":"ASIN!A360","v":0},{"$f":"ASIN!B360","v":0},{"$f":"ASIN!C360","v":0},{"$f":"ASIN!D360","v":0},{"$f":"ASIN!E360","v":0},{"$f":"ASIN!F360","v":0}]
[{"$f":"ASIN!A361","v":0},{"$f":"ASIN!B361","v":0},{"$f":"ASIN!C361","v":0},{"$f":"ASIN!D361","v":0},{"$f":"ASIN!E361","v":0},{"$f":"ASIN!F361","v":0}]
[{"$f":"ASIN!A362","v":0},{"$f":"ASIN!B362","v":0},{"$f":"ASIN!C362","v":0},{"$f":"ASIN!D362","v":0},{"$f":"ASIN!E362","v":0},{"$f":"ASIN!F362","v":0}]
[{"$f":"ASIN!A363","v":0},{"$f":"ASIN!B363","v":0},{"$f":"ASIN!C363","v":0},{"$f":"ASIN!D363","v":0},{"$f":"ASIN!E363","v":0},{"$f":"ASIN!F363","v":0}]
[{"$f":"ASIN!A364","v":0},{"$f":"ASIN!B364","v":0},{"$f":"ASIN!C364","v":0},{"$f":"ASIN!D364","v":0},{"$f":"ASIN!E364","v":0},{"$f":"ASIN!F364","v":0}]
[{"$f":"ASIN!A365","v":0},{"$f":"ASIN!B365","v":0},{"$f":"ASIN!C365","v":0},{"$f":"ASIN!D365","v":0},{"$f":"ASIN!E365","v":0},{"$f":"ASIN!F365","v":0}]
[{"$f":"ASIN!A366","v":0},{"$f":"ASIN!B366","v":0},{"$f":"ASIN!C366","v":0},{"$f":"ASIN!D366","v":0},{"$f":"ASIN!E366","v":0},{"$f":"ASIN!F366","v":0}]
[{"$f":"ASIN!A367","v":0},{"$f":"ASIN!B367","v":0},{"$f":"ASIN!C367","v":0},{"$f":"ASIN!D367","v":0},{"$f":"ASIN!E367","v":0},{"$f":"ASIN!F367","v":0}]
[{"$f":"ASIN!A368","v":0},{"$f":"ASIN!B368","v":0},{"$f":"ASIN!C368","v":0},{"$f":"ASIN!D368","v":0},{"$f":"ASIN!E368","v":0},{"$f":"ASIN!F368","v":0}]
[{"$f":"ASIN!A369","v":0},{"$f":"ASIN!B369","v":0},{"$f":"ASIN!C369","v":0},{"$f":"ASIN!D369","v":0},{"$f":"ASIN!E369","v":0},{"$f":"ASIN!F369","v":0}]
[{"$f":"ASIN!A370","v":0},{"$f":"ASIN!B370","v":0},{"$f":"ASIN!C370","v":0},{"$f":"ASIN!D370","v":0},{"$f":"ASIN!E370","v":0},{"$f":"ASIN!F370","v":0}]
[{"$f":"ASIN!A371","v":0},{"$f":"ASIN!B371","v":0},{"$f":"ASIN!C371","v":0},{"$f":"ASIN!D371","v":0},{"$f":"ASIN!E371","v":0},{"$f":"ASIN!F371","v":0}]
[{"$f":"ASIN!A372","v":0},{"$f":"ASIN!B372","v":0},{"$f":"ASIN!C372","v":0},{"$f":"ASIN!D372","v":0},{"$f":"ASIN!E372","v":0},{"$f":"ASIN!F372","v":0}]
[{"$f":"ASIN!A373","v":0},{"$f":"ASIN!B373","v":0},{"$f":"ASIN!C373","v":0},{"$f":"ASIN!D373","v":0},{"$f":"ASIN!E373","v":0},{"$f":"ASIN!F373","v":0}]
[{"$f":"ASIN!A374","v":0},{"$f":"ASIN!B374","v":0},{"$f":"ASIN!C374","v":0},{"$f":"ASIN!D374","v":0},{"$f":"ASIN!E374","v":0},{"$f":"ASIN!F374","v":0}]
[{"$f":"ASIN!A375","v":0},{"$f":"ASIN!B375","v":0},{"$f":"ASIN!C375","v":0},{"$f":"ASIN!D375","v":0},{"$f":"ASIN!E375","v":0},{"$f":"ASIN!F375","v":0}]
[{"$f":"ASIN!A376","v":0},{"$f":"ASIN!B376","v":0},{"$f":"ASIN!C376","v":0},{"$f":"ASIN!D376","v":0},{"$f":"ASIN!E376","v":0},{"$f":"ASIN!F376","v":0}]
[{"$f":"ASIN!A377","v":0},{"$f":"ASIN!B377","v":0},{"$f":"ASIN!C377","v":0},{"$f":"ASIN!D377","v":0},{"$f":"ASIN!E377","v":0},{"$f":"ASIN!F377","v":0}]
[{"$f":"ASIN!A378","v":0},{"$f":"ASIN!B378","v":0},{"$f":"ASIN!C378","v":0},{"$f":"ASIN!D378","v":0},{"$f":"ASIN!E378","v":0},{"$f":"ASIN!F378","v":0}]
[{"$f":"ASIN!A379","v":0},{"$f":"ASIN!B379","v":0},{"$f":"ASIN!C379","v":0},{"$f":"ASIN!D379","v":0},{"$f":"ASIN!E379","v":0},{"$f":"ASIN!F379","v":0}]
[{"$f":"ASIN!A380","v":0},{"$f":"ASIN!B380","v":0},{"$f":"ASIN!C380","v":0},{"$f":"ASIN!D380","v":0},{"$f":"ASIN!E380","v":0},{"$f":"ASIN!F380","v":0}]
[{"$f":"ASIN!A381","v":0},{"$f":"ASIN!B381","v":0},{"$f":"ASIN!C381","v":0},{"$f":"ASIN!D381","v":0},{"$f":"ASIN!E381","v":0},{"$f":"ASIN!F381","v":0}]
[{"$f":"ASIN!A382","v":0},{"$f":"ASIN!B382","v":0},{"$f":"ASIN!C382","v":0},{"$f":"ASIN!D382","v":0},{"$f":"ASIN!E382","v":0},{"$f":"ASIN!F382","v":0}]
[{"$f":"ASIN!A383","v":0},{"$f":"ASIN!B383","v":0},{"$f":"ASIN!C383","v":0},{"$f":"ASIN!D383","v":0},{"$f":"ASIN!E383","v":0},{"$f":"ASIN!F383","v":0}]
[{"$f":"ASIN!A384","v":0},{"$f":"ASIN!B384","v":0},{"$f":"ASIN!C384","v":0},{"$f":"ASIN!D384","v":0},{"$f":"ASIN!E384","v":0},{"$f":"ASIN!F384","v":0}]
[{"$f":"ASIN!A385","v":0},{"$f":"ASIN!B385","v":0},{"$f":"ASIN!C385","v":0},{"$f":"ASIN!D385","v":0},{"$f":"ASIN!E385","v":0},{"$f":"ASIN!F385","v":0}]
[{"$f":"ASIN!A386","v":0},{"$f":"ASIN!B386","v":0},{"$f":"ASIN!C386","v":0},{"$f":"ASIN!D386","v":0},{"$f":"ASIN!E386","v":0},{"$f":"ASIN!F386","v":0}]
[{"$f":"ASIN!A387","v":0},{"$f":"ASIN!B387","v":0},{"$f":"ASIN!C387","v":0},{"$f":"ASIN!D387","v":0},{"$f":"ASIN!E387","v":0},{"$f":"ASIN!F387","v":0}]
[{"$f":"ASIN!A388","v":0},{"$f":"ASIN!B388","v":0},{"$f":"ASIN!C388","v":0},{"$f":"ASIN!D388","v":0},{"$f":"ASIN!E388","v":0},{"$f":"ASIN!F388","v":0}]
[{"$f":"ASIN!A389","v":0},{"$f":"ASIN!B389","v":0},{"$f":"ASIN!C389","v":0},{"$f":"ASIN!D389","v":0},{"$f":"ASIN!E389","v":0},{"$f":"ASIN!F389","v":0}]
[{"$f":"ASIN!A390","v":0},{"$f":"ASIN!B390","v":0},{"$f":"ASIN!C390","v":0},{"$f":"ASIN!D390","v":0},{"$f":"ASIN!E390","v":0},{"$f":"ASIN!F390","v":0}]
[{"$f":"ASIN!A391","v":0},{"$f":"ASIN!B391","v":0},{"$f":"ASIN!C391","v":0},{"$f":"ASIN!D391","v":0},{"$f":"ASIN!E391","v":0},{"$f":"ASIN!F391","v":0}]
[{"$f":"ASIN!A392","v":0},{"$f":"ASIN!B392","v":0},{"$f":"ASIN!C392","v":0},{"$f":"ASIN!D392","v":0},{"$f":"ASIN!E392","v":0},{"$f":"ASIN!F392","v":0}]
[{"$f":"ASIN!A393","v":0},{"$f":"ASIN!B393","v":0},{"$f":"ASIN!C393","v":0},{"$f":"ASIN!D393","v":0},{"$f":"ASIN!E393","v":0},{"$f":"ASIN!F393","v":0}]
[{"$f":"ASIN!A394","v":0},{"$f":"ASIN!B394","v":0},{"$f":"ASIN!C394","v":0},{"$f":"ASIN!D394","v":0},{"$f":"ASIN!E394","v":0},{"$f":"ASIN!F394","v":0}]
[{"$f":"ASIN!A395","v":0},{"$f":"ASIN!B395","v":0},{"$f":"ASIN!C395","v":0},{"$f":"ASIN!D395","v":0},{"$f":"ASIN!E395","v":0},{"$f":"ASIN!F395","v":0}]
[{"$f":"ASIN!A396","v":0},{"$f":"ASIN!B396","v":0},{"$f":"ASIN!C396","v":0},{"$f":"ASIN!D396","v":0},{"$f":"ASIN!E396","v":0},{"$f":"ASIN!F396","v":0}]
[{"$f":"ASIN!A397","v":0},{"$f":"ASIN!B397","v":0},{"$f":"ASIN!C397","v":0},{"$f":"ASIN!D397","v":0},{"$f":"ASIN!E397","v":0},{"$f":"ASIN!F397","v":0}]
[{"$f":"ASIN!A398","v":0},{"$f":"ASIN!B398","v":0},{"$f":"ASIN!C398","v":0},{"$f":"ASIN!D398","v":0},{"$f":"ASIN!E398","v":0},{"$f":"ASIN!F398","v":0}]
[{"$f":"ASIN!A399","v":0},{"$f":"ASIN!B399","v":0},{"$f":"ASIN!C399","v":0},{"$f":"ASIN!D399","v":0},{"$f":"ASIN!E399","v":0},{"$f":"ASIN!F399","v":0}]
[{"$f":"ASIN!A400","v":0},{"$f":"ASIN!B400","v":0},{"$f":"ASIN!C400","v":0},{"$f":"ASIN!D400","v":0},{"$f":"ASIN!E400","v":0},{"$f":"ASIN!F400","v":0}]
[{"$f":"ASIN!A401","v":0},{"$f":"ASIN!B401","v":0},{"$f":"ASIN!C401","v":0},{"$f":"ASIN!D401","v":0},{"$f":"ASIN!E401","v":0},{"$f":"ASIN!F401","v":0}]
[{"$f":"ASIN!A402","v":0},{"$f":"ASIN!B402","v":0},{"$f":"ASIN!C402","v":0},{"$f":"ASIN!D402","v":0},{"$f":"ASIN!E402","v":0},{"$f":"ASIN!F402","v":0}]
[{"$f":"ASIN!A403","v":0},{"$f":"ASIN!B403","v":0},{"$f":"ASIN!C403","v":0},{"$f":"ASIN!D403","v":0},{"$f":"ASIN!E403","v":0},{"$f":"ASIN!F403","v":0}]
[{"$f":"ASIN!A404","v":0},{"$f":"ASIN!B404","v":0},{"$f":"ASIN!C404","v":0},{"$f":"ASIN!D404","v":0},{"$f":"ASIN!E404","v":0},{"$f":"ASIN!F404","v":0}]
[{"$f":"ASIN!A405","v":0},{"$f":"ASIN!B405","v":0},{"$f":"ASIN!C405","v":0},{"$f":"ASIN!D405","v":0},{"$f":"ASIN!E405","v":0},{"$f":"ASIN!F405","v":0}]
[{"$f":"ASIN!A406","v":0},{"$f":"ASIN!B406","v":0},{"$f":"ASIN!C406","v":0},{"$f":"ASIN!D406","v":0},{"$f":"ASIN!E406","v":0},{"$f":"ASIN!F406","v":0}]
[{"$f":"ASIN!A407","v":0},{"$f":"ASIN!B407","v":0},{"$f":"ASIN!C407","v":0},{"$f":"ASIN!D407","v":0},{"$f":"ASIN!E407","v":0},{"$f":"ASIN!F407","v":0}]
[{"$f":"ASIN!A408","v":0},{"$f":"ASIN!B408","v":0},{"$f":"ASIN!C408","v":0},{"$f":"ASIN!D408","v":0},{"$f":"ASIN!E408","v":0},{"$f":"ASIN!F408","v":0}]
[{"$f":"ASIN!A409","v":0},{"$f":"ASIN!B409","v":0},{"$f":"ASIN!C409","v":0},{"$f":"ASIN!D409","v":0},{"$f":"ASIN!E409","v":0},{"$f":"ASIN!F409","v":0}]
[{"$f":"ASIN!A410","v":0},{"$f":"ASIN!B410","v":0},{"$f":"ASIN!C410","v":0},{"$f":"ASIN!D410","v":0},{"$f":"ASIN!E410","v":0},{"$f":"ASIN!F410","v":0}]
[{"$f":"ASIN!A411","v":0},{"$f":"ASIN!B411","v":0},{"$f":"ASIN!C411","v":0},{"$f":"ASIN!D411","v":0},{"$f":"ASIN!E411","v":0},{"$f":"ASIN!F411","v":0}]
[{"$f":"ASIN!A412","v":0},{"$f":"ASIN!B412","v":0},{"$f":"ASIN!C412","v":0},{"$f":"ASIN!D412","v":0},{"$f":"ASIN!E412","v":0},{"$f":"ASIN!F412","v":0}]
[{"$f":"ASIN!A413","v":0},{"$f":"ASIN!B413","v":0},{"$f":"ASIN!C413","v":0},{"$f":"ASIN!D413","v":0},{"$f":"ASIN!E413","v":0},{"$f":"ASIN!F413","v":0}]
[{"$f":"ASIN!A414","v":0},{"$f":"ASIN!B414","v":0},{"$f":"ASIN!C414","v":0},{"$f":"ASIN!D414","v":0},{"$f":"ASIN!E414","v":0},{"$f":"ASIN!F414","v":0}]
[{"$f":"ASIN!A415","v":0},{"$f":"ASIN!B415","v":0},{"$f":"ASIN!C415","v":0},{"$f":"ASIN!D415","v":0},{"$f":"ASIN!E415","v":0},{"$f":"ASIN!F415","v":0}]
[{"$f":"ASIN!A416","v":0},{"$f":"ASIN!B416","v":0},{"$f":"ASIN!C416","v":0},{"$f":"ASIN!D416","v":0},{"$f":"ASIN!E416","v":0},{"$f":"ASIN!F416","v":0}]
[{"$f":"ASIN!A417","v":0},{"$f":"ASIN!B417","v":0},{"$f":"ASIN!C417","v":0},{"$f":"ASIN!D417","v":0},{"$f":"ASIN!E417","v":0},{"$f":"ASIN!F417","v":0}]
[{"$f":"ASIN!A418","v":0},{"$f":"ASIN!B418","v":0},{"$f":"ASIN!C418","v":0},{"$f":"ASIN!D418","v":0},{"$f":"ASIN!E418","v":0},{"$f":"ASIN!F418","v":0}]
[{"$f":"ASIN!A419","v":0},{"$f":"ASIN!B419","v":0},{"$f":"ASIN!C419","v":0},{"$f":"ASIN!D419","v":0},{"$f":"ASIN!E419","v":0},{"$f":"ASIN!F419","v":0}]
[{"$f":"ASIN!A420","v":0},{"$f":"ASIN!B420","v":0},{"$f":"ASIN!C420","v":0},{"$f":"ASIN!D420","v":0},{"$f":"ASIN!E420","v":0},{"$f":"ASIN!F420","v":0}]
[{"$f":"ASIN!A421","v":0},{"$f":"ASIN!B421","v":0},{"$f":"ASIN!C421","v":0},{"$f":"ASIN!D421","v":0},{"$f":"ASIN!E421","v":0},{"$f":"ASIN!F421","v":0}]
[{"$f":"ASIN!A422","v":0},{"$f":"ASIN!B422","v":0},{"$f":"ASIN!C422","v":0},{"$f":"ASIN!D422","v":0},{"$f":"ASIN!E422","v":0},{"$f":"ASIN!F422","v":0}]
[{"$f":"ASIN!A423","v":0},{"$f":"ASIN!B423","v":0},{"$f":"ASIN!C423","v":0},{"$f":"ASIN!D423","v":0},{"$f":"ASIN!E423","v":0},{"$f":"ASIN!F423","v":0}]
[{"$f":"ASIN!A424","v":0},{"$f":"ASIN!B424","v":0},{"$f":"ASIN!C424","v":0},{"$f":"ASIN!D424","v":0},{"$f":"ASIN!E424","v":0},{"$f":"ASIN!F424","v":0}]
[{"$f":"ASIN!A425","v":0},{"$f":"ASIN!B425","v":0},{"$f":"ASIN!C425","v":0},{"$f":"ASIN!D425","v":0},{"$f":"ASIN!E425","v":0},{"$f":"ASIN!F425","v":0}]
[{"$f":"ASIN!A426","v":0},{"$f":"ASIN!B426","v":0},{"$f":"ASIN!C426","v":0},{"$f":"ASIN!D426","v":0},{"$f":"ASIN!E426","v":0},{"$f":"ASIN!F426","v":0}]
[{"$f":"ASIN!A427","v":0},{"$f":"ASIN!B427","v":0},{"$f":"ASIN!C427","v":0},{"$f":"ASIN!D427","v":0},{"$f":"ASIN!E427","v":0},{"$f":"ASIN!F427","v":0}]
[{"$f":"ASIN!A428","v":0},{"$f":"ASIN!B428","v":0},{"$f":"ASIN!C428","v":0},{"$f":"ASIN!D428","v":0},{"$f":"ASIN!E428","v":0},{"$f":"ASIN!F428","v":0}]
[{"$f":"ASIN!A429","v":0},{"$f":"ASIN!B429","v":0},{"$f":"ASIN!C429","v":0},{"$f":"ASIN!D429","v":0},{"$f":"ASIN!E429","v":0},{"$f":"ASIN!F429","v":0}]
[{"$f":"ASIN!A430","v":0},{"$f":"ASIN!B430","v":0},{"$f":"ASIN!C430","v":0},{"$f":"ASIN!D430","v":0},{"$f":"ASIN!E430","v":0},{"$f":"ASIN!F430","v":0}]
[{"$f":"ASIN!A431","v":0},{"$f":"ASIN!B431","v":0},{"$f":"ASIN!C431","v":0},{"$f":"ASIN!D431","v":0},{"$f":"ASIN!E431","v":0},{"$f":"ASIN!F431","v":0}]
[{"$f":"ASIN!A432","v":0},{"$f":"ASIN!B432","v":0},{"$f":"ASIN!C432","v":0},{"$f":"ASIN!D432","v":0},{"$f":"ASIN!E432","v":0},{"$f":"ASIN!F432","v":0}]
[{"$f":"ASIN!A433","v":0},{"$f":"ASIN!B433","v":0},{"$f":"ASIN!C433","v":0},{"$f":"ASIN!D433","v":0},{"$f":"ASIN!E433","v":0},{"$f":"ASIN!F433","v":0}]
[{"$f":"ASIN!A434","v":0},{"$f":"ASIN!B434","v":0},{"$f":"ASIN!C434","v":0},{"$f":"ASIN!D434","v":0},{"$f":"ASIN!E434","v":0},{"$f":"ASIN!F434","v":0}]
[{"$f":"ASIN!A435","v":0},{"$f":"ASIN!B435","v":0},{"$f":"ASIN!C435","v":0},{"$f":"ASIN!D435","v":0},{"$f":"ASIN!E435","v":0},{"$f":"ASIN!F435","v":0}]
[{"$f":"ASIN!A436","v":0},{"$f":"ASIN!B436","v":0},{"$f":"ASIN!C436","v":0},{"$f":"ASIN!D436","v":0},{"$f":"ASIN!E436","v":0},{"$f":"ASIN!F436","v":0}]
[{"$f":"ASIN!A437","v":0},{"$f":"ASIN!B437","v":0},{"$f":"ASIN!C437","v":0},{"$f":"ASIN!D437","v":0},{"$f":"ASIN!E437","v":0},{"$f":"ASIN!F437","v":0}]
[{"$f":"ASIN!A438","v":0},{"$f":"ASIN!B438","v":0},{"$f":"ASIN!C438","v":0},{"$f":"ASIN!D438","v":0},{"$f":"ASIN!E438","v":0},{"$f":"ASIN!F438","v":0}]
[{"$f":"ASIN!A439","v":0},{"$f":"ASIN!B439","v":0},{"$f":"ASIN!C439","v":0},{"$f":"ASIN!D439","v":0},{"$f":"ASIN!E439","v":0},{"$f":"ASIN!F439","v":0}]
[{"$f":"ASIN!A440","v":0},{"$f":"ASIN!B440","v":0},{"$f":"ASIN!C440","v":0},{"$f":"ASIN!D440","v":0},{"$f":"ASIN!E440","v":0},{"$f":"ASIN!F440","v":0}]
[{"$f":"ASIN!A441","v":0},{"$f":"ASIN!B441","v":0},{"$f":"ASIN!C441","v":0},{"$f":"ASIN!D441","v":0},{"$f":"ASIN!E441","v":0},{"$f":"ASIN!F441","v":0}]
[{"$f":"ASIN!A442","v":0},{"$f":"ASIN!B442","v":0},{"$f":"ASIN!C442","v":0},{"$f":"ASIN!D442","v":0},{"$f":"ASIN!E442","v":0},{"$f":"ASIN!F442","v":0}]
[{"$f":"ASIN!A443","v":0},{"$f":"ASIN!B443","v":0},{"$f":"ASIN!C443","v":0},{"$f":"ASIN!D443","v":0},{"$f":"ASIN!E443","v":0},{"$f":"ASIN!F443","v":0}]
[{"$f":"ASIN!A444","v":0},{"$f":"ASIN!B444","v":0},{"$f":"ASIN!C444","v":0},{"$f":"ASIN!D444","v":0},{"$f":"ASIN!E444","v":0},{"$f":"ASIN!F444","v":0}]
[{"$f":"ASIN!A445","v":0},{"$f":"ASIN!B445","v":0},{"$f":"ASIN!C445","v":0},{"$f":"ASIN!D445","v":0},{"$f":"ASIN!E445","v":0},{"$f":"ASIN!F445","v":0}]
[{"$f":"ASIN!A446","v":0},{"$f":"ASIN!B446","v":0},{"$f":"ASIN!C446","v":0},{"$f":"ASIN!D446","v":0},{"$f":"ASIN!E446","v":0},{"$f":"ASIN!F446","v":0}]
[{"$f":"ASIN!A447","v":0},{"$f":"ASIN!B447","v":0},{"$f":"ASIN!C447","v":0},{"$f":"ASIN!D447","v":0},{"$f":"ASIN!E447","v":0},{"$f":"ASIN!F447","v":0}]
[{"$f":"ASIN!A448","v":0},{"$f":"ASIN!B448","v":0},{"$f":"ASIN!C448","v":0},{"$f":"ASIN!D448","v":0},{"$f":"ASIN!E448","v":0},{"$f":"ASIN!F448","v":0}]
[{"$f":"ASIN!A449","v":0},{"$f":"ASIN!B449","v":0},{"$f":"ASIN!C449","v":0},{"$f":"ASIN!D449","v":0},{"$f":"ASIN!E449","v":0},{"$f":"ASIN!F449","v":0}]
[{"$f":"ASIN!A450","v":0},{"$f":"ASIN!B450","v":0},{"$f":"ASIN!C450","v":0},{"$f":"ASIN!D450","v":0},{"$f":"ASIN!E450","v":0},{"$f":"ASIN!F450","v":0}]
[{"$f":"ASIN!A451","v":0},{"$f":"ASIN!B451","v":0},{"$f":"ASIN!C451","v":0},{"$f":"ASIN!D451","v":0},{"$f":"ASIN!E451","v":0},{"$f":"ASIN!F451","v":0}]
[{"$f":"ASIN!A452","v":0},{"$f":"ASIN!B452","v":0},{"$f":"ASIN!C452","v":0},{"$f":"ASIN!D452","v":0},{"$f":"ASIN!E452","v":0},{"$f":"ASIN!F452","v":0}]
[{"$f":"ASIN!A453","v":0},{"$f":"ASIN!B453","v":0},{"$f":"ASIN!C453","v":0},{"$f":"ASIN!D453","v":0},{"$f":"ASIN!E453","v":0},{"$f":"ASIN!F453","v":0}]
[{"$f":"ASIN!A454","v":0},{"$f":"ASIN!B454","v":0},{"$f":"ASIN!C454","v":0},{"$f":"ASIN!D454","v":0},{"$f":"ASIN!E454","v":0},{"$f":"ASIN!F454","v":0}]
[{"$f":"ASIN!A455","v":0},{"$f":"ASIN!B455","v":0},{"$f":"ASIN!C455","v":0},{"$f":"ASIN!D455","v":0},{"$f":"ASIN!E455","v":0},{"$f":"ASIN!F455","v":0}]
[{"$f":"ASIN!A456","v":0},{"$f":"ASIN!B456","v":0},{"$f":"ASIN!C456","v":0},{"$f":"ASIN!D456","v":0},{"$f":"ASIN!E456","v":0},{"$f":"ASIN!F456","v":0}]
[{"$f":"ASIN!A457","v":0},{"$f":"ASIN!B457","v":0},{"$f":"ASIN!C457","v":0},{"$f":"ASIN!D457","v":0},{"$f":"ASIN!E457","v":0},{"$f":"ASIN!F457","v":0}]
[{"$f":"ASIN!A458","v":0},{"$f":"ASIN!B458","v":0},{"$f":"ASIN!C458","v":0},{"$f":"ASIN!D458","v":0},{"$f":"ASIN!E458","v":0},{"$f":"ASIN!F458","v":0}]
[{"$f":"ASIN!A459","v":0},{"$f":"ASIN!B459","v":0},{"$f":"ASIN!C459","v":0},{"$f":"ASIN!D459","v":0},{"$f":"ASIN!E459","v":0},{"$f":"ASIN!F459","v":0}]
[{"$f":"ASIN!A460","v":0},{"$f":"ASIN!B460","v":0},{"$f":"ASIN!C460","v":0},{"$f":"ASIN!D460","v":0},{"$f":"ASIN!E460","v":0},{"$f":"ASIN!F460","v":0}]
[{"$f":"ASIN!A461","v":0},{"$f":"ASIN!B461","v":0},{"$f":"ASIN!C461","v":0},{"$f":"ASIN!D461","v":0},{"$f":"ASIN!E461","v":0},{"$f":"ASIN!F461","v":0}]
[{"$f":"ASIN!A462","v":0},{"$f":"ASIN!B462","v":0},{"$f":"ASIN!C462","v":0},{"$f":"ASIN!D462","v":0},{"$f":"ASIN!E462","v":0},{"$f":"ASIN!F462","v":0}]
[{"$f":"ASIN!A463","v":0},{"$f":"ASIN!B463","v":0},{"$f":"ASIN!C463","v":0},{"$f":"ASIN!D463","v":0},{"$f":"ASIN!E463","v":0},{"$f":"ASIN!F463","v":0}]
[{"$f":"ASIN!A464","v":0},{"$f":"ASIN!B464","v":0},{"$f":"ASIN!C464","v":0},{"$f":"ASIN!D464","v":0},{"$f":"ASIN!E464","v":0},{"$f":"ASIN!F464","v":0}]
[{"$f":"ASIN!A465","v":0},{"$f":"ASIN!B465","v":0},{"$f":"ASIN!C465","v":0},{"$f":"ASIN!D465","v":0},{"$f":"ASIN!E465","v":0},{"$f":"ASIN!F465","v":0}]
[{"$f":"ASIN!A466","v":0},{"$f":"ASIN!B466","v":0},{"$f":"ASIN!C466","v":0},{"$f":"ASIN!D466","v":0},{"$f":"ASIN!E466","v":0},{"$f":"ASIN!F466","v":0}]
[{"$f":"ASIN!A467","v":0},{"$f":"ASIN!B467","v":0},{"$f":"ASIN!C467","v":0},{"$f":"ASIN!D467","v":0},{"$f":"ASIN!E467","v":0},{"$f":"ASIN!F467","v":0}]
[{"$f":"ASIN!A468","v":0},{"$f":"ASIN!B468","v":0},{"$f":"ASIN!C468","v":0},{"$f":"ASIN!D468","v":0},{"$f":"ASIN!E468","v":0},{"$f":"ASIN!F468","v":0}]
[{"$f":"ASIN!A469","v":0},{"$f":"ASIN!B469","v":0},{"$f":"ASIN!C469","v":0},{"$f":"ASIN!D469","v":0},{"$f":"ASIN!E469","v":0},{"$f":"ASIN!F469","v":0}]
[{"$f":"ASIN!A470","v":0},{"$f":"ASIN!B470","v":0},{"$f":"ASIN!C470","v":0},{"$f":"ASIN!D470","v":0},{"$f":"ASIN!E470","v":0},{"$f":"ASIN!F470","v":0}]
[{"$f":"ASIN!A471","v":0},{"$f":"ASIN!B471","v":0},{"$f":"ASIN!C471","v":0},{"$f":"ASIN!D471","v":0},{"$f":"ASIN!E471","v":0},{"$f":"ASIN!F471","v":0}]
[{"$f":"ASIN!A472","v":0},{"$f":"ASIN!B472","v":0},{"$f":"ASIN!C472","v":0},{"$f":"ASIN!D472","v":0},{"$f":"ASIN!E472","v":0},{"$f":"ASIN!F472","v":0}]
[{"$f":"ASIN!A473","v":0},{"$f":"ASIN!B473","v":0},{"$f":"ASIN!C473","v":0},{"$f":"ASIN!D473","v":0},{"$f":"ASIN!E473","v":0},{"$f":"ASIN!F473","v":0}]
[{"$f":"ASIN!A474","v":0},{"$f":"ASIN!B474","v":0},{"$f":"ASIN!C474","v":0},{"$f":"ASIN!D474","v":0},{"$f":"ASIN!E474","v":0},{"$f":"ASIN!F474","v":0}]
[{"$f":"ASIN!A475","v":0},{"$f":"ASIN!B475","v":0},{"$f":"ASIN!C475","v":0},{"$f":"ASIN!D475","v":0},{"$f":"ASIN!E475","v":0},{"$f":"ASIN!F475","v":0}]
[{"$f":"ASIN!A476","v":0},{"$f":"ASIN!B476","v":0},{"$f":"ASIN!C476","v":0},{"$f":"ASIN!D476","v":0},{"$f":"ASIN!E476","v":0},{"$f":"ASIN!F476","v":0}]
[{"$f":"ASIN!A477","v":0},{"$f":"ASIN!B477","v":0},{"$f":"ASIN!C477","v":0},{"$f":"ASIN!D477","v":0},{"$f":"ASIN!E477","v":0},{"$f":"ASIN!F477","v":0}]
[{"$f":"ASIN!A478","v":0},{"$f":"ASIN!B478","v":0},{"$f":"ASIN!C478","v":0},{"$f":"ASIN!D478","v":0},{"$f":"ASIN!E478","v":0},{"$f":"ASIN!F478","v":0}]
[{"$f":"ASIN!A479","v":0},{"$f":"ASIN!B479","v":0},{"$f":"ASIN!C479","v":0},{"$f":"ASIN!D479","v":0},{"$f":"ASIN!E479","v":0},{"$f":"ASIN!F479","v":0}]
[{"$f":"ASIN!A480","v":0},{"$f":"ASIN!B480","v":0},{"$f":"ASIN!C480","v":0},{"$f":"ASIN!D480","v":0},{"$f":"ASIN!E480","v":0},{"$f":"ASIN!F480","v":0}]
[{"$f":"ASIN!A481","v":0},{"$f":"ASIN!B481","v":0},{"$f":"ASIN!C481","v":0},{"$f":"ASIN!D481","v":0},{"$f":"ASIN!E481","v":0},{"$f":"ASIN!F481","v":0}]
[{"$f":"ASIN!A482","v":0},{"$f":"ASIN!B482","v":0},{"$f":"ASIN!C482","v":0},{"$f":"ASIN!D482","v":0},{"$f":"ASIN!E482","v":0},{"$f":"ASIN!F482","v":0}]
[{"$f":"ASIN!A483","v":0},{"$f":"ASIN!B483","v":0},{"$f":"ASIN!C483","v":0},{"$f":"ASIN!D483","v":0},{"$f":"ASIN!E483","v":0},{"$f":"ASIN!F483","v":0}]
[{"$f":"ASIN!A484","v":0},{"$f":"ASIN!B484","v":0},{"$f":"ASIN!C484","v":0},{"$f":"ASIN!D484","v":0},{"$f":"ASIN!E484","v":0},{"$f":"ASIN!F484","v":0}]
[{"$f":"ASIN!A485","v":0},{"$f":"ASIN!B485","v":0},{"$f":"ASIN!C485","v":0},{"$f":"ASIN!D485","v":0},{"$f":"ASIN!E485","v":0},{"$f":"ASIN!F485","v":0}]
[{"$f":"ASIN!A486","v":0},{"$f":"ASIN!B486","v":0},{"$f":"ASIN!C486","v":0},{"$f":"ASIN!D486","v":0},{"$f":"ASIN!E486","v":0},{"$f":"ASIN!F486","v":0}]
[{"$f":"ASIN!A487","v":0},{"$f":"ASIN!B487","v":0},{"$f":"ASIN!C487","v":0},{"$f":"ASIN!D487","v":0},{"$f":"ASIN!E487","v":0},{"$f":"ASIN!F487","v":0}]
[{"$f":"ASIN!A488","v":0},{"$f":"ASIN!B488","v":0},{"$f":"ASIN!C488","v":0},{"$f":"ASIN!D488","v":0},{"$f":"ASIN!E488","v":0},{"$f":"ASIN!F488","v":0}]
[{"$f":"ASIN!A489","v":0},{"$f":"ASIN!B489","v":0},{"$f":"ASIN!C489","v":0},{"$f":"ASIN!D489","v":0},{"$f":"ASIN!E489","v":0},{"$f":"ASIN!F489","v":0}]
[{"$f":"ASIN!A490","v":0},{"$f":"ASIN!B490","v":0},{"$f":"ASIN!C490","v":0},{"$f":"ASIN!D490","v":0},{"$f":"ASIN!E490","v":0},{"$f":"ASIN!F490","v":0}]
[{"$f":"ASIN!A491","v":0},{"$f":"ASIN!B491","v":0},{"$f":"ASIN!C491","v":0},{"$f":"ASIN!D491","v":0},{"$f":"ASIN!E491","v":0},{"$f":"ASIN!F491","v":0}]
[{"$f":"ASIN!A492","v":0},{"$f":"ASIN!B492","v":0},{"$f":"ASIN!C492","v":0},{"$f":"ASIN!D492","v":0},{"$f":"ASIN!E492","v":0},{"$f":"ASIN!F492","v":0}]
[{"$f":"ASIN!A493","v":0},{"$f":"ASIN!B493","v":0},{"$f":"ASIN!C493","v":0},{"$f":"ASIN!D493","v":0},{"$f":"ASIN!E493","v":0},{"$f":"ASIN!F493","v":0}]
[{"$f":"ASIN!A494","v":0},{"$f":"ASIN!B494","v":0},{"$f":"ASIN!C494","v":0},{"$f":"ASIN!D494","v":0},{"$f":"ASIN!E494","v":0},{"$f":"ASIN!F494","v":0}]
[{"$f":"ASIN!A495","v":0},{"$f":"ASIN!B495","v":0},{"$f":"ASIN!C495","v":0},{"$f":"ASIN!D495","v":0},{"$f":"ASIN!E495","v":0},{"$f":"ASIN!F495","v":0}]
[{"$f":"ASIN!A496","v":0},{"$f":"ASIN!B496","v":0},{"$f":"ASIN!C496","v":0},{"$f":"ASIN!D496","v":0},{"$f":"ASIN!E496","v":0},{"$f":"ASIN!F496","v":0}]
[{"$f":"ASIN!A497","v":0},{"$f":"ASIN!B497","v":0},{"$f":"ASIN!C497","v":0},{"$f":"ASIN!D497","v":0},{"$f":"ASIN!E497","v":0},{"$f":"ASIN!F497","v":0}]
[{"$f":"ASIN!A498","v":0},{"$f":"ASIN!B498","v":0},{"$f":"ASIN!C498","v":0},{"$f":"ASIN!D498","v":0},{"$f":"ASIN!E498","v":0},{"$f":"ASIN!F498","v":0}]
[{"$f":"ASIN!A499","v":0},{"$f":"ASIN!B499","v":0},{"$f":"ASIN!C499","v":0},{"$f":"ASIN!D499","v":0},{"$f":"ASIN!E499","v":0},{"$f":"ASIN!F499","v":0}]
[{"$f":"ASIN!A500","v":0},{"$f":"ASIN!B500","v":0},{"$f":"ASIN!C500","v":0},{"$f":"ASIN!D500","v":0},{"$f":"ASIN!E500","v":0},{"$f":"ASIN!F500","v":0}]
[{"$f":"ASIN!A501","v":0},{"$f":"ASIN!B501","v":0},{"$f":"ASIN!C501","v":0},{"$f":"ASIN!D501","v":0},{"$f":"ASIN!E501","v":0},{"$f":"ASIN!F501","v":0}]
[{"$f":"ASIN!A502","v":0},{"$f":"ASIN!B502","v":0},{"$f":"ASIN!C502","v":0},{"$f":"ASIN!D502","v":0},{"$f":"ASIN!E502","v":0},{"$f":"ASIN!F502","v":0}]
[{"$f":"ASIN!A503","v":0},{"$f":"ASIN!B503","v":0},{"$f":"ASIN!C503","v":0},{"$f":"ASIN!D503","v":0},{"$f":"ASIN!E503","v":0},{"$f":"ASIN!F503","v":0}]
[{"$f":"ASIN!A504","v":0},{"$f":"ASIN!B504","v":0},{"$f":"ASIN!C504","v":0},{"$f":"ASIN!D504","v":0},{"$f":"ASIN!E504","v":0},{"$f":"ASIN!F504","v":0}]
[{"$f":"ASIN!A505","v":0},{"$f":"ASIN!B505","v":0},{"$f":"ASIN!C505","v":0},{"$f":"ASIN!D505","v":0},{"$f":"ASIN!E505","v":0},{"$f":"ASIN!F505","v":0}]
[{"$f":"ASIN!A506","v":0},{"$f":"ASIN!B506","v":0},{"$f":"ASIN!C506","v":0},{"$f":"ASIN!D506","v":0},{"$f":"ASIN!E506","v":0},{"$f":"ASIN!F506","v":0}]
[{"$f":"ASIN!A507","v":0},{"$f":"ASIN!B507","v":0},{"$f":"ASIN!C507","v":0},{"$f":"ASIN!D507","v":0},{"$f":"ASIN!E507","v":0},{"$f":"ASIN!F507","v":0}]
[{"$f":"ASIN!A508","v":0},{"$f":"ASIN!B508","v":0},{"$f":"ASIN!C508","v":0},{"$f":"ASIN!D508","v":0},{"$f":"ASIN!E508","v":0},{"$f":"ASIN!F508","v":0}]
[{"$f":"ASIN!A509","v":0},{"$f":"ASIN!B509","v":0},{"$f":"ASIN!C509","v":0},{"$f":"ASIN!D509","v":0},{"$f":"ASIN!E509","v":0},{"$f":"ASIN!F509","v":0}]
[{"$f":"ASIN!A510","v":0},{"$f":"ASIN!B510","v":0},{"$f":"ASIN!C510","v":0},{"$f":"ASIN!D510","v":0},{"$f":"ASIN!E510","v":0},{"$f":"ASIN!F510","v":0}]
[{"$f":"ASIN!A511","v":0},{"$f":"ASIN!B511","v":0},{"$f":"ASIN!C511","v":0},{"$f":"ASIN!D511","v":0},{"$f":"ASIN!E511","v":0},{"$f":"ASIN!F511","v":0}]
[{"$f":"ASIN!A512","v":0},{"$f":"ASIN!B512","v":0},{"$f":"ASIN!C512","v":0},{"$f":"ASIN!D512","v":0},{"$f":"ASIN!E512","v":0},{"$f":"ASIN!F512","v":0}]
[{"$f":"ASIN!A513","v":0},{"$f":"ASIN!B513","v":0},{"$f":"ASIN!C513","v":0},{"$f":"ASIN!D513","v":0},{"$f":"ASIN!E513","v":0},{"$f":"ASIN!F513","v":0}]
[{"$f":"ASIN!A514","v":0},{"$f":"ASIN!B514","v":0},{"$f":"ASIN!C514","v":0},{"$f":"ASIN!D514","v":0},{"$f":"ASIN!E514","v":0},{"$f":"ASIN!F514","v":0}]
[{"$f":"ASIN!A515","v":0},{"$f":"ASIN!B515","v":0},{"$f":"ASIN!C515","v":0},{"$f":"ASIN!D515","v":0},{"$f":"ASIN!E515","v":0},{"$f":"ASIN!F515","v":0}]
[{"$f":"ASIN!A516","v":0},{"$f":"ASIN!B516","v":0},{"$f":"ASIN!C516","v":0},{"$f":"ASIN!D516","v":0},{"$f":"ASIN!E516","v":0},{"$f":"ASIN!F516","v":0}]
[{"$f":"ASIN!A517","v":0},{"$f":"ASIN!B517","v":0},{"$f":"ASIN!C517","v":0},{"$f":"ASIN!D517","v":0},{"$f":"ASIN!E517","v":0},{"$f":"ASIN!F517","v":0}]
[{"$f":"ASIN!A518","v":0},{"$f":"ASIN!B518","v":0},{"$f":"ASIN!C518","v":0},{"$f":"ASIN!D518","v":0},{"$f":"ASIN!E518","v":0},{"$f":"ASIN!F518","v":0}]
[{"$f":"ASIN!A519","v":0},{"$f":"ASIN!B519","v":0},{"$f":"ASIN!C519","v":0},{"$f":"ASIN!D519","v":0},{"$f":"ASIN!E519","v":0},{"$f":"ASIN!F519","v":0}]
[{"$f":"ASIN!A520","v":0},{"$f":"ASIN!B520","v":0},{"$f":"ASIN!C520","v":0},{"$f":"ASIN!D520","v":0},{"$f":"ASIN!E520","v":0},{"$f":"ASIN!F520","v":0}]
[{"$f":"ASIN!A521","v":0},{"$f":"ASIN!B521","v":0},{"$f":"ASIN!C521","v":0},{"$f":"ASIN!D521","v":0},{"$f":"ASIN!E521","v":0},{"$f":"ASIN!F521","v":0}]
[{"$f":"ASIN!A522","v":0},{"$f":"ASIN!B522","v":0},{"$f":"ASIN!C522","v":0},{"$f":"ASIN!D522","v":0},{"$f":"ASIN!E522","v":0},{"$f":"ASIN!F522","v":0}]
[{"$f":"ASIN!A523","v":0},{"$f":"ASIN!B523","v":0},{"$f":"ASIN!C523","v":0},{"$f":"ASIN!D523","v":0},{"$f":"ASIN!E523","v":0},{"$f":"ASIN!F523","v":0}]
[{"$f":"ASIN!A524","v":0},{"$f":"ASIN!B524","v":0},{"$f":"ASIN!C524","v":0},{"$f":"ASIN!D524","v":0},{"$f":"ASIN!E524","v":0},{"$f":"ASIN!F524","v":0}]
[{"$f":"ASIN!A525","v":0},{"$f":"ASIN!B525","v":0},{"$f":"ASIN!C525","v":0},{"$f":"ASIN!D525","v":0},{"$f":"ASIN!E525","v":0},{"$f":"ASIN!F525","v":0}]
[{"$f":"ASIN!A526","v":0},{"$f":"ASIN!B526","v":0},{"$f":"ASIN!C526","v":0},{"$f":"ASIN!D526","v":0},{"$f":"ASIN!E526","v":0},{"$f":"ASIN!F526","v":0}]
[{"$f":"ASIN!A527","v":0},{"$f":"ASIN!B527","v":0},{"$f":"ASIN!C527","v":0},{"$f":"ASIN!D527","v":0},{"$f":"ASIN!E527","v":0},{"$f":"ASIN!F527","v":0}]
[{"$f":"ASIN!A528","v":0},{"$f":"ASIN!B528","v":0},{"$f":"ASIN!C528","v":0},{"$f":"ASIN!D528","v":0},{"$f":"ASIN!E528","v":0},{"$f":"ASIN!F528","v":0}]
[{"$f":"ASIN!A529","v":0},{"$f":"ASIN!B529","v":0},{"$f":"ASIN!C529","v":0},{"$f":"ASIN!D529","v":0},{"$f":"ASIN!E529","v":0},{"$f":"ASIN!F529","v":0}]
[{"$f":"ASIN!A530","v":0},{"$f":"ASIN!B530","v":0},{"$f":"ASIN!C530","v":0},{"$f":"ASIN!D530","v":0},{"$f":"ASIN!E530","v":0},{"$f":"ASIN!F530","v":0}]
[{"$f":"ASIN!A531","v":0},{"$f":"ASIN!B531","v":0},{"$f":"ASIN!C531","v":0},{"$f":"ASIN!D531","v":0},{"$f":"ASIN!E531","v":0},{"$f":"ASIN!F531","v":0}]
[{"$f":"ASIN!A532","v":0},{"$f":"ASIN!B532","v":0},{"$f":"ASIN!C532","v":0},{"$f":"ASIN!D532","v":0},{"$f":"ASIN!E532","v":0},{"$f":"ASIN!F532","v":0}]
[{"$f":"ASIN!A533","v":0},{"$f":"ASIN!B533","v":0},{"$f":"ASIN!C533","v":0},{"$f":"ASIN!D533","v":0},{"$f":"ASIN!E533","v":0},{"$f":"ASIN!F533","v":0}]
[{"$f":"ASIN!A534","v":0},{"$f":"ASIN!B534","v":0},{"$f":"ASIN!C534","v":0},{"$f":"ASIN!D534","v":0},{"$f":"ASIN!E534","v":0},{"$f":"ASIN!F534","v":0}]
[{"$f":"ASIN!A535","v":0},{"$f":"ASIN!B535","v":0},{"$f":"ASIN!C535","v":0},{"$f":"ASIN!D535","v":0},{"$f":"ASIN!E535","v":0},{"$f":"ASIN!F535","v":0}]
[{"$f":"ASIN!A536","v":0},{"$f":"ASIN!B536","v":0},{"$f":"ASIN!C536","v":0},{"$f":"ASIN!D536","v":0},{"$f":"ASIN!E536","v":0},{"$f":"ASIN!F536","v":0}]
[{"$f":"ASIN!A537","v":0},{"$f":"ASIN!B537","v":0},{"$f":"ASIN!C537","v":0},{"$f":"ASIN!D537","v":0},{"$f":"ASIN!E537","v":0},{"$f":"ASIN!F537","v":0}]
[{"$f":"ASIN!A538","v":0},{"$f":"ASIN!B538","v":0},{"$f":"ASIN!C538","v":0},{"$f":"ASIN!D538","v":0},{"$f":"ASIN!E538","v":0},{"$f":"ASIN!F538","v":0}]
[{"$f":"ASIN!A539","v":0},{"$f":"ASIN!B539","v":0},{"$f":"ASIN!C539","v":0},{"$f":"ASIN!D539","v":0},{"$f":"ASIN!E539","v":0},{"$f":"ASIN!F539","v":0}]
[{"$f":"ASIN!A540","v":0},{"$f":"ASIN!B540","v":0},{"$f":"ASIN!C540","v":0},{"$f":"ASIN!D540","v":0},{"$f":"ASIN!E540","v":0},{"$f":"ASIN!F540","v":0}]
[{"$f":"ASIN!A541","v":0},{"$f":"ASIN!B541","v":0},{"$f":"ASIN!C541","v":0},{"$f":"ASIN!D541","v":0},{"$f":"ASIN!E541","v":0},{"$f":"ASIN!F541","v":0}]
[{"$f":"ASIN!A542","v":0},{"$f":"ASIN!B542","v":0},{"$f":"ASIN!C542","v":0},{"$f":"ASIN!D542","v":0},{"$f":"ASIN!E542","v":0},{"$f":"ASIN!F542","v":0}]
[{"$f":"ASIN!A543","v":0},{"$f":"ASIN!B543","v":0},{"$f":"ASIN!C543","v":0},{"$f":"ASIN!D543","v":0},{"$f":"ASIN!E543","v":0},{"$f":"ASIN!F543","v":0}]
[{"$f":"ASIN!A544","v":0},{"$f":"ASIN!B544","v":0},{"$f":"ASIN!C544","v":0},{"$f":"ASIN!D544","v":0},{"$f":"ASIN!E544","v":0},{"$f":"ASIN!F544","v":0}]
[{"$f":"ASIN!A545","v":0},{"$f":"ASIN!B545","v":0},{"$f":"ASIN!C545","v":0},{"$f":"ASIN!D545","v":0},{"$f":"ASIN!E545","v":0},{"$f":"ASIN!F545","v":0}]
[{"$f":"ASIN!A546","v":0},{"$f":"ASIN!B546","v":0},{"$f":"ASIN!C546","v":0},{"$f":"ASIN!D546","v":0},{"$f":"ASIN!E546","v":0},{"$f":"ASIN!F546","v":0}]
[{"$f":"ASIN!A547","v":0},{"$f":"ASIN!B547","v":0},{"$f":"ASIN!C547","v":0},{"$f":"ASIN!D547","v":0},{"$f":"ASIN!E547","v":0},{"$f":"ASIN!F547","v":0}]
[{"$f":"ASIN!A548","v":0},{"$f":"ASIN!B548","v":0},{"$f":"ASIN!C548","v":0},{"$f":"ASIN!D548","v":0},{"$f":"ASIN!E548","v":0},{"$f":"ASIN!F548","v":0}]
[{"$f":"ASIN!A549","v":0},{"$f":"ASIN!B549","v":0},{"$f":"ASIN!C549","v":0},{"$f":"ASIN!D549","v":0},{"$f":"ASIN!E549","v":0},{"$f":"ASIN!F549","v":0}]
[{"$f":"ASIN!A550","v":0},{"$f":"ASIN!B550","v":0},{"$f":"ASIN!C550","v":0},{"$f":"ASIN!D550","v":0},{"$f":"ASIN!E550","v":0},{"$f":"ASIN!F550","v":0}]
[{"$f":"ASIN!A551","v":0},{"$f":"ASIN!B551","v":0},{"$f":"ASIN!C551","v":0},{"$f":"ASIN!D551","v":0},{"$f":"ASIN!E551","v":0},{"$f":"ASIN!F551","v":0}]
[{"$f":"ASIN!A552","v":0},{"$f":"ASIN!B552","v":0},{"$f":"ASIN!C552","v":0},{"$f":"ASIN!D552","v":0},{"$f":"ASIN!E552","v":0},{"$f":"ASIN!F552","v":0}]
[{"$f":"ASIN!A553","v":0},{"$f":"ASIN!B553","v":0},{"$f":"ASIN!C553","v":0},{"$f":"ASIN!D553","v":0},{"$f":"ASIN!E553","v":0},{"$f":"ASIN!F553","v":0}]
[{"$f":"ASIN!A554","v":0},{"$f":"ASIN!B554","v":0},{"$f":"ASIN!C554","v":0},{"$f":"ASIN!D554","v":0},{"$f":"ASIN!E554","v":0},{"$f":"ASIN!F554","v":0}]
[{"$f":"ASIN!A555","v":0},{"$f":"ASIN!B555","v":0},{"$f":"ASIN!C555","v":0},{"$f":"ASIN!D555","v":0},{"$f":"ASIN!E555","v":0},{"$f":"ASIN!F555","v":0}]
[{"$f":"ASIN!A556","v":0},{"$f":"ASIN!B556","v":0},{"$f":"ASIN!C556","v":0},{"$f":"ASIN!D556","v":0},{"$f":"ASIN!E556","v":0},{"$f":"ASIN!F556","v":0}]
[{"$f":"ASIN!A557","v":0},{"$f":"ASIN!B557","v":0},{"$f":"ASIN!C557","v":0},{"$f":"ASIN!D557","v":0},{"$f":"ASIN!E557","v":0},{"$f":"ASIN!F557","v":0}]
[{"$f":"ASIN!A558","v":0},{"$f":"ASIN!B558","v":0},{"$f":"ASIN!C558","v":0},{"$f":"ASIN!D558","v":0},{"$f":"ASIN!E558","v":0},{"$f":"ASIN!F558","v":0}]
[{"$f":"ASIN!A559","v":0},{"$f":"ASIN!B559","v":0},{"$f":"ASIN!C559","v":0},{"$f":"ASIN!D559","v":0},{"$f":"ASIN!E559","v":0},{"$f":"ASIN!F559","v":0}]
[{"$f":"ASIN!A560","v":0},{"$f":"ASIN!B560","v":0},{"$f":"ASIN!C560","v":0},{"$f":"ASIN!D560","v":0},{"$f":"ASIN!E560","v":0},{"$f":"ASIN!F560","v":0}]
[{"$f":"ASIN!A561","v":0},{"$f":"ASIN!B561","v":0},{"$f":"ASIN!C561","v":0},{"$f":"ASIN!D561","v":0},{"$f":"ASIN!E561","v":0},{"$f":"ASIN!F561","v":0}]
[{"$f":"ASIN!A562","v":0},{"$f":"ASIN!B562","v":0},{"$f":"ASIN!C562","v":0},{"$f":"ASIN!D562","v":0},{"$f":"ASIN!E562","v":0},{"$f":"ASIN!F562","v":0}]
[{"$f":"ASIN!A563","v":0},{"$f":"ASIN!B563","v":0},{"$f":"ASIN!C563","v":0},{"$f":"ASIN!D563","v":0},{"$f":"ASIN!E563","v":0},{"$f":"ASIN!F563","v":0}]
[{"$f":"ASIN!A564","v":0},{"$f":"ASIN!B564","v":0},{"$f":"ASIN!C564","v":0},{"$f":"ASIN!D564","v":0},{"$f":"ASIN!E564","v":0},{"$f":"ASIN!F564","v":0}]
[{"$f":"ASIN!A565","v":0},{"$f":"ASIN!B565","v":0},{"$f":"ASIN!C565","v":0},{"$f":"ASIN!D565","v":0},{"$f":"ASIN!E565","v":0},{"$f":"ASIN!F565","v":0}]
[{"$f":"ASIN!A566","v":0},{"$f":"ASIN!B566","v":0},{"$f":"ASIN!C566","v":0},{"$f":"ASIN!D566","v":0},{"$f":"ASIN!E566","v":0},{"$f":"ASIN!F566","v":0}]
[{"$f":"ASIN!A567","v":0},{"$f":"ASIN!B567","v":0},{"$f":"ASIN!C567","v":0},{"$f":"ASIN!D567","v":0},{"$f":"ASIN!E567","v":0},{"$f":"ASIN!F567","v":0}]
[{"$f":"ASIN!A568","v":0},{"$f":"ASIN!B568","v":0},{"$f":"ASIN!C568","v":0},{"$f":"ASIN!D568","v":0},{"$f":"ASIN!E568","v":0},{"$f":"ASIN!F568","v":0}]
[{"$f":"ASIN!A569","v":0},{"$f":"ASIN!B569","v":0},{"$f":"ASIN!C569","v":0},{"$f":"ASIN!D569","v":0},{"$f":"ASIN!E569","v":0},{"$f":"ASIN!F569","v":0}]
[{"$f":"ASIN!A570","v":0},{"$f":"ASIN!B570","v":0},{"$f":"ASIN!C570","v":0},{"$f":"ASIN!D570","v":0},{"$f":"ASIN!E570","v":0},{"$f":"ASIN!F570","v":0}]
[{"$f":"ASIN!A571","v":0},{"$f":"ASIN!B571","v":0},{"$f":"ASIN!C571","v":0},{"$f":"ASIN!D571","v":0},{"$f":"ASIN!E571","v":0},{"$f":"ASIN!F571","v":0}]
[{"$f":"ASIN!A572","v":0},{"$f":"ASIN!B572","v":0},{"$f":"ASIN!C572","v":0},{"$f":"ASIN!D572","v":0},{"$f":"ASIN!E572","v":0},{"$f":"ASIN!F572","v":0}]
[{"$f":"ASIN!A573","v":0},{"$f":"ASIN!B573","v":0},{"$f":"ASIN!C573","v":0},{"$f":"ASIN!D573","v":0},{"$f":"ASIN!E573","v":0},{"$f":"ASIN!F573","v":0}]
[{"$f":"ASIN!A574","v":0},{"$f":"ASIN!B574","v":0},{"$f":"ASIN!C574","v":0},{"$f":"ASIN!D574","v":0},{"$f":"ASIN!E574","v":0},{"$f":"ASIN!F574","v":0}]
[{"$f":"ASIN!A575","v":0},{"$f":"ASIN!B575","v":0},{"$f":"ASIN!C575","v":0},{"$f":"ASIN!D575","v":0},{"$f":"ASIN!E575","v":0},{"$f":"ASIN!F575","v":0}]
[{"$f":"ASIN!A576","v":0},{"$f":"ASIN!B576","v":0},{"$f":"ASIN!C576","v":0},{"$f":"ASIN!D576","v":0},{"$f":"ASIN!E576","v":0},{"$f":"ASIN!F576","v":0}]
[{"$f":"ASIN!A577","v":0},{"$f":"ASIN!B577","v":0},{"$f":"ASIN!C577","v":0},{"$f":"ASIN!D577","v":0},{"$f":"ASIN!E577","v":0},{"$f":"ASIN!F577","v":0}]
[{"$f":"ASIN!A578","v":0},{"$f":"ASIN!B578","v":0},{"$f":"ASIN!C578","v":0},{"$f":"ASIN!D578","v":0},{"$f":"ASIN!E578","v":0},{"$f":"ASIN!F578","v":0}]
[{"$f":"ASIN!A579","v":0},{"$f":"ASIN!B579","v":0},{"$f":"ASIN!C579","v":0},{"$f":"ASIN!D579","v":0},{"$f":"ASIN!E579","v":0},{"$f":"ASIN!F579","v":0}]
[{"$f":"ASIN!A580","v":0},{"$f":"ASIN!B580","v":0},{"$f":"ASIN!C580","v":0},{"$f":"ASIN!D580","v":0},{"$f":"ASIN!E580","v":0},{"$f":"ASIN!F580","v":0}]
[{"$f":"ASIN!A581","v":0},{"$f":"ASIN!B581","v":0},{"$f":"ASIN!C581","v":0},{"$f":"ASIN!D581","v":0},{"$f":"ASIN!E581","v":0},{"$f":"ASIN!F581","v":0}]
[{"$f":"ASIN!A582","v":0},{"$f":"ASIN!B582","v":0},{"$f":"ASIN!C582","v":0},{"$f":"ASIN!D582","v":0},{"$f":"ASIN!E582","v":0},{"$f":"ASIN!F582","v":0}]
[{"$f":"ASIN!A583","v":0},{"$f":"ASIN!B583","v":0},{"$f":"ASIN!C583","v":0},{"$f":"ASIN!D583","v":0},{"$f":"ASIN!E583","v":0},{"$f":"ASIN!F583","v":0}]
[{"$f":"ASIN!A584","v":0},{"$f":"ASIN!B584","v":0},{"$f":"ASIN!C584","v":0},{"$f":"ASIN!D584","v":0},{"$f":"ASIN!E584","v":0},{"$f":"ASIN!F584","v":0}]
[{"$f":"ASIN!A585","v":0},{"$f":"ASIN!B585","v":0},{"$f":"ASIN!C585","v":0},{"$f":"ASIN!D585","v":0},{"$f":"ASIN!E585","v":0},{"$f":"ASIN!F585","v":0}]
[{"$f":"ASIN!A586","v":0},{"$f":"ASIN!B586","v":0},{"$f":"ASIN!C586","v":0},{"$f":"ASIN!D586","v":0},{"$f":"ASIN!E586","v":0},{"$f":"ASIN!F586","v":0}]
[{"$f":"ASIN!A587","v":0},{"$f":"ASIN!B587","v":0},{"$f":"ASIN!C587","v":0},{"$f":"ASIN!D587","v":0},{"$f":"ASIN!E587","v":0},{"$f":"ASIN!F587","v":0}]
[{"$f":"ASIN!A588","v":0},{"$f":"ASIN!B588","v":0},{"$f":"ASIN!C588","v":0},{"$f":"ASIN!D588","v":0},{"$f":"ASIN!E588","v":0},{"$f":"ASIN!F588","v":0}]
[{"$f":"ASIN!A589","v":0},{"$f":"ASIN!B589","v":0},{"$f":"ASIN!C589","v":0},{"$f":"ASIN!D589","v":0},{"$f":"ASIN!E589","v":0},{"$f":"ASIN!F589","v":0}]
[{"$f":"ASIN!A590","v":0},{"$f":"ASIN!B590","v":0},{"$f":"ASIN!C590","v":0},{"$f":"ASIN!D590","v":0},{"$f":"ASIN!E590","v":0},{"$f":"ASIN!F590","v":0}]
[{"$f":"ASIN!A591","v":0},{"$f":"ASIN!B591","v":0},{"$f":"ASIN!C591","v":0},{"$f":"ASIN!D591","v":0},{"$f":"ASIN!E591","v":0},{"$f":"ASIN!F591","v":0}]
[{"$f":"ASIN!A592","v":0},{"$f":"ASIN!B592","v":0},{"$f":"ASIN!C592","v":0},{"$f":"ASIN!D592","v":0},{"$f":"ASIN!E592","v":0},{"$f":"ASIN!F592","v":0}]
[{"$f":"ASIN!A593","v":0},{"$f":"ASIN!B593","v":0},{"$f":"ASIN!C593","v":0},{"$f":"ASIN!D593","v":0},{"$f":"ASIN!E593","v":0},{"$f":"ASIN!F593","v":0}]
[{"$f":"ASIN!A594","v":0},{"$f":"ASIN!B594","v":0},{"$f":"ASIN!C594","v":0},{"$f":"ASIN!D594","v":0},{"$f":"ASIN!E594","v":0},{"$f":"ASIN!F594","v":0}]
[{"$f":"ASIN!A595","v":0},{"$f":"ASIN!B595","v":0},{"$f":"ASIN!C595","v":0},{"$f":"ASIN!D595","v":0},{"$f":"ASIN!E595","v":0},{"$f":"ASIN!F595","v":0}]
[{"$f":"ASIN!A596","v":0},{"$f":"ASIN!B596","v":0},{"$f":"ASIN!C596","v":0},{"$f":"ASIN!D596","v":0},{"$f":"ASIN!E596","v":0},{"$f":"ASIN!F596","v":0}]
[{"$f":"ASIN!A597","v":0},{"$f":"ASIN!B597","v":0},{"$f":"ASIN!C597","v":0},{"$f":"ASIN!D597","v":0},{"$f":"ASIN!E597","v":0},{"$f":"ASIN!F597","v":0}]
[{"$f":"ASIN!A598","v":0},{"$f":"ASIN!B598","v":0},{"$f":"ASIN!C598","v":0},{"$f":"ASIN!D598","v":0},{"$f":"ASIN!E598","v":0},{"$f":"ASIN!F598","v":0}]
[{"$f":"ASIN!A599","v":0},{"$f":"ASIN!B599","v":0},{"$f":"ASIN!C599","v":0},{"$f":"ASIN!D599","v":0},{"$f":"ASIN!E599","v":0},{"$f":"ASIN!F599","v":0}]
[{"$f":"ASIN!A600","v":0},{"$f":"ASIN!B600","v":0},{"$f":"ASIN!C600","v":0},{"$f":"ASIN!D600","v":0},{"$f":"ASIN!E600","v":0},{"$f":"ASIN!F600","v":0}]
[{"$f":"ASIN!A601","v":0},{"$f":"ASIN!B601","v":0},{"$f":"ASIN!C601","v":0},{"$f":"ASIN!D601","v":0},{"$f":"ASIN!E601","v":0},{"$f":"ASIN!F601","v":0}]
[{"$f":"ASIN!A602","v":0},{"$f":"ASIN!B602","v":0},{"$f":"ASIN!C602","v":0},{"$f":"ASIN!D602","v":0},{"$f":"ASIN!E602","v":0},{"$f":"ASIN!F602","v":0}]
[{"$f":"ASIN!A603","v":0},{"$f":"ASIN!B603","v":0},{"$f":"ASIN!C603","v":0},{"$f":"ASIN!D603","v":0},{"$f":"ASIN!E603","v":0},{"$f":"ASIN!F603","v":0}]
[{"$f":"ASIN!A604","v":0},{"$f":"ASIN!B604","v":0},{"$f":"ASIN!C604","v":0},{"$f":"ASIN!D604","v":0},{"$f":"ASIN!E604","v":0},{"$f":"ASIN!F604","v":0}]
[{"$f":"ASIN!A605","v":0},{"$f":"ASIN!B605","v":0},{"$f":"ASIN!C605","v":0},{"$f":"ASIN!D605","v":0},{"$f":"ASIN!E605","v":0},{"$f":"ASIN!F605","v":0}]
[{"$f":"ASIN!A606","v":0},{"$f":"ASIN!B606","v":0},{"$f":"ASIN!C606","v":0},{"$f":"ASIN!D606","v":0},{"$f":"ASIN!E606","v":0},{"$f":"ASIN!F606","v":0}]
[{"$f":"ASIN!A607","v":0},{"$f":"ASIN!B607","v":0},{"$f":"ASIN!C607","v":0},{"$f":"ASIN!D607","v":0},{"$f":"ASIN!E607","v":0},{"$f":"ASIN!F607","v":0}]
[{"$f":"ASIN!A608","v":0},{"$f":"ASIN!B608","v":0},{"$f":"ASIN!C608","v":0},{"$f":"ASIN!D608","v":0},{"$f":"ASIN!E608","v":0},{"$f":"ASIN!F608","v":0}]
[{"$f":"ASIN!A609","v":0},{"$f":"ASIN!B609","v":0},{"$f":"ASIN!C609","v":0},{"$f":"ASIN!D609","v":0},{"$f":"ASIN!E609","v":0},{"$f":"ASIN!F609","v":0}]
[{"$f":"ASIN!A610","v":0},{"$f":"ASIN!B610","v":0},{"$f":"ASIN!C610","v":0},{"$f":"ASIN!D610","v":0},{"$f":"ASIN!E610","v":0},{"$f":"ASIN!F610","v":0}]
[{"$f":"ASIN!A611","v":0},{"$f":"ASIN!B611","v":0},{"$f":"ASIN!C611","v":0},{"$f":"ASIN!D611","v":0},{"$f":"ASIN!E611","v":0},{"$f":"ASIN!F611","v":0}]
[{"$f":"ASIN!A612","v":0},{"$f":"ASIN!B612","v":0},{"$f":"ASIN!C612","v":0},{"$f":"ASIN!D612","v":0},{"$f":"ASIN!E612","v":0},{"$f":"ASIN!F612","v":0}]
[{"$f":"ASIN!A613","v":0},{"$f":"ASIN!B613","v":0},{"$f":"ASIN!C613","v":0},{"$f":"ASIN!D613","v":0},{"$f":"ASIN!E613","v":0},{"$f":"ASIN!F613","v":0}]
[{"$f":"ASIN!A614","v":0},{"$f":"ASIN!B614","v":0},{"$f":"ASIN!C614","v":0},{"$f":"ASIN!D614","v":0},{"$f":"ASIN!E614","v":0},{"$f":"ASIN!F614","v":0}]
[{"$f":"ASIN!A615","v":0},{"$f":"ASIN!B615","v":0},{"$f":"ASIN!C615","v":0},{"$f":"ASIN!D615","v":0},{"$f":"ASIN!E615","v":0},{"$f":"ASIN!F615","v":0}]
[{"$f":"ASIN!A616","v":0},{"$f":"ASIN!B616","v":0},{"$f":"ASIN!C616","v":0},{"$f":"ASIN!D616","v":0},{"$f":"ASIN!E616","v":0},{"$f":"ASIN!F616","v":0}]
[{"$f":"ASIN!A617","v":0},{"$f":"ASIN!B617","v":0},{"$f":"ASIN!C617","v":0},{"$f":"ASIN!D617","v":0},{"$f":"ASIN!E617","v":0},{"$f":"ASIN!F617","v":0}]
[{"$f":"ASIN!A618","v":0},{"$f":"ASIN!B618","v":0},{"$f":"ASIN!C618","v":0},{"$f":"ASIN!D618","v":0},{"$f":"ASIN!E618","v":0},{"$f":"ASIN!F618","v":0}]
[{"$f":"ASIN!A619","v":0},{"$f":"ASIN!B619","v":0},{"$f":"ASIN!C619","v":0},{"$f":"ASIN!D619","v":0},{"$f":"ASIN!E619","v":0},{"$f":"ASIN!F619","v":0}]
[{"$f":"ASIN!A620","v":0},{"$f":"ASIN!B620","v":0},{"$f":"ASIN!C620","v":0},{"$f":"ASIN!D620","v":0},{"$f":"ASIN!E620","v":0},{"$f":"ASIN!F620","v":0}]
[{"$f":"ASIN!A621","v":0},{"$f":"ASIN!B621","v":0},{"$f":"ASIN!C621","v":0},{"$f":"ASIN!D621","v":0},{"$f":"ASIN!E621","v":0},{"$f":"ASIN!F621","v":0}]
[{"$f":"ASIN!A622","v":0},{"$f":"ASIN!B622","v":0},{"$f":"ASIN!C622","v":0},{"$f":"ASIN!D622","v":0},{"$f":"ASIN!E622","v":0},{"$f":"ASIN!F622","v":0}]
[{"$f":"ASIN!A623","v":0},{"$f":"ASIN!B623","v":0},{"$f":"ASIN!C623","v":0},{"$f":"ASIN!D623","v":0},{"$f":"ASIN!E623","v":0},{"$f":"ASIN!F623","v":0}]
[{"$f":"ASIN!A624","v":0},{"$f":"ASIN!B624","v":0},{"$f":"ASIN!C624","v":0},{"$f":"ASIN!D624","v":0},{"$f":"ASIN!E624","v":0},{"$f":"ASIN!F624","v":0}]
[{"$f":"ASIN!A625","v":0},{"$f":"ASIN!B625","v":0},{"$f":"ASIN!C625","v":0},{"$f":"ASIN!D625","v":0},{"$f":"ASIN!E625","v":0},{"$f":"ASIN!F625","v":0}]
[{"$f":"ASIN!A626","v":0},{"$f":"ASIN!B626","v":0},{"$f":"ASIN!C626","v":0},{"$f":"ASIN!D626","v":0},{"$f":"ASIN!E626","v":0},{"$f":"ASIN!F626","v":0}]
[{"$f":"ASIN!A627","v":0},{"$f":"ASIN!B627","v":0},{"$f":"ASIN!C627","v":0},{"$f":"ASIN!D627","v":0},{"$f":"ASIN!E627","v":0},{"$f":"ASIN!F627","v":0}]
[{"$f":"ASIN!A628","v":0},{"$f":"ASIN!B628","v":0},{"$f":"ASIN!C628","v":0},{"$f":"ASIN!D628","v":0},{"$f":"ASIN!E628","v":0},{"$f":"ASIN!F628","v":0}]
[{"$f":"ASIN!A629","v":0},{"$f":"ASIN!B629","v":0},{"$f":"ASIN!C629","v":0},{"$f":"ASIN!D629","v":0},{"$f":"ASIN!E629","v":0},{"$f":"ASIN!F629","v":0}]
[{"$f":"ASIN!A630","v":0},{"$f":"ASIN!B630","v":0},{"$f":"ASIN!C630","v":0},{"$f":"ASIN!D630","v":0},{"$f":"ASIN!E630","v":0},{"$f":"ASIN!F630","v":0}]
[{"$f":"ASIN!A631","v":0},{"$f":"ASIN!B631","v":0},{"$f":"ASIN!C631","v":0},{"$f":"ASIN!D631","v":0},{"$f":"ASIN!E631","v":0},{"$f":"ASIN!F631","v":0}]
[{"$f":"ASIN!A632","v":0},{"$f":"ASIN!B632","v":0},{"$f":"ASIN!C632","v":0},{"$f":"ASIN!D632","v":0},{"$f":"ASIN!E632","v":0},{"$f":"ASIN!F632","v":0}]
[{"$f":"ASIN!A633","v":0},{"$f":"ASIN!B633","v":0},{"$f":"ASIN!C633","v":0},{"$f":"ASIN!D633","v":0},{"$f":"ASIN!E633","v":0},{"$f":"ASIN!F633","v":0}]
[{"$f":"ASIN!A634","v":0},{"$f":"ASIN!B634","v":0},{"$f":"ASIN!C634","v":0},{"$f":"ASIN!D634","v":0},{"$f":"ASIN!E634","v":0},{"$f":"ASIN!F634","v":0}]
[{"$f":"ASIN!A635","v":0},{"$f":"ASIN!B635","v":0},{"$f":"ASIN!C635","v":0},{"$f":"ASIN!D635","v":0},{"$f":"ASIN!E635","v":0},{"$f":"ASIN!F635","v":0}]
[{"$f":"ASIN!A636","v":0},{"$f":"ASIN!B636","v":0},{"$f":"ASIN!C636","v":0},{"$f":"ASIN!D636","v":0},{"$f":"ASIN!E636","v":0},{"$f":"ASIN!F636","v":0}]
[{"$f":"ASIN!A637","v":0},{"$f":"ASIN!B637","v":0},{"$f":"ASIN!C637","v":0},{"$f":"ASIN!D637","v":0},{"$f":"ASIN!E637","v":0},{"$f":"ASIN!F637","v":0}]
[{"$f":"ASIN!A638","v":0},{"$f":"ASIN!B638","v":0},{"$f":"ASIN!C638","v":0},{"$f":"ASIN!D638","v":0},{"$f":"ASIN!E638","v":0},{"$f":"ASIN!F638","v":0}]
[{"$f":"ASIN!A639","v":0},{"$f":"ASIN!B639","v":0},{"$f":"ASIN!C639","v":0},{"$f":"ASIN!D639","v":0},{"$f":"ASIN!E639","v":0},{"$f":"ASIN!F639","v":0}]
[{"$f":"ASIN!A640","v":0},{"$f":"ASIN!B640","v":0},{"$f":"ASIN!C640","v":0},{"$f":"ASIN!D640","v":0},{"$f":"ASIN!E640","v":0},{"$f":"ASIN!F640","v":0}]
[{"$f":"ASIN!A641","v":0},{"$f":"ASIN!B641","v":0},{"$f":"ASIN!C641","v":0},{"$f":"ASIN!D641","v":0},{"$f":"ASIN!E641","v":0},{"$f":"ASIN!F641","v":0}]
[{"$f":"ASIN!A642","v":0},{"$f":"ASIN!B642","v":0},{"$f":"ASIN!C642","v":0},{"$f":"ASIN!D642","v":0},{"$f":"ASIN!E642","v":0},{"$f":"ASIN!F642","v":0}]
[{"$f":"ASIN!A643","v":0},{"$f":"ASIN!B643","v":0},{"$f":"ASIN!C643","v":0},{"$f":"ASIN!D643","v":0},{"$f":"ASIN!E643","v":0},{"$f":"ASIN!F643","v":0}]
[{"$f":"ASIN!A644","v":0},{"$f":"ASIN!B644","v":0},{"$f":"ASIN!C644","v":0},{"$f":"ASIN!D644","v":0},{"$f":"ASIN!E644","v":0},{"$f":"ASIN!F644","v":0}]
[{"$f":"ASIN!A645","v":0},{"$f":"ASIN!B645","v":0},{"$f":"ASIN!C645","v":0},{"$f":"ASIN!D645","v":0},{"$f":"ASIN!E645","v":0},{"$f":"ASIN!F645","v":0}]
[{"$f":"ASIN!A646","v":0},{"$f":"ASIN!B646","v":0},{"$f":"ASIN!C646","v":0},{"$f":"ASIN!D646","v":0},{"$f":"ASIN!E646","v":0},{"$f":"ASIN!F646","v":0}]
[{"$f":"ASIN!A647","v":0},{"$f":"ASIN!B647","v":0},{"$f":"ASIN!C647","v":0},{"$f":"ASIN!D647","v":0},{"$f":"ASIN!E647","v":0},{"$f":"ASIN!F647","v":0}]
[{"$f":"ASIN!A648","v":0},{"$f":"ASIN!B648","v":0},{"$f":"ASIN!C648","v":0},{"$f":"ASIN!D648","v":0},{"$f":"ASIN!E648","v":0},{"$f":"ASIN!F648","v":0}]
[{"$f":"ASIN!A649","v":0},{"$f":"ASIN!B649","v":0},{"$f":"ASIN!C649","v":0},{"$f":"ASIN!D649","v":0},{"$f":"ASIN!E649","v":0},{"$f":"ASIN!F649","v":0}]
[{"$f":"ASIN!A650","v":0},{"$f":"ASIN!B650","v":0},{"$f":"ASIN!C650","v":0},{"$f":"ASIN!D650","v":0},{"$f":"ASIN!E650","v":0},{"$f":"ASIN!F650","v":0}]
[{"$f":"ASIN!A651","v":0},{"$f":"ASIN!B651","v":0},{"$f":"ASIN!C651","v":0},{"$f":"ASIN!D651","v":0},{"$f":"ASIN!E651","v":0},{"$f":"ASIN!F651","v":0}]
[{"$f":"ASIN!A652","v":0},{"$f":"ASIN!B652","v":0},{"$f":"ASIN!C652","v":0},{"$f":"ASIN!D652","v":0},{"$f":"ASIN!E652","v":0},{"$f":"ASIN!F652","v":0}]
[{"$f":"ASIN!A653","v":0},{"$f":"ASIN!B653","v":0},{"$f":"ASIN!C653","v":0},{"$f":"ASIN!D653","v":0},{"$f":"ASIN!E653","v":0},{"$f":"ASIN!F653","v":0}]
[{"$f":"ASIN!A654","v":0},{"$f":"ASIN!B654","v":0},{"$f":"ASIN!C654","v":0},{"$f":"ASIN!D654","v":0},{"$f":"ASIN!E654","v":0},{"$f":"ASIN!F654","v":0}]
[{"$f":"ASIN!A655","v":0},{"$f":"ASIN!B655","v":0},{"$f":"ASIN!C655","v":0},{"$f":"ASIN!D655","v":0},{"$f":"ASIN!E655","v":0},{"$f":"ASIN!F655","v":0}]
[{"$f":"ASIN!A656","v":0},{"$f":"ASIN!B656","v":0},{"$f":"ASIN!C656","v":0},{"$f":"ASIN!D656","v":0},{"$f":"ASIN!E656","v":0},{"$f":"ASIN!F656","v":0}]
[{"$f":"ASIN!A657","v":0},{"$f":"ASIN!B657","v":0},{"$f":"ASIN!C657","v":0},{"$f":"ASIN!D657","v":0},{"$f":"ASIN!E657","v":0},{"$f":"ASIN!F657","v":0}]
[{"$f":"ASIN!A658","v":0},{"$f":"ASIN!B658","v":0},{"$f":"ASIN!C658","v":0},{"$f":"ASIN!D658","v":0},{"$f":"ASIN!E658","v":0},{"$f":"ASIN!F658","v":0}]
[{"$f":"ASIN!A659","v":0},{"$f":"ASIN!B659","v":0},{"$f":"ASIN!C659","v":0},{"$f":"ASIN!D659","v":0},{"$f":"ASIN!E659","v":0},{"$f":"ASIN!F659","v":0}]
[{"$f":"ASIN!A660","v":0},{"$f":"ASIN!B660","v":0},{"$f":"ASIN!C660","v":0},{"$f":"ASIN!D660","v":0},{"$f":"ASIN!E660","v":0},{"$f":"ASIN!F660","v":0}]
[{"$f":"ASIN!A661","v":0},{"$f":"ASIN!B661","v":0},{"$f":"ASIN!C661","v":0},{"$f":"ASIN!D661","v":0},{"$f":"ASIN!E661","v":0},{"$f":"ASIN!F661","v":0}]
[{"$f":"ASIN!A662","v":0},{"$f":"ASIN!B662","v":0},{"$f":"ASIN!C662","v":0},{"$f":"ASIN!D662","v":0},{"$f":"ASIN!E662","v":0},{"$f":"ASIN!F662","v":0}]
[{"$f":"ASIN!A663","v":0},{"$f":"ASIN!B663","v":0},{"$f":"ASIN!C663","v":0},{"$f":"ASIN!D663","v":0},{"$f":"ASIN!E663","v":0},{"$f":"ASIN!F663","v":0}]
[{"$f":"ASIN!A664","v":0},{"$f":"ASIN!B664","v":0},{"$f":"ASIN!C664","v":0},{"$f":"ASIN!D664","v":0},{"$f":"ASIN!E664","v":0},{"$f":"ASIN!F664","v":0}]
[{"$f":"ASIN!A665","v":0},{"$f":"ASIN!B665","v":0},{"$f":"ASIN!C665","v":0},{"$f":"ASIN!D665","v":0},{"$f":"ASIN!E665","v":0},{"$f":"ASIN!F665","v":0}]
[{"$f":"ASIN!A666","v":0},{"$f":"ASIN!B666","v":0},{"$f":"ASIN!C666","v":0},{"$f":"ASIN!D666","v":0},{"$f":"ASIN!E666","v":0},{"$f":"ASIN!F666","v":0}]
[{"$f":"ASIN!A667","v":0},{"$f":"ASIN!B667","v":0},{"$f":"ASIN!C667","v":0},{"$f":"ASIN!D667","v":0},{"$f":"ASIN!E667","v":0},{"$f":"ASIN!F667","v":0}]
[{"$f":"ASIN!A668","v":0},{"$f":"ASIN!B668","v":0},{"$f":"ASIN!C668","v":0},{"$f":"ASIN!D668","v":0},{"$f":"ASIN!E668","v":0},{"$f":"ASIN!F668","v":0}]
[{"$f":"ASIN!A669","v":0},{"$f":"ASIN!B669","v":0},{"$f":"ASIN!C669","v":0},{"$f":"ASIN!D669","v":0},{"$f":"ASIN!E669","v":0},{"$f":"ASIN!F669","v":0}]
[{"$f":"ASIN!A670","v":0},{"$f":"ASIN!B670","v":0},{"$f":"ASIN!C670","v":0},{"$f":"ASIN!D670","v":0},{"$f":"ASIN!E670","v":0},{"$f":"ASIN!F670","v":0}]
[{"$f":"ASIN!A671","v":0},{"$f":"ASIN!B671","v":0},{"$f":"ASIN!C671","v":0},{"$f":"ASIN!D671","v":0},{"$f":"ASIN!E671","v":0},{"$f":"ASIN!F671","v":0}]
[{"$f":"ASIN!A672","v":0},{"$f":"ASIN!B672","v":0},{"$f":"ASIN!C672","v":0},{"$f":"ASIN!D672","v":0},{"$f":"ASIN!E672","v":0},{"$f":"ASIN!F672","v":0}]
[{"$f":"ASIN!A673","v":0},{"$f":"ASIN!B673","v":0},{"$f":"ASIN!C673","v":0},{"$f":"ASIN!D673","v":0},{"$f":"ASIN!E673","v":0},{"$f":"ASIN!F673","v":0}]
[{"$f":"ASIN!A674","v":0},{"$f":"ASIN!B674","v":0},{"$f":"ASIN!C674","v":0},{"$f":"ASIN!D674","v":0},{"$f":"ASIN!E674","v":0},{"$f":"ASIN!F674","v":0}]
[{"$f":"ASIN!A675","v":0},{"$f":"ASIN!B675","v":0},{"$f":"ASIN!C675","v":0},{"$f":"ASIN!D675","v":0},{"$f":"ASIN!E675","v":0},{"$f":"ASIN!F675","v":0}]
[{"$f":"ASIN!A676","v":0},{"$f":"ASIN!B676","v":0},{"$f":"ASIN!C676","v":0},{"$f":"ASIN!D676","v":0},{"$f":"ASIN!E676","v":0},{"$f":"ASIN!F676","v":0}]
[{"$f":"ASIN!A677","v":0},{"$f":"ASIN!B677","v":0},{"$f":"ASIN!C677","v":0},{"$f":"ASIN!D677","v":0},{"$f":"ASIN!E677","v":0},{"$f":"ASIN!F677","v":0}]
[{"$f":"ASIN!A678","v":0},{"$f":"ASIN!B678","v":0},{"$f":"ASIN!C678","v":0},{"$f":"ASIN!D678","v":0},{"$f":"ASIN!E678","v":0},{"$f":"ASIN!F678","v":0}]
[{"$f":"ASIN!A679","v":0},{"$f":"ASIN!B679","v":0},{"$f":"ASIN!C679","v":0},{"$f":"ASIN!D679","v":0},{"$f":"ASIN!E679","v":0},{"$f":"ASIN!F679","v":0}]
[{"$f":"ASIN!A680","v":0},{"$f":"ASIN!B680","v":0},{"$f":"ASIN!C680","v":0},{"$f":"ASIN!D680","v":0},{"$f":"ASIN!E680","v":0},{"$f":"ASIN!F680","v":0}]
[{"$f":"ASIN!A681","v":0},{"$f":"ASIN!B681","v":0},{"$f":"ASIN!C681","v":0},{"$f":"ASIN!D681","v":0},{"$f":"ASIN!E681","v":0},{"$f":"ASIN!F681","v":0}]
[{"$f":"ASIN!A682","v":0},{"$f":"ASIN!B682","v":0},{"$f":"ASIN!C682","v":0},{"$f":"ASIN!D682","v":0},{"$f":"ASIN!E682","v":0},{"$f":"ASIN!F682","v":0}]
[{"$f":"ASIN!A683","v":0},{"$f":"ASIN!B683","v":0},{"$f":"ASIN!C683","v":0},{"$f":"ASIN!D683","v":0},{"$f":"ASIN!E683","v":0},{"$f":"ASIN!F683","v":0}]
[{"$f":"ASIN!A684","v":0},{"$f":"ASIN!B684","v":0},{"$f":"ASIN!C684","v":0},{"$f":"ASIN!D684","v":0},{"$f":"ASIN!E684","v":0},{"$f":"ASIN!F684","v":0}]
[{"$f":"ASIN!A685","v":0},{"$f":"ASIN!B685","v":0},{"$f":"ASIN!C685","v":0},{"$f":"ASIN!D685","v":0},{"$f":"ASIN!E685","v":0},{"$f":"ASIN!F685","v":0}]
[{"$f":"ASIN!A686","v":0},{"$f":"ASIN!B686","v":0},{"$f":"ASIN!C686","v":0},{"$f":"ASIN!D686","v":0},{"$f":"ASIN!E686","v":0},{"$f":"ASIN!F686","v":0}]
[{"$f":"ASIN!A687","v":0},{"$f":"ASIN!B687","v":0},{"$f":"ASIN!C687","v":0},{"$f":"ASIN!D687","v":0},{"$f":"ASIN!E687","v":0},{"$f":"ASIN!F687","v":0}]
[{"$f":"ASIN!A688","v":0},{"$f":"ASIN!B688","v":0},{"$f":"ASIN!C688","v":0},{"$f":"ASIN!D688","v":0},{"$f":"ASIN!E688","v":0},{"$f":"ASIN!F688","v":0}]
[{"$f":"ASIN!A689","v":0},{"$f":"ASIN!B689","v":0},{"$f":"ASIN!C689","v":0},{"$f":"ASIN!D689","v":0},{"$f":"ASIN!E689","v":0},{"$f":"ASIN!F689","v":0}]
[{"$f":"ASIN!A690","v":0},{"$f":"ASIN!B690","v":0},{"$f":"ASIN!C690","v":0},{"$f":"ASIN!D690","v":0},{"$f":"ASIN!E690","v":0},{"$f":"ASIN!F690","v":0}]
[{"$f":"ASIN!A691","v":0},{"$f":"ASIN!B691","v":0},{"$f":"ASIN!C691","v":0},{"$f":"ASIN!D691","v":0},{"$f":"ASIN!E691","v":0},{"$f":"ASIN!F691","v":0}]
[{"$f":"ASIN!A692","v":0},{"$f":"ASIN!B692","v":0},{"$f":"ASIN!C692","v":0},{"$f":"ASIN!D692","v":0},{"$f":"ASIN!E692","v":0},{"$f":"ASIN!F692","v":0}]
[{"$f":"ASIN!A693","v":0},{"$f":"ASIN!B693","v":0},{"$f":"ASIN!C693","v":0},{"$f":"ASIN!D693","v":0},{"$f":"ASIN!E693","v":0},{"$f":"ASIN!F693","v":0}]
[{"$f":"ASIN!A694","v":0},{"$f":"ASIN!B694","v":0},{"$f":"ASIN!C694","v":0},{"$f":"ASIN!D694","v":0},{"$f":"ASIN!E694","v":0},{"$f":"ASIN!F694","v":0}]
[{"$f":"ASIN!A695","v":0},{"$f":"ASIN!B695","v":0},{"$f":"ASIN!C695","v":0},{"$f":"ASIN!D695","v":0},{"$f":"ASIN!E695","v":0},{"$f":"ASIN!F695","v":0}]
[{"$f":"ASIN!A696","v":0},{"$f":"ASIN!B696","v":0},{"$f":"ASIN!C696","v":0},{"$f":"ASIN!D696","v":0},{"$f":"ASIN!E696","v":0},{"$f":"ASIN!F696","v":0}]
[{"$f":"ASIN!A697","v":0},{"$f":"ASIN!B697","v":0},{"$f":"ASIN!C697","v":0},{"$f":"ASIN!D697","v":0},{"$f":"ASIN!E697","v":0},{"$f":"ASIN!F697","v":0}]
[{"$f":"ASIN!A698","v":0},{"$f":"ASIN!B698","v":0},{"$f":"ASIN!C698","v":0},{"$f":"ASIN!D698","v":0},{"$f":"ASIN!E698","v":0},{"$f":"ASIN!F698","v":0}]
[{"$f":"ASIN!A699","v":0},{"$f":"ASIN!B699","v":0},{"$f":"ASIN!C699","v":0},{"$f":"ASIN!D699","v":0},{"$f":"ASIN!E699","v":0},{"$f":"ASIN!F699","v":0}]
[{"$f":"ASIN!A700","v":0},{"$f":"ASIN!B700","v":0},{"$f":"ASIN!C700","v":0},{"$f":"ASIN!D700","v":0},{"$f":"ASIN!E700","v":0},{"$f":"ASIN!F700","v":0}]
[{"$f":"ASIN!A701","v":0},{"$f":"ASIN!B701","v":0},{"$f":"ASIN!C701","v":0},{"$f":"ASIN!D701","v":0},{"$f":"ASIN!E701","v":0},{"$f":"ASIN!F701","v":0}]
[{"$f":"ASIN!A702","v":0},{"$f":"ASIN!B702","v":0},{"$f":"ASIN!C702","v":0},{"$f":"ASIN!D702","v":0},{"$f":"ASIN!E702","v":0},{"$f":"ASIN!F702","v":0}]
[{"$f":"ASIN!A703","v":0},{"$f":"ASIN!B703","v":0},{"$f":"ASIN!C703","v":0},{"$f":"ASIN!D703","v":0},{"$f":"ASIN!E703","v":0},{"$f":"ASIN!F703","v":0}]
[{"$f":"ASIN!A704","v":0},{"$f":"ASIN!B704","v":0},{"$f":"ASIN!C704","v":0},{"$f":"ASIN!D704","v":0},{"$f":"ASIN!E704","v":0},{"$f":"ASIN!F704","v":0}]
[{"$f":"ASIN!A705","v":0},{"$f":"ASIN!B705","v":0},{"$f":"ASIN!C705","v":0},{"$f":"ASIN!D705","v":0},{"$f":"ASIN!E705","v":0},{"$f":"ASIN!F705","v":0}]
[{"$f":"ASIN!A706","v":0},{"$f":"ASIN!B706","v":0},{"$f":"ASIN!C706","v":0},{"$f":"ASIN!D706","v":0},{"$f":"ASIN!E706","v":0},{"$f":"ASIN!F706","v":0}]
[{"$f":"ASIN!A707","v":0},{"$f":"ASIN!B707","v":0},{"$f":"ASIN!C707","v":0},{"$f":"ASIN!D707","v":0},{"$f":"ASIN!E707","v":0},{"$f":"ASIN!F707","v":0}]
[{"$f":"ASIN!A708","v":0},{"$f":"ASIN!B708","v":0},{"$f":"ASIN!C708","v":0},{"$f":"ASIN!D708","v":0},{"$f":"ASIN!E708","v":0},{"$f":"ASIN!F708","v":0}]
[{"$f":"ASIN!A709","v":0},{"$f":"ASIN!B709","v":0},{"$f":"ASIN!C709","v":0},{"$f":"ASIN!D709","v":0},{"$f":"ASIN!E709","v":0},{"$f":"ASIN!F709","v":0}]
[{"$f":"ASIN!A710","v":0},{"$f":"ASIN!B710","v":0},{"$f":"ASIN!C710","v":0},{"$f":"ASIN!D710","v":0},{"$f":"ASIN!E710","v":0},{"$f":"ASIN!F710","v":0}]
[{"$f":"ASIN!A711","v":0},{"$f":"ASIN!B711","v":0},{"$f":"ASIN!C711","v":0},{"$f":"ASIN!D711","v":0},{"$f":"ASIN!E711","v":0},{"$f":"ASIN!F711","v":0}]
[{"$f":"ASIN!A712","v":0},{"$f":"ASIN!B712","v":0},{"$f":"ASIN!C712","v":0},{"$f":"ASIN!D712","v":0},{"$f":"ASIN!E712","v":0},{"$f":"ASIN!F712","v":0}]
[{"$f":"ASIN!A713","v":0},{"$f":"ASIN!B713","v":0},{"$f":"ASIN!C713","v":0},{"$f":"ASIN!D713","v":0},{"$f":"ASIN!E713","v":0},{"$f":"ASIN!F713","v":0}]
[{"$f":"ASIN!A714","v":0},{"$f":"ASIN!B714","v":0},{"$f":"ASIN!C714","v":0},{"$f":"ASIN!D714","v":0},{"$f":"ASIN!E714","v":0},{"$f":"ASIN!F714","v":0}]
[{"$f":"ASIN!A715","v":0},{"$f":"ASIN!B715","v":0},{"$f":"ASIN!C715","v":0},{"$f":"ASIN!D715","v":0},{"$f":"ASIN!E715","v":0},{"$f":"ASIN!F715","v":0}]
[{"$f":"ASIN!A716","v":0},{"$f":"ASIN!B716","v":0},{"$f":"ASIN!C716","v":0},{"$f":"ASIN!D716","v":0},{"$f":"ASIN!E716","v":0},{"$f":"ASIN!F716","v":0}]
[{"$f":"ASIN!A717","v":0},{"$f":"ASIN!B717","v":0},{"$f":"ASIN!C717","v":0},{"$f":"ASIN!D717","v":0},{"$f":"ASIN!E717","v":0},{"$f":"ASIN!F717","v":0}]
[{"$f":"ASIN!A718","v":0},{"$f":"ASIN!B718","v":0},{"$f":"ASIN!C718","v":0},{"$f":"ASIN!D718","v":0},{"$f":"ASIN!E718","v":0},{"$f":"ASIN!F718","v":0}]
[{"$f":"ASIN!A719","v":0},{"$f":"ASIN!B719","v":0},{"$f":"ASIN!C719","v":0},{"$f":"ASIN!D719","v":0},{"$f":"ASIN!E719","v":0},{"$f":"ASIN!F719","v":0}]
[{"$f":"ASIN!A720","v":0},{"$f":"ASIN!B720","v":0},{"$f":"ASIN!C720","v":0},{"$f":"ASIN!D720","v":0},{"$f":"ASIN!E720","v":0},{"$f":"ASIN!F720","v":0}]
[{"$f":"ASIN!A721","v":0},{"$f":"ASIN!B721","v":0},{"$f":"ASIN!C721","v":0},{"$f":"ASIN!D721","v":0},{"$f":"ASIN!E721","v":0},{"$f":"ASIN!F721","v":0}]
[{"$f":"ASIN!A722","v":0},{"$f":"ASIN!B722","v":0},{"$f":"ASIN!C722","v":0},{"$f":"ASIN!D722","v":0},{"$f":"ASIN!E722","v":0},{"$f":"ASIN!F722","v":0}]
[{"$f":"ASIN!A723","v":0},{"$f":"ASIN!B723","v":0},{"$f":"ASIN!C723","v":0},{"$f":"ASIN!D723","v":0},{"$f":"ASIN!E723","v":0},{"$f":"ASIN!F723","v":0}]
[{"$f":"ASIN!A724","v":0},{"$f":"ASIN!B724","v":0},{"$f":"ASIN!C724","v":0},{"$f":"ASIN!D724","v":0},{"$f":"ASIN!E724","v":0},{"$f":"ASIN!F724","v":0}]
[{"$f":"ASIN!A725","v":0},{"$f":"ASIN!B725","v":0},{"$f":"ASIN!C725","v":0},{"$f":"ASIN!D725","v":0},{"$f":"ASIN!E725","v":0},{"$f":"ASIN!F725","v":0}]
[{"$f":"ASIN!A726","v":0},{"$f":"ASIN!B726","v":0},{"$f":"ASIN!C726","v":0},{"$f":"ASIN!D726","v":0},{"$f":"ASIN!E726","v":0},{"$f":"ASIN!F726","v":0}]
[{"$f":"ASIN!A727","v":0},{"$f":"ASIN!B727","v":0},{"$f":"ASIN!C727","v":0},{"$f":"ASIN!D727","v":0},{"$f":"ASIN!E727","v":0},{"$f":"ASIN!F727","v":0}]
[{"$f":"ASIN!A728","v":0},{"$f":"ASIN!B728","v":0},{"$f":"ASIN!C728","v":0},{"$f":"ASIN!D728","v":0},{"$f":"ASIN!E728","v":0},{"$f":"ASIN!F728","v":0}]
[{"$f":"ASIN!A729","v":0},{"$f":"ASIN!B729","v":0},{"$f":"ASIN!C729","v":0},{"$f":"ASIN!D729","v":0},{"$f":"ASIN!E729","v":0},{"$f":"ASIN!F729","v":0}]
[{"$f":"ASIN!A730","v":0},{"$f":"ASIN!B730","v":0},{"$f":"ASIN!C730","v":0},{"$f":"ASIN!D730","v":0},{"$f":"ASIN!E730","v":0},{"$f":"ASIN!F730","v":0}]
[{"$f":"ASIN!A731","v":0},{"$f":"ASIN!B731","v":0},{"$f":"ASIN!C731","v":0},{"$f":"ASIN!D731","v":0},{"$f":"ASIN!E731","v":0},{"$f":"ASIN!F731","v":0}]
[{"$f":"ASIN!A732","v":0},{"$f":"ASIN!B732","v":0},{"$f":"ASIN!C732","v":0},{"$f":"ASIN!D732","v":0},{"$f":"ASIN!E732","v":0},{"$f":"ASIN!F732","v":0}]
[{"$f":"ASIN!A733","v":0},{"$f":"ASIN!B733","v":0},{"$f":"ASIN!C733","v":0},{"$f":"ASIN!D733","v":0},{"$f":"ASIN!E733","v":0},{"$f":"ASIN!F733","v":0}]
[{"$f":"ASIN!A734","v":0},{"$f":"ASIN!B734","v":0},{"$f":"ASIN!C734","v":0},{"$f":"ASIN!D734","v":0},{"$f":"ASIN!E734","v":0},{"$f":"ASIN!F734","v":0}]
[{"$f":"ASIN!A735","v":0},{"$f":"ASIN!B735","v":0},{"$f":"ASIN!C735","v":0},{"$f":"ASIN!D735","v":0},{"$f":"ASIN!E735","v":0},{"$f":"ASIN!F735","v":0}]
[{"$f":"ASIN!A736","v":0},{"$f":"ASIN!B736","v":0},{"$f":"ASIN!C736","v":0},{"$f":"ASIN!D736","v":0},{"$f":"ASIN!E736","v":0},{"$f":"ASIN!F736","v":0}]
[{"$f":"ASIN!A737","v":0},{"$f":"ASIN!B737","v":0},{"$f":"ASIN!C737","v":0},{"$f":"ASIN!D737","v":0},{"$f":"ASIN!E737","v":0},{"$f":"ASIN!F737","v":0}]
[{"$f":"ASIN!A738","v":0},{"$f":"ASIN!B738","v":0},{"$f":"ASIN!C738","v":0},{"$f":"ASIN!D738","v":0},{"$f":"ASIN!E738","v":0},{"$f":"ASIN!F738","v":0}]
[{"$f":"ASIN!A739","v":0},{"$f":"ASIN!B739","v":0},{"$f":"ASIN!C739","v":0},{"$f":"ASIN!D739","v":0},{"$f":"ASIN!E739","v":0},{"$f":"ASIN!F739","v":0}]
[{"$f":"ASIN!A740","v":0},{"$f":"ASIN!B740","v":0},{"$f":"ASIN!C740","v":0},{"$f":"ASIN!D740","v":0},{"$f":"ASIN!E740","v":0},{"$f":"ASIN!F740","v":0}]
[{"$f":"ASIN!A741","v":0},{"$f":"ASIN!B741","v":0},{"$f":"ASIN!C741","v":0},{"$f":"ASIN!D741","v":0},{"$f":"ASIN!E741","v":0},{"$f":"ASIN!F741","v":0}]
[{"$f":"ASIN!A742","v":0},{"$f":"ASIN!B742","v":0},{"$f":"ASIN!C742","v":0},{"$f":"ASIN!D742","v":0},{"$f":"ASIN!E742","v":0},{"$f":"ASIN!F742","v":0}]
[{"$f":"ASIN!A743","v":0},{"$f":"ASIN!B743","v":0},{"$f":"ASIN!C743","v":0},{"$f":"ASIN!D743","v":0},{"$f":"ASIN!E743","v":0},{"$f":"ASIN!F743","v":0}]
[{"$f":"ASIN!A744","v":0},{"$f":"ASIN!B744","v":0},{"$f":"ASIN!C744","v":0},{"$f":"ASIN!D744","v":0},{"$f":"ASIN!E744","v":0},{"$f":"ASIN!F744","v":0}]
[{"$f":"ASIN!A745","v":0},{"$f":"ASIN!B745","v":0},{"$f":"ASIN!C745","v":0},{"$f":"ASIN!D745","v":0},{"$f":"ASIN!E745","v":0},{"$f":"ASIN!F745","v":0}]
[{"$f":"ASIN!A746","v":0},{"$f":"ASIN!B746","v":0},{"$f":"ASIN!C746","v":0},{"$f":"ASIN!D746","v":0},{"$f":"ASIN!E746","v":0},{"$f":"ASIN!F746","v":0}]
[{"$f":"ASIN!A747","v":0},{"$f":"ASIN!B747","v":0},{"$f":"ASIN!C747","v":0},{"$f":"ASIN!D747","v":0},{"$f":"ASIN!E747","v":0},{"$f":"ASIN!F747","v":0}]
[{"$f":"ASIN!A748","v":0},{"$f":"ASIN!B748","v":0},{"$f":"ASIN!C748","v":0},{"$f":"ASIN!D748","v":0},{"$f":"ASIN!E748","v":0},{"$f":"ASIN!F748","v":0}]
[{"$f":"ASIN!A749","v":0},{"$f":"ASIN!B749","v":0},{"$f":"ASIN!C749","v":0},{"$f":"ASIN!D749","v":0},{"$f":"ASIN!E749","v":0},{"$f":"ASIN!F749","v":0}]
[{"$f":"ASIN!A750","v":0},{"$f":"ASIN!B750","v":0},{"$f":"ASIN!C750","v":0},{"$f":"ASIN!D750","v":0},{"$f":"ASIN!E750","v":0},{"$f":"ASIN!F750","v":0}]
[{"$f":"ASIN!A751","v":0},{"$f":"ASIN!B751","v":0},{"$f":"ASIN!C751","v":0},{"$f":"ASIN!D751","v":0},{"$f":"ASIN!E751","v":0},{"$f":"ASIN!F751","v":0}]
[{"$f":"ASIN!A752","v":0},{"$f":"ASIN!B752","v":0},{"$f":"ASIN!C752","v":0},{"$f":"ASIN!D752","v":0},{"$f":"ASIN!E752","v":0},{"$f":"ASIN!F752","v":0}]
[{"$f":"ASIN!A753","v":0},{"$f":"ASIN!B753","v":0},{"$f":"ASIN!C753","v":0},{"$f":"ASIN!D753","v":0},{"$f":"ASIN!E753","v":0},{"$f":"ASIN!F753","v":0}]
[{"$f":"ASIN!A754","v":0},{"$f":"ASIN!B754","v":0},{"$f":"ASIN!C754","v":0},{"$f":"ASIN!D754","v":0},{"$f":"ASIN!E754","v":0},{"$f":"ASIN!F754","v":0}]
[{"$f":"ASIN!A755","v":0},{"$f":"ASIN!B755","v":0},{"$f":"ASIN!C755","v":0},{"$f":"ASIN!D755","v":0},{"$f":"ASIN!E755","v":0},{"$f":"ASIN!F755","v":0}]
[{"$f":"ASIN!A756","v":0},{"$f":"ASIN!B756","v":0},{"$f":"ASIN!C756","v":0},{"$f":"ASIN!D756","v":0},{"$f":"ASIN!E756","v":0},{"$f":"ASIN!F756","v":0}]
[{"$f":"ASIN!A757","v":0},{"$f":"ASIN!B757","v":0},{"$f":"ASIN!C757","v":0},{"$f":"ASIN!D757","v":0},{"$f":"ASIN!E757","v":0},{"$f":"ASIN!F757","v":0}]
[{"$f":"ASIN!A758","v":0},{"$f":"ASIN!B758","v":0},{"$f":"ASIN!C758","v":0},{"$f":"ASIN!D758","v":0},{"$f":"ASIN!E758","v":0},{"$f":"ASIN!F758","v":0}]
[{"$f":"ASIN!A759","v":0},{"$f":"ASIN!B759","v":0},{"$f":"ASIN!C759","v":0},{"$f":"ASIN!D759","v":0},{"$f":"ASIN!E759","v":0},{"$f":"ASIN!F759","v":0}]
[{"$f":"ASIN!A760","v":0},{"$f":"ASIN!B760","v":0},{"$f":"ASIN!C760","v":0},{"$f":"ASIN!D760","v":0},{"$f":"ASIN!E760","v":0},{"$f":"ASIN!F760","v":0}]
[{"$f":"ASIN!A761","v":0},{"$f":"ASIN!B761","v":0},{"$f":"ASIN!C761","v":0},{"$f":"ASIN!D761","v":0},{"$f":"ASIN!E761","v":0},{"$f":"ASIN!F761","v":0}]
[{"$f":"ASIN!A762","v":0},{"$f":"ASIN!B762","v":0},{"$f":"ASIN!C762","v":0},{"$f":"ASIN!D762","v":0},{"$f":"ASIN!E762","v":0},{"$f":"ASIN!F762","v":0}]
[{"$f":"ASIN!A763","v":0},{"$f":"ASIN!B763","v":0},{"$f":"ASIN!C763","v":0},{"$f":"ASIN!D763","v":0},{"$f":"ASIN!E763","v":0},{"$f":"ASIN!F763","v":0}]
[{"$f":"ASIN!A764","v":0},{"$f":"ASIN!B764","v":0},{"$f":"ASIN!C764","v":0},{"$f":"ASIN!D764","v":0},{"$f":"ASIN!E764","v":0},{"$f":"ASIN!F764","v":0}]
[{"$f":"ASIN!A765","v":0},{"$f":"ASIN!B765","v":0},{"$f":"ASIN!C765","v":0},{"$f":"ASIN!D765","v":0},{"$f":"ASIN!E765","v":0},{"$f":"ASIN!F765","v":0}]
[{"$f":"ASIN!A766","v":0},{"$f":"ASIN!B766","v":0},{"$f":"ASIN!C766","v":0},{"$f":"ASIN!D766","v":0},{"$f":"ASIN!E766","v":0},{"$f":"ASIN!F766","v":0}]
[{"$f":"ASIN!A767","v":0},{"$f":"ASIN!B767","v":0},{"$f":"ASIN!C767","v":0},{"$f":"ASIN!D767","v":0},{"$f":"ASIN!E767","v":0},{"$f":"ASIN!F767","v":0}]
[{"$f":"ASIN!A768","v":0},{"$f":"ASIN!B768","v":0},{"$f":"ASIN!C768","v":0},{"$f":"ASIN!D768","v":0},{"$f":"ASIN!E768","v":0},{"$f":"ASIN!F768","v":0}]
[{"$f":"ASIN!A769","v":0},{"$f":"ASIN!B769","v":0},{"$f":"ASIN!C769","v":0},{"$f":"ASIN!D769","v":0},{"$f":"ASIN!E769","v":0},{"$f":"ASIN!F769","v":0}]
[{"$f":"ASIN!A770","v":0},{"$f":"ASIN!B770","v":0},{"$f":"ASIN!C770","v":0},{"$f":"ASIN!D770","v":0},{"$f":"ASIN!E770","v":0},{"$f":"ASIN!F770","v":0}]
[{"$f":"ASIN!A771","v":0},{"$f":"ASIN!B771","v":0},{"$f":"ASIN!C771","v":0},{"$f":"ASIN!D771","v":0},{"$f":"ASIN!E771","v":0},{"$f":"ASIN!F771","v":0}]
[{"$f":"ASIN!A772","v":0},{"$f":"ASIN!B772","v":0},{"$f":"ASIN!C772","v":0},{"$f":"ASIN!D772","v":0},{"$f":"ASIN!E772","v":0},{"$f":"ASIN!F772","v":0}]
[{"$f":"ASIN!A773","v":0},{"$f":"ASIN!B773","v":0},{"$f":"ASIN!C773","v":0},{"$f":"ASIN!D773","v":0},{"$f":"ASIN!E773","v":0},{"$f":"ASIN!F773","v":0}]
[{"$f":"ASIN!A774","v":0},{"$f":"ASIN!B774","v":0},{"$f":"ASIN!C774","v":0},{"$f":"ASIN!D774","v":0},{"$f":"ASIN!E774","v":0},{"$f":"ASIN!F774","v":0}]
[{"$f":"ASIN!A775","v":0},{"$f":"ASIN!B775","v":0},{"$f":"ASIN!C775","v":0},{"$f":"ASIN!D775","v":0},{"$f":"ASIN!E775","v":0},{"$f":"ASIN!F775","v":0}]
[{"$f":"ASIN!A776","v":0},{"$f":"ASIN!B776","v":0},{"$f":"ASIN!C776","v":0},{"$f":"ASIN!D776","v":0},{"$f":"ASIN!E776","v":0},{"$f":"ASIN!F776","v":0}]
[{"$f":"ASIN!A777","v":0},{"$f":"ASIN!B777","v":0},{"$f":"ASIN!C777","v":0},{"$f":"ASIN!D777","v":0},{"$f":"ASIN!E777","v":0},{"$f":"ASIN!F777","v":0}]
[{"$f":"ASIN!A778","v":0},{"$f":"ASIN!B778","v":0},{"$f":"ASIN!C778","v":0},{"$f":"ASIN!D778","v":0},{"$f":"ASIN!E778","v":0},{"$f":"ASIN!F778","v":0}]
[{"$f":"ASIN!A779","v":0},{"$f":"ASIN!B779","v":0},{"$f":"ASIN!C779","v":0},{"$f":"ASIN!D779","v":0},{"$f":"ASIN!E779","v":0},{"$f":"ASIN!F779","v":0}]
[{"$f":"ASIN!A780","v":0},{"$f":"ASIN!B780","v":0},{"$f":"ASIN!C780","v":0},{"$f":"ASIN!D780","v":0},{"$f":"ASIN!E780","v":0},{"$f":"ASIN!F780","v":0}]
[{"$f":"ASIN!A781","v":0},{"$f":"ASIN!B781","v":0},{"$f":"ASIN!C781","v":0},{"$f":"ASIN!D781","v":0},{"$f":"ASIN!E781","v":0},{"$f":"ASIN!F781","v":0}]
[{"$f":"ASIN!A782","v":0},{"$f":"ASIN!B782","v":0},{"$f":"ASIN!C782","v":0},{"$f":"ASIN!D782","v":0},{"$f":"ASIN!E782","v":0},{"$f":"ASIN!F782","v":0}]
[{"$f":"ASIN!A783","v":0},{"$f":"ASIN!B783","v":0},{"$f":"ASIN!C783","v":0},{"$f":"ASIN!D783","v":0},{"$f":"ASIN!E783","v":0},{"$f":"ASIN!F783","v":0}]
[{"$f":"ASIN!A784","v":0},{"$f":"ASIN!B784","v":0},{"$f":"ASIN!C784","v":0},{"$f":"ASIN!D784","v":0},{"$f":"ASIN!E784","v":0},{"$f":"ASIN!F784","v":0}]
[{"$f":"ASIN!A785","v":0},{"$f":"ASIN!B785","v":0},{"$f":"ASIN!C785","v":0},{"$f":"ASIN!D785","v":0},{"$f":"ASIN!E785","v":0},{"$f":"ASIN!F785","v":0}]
[{"$f":"ASIN!A786","v":0},{"$f":"ASIN!B786","v":0},{"$f":"ASIN!C786","v":0},{"$f":"ASIN!D786","v":0},{"$f":"ASIN!E786","v":0},{"$f":"ASIN!F786","v":0}]
[{"$f":"ASIN!A787","v":0},{"$f":"ASIN!B787","v":0},{"$f":"ASIN!C787","v":0},{"$f":"ASIN!D787","v":0},{"$f":"ASIN!E787","v":0},{"$f":"ASIN!F787","v":0}]
[{"$f":"ASIN!A788","v":0},{"$f":"ASIN!B788","v":0},{"$f":"ASIN!C788","v":0},{"$f":"ASIN!D788","v":0},{"$f":"ASIN!E788","v":0},{"$f":"ASIN!F788","v":0}]
[{"$f":"ASIN!A789","v":0},{"$f":"ASIN!B789","v":0},{"$f":"ASIN!C789","v":0},{"$f":"ASIN!D789","v":0},{"$f":"ASIN!E789","v":0},{"$f":"ASIN!F789","v":0}]
[{"$f":"ASIN!A790","v":0},{"$f":"ASIN!B790","v":0},{"$f":"ASIN!C790","v":0},{"$f":"ASIN!D790","v":0},{"$f":"ASIN!E790","v":0},{"$f":"ASIN!F790","v":0}]
[{"$f":"ASIN!A791","v":0},{"$f":"ASIN!B791","v":0},{"$f":"ASIN!C791","v":0},{"$f":"ASIN!D791","v":0},{"$f":"ASIN!E791","v":0},{"$f":"ASIN!F791","v":0}]
[{"$f":"ASIN!A792","v":0},{"$f":"ASIN!B792","v":0},{"$f":"ASIN!C792","v":0},{"$f":"ASIN!D792","v":0},{"$f":"ASIN!E792","v":0},{"$f":"ASIN!F792","v":0}]
[{"$f":"ASIN!A793","v":0},{"$f":"ASIN!B793","v":0},{"$f":"ASIN!C793","v":0},{"$f":"ASIN!D793","v":0},{"$f":"ASIN!E793","v":0},{"$f":"ASIN!F793","v":0}]
[{"$f":"ASIN!A794","v":0},{"$f":"ASIN!B794","v":0},{"$f":"ASIN!C794","v":0},{"$f":"ASIN!D794","v":0},{"$f":"ASIN!E794","v":0},{"$f":"ASIN!F794","v":0}]
[{"$f":"ASIN!A795","v":0},{"$f":"ASIN!B795","v":0},{"$f":"ASIN!C795","v":0},{"$f":"ASIN!D795","v":0},{"$f":"ASIN!E795","v":0},{"$f":"ASIN!F795","v":0}]
[{"$f":"ASIN!A796","v":0},{"$f":"ASIN!B796","v":0},{"$f":"ASIN!C796","v":0},{"$f":"ASIN!D796","v":0},{"$f":"ASIN!E796","v":0},{"$f":"ASIN!F796","v":0}]
[{"$f":"ASIN!A797","v":0},{"$f":"ASIN!B797","v":0},{"$f":"ASIN!C797","v":0},{"$f":"ASIN!D797","v":0},{"$f":"ASIN!E797","v":0},{"$f":"ASIN!F797","v":0}]
[{"$f":"ASIN!A798","v":0},{"$f":"ASIN!B798","v":0},{"$f":"ASIN!C798","v":0},{"$f":"ASIN!D798","v":0},{"$f":"ASIN!E798","v":0},{"$f":"ASIN!F798","v":0}]
[{"$f":"ASIN!A799","v":0},{"$f":"ASIN!B799","v":0},{"$f":"ASIN!C799","v":0},{"$f":"ASIN!D799","v":0},{"$f":"ASIN!E799","v":0},{"$f":"ASIN!F799","v":0}]
[{"$f":"ASIN!A800","v":0},{"$f":"ASIN!B800","v":0},{"$f":"ASIN!C800","v":0},{"$f":"ASIN!D800","v":0},{"$f":"ASIN!E800","v":0},{"$f":"ASIN!F800","v":0}]
[{"$f":"ASIN!A801","v":0},{"$f":"ASIN!B801","v":0},{"$f":"ASIN!C801","v":0},{"$f":"ASIN!D801","v":0},{"$f":"ASIN!E801","v":0},{"$f":"ASIN!F801","v":0}]
[{"$f":"ASIN!A802","v":0},{"$f":"ASIN!B802","v":0},{"$f":"ASIN!C802","v":0},{"$f":"ASIN!D802","v":0},{"$f":"ASIN!E802","v":0},{"$f":"ASIN!F802","v":0}]
[{"$f":"ASIN!A803","v":0},{"$f":"ASIN!B803","v":0},{"$f":"ASIN!C803","v":0},{"$f":"ASIN!D803","v":0},{"$f":"ASIN!E803","v":0},{"$f":"ASIN!F803","v":0}]
[{"$f":"ASIN!A804","v":0},{"$f":"ASIN!B804","v":0},{"$f":"ASIN!C804","v":0},{"$f":"ASIN!D804","v":0},{"$f":"ASIN!E804","v":0},{"$f":"ASIN!F804","v":0}]
[{"$f":"ASIN!A805","v":0},{"$f":"ASIN!B805","v":0},{"$f":"ASIN!C805","v":0},{"$f":"ASIN!D805","v":0},{"$f":"ASIN!E805","v":0},{"$f":"ASIN!F805","v":0}]
[{"$f":"ASIN!A806","v":0},{"$f":"ASIN!B806","v":0},{"$f":"ASIN!C806","v":0},{"$f":"ASIN!D806","v":0},{"$f":"ASIN!E806","v":0},{"$f":"ASIN!F806","v":0}]
[{"$f":"ASIN!A807","v":0},{"$f":"ASIN!B807","v":0},{"$f":"ASIN!C807","v":0},{"$f":"ASIN!D807","v":0},{"$f":"ASIN!E807","v":0},{"$f":"ASIN!F807","v":0}]
[{"$f":"ASIN!A808","v":0},{"$f":"ASIN!B808","v":0},{"$f":"ASIN!C808","v":0},{"$f":"ASIN!D808","v":0},{"$f":"ASIN!E808","v":0},{"$f":"ASIN!F808","v":0}]
[{"$f":"ASIN!A809","v":0},{"$f":"ASIN!B809","v":0},{"$f":"ASIN!C809","v":0},{"$f":"ASIN!D809","v":0},{"$f":"ASIN!E809","v":0},{"$f":"ASIN!F809","v":0}]
[{"$f":"ASIN!A810","v":0},{"$f":"ASIN!B810","v":0},{"$f":"ASIN!C810","v":0},{"$f":"ASIN!D810","v":0},{"$f":"ASIN!E810","v":0},{"$f":"ASIN!F810","v":0}]
[{"$f":"ASIN!A811","v":0},{"$f":"ASIN!B811","v":0},{"$f":"ASIN!C811","v":0},{"$f":"ASIN!D811","v":0},{"$f":"ASIN!E811","v":0},{"$f":"ASIN!F811","v":0}]
[{"$f":"ASIN!A812","v":0},{"$f":"ASIN!B812","v":0},{"$f":"ASIN!C812","v":0},{"$f":"ASIN!D812","v":0},{"$f":"ASIN!E812","v":0},{"$f":"ASIN!F812","v":0}]
[{"$f":"ASIN!A813","v":0},{"$f":"ASIN!B813","v":0},{"$f":"ASIN!C813","v":0},{"$f":"ASIN!D813","v":0},{"$f":"ASIN!E813","v":0},{"$f":"ASIN!F813","v":0}]
[{"$f":"ASIN!A814","v":0},{"$f":"ASIN!B814","v":0},{"$f":"ASIN!C814","v":0},{"$f":"ASIN!D814","v":0},{"$f":"ASIN!E814","v":0},{"$f":"ASIN!F814","v":0}]
[{"$f":"ASIN!A815","v":0},{"$f":"ASIN!B815","v":0},{"$f":"ASIN!C815","v":0},{"$f":"ASIN!D815","v":0},{"$f":"ASIN!E815","v":0},{"$f":"ASIN!F815","v":0}]
[{"$f":"ASIN!A816","v":0},{"$f":"ASIN!B816","v":0},{"$f":"ASIN!C816","v":0},{"$f":"ASIN!D816","v":0},{"$f":"ASIN!E816","v":0},{"$f":"ASIN!F816","v":0}]
[{"$f":"ASIN!A817","v":0},{"$f":"ASIN!B817","v":0},{"$f":"ASIN!C817","v":0},{"$f":"ASIN!D817","v":0},{"$f":"ASIN!E817","v":0},{"$f":"ASIN!F817","v":0}]
[{"$f":"ASIN!A818","v":0},{"$f":"ASIN!B818","v":0},{"$f":"ASIN!C818","v":0},{"$f":"ASIN!D818","v":0},{"$f":"ASIN!E818","v":0},{"$f":"ASIN!F818","v":0}]
[{"$f":"ASIN!A819","v":0},{"$f":"ASIN!B819","v":0},{"$f":"ASIN!C819","v":0},{"$f":"ASIN!D819","v":0},{"$f":"ASIN!E819","v":0},{"$f":"ASIN!F819","v":0}]
[{"$f":"ASIN!A820","v":0},{"$f":"ASIN!B820","v":0},{"$f":"ASIN!C820","v":0},{"$f":"ASIN!D820","v":0},{"$f":"ASIN!E820","v":0},{"$f":"ASIN!F820","v":0}]
[{"$f":"ASIN!A821","v":0},{"$f":"ASIN!B821","v":0},{"$f":"ASIN!C821","v":0},{"$f":"ASIN!D821","v":0},{"$f":"ASIN!E821","v":0},{"$f":"ASIN!F821","v":0}]
[{"$f":"ASIN!A822","v":0},{"$f":"ASIN!B822","v":0},{"$f":"ASIN!C822","v":0},{"$f":"ASIN!D822","v":0},{"$f":"ASIN!E822","v":0},{"$f":"ASIN!F822","v":0}]
[{"$f":"ASIN!A823","v":0},{"$f":"ASIN!B823","v":0},{"$f":"ASIN!C823","v":0},{"$f":"ASIN!D823","v":0},{"$f":"ASIN!E823","v":0},{"$f":"ASIN!F823","v":0}]
[{"$f":"ASIN!A824","v":0},{"$f":"ASIN!B824","v":0},{"$f":"ASIN!C824","v":0},{"$f":"ASIN!D824","v":0},{"$f":"ASIN!E824","v":0},{"$f":"ASIN!F824","v":0}]
[{"$f":"ASIN!A825","v":0},{"$f":"ASIN!B825","v":0},{"$f":"ASIN!C825","v":0},{"$f":"ASIN!D825","v":0},{"$f":"ASIN!E825","v":0},{"$f":"ASIN!F825","v":0}]
[{"$f":"ASIN!A826","v":0},{"$f":"ASIN!B826","v":0},{"$f":"ASIN!C826","v":0},{"$f":"ASIN!D826","v":0},{"$f":"ASIN!E826","v":0},{"$f":"ASIN!F826","v":0}]
[{"$f":"ASIN!A827","v":0},{"$f":"ASIN!B827","v":0},{"$f":"ASIN!C827","v":0},{"$f":"ASIN!D827","v":0},{"$f":"ASIN!E827","v":0},{"$f":"ASIN!F827","v":0}]
[{"$f":"ASIN!A828","v":0},{"$f":"ASIN!B828","v":0},{"$f":"ASIN!C828","v":0},{"$f":"ASIN!D828","v":0},{"$f":"ASIN!E828","v":0},{"$f":"ASIN!F828","v":0}]
[{"$f":"ASIN!A829","v":0},{"$f":"ASIN!B829","v":0},{"$f":"ASIN!C829","v":0},{"$f":"ASIN!D829","v":0},{"$f":"ASIN!E829","v":0},{"$f":"ASIN!F829","v":0}]
[{"$f":"ASIN!A830","v":0},{"$f":"ASIN!B830","v":0},{"$f":"ASIN!C830","v":0},{"$f":"ASIN!D830","v":0},{"$f":"ASIN!E830","v":0},{"$f":"ASIN!F830","v":0}]
[{"$f":"ASIN!A831","v":0},{"$f":"ASIN!B831","v":0},{"$f":"ASIN!C831","v":0},{"$f":"ASIN!D831","v":0},{"$f":"ASIN!E831","v":0},{"$f":"ASIN!F831","v":0}]
[{"$f":"ASIN!A832","v":0},{"$f":"ASIN!B832","v":0},{"$f":"ASIN!C832","v":0},{"$f":"ASIN!D832","v":0},{"$f":"ASIN!E832","v":0},{"$f":"ASIN!F832","v":0}]
[{"$f":"ASIN!A833","v":0},{"$f":"ASIN!B833","v":0},{"$f":"ASIN!C833","v":0},{"$f":"ASIN!D833","v":0},{"$f":"ASIN!E833","v":0},{"$f":"ASIN!F833","v":0}]
[{"$f":"ASIN!A834","v":0},{"$f":"ASIN!B834","v":0},{"$f":"ASIN!C834","v":0},{"$f":"ASIN!D834","v":0},{"$f":"ASIN!E834","v":0},{"$f":"ASIN!F834","v":0}]
[{"$f":"ASIN!A835","v":0},{"$f":"ASIN!B835","v":0},{"$f":"ASIN!C835","v":0},{"$f":"ASIN!D835","v":0},{"$f":"ASIN!E835","v":0},{"$f":"ASIN!F835","v":0}]
[{"$f":"ASIN!A836","v":0},{"$f":"ASIN!B836","v":0},{"$f":"ASIN!C836","v":0},{"$f":"ASIN!D836","v":0},{"$f":"ASIN!E836","v":0},{"$f":"ASIN!F836","v":0}]
[{"$f":"ASIN!A837","v":0},{"$f":"ASIN!B837","v":0},{"$f":"ASIN!C837","v":0},{"$f":"ASIN!D837","v":0},{"$f":"ASIN!E837","v":0},{"$f":"ASIN!F837","v":0}]
[{"$f":"ASIN!A838","v":0},{"$f":"ASIN!B838","v":0},{"$f":"ASIN!C838","v":0},{"$f":"ASIN!D838","v":0},{"$f":"ASIN!E838","v":0},{"$f":"ASIN!F838","v":0}]
[{"$f":"ASIN!A839","v":0},{"$f":"ASIN!B839","v":0},{"$f":"ASIN!C839","v":0},{"$f":"ASIN!D839","v":0},{"$f":"ASIN!E839","v":0},{"$f":"ASIN!F839","v":0}]
[{"$f":"ASIN!A840","v":0},{"$f":"ASIN!B840","v":0},{"$f":"ASIN!C840","v":0},{"$f":"ASIN!D840","v":0},{"$f":"ASIN!E840","v":0},{"$f":"ASIN!F840","v":0}]
[{"$f":"ASIN!A841","v":0},{"$f":"ASIN!B841","v":0},{"$f":"ASIN!C841","v":0},{"$f":"ASIN!D841","v":0},{"$f":"ASIN!E841","v":0},{"$f":"ASIN!F841","v":0}]
[{"$f":"ASIN!A842","v":0},{"$f":"ASIN!B842","v":0},{"$f":"ASIN!C842","v":0},{"$f":"ASIN!D842","v":0},{"$f":"ASIN!E842","v":0},{"$f":"ASIN!F842","v":0}]
[{"$f":"ASIN!A843","v":0},{"$f":"ASIN!B843","v":0},{"$f":"ASIN!C843","v":0},{"$f":"ASIN!D843","v":0},{"$f":"ASIN!E843","v":0},{"$f":"ASIN!F843","v":0}]
[{"$f":"ASIN!A844","v":0},{"$f":"ASIN!B844","v":0},{"$f":"ASIN!C844","v":0},{"$f":"ASIN!D844","v":0},{"$f":"ASIN!E844","v":0},{"$f":"ASIN!F844","v":0}]
[{"$f":"ASIN!A845","v":0},{"$f":"ASIN!B845","v":0},{"$f":"ASIN!C845","v":0},{"$f":"ASIN!D845","v":0},{"$f":"ASIN!E845","v":0},{"$f":"ASIN!F845","v":0}]
[{"$f":"ASIN!A846","v":0},{"$f":"ASIN!B846","v":0},{"$f":"ASIN!C846","v":0},{"$f":"ASIN!D846","v":0},{"$f":"ASIN!E846","v":0},{"$f":"ASIN!F846","v":0}]
[{"$f":"ASIN!A847","v":0},{"$f":"ASIN!B847","v":0},{"$f":"ASIN!C847","v":0},{"$f":"ASIN!D847","v":0},{"$f":"ASIN!E847","v":0},{"$f":"ASIN!F847","v":0}]
[{"$f":"ASIN!A848","v":0},{"$f":"ASIN!B848","v":0},{"$f":"ASIN!C848","v":0},{"$f":"ASIN!D848","v":0},{"$f":"ASIN!E848","v":0},{"$f":"ASIN!F848","v":0}]
[{"$f":"ASIN!A849","v":0},{"$f":"ASIN!B849","v":0},{"$f":"ASIN!C849","v":0},{"$f":"ASIN!D849","v":0},{"$f":"ASIN!E849","v":0},{"$f":"ASIN!F849","v":0}]
[{"$f":"ASIN!A850","v":0},{"$f":"ASIN!B850","v":0},{"$f":"ASIN!C850","v":0},{"$f":"ASIN!D850","v":0},{"$f":"ASIN!E850","v":0},{"$f":"ASIN!F850","v":0}]
[{"$f":"ASIN!A851","v":0},{"$f":"ASIN!B851","v":0},{"$f":"ASIN!C851","v":0},{"$f":"ASIN!D851","v":0},{"$f":"ASIN!E851","v":0},{"$f":"ASIN!F851","v":0}]
[{"$f":"ASIN!A852","v":0},{"$f":"ASIN!B852","v":0},{"$f":"ASIN!C852","v":0},{"$f":"ASIN!D852","v":0},{"$f":"ASIN!E852","v":0},{"$f":"ASIN!F852","v":0}]
[{"$f":"ASIN!A853","v":0},{"$f":"ASIN!B853","v":0},{"$f":"ASIN!C853","v":0},{"$f":"ASIN!D853","v":0},{"$f":"ASIN!E853","v":0},{"$f":"ASIN!F853","v":0}]
[{"$f":"ASIN!A854","v":0},{"$f":"ASIN!B854","v":0},{"$f":"ASIN!C854","v":0},{"$f":"ASIN!D854","v":0},{"$f":"ASIN!E854","v":0},{"$f":"ASIN!F854","v":0}]
[{"$f":"ASIN!A855","v":0},{"$f":"ASIN!B855","v":0},{"$f":"ASIN!C855","v":0},{"$f":"ASIN!D855","v":0},{"$f":"ASIN!E855","v":0},{"$f":"ASIN!F855","v":0}]
[{"$f":"ASIN!A856","v":0},{"$f":"ASIN!B856","v":0},{"$f":"ASIN!C856","v":0},{"$f":"ASIN!D856","v":0},{"$f":"ASIN!E856","v":0},{"$f":"ASIN!F856","v":0}]
[{"$f":"ASIN!A857","v":0},{"$f":"ASIN!B857","v":0},{"$f":"ASIN!C857","v":0},{"$f":"ASIN!D857","v":0},{"$f":"ASIN!E857","v":0},{"$f":"ASIN!F857","v":0}]
[{"$f":"ASIN!A858","v":0},{"$f":"ASIN!B858","v":0},{"$f":"ASIN!C858","v":0},{"$f":"ASIN!D858","v":0},{"$f":"ASIN!E858","v":0},{"$f":"ASIN!F858","v":0}]
[{"$f":"ASIN!A859","v":0},{"$f":"ASIN!B859","v":0},{"$f":"ASIN!C859","v":0},{"$f":"ASIN!D859","v":0},{"$f":"ASIN!E859","v":0},{"$f":"ASIN!F859","v":0}]
[{"$f":"ASIN!A860","v":0},{"$f":"ASIN!B860","v":0},{"$f":"ASIN!C860","v":0},{"$f":"ASIN!D860","v":0},{"$f":"ASIN!E860","v":0},{"$f":"ASIN!F860","v":0}]
[{"$f":"ASIN!A861","v":0},{"$f":"ASIN!B861","v":0},{"$f":"ASIN!C861","v":0},{"$f":"ASIN!D861","v":0},{"$f":"ASIN!E861","v":0},{"$f":"ASIN!F861","v":0}]
[{"$f":"ASIN!A862","v":0},{"$f":"ASIN!B862","v":0},{"$f":"ASIN!C862","v":0},{"$f":"ASIN!D862","v":0},{"$f":"ASIN!E862","v":0},{"$f":"ASIN!F862","v":0}]
[{"$f":"ASIN!A863","v":0},{"$f":"ASIN!B863","v":0},{"$f":"ASIN!C863","v":0},{"$f":"ASIN!D863","v":0},{"$f":"ASIN!E863","v":0},{"$f":"ASIN!F863","v":0}]
[{"$f":"ASIN!A864","v":0},{"$f":"ASIN!B864","v":0},{"$f":"ASIN!C864","v":0},{"$f":"ASIN!D864","v":0},{"$f":"ASIN!E864","v":0},{"$f":"ASIN!F864","v":0}]
[{"$f":"ASIN!A865","v":0},{"$f":"ASIN!B865","v":0},{"$f":"ASIN!C865","v":0},{"$f":"ASIN!D865","v":0},{"$f":"ASIN!E865","v":0},{"$f":"ASIN!F865","v":0}]
[{"$f":"ASIN!A866","v":0},{"$f":"ASIN!B866","v":0},{"$f":"ASIN!C866","v":0},{"$f":"ASIN!D866","v":0},{"$f":"ASIN!E866","v":0},{"$f":"ASIN!F866","v":0}]
[{"$f":"ASIN!A867","v":0},{"$f":"ASIN!B867","v":0},{"$f":"ASIN!C867","v":0},{"$f":"ASIN!D867","v":0},{"$f":"ASIN!E867","v":0},{"$f":"ASIN!F867","v":0}]
[{"$f":"ASIN!A868","v":0},{"$f":"ASIN!B868","v":0},{"$f":"ASIN!C868","v":0},{"$f":"ASIN!D868","v":0},{"$f":"ASIN!E868","v":0},{"$f":"ASIN!F868","v":0}]
[{"$f":"ASIN!A869","v":0},{"$f":"ASIN!B869","v":0},{"$f":"ASIN!C869","v":0},{"$f":"ASIN!D869","v":0},{"$f":"ASIN!E869","v":0},{"$f":"ASIN!F869","v":0}]
[{"$f":"ASIN!A870","v":0},{"$f":"ASIN!B870","v":0},{"$f":"ASIN!C870","v":0},{"$f":"ASIN!D870","v":0},{"$f":"ASIN!E870","v":0},{"$f":"ASIN!F870","v":0}]
[{"$f":"ASIN!A871","v":0},{"$f":"ASIN!B871","v":0},{"$f":"ASIN!C871","v":0},{"$f":"ASIN!D871","v":0},{"$f":"ASIN!E871","v":0},{"$f":"ASIN!F871","v":0}]
[{"$f":"ASIN!A872","v":0},{"$f":"ASIN!B872","v":0},{"$f":"ASIN!C872","v":0},{"$f":"ASIN!D872","v":0},{"$f":"ASIN!E872","v":0},{"$f":"ASIN!F872","v":0}]
[{"$f":"ASIN!A873","v":0},{"$f":"ASIN!B873","v":0},{"$f":"ASIN!C873","v":0},{"$f":"ASIN!D873","v":0},{"$f":"ASIN!E873","v":0},{"$f":"ASIN!F873","v":0}]
[{"$f":"ASIN!A874","v":0},{"$f":"ASIN!B874","v":0},{"$f":"ASIN!C874","v":0},{"$f":"ASIN!D874","v":0},{"$f":"ASIN!E874","v":0},{"$f":"ASIN!F874","v":0}]
[{"$f":"ASIN!A875","v":0},{"$f":"ASIN!B875","v":0},{"$f":"ASIN!C875","v":0},{"$f":"ASIN!D875","v":0},{"$f":"ASIN!E875","v":0},{"$f":"ASIN!F875","v":0}]
[{"$f":"ASIN!A876","v":0},{"$f":"ASIN!B876","v":0},{"$f":"ASIN!C876","v":0},{"$f":"ASIN!D876","v":0},{"$f":"ASIN!E876","v":0},{"$f":"ASIN!F876","v":0}]
[{"$f":"ASIN!A877","v":0},{"$f":"ASIN!B877","v":0},{"$f":"ASIN!C877","v":0},{"$f":"ASIN!D877","v":0},{"$f":"ASIN!E877","v":0},{"$f":"ASIN!F877","v":0}]
[{"$f":"ASIN!A878","v":0},{"$f":"ASIN!B878","v":0},{"$f":"ASIN!C878","v":0},{"$f":"ASIN!D878","v":0},{"$f":"ASIN!E878","v":0},{"$f":"ASIN!F878","v":0}]
[{"$f":"ASIN!A879","v":0},{"$f":"ASIN!B879","v":0},{"$f":"ASIN!C879","v":0},{"$f":"ASIN!D879","v":0},{"$f":"ASIN!E879","v":0},{"$f":"ASIN!F879","v":0}]
[{"$f":"ASIN!A880","v":0},{"$f":"ASIN!B880","v":0},{"$f":"ASIN!C880","v":0},{"$f":"ASIN!D880","v":0},{"$f":"ASIN!E880","v":0},{"$f":"ASIN!F880","v":0}]
[{"$f":"ASIN!A881","v":0},{"$f":"ASIN!B881","v":0},{"$f":"ASIN!C881","v":0},{"$f":"ASIN!D881","v":0},{"$f":"ASIN!E881","v":0},{"$f":"ASIN!F881","v":0}]
[{"$f":"ASIN!A882","v":0},{"$f":"ASIN!B882","v":0},{"$f":"ASIN!C882","v":0},{"$f":"ASIN!D882","v":0},{"$f":"ASIN!E882","v":0},{"$f":"ASIN!F882","v":0}]
[{"$f":"ASIN!A883","v":0},{"$f":"ASIN!B883","v":0},{"$f":"ASIN!C883","v":0},{"$f":"ASIN!D883","v":0},{"$f":"ASIN!E883","v":0},{"$f":"ASIN!F883","v":0}]
[{"$f":"ASIN!A884","v":0},{"$f":"ASIN!B884","v":0},{"$f":"ASIN!C884","v":0},{"$f":"ASIN!D884","v":0},{"$f":"ASIN!E884","v":0},{"$f":"ASIN!F884","v":0}]
[{"$f":"ASIN!A885","v":0},{"$f":"ASIN!B885","v":0},{"$f":"ASIN!C885","v":0},{"$f":"ASIN!D885","v":0},{"$f":"ASIN!E885","v":0},{"$f":"ASIN!F885","v":0}]
[{"$f":"ASIN!A886","v":0},{"$f":"ASIN!B886","v":0},{"$f":"ASIN!C886","v":0},{"$f":"ASIN!D886","v":0},{"$f":"ASIN!E886","v":0},{"$f":"ASIN!F886","v":0}]
[{"$f":"ASIN!A887","v":0},{"$f":"ASIN!B887","v":0},{"$f":"ASIN!C887","v":0},{"$f":"ASIN!D887","v":0},{"$f":"ASIN!E887","v":0},{"$f":"ASIN!F887","v":0}]
[{"$f":"ASIN!A888","v":0},{"$f":"ASIN!B888","v":0},{"$f":"ASIN!C888","v":0},{"$f":"ASIN!D888","v":0},{"$f":"ASIN!E888","v":0},{"$f":"ASIN!F888","v":0}]
[{"$f":"ASIN!A889","v":0},{"$f":"ASIN!B889","v":0},{"$f":"ASIN!C889","v":0},{"$f":"ASIN!D889","v":0},{"$f":"ASIN!E889","v":0},{"$f":"ASIN!F889","v":0}]
[{"$f":"ASIN!A890","v":0},{"$f":"ASIN!B890","v":0},{"$f":"ASIN!C890","v":0},{"$f":"ASIN!D890","v":0},{"$f":"ASIN!E890","v":0},{"$f":"ASIN!F890","v":0}]
[{"$f":"ASIN!A891","v":0},{"$f":"ASIN!B891","v":0},{"$f":"ASIN!C891","v":0},{"$f":"ASIN!D891","v":0},{"$f":"ASIN!E891","v":0},{"$f":"ASIN!F891","v":0}]
[{"$f":"ASIN!A892","v":0},{"$f":"ASIN!B892","v":0},{"$f":"ASIN!C892","v":0},{"$f":"ASIN!D892","v":0},{"$f":"ASIN!E892","v":0},{"$f":"ASIN!F892","v":0}]
[{"$f":"ASIN!A893","v":0},{"$f":"ASIN!B893","v":0},{"$f":"ASIN!C893","v":0},{"$f":"ASIN!D893","v":0},{"$f":"ASIN!E893","v":0},{"$f":"ASIN!F893","v":0}]
[{"$f":"ASIN!A894","v":0},{"$f":"ASIN!B894","v":0},{"$f":"ASIN!C894","v":0},{"$f":"ASIN!D894","v":0},{"$f":"ASIN!E894","v":0},{"$f":"ASIN!F894","v":0}]
[{"$f":"ASIN!A895","v":0},{"$f":"ASIN!B895","v":0},{"$f":"ASIN!C895","v":0},{"$f":"ASIN!D895","v":0},{"$f":"ASIN!E895","v":0},{"$f":"ASIN!F895","v":0}]
[{"$f":"ASIN!A896","v":0},{"$f":"ASIN!B896","v":0},{"$f":"ASIN!C896","v":0},{"$f":"ASIN!D896","v":0},{"$f":"ASIN!E896","v":0},{"$f":"ASIN!F896","v":0}]
[{"$f":"ASIN!A897","v":0},{"$f":"ASIN!B897","v":0},{"$f":"ASIN!C897","v":0},{"$f":"ASIN!D897","v":0},{"$f":"ASIN!E897","v":0},{"$f":"ASIN!F897","v":0}]
[{"$f":"ASIN!A898","v":0},{"$f":"ASIN!B898","v":0},{"$f":"ASIN!C898","v":0},{"$f":"ASIN!D898","v":0},{"$f":"ASIN!E898","v":0},{"$f":"ASIN!F898","v":0}]
[{"$f":"ASIN!A899","v":0},{"$f":"ASIN!B899","v":0},{"$f":"ASIN!C899","v":0},{"$f":"ASIN!D899","v":0},{"$f":"ASIN!E899","v":0},{"$f":"ASIN!F899","v":0}]
[{"$f":"ASIN!A900","v":0},{"$f":"ASIN!B900","v":0},{"$f":"ASIN!C900","v":0},{"$f":"ASIN!D900","v":0},{"$f":"ASIN!E900","v":0},{"$f":"ASIN!F900","v":0}]
[{"$f":"ASIN!A901","v":0},{"$f":"ASIN!B901","v":0},{"$f":"ASIN!C901","v":0},{"$f":"ASIN!D901","v":0},{"$f":"ASIN!E901","v":0},{"$f":"ASIN!F901","v":0}]
[{"$f":"ASIN!A902","v":0},{"$f":"ASIN!B902","v":0},{"$f":"ASIN!C902","v":0},{"$f":"ASIN!D902","v":0},{"$f":"ASIN!E902","v":0},{"$f":"ASIN!F902","v":0}]
[{"$f":"ASIN!A903","v":0},{"$f":"ASIN!B903","v":0},{"$f":"ASIN!C903","v":0},{"$f":"ASIN!D903","v":0},{"$f":"ASIN!E903","v":0},{"$f":"ASIN!F903","v":0}]
[{"$f":"ASIN!A904","v":0},{"$f":"ASIN!B904","v":0},{"$f":"ASIN!C904","v":0},{"$f":"ASIN!D904","v":0},{"$f":"ASIN!E904","v":0},{"$f":"ASIN!F904","v":0}]
[{"$f":"ASIN!A905","v":0},{"$f":"ASIN!B905","v":0},{"$f":"ASIN!C905","v":0},{"$f":"ASIN!D905","v":0},{"$f":"ASIN!E905","v":0},{"$f":"ASIN!F905","v":0}]
[{"$f":"ASIN!A906","v":0},{"$f":"ASIN!B906","v":0},{"$f":"ASIN!C906","v":0},{"$f":"ASIN!D906","v":0},{"$f":"ASIN!E906","v":0},{"$f":"ASIN!F906","v":0}]
[{"$f":"ASIN!A907","v":0},{"$f":"ASIN!B907","v":0},{"$f":"ASIN!C907","v":0},{"$f":"ASIN!D907","v":0},{"$f":"ASIN!E907","v":0},{"$f":"ASIN!F907","v":0}]
[{"$f":"ASIN!A908","v":0},{"$f":"ASIN!B908","v":0},{"$f":"ASIN!C908","v":0},{"$f":"ASIN!D908","v":0},{"$f":"ASIN!E908","v":0},{"$f":"ASIN!F908","v":0}]
[{"$f":"ASIN!A909","v":0},{"$f":"ASIN!B909","v":0},{"$f":"ASIN!C909","v":0},{"$f":"ASIN!D909","v":0},{"$f":"ASIN!E909","v":0},{"$f":"ASIN!F909","v":0}]
[{"$f":"ASIN!A910","v":0},{"$f":"ASIN!B910","v":0},{"$f":"ASIN!C910","v":0},{"$f":"ASIN!D910","v":0},{"$f":"ASIN!E910","v":0},{"$f":"ASIN!F910","v":0}]
[{"$f":"ASIN!A911","v":0},{"$f":"ASIN!B911","v":0},{"$f":"ASIN!C911","v":0},{"$f":"ASIN!D911","v":0},{"$f":"ASIN!E911","v":0},{"$f":"ASIN!F911","v":0}]
[{"$f":"ASIN!A912","v":0},{"$f":"ASIN!B912","v":0},{"$f":"ASIN!C912","v":0},{"$f":"ASIN!D912","v":0},{"$f":"ASIN!E912","v":0},{"$f":"ASIN!F912","v":0}]
[{"$f":"ASIN!A913","v":0},{"$f":"ASIN!B913","v":0},{"$f":"ASIN!C913","v":0},{"$f":"ASIN!D913","v":0},{"$f":"ASIN!E913","v":0},{"$f":"ASIN!F913","v":0}]
[{"$f":"ASIN!A914","v":0},{"$f":"ASIN!B914","v":0},{"$f":"ASIN!C914","v":0},{"$f":"ASIN!D914","v":0},{"$f":"ASIN!E914","v":0},{"$f":"ASIN!F914","v":0}]
[{"$f":"ASIN!A915","v":0},{"$f":"ASIN!B915","v":0},{"$f":"ASIN!C915","v":0},{"$f":"ASIN!D915","v":0},{"$f":"ASIN!E915","v":0},{"$f":"ASIN!F915","v":0}]
[{"$f":"ASIN!A916","v":0},{"$f":"ASIN!B916","v":0},{"$f":"ASIN!C916","v":0},{"$f":"ASIN!D916","v":0},{"$f":"ASIN!E916","v":0},{"$f":"ASIN!F916","v":0}]
[{"$f":"ASIN!A917","v":0},{"$f":"ASIN!B917","v":0},{"$f":"ASIN!C917","v":0},{"$f":"ASIN!D917","v":0},{"$f":"ASIN!E917","v":0},{"$f":"ASIN!F917","v":0}]
[{"$f":"ASIN!A918","v":0},{"$f":"ASIN!B918","v":0},{"$f":"ASIN!C918","v":0},{"$f":"ASIN!D918","v":0},{"$f":"ASIN!E918","v":0},{"$f":"ASIN!F918","v":0}]
[{"$f":"ASIN!A919","v":0},{"$f":"ASIN!B919","v":0},{"$f":"ASIN!C919","v":0},{"$f":"ASIN!D919","v":0},{"$f":"ASIN!E919","v":0},{"$f":"ASIN!F919","v":0}]
[{"$f":"ASIN!A920","v":0},{"$f":"ASIN!B920","v":0},{"$f":"ASIN!C920","v":0},{"$f":"ASIN!D920","v":0},{"$f":"ASIN!E920","v":0},{"$f":"ASIN!F920","v":0}]
[{"$f":"ASIN!A921","v":0},{"$f":"ASIN!B921","v":0},{"$f":"ASIN!C921","v":0},{"$f":"ASIN!D921","v":0},{"$f":"ASIN!E921","v":0},{"$f":"ASIN!F921","v":0}]
[{"$f":"ASIN!A922","v":0},{"$f":"ASIN!B922","v":0},{"$f":"ASIN!C922","v":0},{"$f":"ASIN!D922","v":0},{"$f":"ASIN!E922","v":0},{"$f":"ASIN!F922","v":0}]
[{"$f":"ASIN!A923","v":0},{"$f":"ASIN!B923","v":0},{"$f":"ASIN!C923","v":0},{"$f":"ASIN!D923","v":0},{"$f":"ASIN!E923","v":0},{"$f":"ASIN!F923","v":0}]
[{"$f":"ASIN!A924","v":0},{"$f":"ASIN!B924","v":0},{"$f":"ASIN!C924","v":0},{"$f":"ASIN!D924","v":0},{"$f":"ASIN!E924","v":0},{"$f":"ASIN!F924","v":0}]
[{"$f":"ASIN!A925","v":0},{"$f":"ASIN!B925","v":0},{"$f":"ASIN!C925","v":0},{"$f":"ASIN!D925","v":0},{"$f":"ASIN!E925","v":0},{"$f":"ASIN!F925","v":0}]
[{"$f":"ASIN!A926","v":0},{"$f":"ASIN!B926","v":0},{"$f":"ASIN!C926","v":0},{"$f":"ASIN!D926","v":0},{"$f":"ASIN!E926","v":0},{"$f":"ASIN!F926","v":0}]
[{"$f":"ASIN!A927","v":0},{"$f":"ASIN!B927","v":0},{"$f":"ASIN!C927","v":0},{"$f":"ASIN!D927","v":0},{"$f":"ASIN!E927","v":0},{"$f":"ASIN!F927","v":0}]
[{"$f":"ASIN!A928","v":0},{"$f":"ASIN!B928","v":0},{"$f":"ASIN!C928","v":0},{"$f":"ASIN!D928","v":0},{"$f":"ASIN!E928","v":0},{"$f":"ASIN!F928","v":0}]
[{"$f":"ASIN!A929","v":0},{"$f":"ASIN!B929","v":0},{"$f":"ASIN!C929","v":0},{"$f":"ASIN!D929","v":0},{"$f":"ASIN!E929","v":0},{"$f":"ASIN!F929","v":0}]
[{"$f":"ASIN!A930","v":0},{"$f":"ASIN!B930","v":0},{"$f":"ASIN!C930","v":0},{"$f":"ASIN!D930","v":0},{"$f":"ASIN!E930","v":0},{"$f":"ASIN!F930","v":0}]
[{"$f":"ASIN!A931","v":0},{"$f":"ASIN!B931","v":0},{"$f":"ASIN!C931","v":0},{"$f":"ASIN!D931","v":0},{"$f":"ASIN!E931","v":0},{"$f":"ASIN!F931","v":0}]
[{"$f":"ASIN!A932","v":0},{"$f":"ASIN!B932","v":0},{"$f":"ASIN!C932","v":0},{"$f":"ASIN!D932","v":0},{"$f":"ASIN!E932","v":0},{"$f":"ASIN!F932","v":0}]
[{"$f":"ASIN!A933","v":0},{"$f":"ASIN!B933","v":0},{"$f":"ASIN!C933","v":0},{"$f":"ASIN!D933","v":0},{"$f":"ASIN!E933","v":0},{"$f":"ASIN!F933","v":0}]
[{"$f":"ASIN!A934","v":0},{"$f":"ASIN!B934","v":0},{"$f":"ASIN!C934","v":0},{"$f":"ASIN!D934","v":0},{"$f":"ASIN!E934","v":0},{"$f":"ASIN!F934","v":0}]
[{"$f":"ASIN!A935","v":0},{"$f":"ASIN!B935","v":0},{"$f":"ASIN!C935","v":0},{"$f":"ASIN!D935","v":0},{"$f":"ASIN!E935","v":0},{"$f":"ASIN!F935","v":0}]
[{"$f":"ASIN!A936","v":0},{"$f":"ASIN!B936","v":0},{"$f":"ASIN!C936","v":0},{"$f":"ASIN!D936","v":0},{"$f":"ASIN!E936","v":0},{"$f":"ASIN!F936","v":0}]
[{"$f":"ASIN!A937","v":0},{"$f":"ASIN!B937","v":0},{"$f":"ASIN!C937","v":0},{"$f":"ASIN!D937","v":0},{"$f":"ASIN!E937","v":0},{"$f":"ASIN!F937","v":0}]
[{"$f":"ASIN!A938","v":0},{"$f":"ASIN!B938","v":0},{"$f":"ASIN!C938","v":0},{"$f":"ASIN!D938","v":0},{"$f":"ASIN!E938","v":0},{"$f":"ASIN!F938","v":0}]
[{"$f":"ASIN!A939","v":0},{"$f":"ASIN!B939","v":0},{"$f":"ASIN!C939","v":0},{"$f":"ASIN!D939","v":0},{"$f":"ASIN!E939","v":0},{"$f":"ASIN!F939","v":0}]
[{"$f":"ASIN!A940","v":0},{"$f":"ASIN!B940","v":0},{"$f":"ASIN!C940","v":0},{"$f":"ASIN!D940","v":0},{"$f":"ASIN!E940","v":0},{"$f":"ASIN!F940","v":0}]
[{"$f":"ASIN!A941","v":0},{"$f":"ASIN!B941","v":0},{"$f":"ASIN!C941","v":0},{"$f":"ASIN!D941","v":0},{"$f":"ASIN!E941","v":0},{"$f":"ASIN!F941","v":0}]
[{"$f":"ASIN!A942","v":0},{"$f":"ASIN!B942","v":0},{"$f":"ASIN!C942","v":0},{"$f":"ASIN!D942","v":0},{"$f":"ASIN!E942","v":0},{"$f":"ASIN!F942","v":0}]
[{"$f":"ASIN!A943","v":0},{"$f":"ASIN!B943","v":0},{"$f":"ASIN!C943","v":0},{"$f":"ASIN!D943","v":0},{"$f":"ASIN!E943","v":0},{"$f":"ASIN!F943","v":0}]
[{"$f":"ASIN!A944","v":0},{"$f":"ASIN!B944","v":0},{"$f":"ASIN!C944","v":0},{"$f":"ASIN!D944","v":0},{"$f":"ASIN!E944","v":0},{"$f":"ASIN!F944","v":0}]
[{"$f":"ASIN!A945","v":0},{"$f":"ASIN!B945","v":0},{"$f":"ASIN!C945","v":0},{"$f":"ASIN!D945","v":0},{"$f":"ASIN!E945","v":0},{"$f":"ASIN!F945","v":0}]
[{"$f":"ASIN!A946","v":0},{"$f":"ASIN!B946","v":0},{"$f":"ASIN!C946","v":0},{"$f":"ASIN!D946","v":0},{"$f":"ASIN!E946","v":0},{"$f":"ASIN!F946","v":0}]
[{"$f":"ASIN!A947","v":0},{"$f":"ASIN!B947","v":0},{"$f":"ASIN!C947","v":0},{"$f":"ASIN!D947","v":0},{"$f":"ASIN!E947","v":0},{"$f":"ASIN!F947","v":0}]
[{"$f":"ASIN!A948","v":0},{"$f":"ASIN!B948","v":0},{"$f":"ASIN!C948","v":0},{"$f":"ASIN!D948","v":0},{"$f":"ASIN!E948","v":0},{"$f":"ASIN!F948","v":0}]
[{"$f":"ASIN!A949","v":0},{"$f":"ASIN!B949","v":0},{"$f":"ASIN!C949","v":0},{"$f":"ASIN!D949","v":0},{"$f":"ASIN!E949","v":0},{"$f":"ASIN!F949","v":0}]
[{"$f":"ASIN!A950","v":0},{"$f":"ASIN!B950","v":0},{"$f":"ASIN!C950","v":0},{"$f":"ASIN!D950","v":0},{"$f":"ASIN!E950","v":0},{"$f":"ASIN!F950","v":0}]
[{"$f":"ASIN!A951","v":0},{"$f":"ASIN!B951","v":0},{"$f":"ASIN!C951","v":0},{"$f":"ASIN!D951","v":0},{"$f":"ASIN!E951","v":0},{"$f":"ASIN!F951","v":0}]
[{"$f":"ASIN!A952","v":0},{"$f":"ASIN!B952","v":0},{"$f":"ASIN!C952","v":0},{"$f":"ASIN!D952","v":0},{"$f":"ASIN!E952","v":0},{"$f":"ASIN!F952","v":0}]
[{"$f":"ASIN!A953","v":0},{"$f":"ASIN!B953","v":0},{"$f":"ASIN!C953","v":0},{"$f":"ASIN!D953","v":0},{"$f":"ASIN!E953","v":0},{"$f":"ASIN!F953","v":0}]
[{"$f":"ASIN!A954","v":0},{"$f":"ASIN!B954","v":0},{"$f":"ASIN!C954","v":0},{"$f":"ASIN!D954","v":0},{"$f":"ASIN!E954","v":0},{"$f":"ASIN!F954","v":0}]
[{"$f":"ASIN!A955","v":0},{"$f":"ASIN!B955","v":0},{"$f":"ASIN!C955","v":0},{"$f":"ASIN!D955","v":0},{"$f":"ASIN!E955","v":0},{"$f":"ASIN!F955","v":0}]
[{"$f":"ASIN!A956","v":0},{"$f":"ASIN!B956","v":0},{"$f":"ASIN!C956","v":0},{"$f":"ASIN!D956","v":0},{"$f":"ASIN!E956","v":0},{"$f":"ASIN!F956","v":0}]
[{"$f":"ASIN!A957","v":0},{"$f":"ASIN!B957","v":0},{"$f":"ASIN!C957","v":0},{"$f":"ASIN!D957","v":0},{"$f":"ASIN!E957","v":0},{"$f":"ASIN!F957","v":0}]
[{"$f":"ASIN!A958","v":0},{"$f":"ASIN!B958","v":0},{"$f":"ASIN!C958","v":0},{"$f":"ASIN!D958","v":0},{"$f":"ASIN!E958","v":0},{"$f":"ASIN!F958","v":0}]
[{"$f":"ASIN!A959","v":0},{"$f":"ASIN!B959","v":0},{"$f":"ASIN!C959","v":0},{"$f":"ASIN!D959","v":0},{"$f":"ASIN!E959","v":0},{"$f":"ASIN!F959","v":0}]
[{"$f":"ASIN!A960","v":0},{"$f":"ASIN!B960","v":0},{"$f":"ASIN!C960","v":0},{"$f":"ASIN!D960","v":0},{"$f":"ASIN!E960","v":0},{"$f":"ASIN!F960","v":0}]
[{"$f":"ASIN!A961","v":0},{"$f":"ASIN!B961","v":0},{"$f":"ASIN!C961","v":0},{"$f":"ASIN!D961","v":0},{"$f":"ASIN!E961","v":0},{"$f":"ASIN!F961","v":0}]
[{"$f":"ASIN!A962","v":0},{"$f":"ASIN!B962","v":0},{"$f":"ASIN!C962","v":0},{"$f":"ASIN!D962","v":0},{"$f":"ASIN!E962","v":0},{"$f":"ASIN!F962","v":0}]
[{"$f":"ASIN!A963","v":0},{"$f":"ASIN!B963","v":0},{"$f":"ASIN!C963","v":0},{"$f":"ASIN!D963","v":0},{"$f":"ASIN!E963","v":0},{"$f":"ASIN!F963","v":0}]
[{"$f":"ASIN!A964","v":0},{"$f":"ASIN!B964","v":0},{"$f":"ASIN!C964","v":0},{"$f":"ASIN!D964","v":0},{"$f":"ASIN!E964","v":0},{"$f":"ASIN!F964","v":0}]
[{"$f":"ASIN!A965","v":0},{"$f":"ASIN!B965","v":0},{"$f":"ASIN!C965","v":0},{"$f":"ASIN!D965","v":0},{"$f":"ASIN!E965","v":0},{"$f":"ASIN!F965","v":0}]
[{"$f":"ASIN!A966","v":0},{"$f":"ASIN!B966","v":0},{"$f":"ASIN!C966","v":0},{"$f":"ASIN!D966","v":0},{"$f":"ASIN!E966","v":0},{"$f":"ASIN!F966","v":0}]
[{"$f":"ASIN!A967","v":0},{"$f":"ASIN!B967","v":0},{"$f":"ASIN!C967","v":0},{"$f":"ASIN!D967","v":0},{"$f":"ASIN!E967","v":0},{"$f":"ASIN!F967","v":0}]
[{"$f":"ASIN!A968","v":0},{"$f":"ASIN!B968","v":0},{"$f":"ASIN!C968","v":0},{"$f":"ASIN!D968","v":0},{"$f":"ASIN!E968","v":0},{"$f":"ASIN!F968","v":0}]
[{"$f":"ASIN!A969","v":0},{"$f":"ASIN!B969","v":0},{"$f":"ASIN!C969","v":0},{"$f":"ASIN!D969","v":0},{"$f":"ASIN!E969","v":0},{"$f":"ASIN!F969","v":0}]
[{"$f":"ASIN!A970","v":0},{"$f":"ASIN!B970","v":0},{"$f":"ASIN!C970","v":0},{"$f":"ASIN!D970","v":0},{"$f":"ASIN!E970","v":0},{"$f":"ASIN!F970","v":0}]
[{"$f":"ASIN!A971","v":0},{"$f":"ASIN!B971","v":0},{"$f":"ASIN!C971","v":0},{"$f":"ASIN!D971","v":0},{"$f":"ASIN!E971","v":0},{"$f":"ASIN!F971","v":0}]
[{"$f":"ASIN!A972","v":0},{"$f":"ASIN!B972","v":0},{"$f":"ASIN!C972","v":0},{"$f":"ASIN!D972","v":0},{"$f":"ASIN!E972","v":0},{"$f":"ASIN!F972","v":0}]
[{"$f":"ASIN!A973","v":0},{"$f":"ASIN!B973","v":0},{"$f":"ASIN!C973","v":0},{"$f":"ASIN!D973","v":0},{"$f":"ASIN!E973","v":0},{"$f":"ASIN!F973","v":0}]
[{"$f":"ASIN!A974","v":0},{"$f":"ASIN!B974","v":0},{"$f":"ASIN!C974","v":0},{"$f":"ASIN!D974","v":0},{"$f":"ASIN!E974","v":0},{"$f":"ASIN!F974","v":0}]
[{"$f":"ASIN!A975","v":0},{"$f":"ASIN!B975","v":0},{"$f":"ASIN!C975","v":0},{"$f":"ASIN!D975","v":0},{"$f":"ASIN!E975","v":0},{"$f":"ASIN!F975","v":0}]
[{"$f":"ASIN!A976","v":0},{"$f":"ASIN!B976","v":0},{"$f":"ASIN!C976","v":0},{"$f":"ASIN!D976","v":0},{"$f":"ASIN!E976","v":0},{"$f":"ASIN!F976","v":0}]
[{"$f":"ASIN!A977","v":0},{"$f":"ASIN!B977","v":0},{"$f":"ASIN!C977","v":0},{"$f":"ASIN!D977","v":0},{"$f":"ASIN!E977","v":0},{"$f":"ASIN!F977","v":0}]
[{"$f":"ASIN!A978","v":0},{"$f":"ASIN!B978","v":0},{"$f":"ASIN!C978","v":0},{"$f":"ASIN!D978","v":0},{"$f":"ASIN!E978","v":0},{"$f":"ASIN!F978","v":0}]
[{"$f":"ASIN!A979","v":0},{"$f":"ASIN!B979","v":0},{"$f":"ASIN!C979","v":0},{"$f":"ASIN!D979","v":0},{"$f":"ASIN!E979","v":0},{"$f":"ASIN!F979","v":0}]
[{"$f":"ASIN!A980","v":0},{"$f":"ASIN!B980","v":0},{"$f":"ASIN!C980","v":0},{"$f":"ASIN!D980","v":0},{"$f":"ASIN!E980","v":0},{"$f":"ASIN!F980","v":0}]
[{"$f":"ASIN!A981","v":0},{"$f":"ASIN!B981","v":0},{"$f":"ASIN!C981","v":0},{"$f":"ASIN!D981","v":0},{"$f":"ASIN!E981","v":0},{"$f":"ASIN!F981","v":0}]
[{"$f":"ASIN!A982","v":0},{"$f":"ASIN!B982","v":0},{"$f":"ASIN!C982","v":0},{"$f":"ASIN!D982","v":0},{"$f":"ASIN!E982","v":0},{"$f":"ASIN!F982","v":0}]
[{"$f":"ASIN!A983","v":0},{"$f":"ASIN!B983","v":0},{"$f":"ASIN!C983","v":0},{"$f":"ASIN!D983","v":0},{"$f":"ASIN!E983","v":0},{"$f":"ASIN!F983","v":0}]
[{"$f":"ASIN!A984","v":0},{"$f":"ASIN!B984","v":0},{"$f":"ASIN!C984","v":0},{"$f":"ASIN!D984","v":0},{"$f":"ASIN!E984","v":0},{"$f":"ASIN!F984","v":0}]
[{"$f":"ASIN!A985","v":0},{"$f":"ASIN!B985","v":0},{"$f":"ASIN!C985","v":0},{"$f":"ASIN!D985","v":0},{"$f":"ASIN!E985","v":0},{"$f":"ASIN!F985","v":0}]
[{"$f":"ASIN!A986","v":0},{"$f":"ASIN!B986","v":0},{"$f":"ASIN!C986","v":0},{"$f":"ASIN!D986","v":0},{"$f":"ASIN!E986","v":0},{"$f":"ASIN!F986","v":0}]
[{"$f":"ASIN!A987","v":0},{"$f":"ASIN!B987","v":0},{"$f":"ASIN!C987","v":0},{"$f":"ASIN!D987","v":0},{"$f":"ASIN!E987","v":0},{"$f":"ASIN!F987","v":0}]
[{"$f":"ASIN!A988","v":0},{"$f":"ASIN!B988","v":0},{"$f":"ASIN!C988","v":0},{"$f":"ASIN!D988","v":0},{"$f":"ASIN!E988","v":0},{"$f":"ASIN!F988","v":0}]
[{"$f":"ASIN!A989","v":0},{"$f":"ASIN!B989","v":0},{"$f":"ASIN!C989","v":0},{"$f":"ASIN!D989","v":0},{"$f":"ASIN!E989","v":0},{"$f":"ASIN!F989","v":0}]
[{"$f":"ASIN!A990","v":0},{"$f":"ASIN!B990","v":0},{"$f":"ASIN!C990","v":0},{"$f":"ASIN!D990","v":0},{"$f":"ASIN!E990","v":0},{"$f":"ASIN!F990","v":0}]
[{"$f":"ASIN!A991","v":0},{"$f":"ASIN!B991","v":0},{"$f":"ASIN!C991","v":0},{"$f":"ASIN!D991","v":0},{"$f":"ASIN!E991","v":0},{"$f":"ASIN!F991","v":0}]
[{"$f":"ASIN!A992","v":0},{"$f":"ASIN!B992","v":0},{"$f":"ASIN!C992","v":0},{"$f":"ASIN!D992","v":0},{"$f":"ASIN!E992","v":0},{"$f":"ASIN!F992","v":0}]
[{"$f":"ASIN!A993","v":0},{"$f":"ASIN!B993","v":0},{"$f":"ASIN!C993","v":0},{"$f":"ASIN!D993","v":0},{"$f":"ASIN!E993","v":0},{"$f":"ASIN!F993","v":0}]
[{"$f":"ASIN!A994","v":0},{"$f":"ASIN!B994","v":0},{"$f":"ASIN!C994","v":0},{"$f":"ASIN!D994","v":0},{"$f":"ASIN!E994","v":0},{"$f":"ASIN!F994","v":0}]
[{"$f":"ASIN!A995","v":0},{"$f":"ASIN!B995","v":0},{"$f":"ASIN!C995","v":0},{"$f":"ASIN!D995","v":0},{"$f":"ASIN!E995","v":0},{"$f":"ASIN!F995","v":0}]
[{"$f":"ASIN!A996","v":0},{"$f":"ASIN!B996","v":0},{"$f":"ASIN!C996","v":0},{"$f":"ASIN!D996","v":0},{"$f":"ASIN!E996","v":0},{"$f":"ASIN!F996","v":0}]
[{"$f":"ASIN!A997","v":0},{"$f":"ASIN!B997","v":0},{"$f":"ASIN!C997","v":0},{"$f":"ASIN!D997","v":0},{"$f":"ASIN!E997","v":0},{"$f":"ASIN!F997","v":0}]
[{"$f":"ASIN!A998","v":0},{"$f":"ASIN!B998","v":0},{"$f":"ASIN!C998","v":0},{"$f":"ASIN!D998","v":0},{"$f":"ASIN!E998","v":0},{"$f":"ASIN!F998","v":0}]
[{"$f":"ASIN!A999","v":0},{"$f":"ASIN!B999","v":0},{"$f":"ASIN!C999","v":0},{"$f":"ASIN!D999","v":0},{"$f":"ASIN!E999","v":0},{"$f":"ASIN!F999","v":0}]
[{"$f":"ASIN!A1000","v":0},{"$f":"ASIN!B1000","v":0},{"$f":"ASIN!C1000","v":0},{"$f":"ASIN!D1000","v":0},{"$f":"ASIN!E1000","v":0},{"$f":"ASIN!F1000","v":0}]
[{"$f":"ASIN!A1001","v":0},{"$f":"ASIN!B1001","v":0},{"$f":"ASIN!C1001","v":0},{"$f":"ASIN!D1001","v":0},{"$f":"ASIN!E1001","v":0},{"$f":"ASIN!F1001","v":0}]
[{"$f":"ASIN!A1002","v":0},{"$f":"ASIN!B1002","v":0},{"$f":"ASIN!C1002","v":0},{"$f":"ASIN!D1002","v":0},{"$f":"ASIN!E1002","v":0},{"$f":"ASIN!F1002","v":0}]
[{"$f":"ASIN!A1003","v":0},{"$f":"ASIN!B1003","v":0},{"$f":"ASIN!C1003","v":0},{"$f":"ASIN!D1003","v":0},{"$f":"ASIN!E1003","v":0},{"$f":"ASIN!F1003","v":0}]
[{"$f":"ASIN!A1004","v":0},{"$f":"ASIN!B1004","v":0},{"$f":"ASIN!C1004","v":0},{"$f":"ASIN!D1004","v":0},{"$f":"ASIN!E1004","v":0},{"$f":"ASIN!F1004","v":0}]
[{"$f":"ASIN!A1005","v":0},{"$f":"ASIN!B1005","v":0},{"$f":"ASIN!C1005","v":0},{"$f":"ASIN!D1005","v":0},{"$f":"ASIN!E1005","v":0},{"$f":"ASIN!F1005","v":0}]
[{"$f":"ASIN!A1006","v":0},{"$f":"ASIN!B1006","v":0},{"$f":"ASIN!C1006","v":0},{"$f":"ASIN!D1006","v":0},{"$f":"ASIN!E1006","v":0},{"$f":"ASIN!F1006","v":0}]
[{"$f":"ASIN!A1007","v":0},{"$f":"ASIN!B1007","v":0},{"$f":"ASIN!C1007","v":0},{"$f":"ASIN!D1007","v":0},{"$f":"ASIN!E1007","v":0},{"$f":"ASIN!F1007","v":0}]
[{"$f":"ASIN!A1008","v":0},{"$f":"ASIN!B1008","v":0},{"$f":"ASIN!C1008","v":0},{"$f":"ASIN!D1008","v":0},{"$f":"ASIN!E1008","v":0},{"$f":"ASIN!F1008","v":0}]
[{"$f":"ASIN!A1009","v":0},{"$f":"ASIN!B1009","v":0},{"$f":"ASIN!C1009","v":0},{"$f":"ASIN!D1009","v":0},{"$f":"ASIN!E1009","v":0},{"$f":"ASIN!F1009","v":0}]
[{"$f":"ASIN!A1010","v":0},{"$f":"ASIN!B1010","v":0},{"$f":"ASIN!C1010","v":0},{"$f":"ASIN!D1010","v":0},{"$f":"ASIN!E1010","v":0},{"$f":"ASIN!F1010","v":0}]
[{"$f":"ASIN!A1011","v":0},{"$f":"ASIN!B1011","v":0},{"$f":"ASIN!C1011","v":0},{"$f":"ASIN!D1011","v":0},{"$f":"ASIN!E1011","v":0},{"$f":"ASIN!F1011","v":0}]
[{"$f":"ASIN!A1012","v":0},{"$f":"ASIN!B1012","v":0},{"$f":"ASIN!C1012","v":0},{"$f":"ASIN!D1012","v":0},{"$f":"ASIN!E1012","v":0},{"$f":"ASIN!F1012","v":0}]
[{"$f":"ASIN!A1013","v":0},{"$f":"ASIN!B1013","v":0},{"$f":"ASIN!C1013","v":0},{"$f":"ASIN!D1013","v":0},{"$f":"ASIN!E1013","v":0},{"$f":"ASIN!F1013","v":0}]
[{"$f":"ASIN!A1014","v":0},{"$f":"ASIN!B1014","v":0},{"$f":"ASIN!C1014","v":0},{"$f":"ASIN!D1014","v":0},{"$f":"ASIN!E1014","v":0},{"$f":"ASIN!F1014","v":0}]
[{"$f":"ASIN!A1015","v":0},{"$f":"ASIN!B1015","v":0},{"$f":"ASIN!C1015","v":0},{"$f":"ASIN!D1015","v":0},{"$f":"ASIN!E1015","v":0},{"$f":"ASIN!F1015","v":0}]
[{"$f":"ASIN!A1016","v":0},{"$f":"ASIN!B1016","v":0},{"$f":"ASIN!C1016","v":0},{"$f":"ASIN!D1016","v":0},{"$f":"ASIN!E1016","v":0},{"$f":"ASIN!F1016","v":0}]
[{"$f":"ASIN!A1017","v":0},{"$f":"ASIN!B1017","v":0},{"$f":"ASIN!C1017","v":0},{"$f":"ASIN!D1017","v":0},{"$f":"ASIN!E1017","v":0},{"$f":"ASIN!F1017","v":0}]
[{"$f":"ASIN!A1018","v":0},{"$f":"ASIN!B1018","v":0},{"$f":"ASIN!C1018","v":0},{"$f":"ASIN!D1018","v":0},{"$f":"ASIN!E1018","v":0},{"$f":"ASIN!F1018","v":0}]
[{"$f":"ASIN!A1019","v":0},{"$f":"ASIN!B1019","v":0},{"$f":"ASIN!C1019","v":0},{"$f":"ASIN!D1019","v":0},{"$f":"ASIN!E1019","v":0},{"$f":"ASIN!F1019","v":0}]
[{"$f":"ASIN!A1020","v":0},{"$f":"ASIN!B1020","v":0},{"$f":"ASIN!C1020","v":0},{"$f":"ASIN!D1020","v":0},{"$f":"ASIN!E1020","v":0},{"$f":"ASIN!F1020","v":0}]
[{"$f":"ASIN!A1021","v":0},{"$f":"ASIN!B1021","v":0},{"$f":"ASIN!C1021","v":0},{"$f":"ASIN!D1021","v":0},{"$f":"ASIN!E1021","v":0},{"$f":"ASIN!F1021","v":0}]
[{"$f":"ASIN!A1022","v":0},{"$f":"ASIN!B1022","v":0},{"$f":"ASIN!C1022","v":0},{"$f":"ASIN!D1022","v":0},{"$f":"ASIN!E1022","v":0},{"$f":"ASIN!F1022","v":0}]
[{"$f":"ASIN!A1023","v":0},{"$f":"ASIN!B1023","v":0},{"$f":"ASIN!C1023","v":0},{"$f":"ASIN!D1023","v":0},{"$f":"ASIN!E1023","v":0},{"$f":"ASIN!F1023","v":0}]
[{"$f":"ASIN!A1024","v":0},{"$f":"ASIN!B1024","v":0},{"$f":"ASIN!C1024","v":0},{"$f":"ASIN!D1024","v":0},{"$f":"ASIN!E1024","v":0},{"$f":"ASIN!F1024","v":0}]
[{"$f":"ASIN!A1025","v":0},{"$f":"ASIN!B1025","v":0},{"$f":"ASIN!C1025","v":0},{"$f":"ASIN!D1025","v":0},{"$f":"ASIN!E1025","v":0},{"$f":"ASIN!F1025","v":0}]
[{"$f":"ASIN!A1026","v":0},{"$f":"ASIN!B1026","v":0},{"$f":"ASIN!C1026","v":0},{"$f":"ASIN!D1026","v":0},{"$f":"ASIN!E1026","v":0},{"$f":"ASIN!F1026","v":0}]
[{"$f":"ASIN!A1027","v":0},{"$f":"ASIN!B1027","v":0},{"$f":"ASIN!C1027","v":0},{"$f":"ASIN!D1027","v":0},{"$f":"ASIN!E1027","v":0},{"$f":"ASIN!F1027","v":0}]
[{"$f":"ASIN!A1028","v":0},{"$f":"ASIN!B1028","v":0},{"$f":"ASIN!C1028","v":0},{"$f":"ASIN!D1028","v":0},{"$f":"ASIN!E1028","v":0},{"$f":"ASIN!F1028","v":0}]
[{"$f":"ASIN!A1029","v":0},{"$f":"ASIN!B1029","v":0},{"$f":"ASIN!C1029","v":0},{"$f":"ASIN!D1029","v":0},{"$f":"ASIN!E1029","v":0},{"$f":"ASIN!F1029","v":0}]
[{"$f":"ASIN!A1030","v":0},{"$f":"ASIN!B1030","v":0},{"$f":"ASIN!C1030","v":0},{"$f":"ASIN!D1030","v":0},{"$f":"ASIN!E1030","v":0},{"$f":"ASIN!F1030","v":0}]
[{"$f":"ASIN!A1031","v":0},{"$f":"ASIN!B1031","v":0},{"$f":"ASIN!C1031","v":0},{"$f":"ASIN!D1031","v":0},{"$f":"ASIN!E1031","v":0},{"$f":"ASIN!F1031","v":0}]
[{"$f":"ASIN!A1032","v":0},{"$f":"ASIN!B1032","v":0},{"$f":"ASIN!C1032","v":0},{"$f":"ASIN!D1032","v":0},{"$f":"ASIN!E1032","v":0},{"$f":"ASIN!F1032","v":0}]
[{"$f":"ASIN!A1033","v":0},{"$f":"ASIN!B1033","v":0},{"$f":"ASIN!C1033","v":0},{"$f":"ASIN!D1033","v":0},{"$f":"ASIN!E1033","v":0},{"$f":"ASIN!F1033","v":0}]
[{"$f":"ASIN!A1034","v":0},{"$f":"ASIN!B1034","v":0},{"$f":"ASIN!C1034","v":0},{"$f":"ASIN!D1034","v":0},{"$f":"ASIN!E1034","v":0},{"$f":"ASIN!F1034","v":0}]
[{"$f":"ASIN!A1035","v":0},{"$f":"ASIN!B1035","v":0},{"$f":"ASIN!C1035","v":0},{"$f":"ASIN!D1035","v":0},{"$f":"ASIN!E1035","v":0},{"$f":"ASIN!F1035","v":0}]
[{"$f":"ASIN!A1036","v":0},{"$f":"ASIN!B1036","v":0},{"$f":"ASIN!C1036","v":0},{"$f":"ASIN!D1036","v":0},{"$f":"ASIN!E1036","v":0},{"$f":"ASIN!F1036","v":0}]
[{"$f":"ASIN!A1037","v":0},{"$f":"ASIN!B1037","v":0},{"$f":"ASIN!C1037","v":0},{"$f":"ASIN!D1037","v":0},{"$f":"ASIN!E1037","v":0},{"$f":"ASIN!F1037","v":0}]
[{"$f":"ASIN!A1038","v":0},{"$f":"ASIN!B1038","v":0},{"$f":"ASIN!C1038","v":0},{"$f":"ASIN!D1038","v":0},{"$f":"ASIN!E1038","v":0},{"$f":"ASIN!F1038","v":0}]
[{"$f":"ASIN!A1039","v":0},{"$f":"ASIN!B1039","v":0},{"$f":"ASIN!C1039","v":0},{"$f":"ASIN!D1039","v":0},{"$f":"ASIN!E1039","v":0},{"$f":"ASIN!F1039","v":0}]
[{"$f":"ASIN!A1040","v":0},{"$f":"ASIN!B1040","v":0},{"$f":"ASIN!C1040","v":0},{"$f":"ASIN!D1040","v":0},{"$f":"ASIN!E1040","v":0},{"$f":"ASIN!F1040","v":0}]
[{"$f":"ASIN!A1041","v":0},{"$f":"ASIN!B1041","v":0},{"$f":"ASIN!C1041","v":0},{"$f":"ASIN!D1041","v":0},{"$f":"ASIN!E1041","v":0},{"$f":"ASIN!F1041","v":0}]
[{"$f":"ASIN!A1042","v":0},{"$f":"ASIN!B1042","v":0},{"$f":"ASIN!C1042","v":0},{"$f":"ASIN!D1042","v":0},{"$f":"ASIN!E1042","v":0},{"$f":"ASIN!F1042","v":0}]
[{"$f":"ASIN!A1043","v":0},{"$f":"ASIN!B1043","v":0},{"$f":"ASIN!C1043","v":0},{"$f":"ASIN!D1043","v":0},{"$f":"ASIN!E1043","v":0},{"$f":"ASIN!F1043","v":0}]
[{"$f":"ASIN!A1044","v":0},{"$f":"ASIN!B1044","v":0},{"$f":"ASIN!C1044","v":0},{"$f":"ASIN!D1044","v":0},{"$f":"ASIN!E1044","v":0},{"$f":"ASIN!F1044","v":0}]
[{"$f":"ASIN!A1045","v":0},{"$f":"ASIN!B1045","v":0},{"$f":"ASIN!C1045","v":0},{"$f":"ASIN!D1045","v":0},{"$f":"ASIN!E1045","v":0},{"$f":"ASIN!F1045","v":0}]
[{"$f":"ASIN!A1046","v":0},{"$f":"ASIN!B1046","v":0},{"$f":"ASIN!C1046","v":0},{"$f":"ASIN!D1046","v":0},{"$f":"ASIN!E1046","v":0},{"$f":"ASIN!F1046","v":0}]
[{"$f":"ASIN!A1047","v":0},{"$f":"ASIN!B1047","v":0},{"$f":"ASIN!C1047","v":0},{"$f":"ASIN!D1047","v":0},{"$f":"ASIN!E1047","v":0},{"$f":"ASIN!F1047","v":0}]
[{"$f":"ASIN!A1048","v":0},{"$f":"ASIN!B1048","v":0},{"$f":"ASIN!C1048","v":0},{"$f":"ASIN!D1048","v":0},{"$f":"ASIN!E1048","v":0},{"$f":"ASIN!F1048","v":0}]
[{"$f":"ASIN!A1049","v":0},{"$f":"ASIN!B1049","v":0},{"$f":"ASIN!C1049","v":0},{"$f":"ASIN!D1049","v":0},{"$f":"ASIN!E1049","v":0},{"$f":"ASIN!F1049","v":0}]
[{"$f":"ASIN!A1050","v":0},{"$f":"ASIN!B1050","v":0},{"$f":"ASIN!C1050","v":0},{"$f":"ASIN!D1050","v":0},{"$f":"ASIN!E1050","v":0},{"$f":"ASIN!F1050","v":0}]
[{"$f":"ASIN!A1051","v":0},{"$f":"ASIN!B1051","v":0},{"$f":"ASIN!C1051","v":0},{"$f":"ASIN!D1051","v":0},{"$f":"ASIN!E1051","v":0},{"$f":"ASIN!F1051","v":0}]
[{"$f":"ASIN!A1052","v":0},{"$f":"ASIN!B1052","v":0},{"$f":"ASIN!C1052","v":0},{"$f":"ASIN!D1052","v":0},{"$f":"ASIN!E1052","v":0},{"$f":"ASIN!F1052","v":0}]
[{"$f":"ASIN!A1053","v":0},{"$f":"ASIN!B1053","v":0},{"$f":"ASIN!C1053","v":0},{"$f":"ASIN!D1053","v":0},{"$f":"ASIN!E1053","v":0},{"$f":"ASIN!F1053","v":0}]
[{"$f":"ASIN!A1054","v":0},{"$f":"ASIN!B1054","v":0},{"$f":"ASIN!C1054","v":0},{"$f":"ASIN!D1054","v":0},{"$f":"ASIN!E1054","v":0},{"$f":"ASIN!F1054","v":0}]
[{"$f":"ASIN!A1055","v":0},{"$f":"ASIN!B1055","v":0},{"$f":"ASIN!C1055","v":0},{"$f":"ASIN!D1055","v":0},{"$f":"ASIN!E1055","v":0},{"$f":"ASIN!F1055","v":0}]
[{"$f":"ASIN!A1056","v":0},{"$f":"ASIN!B1056","v":0},{"$f":"ASIN!C1056","v":0},{"$f":"ASIN!D1056","v":0},{"$f":"ASIN!E1056","v":0},{"$f":"ASIN!F1056","v":0}]
[{"$f":"ASIN!A1057","v":0},{"$f":"ASIN!B1057","v":0},{"$f":"ASIN!C1057","v":0},{"$f":"ASIN!D1057","v":0},{"$f":"ASIN!E1057","v":0},{"$f":"ASIN!F1057","v":0}]
[{"$f":"ASIN!A1058","v":0},{"$f":"ASIN!B1058","v":0},{"$f":"ASIN!C1058","v":0},{"$f":"ASIN!D1058","v":0},{"$f":"ASIN!E1058","v":0},{"$f":"ASIN!F1058","v":0}]
[{"$f":"ASIN!A1059","v":0},{"$f":"ASIN!B1059","v":0},{"$f":"ASIN!C1059","v":0},{"$f":"ASIN!D1059","v":0},{"$f":"ASIN!E1059","v":0},{"$f":"ASIN!F1059","v":0}]
[{"$f":"ASIN!A1060","v":0},{"$f":"ASIN!B1060","v":0},{"$f":"ASIN!C1060","v":0},{"$f":"ASIN!D1060","v":0},{"$f":"ASIN!E1060","v":0},{"$f":"ASIN!F1060","v":0}]
[{"$f":"ASIN!A1061","v":0},{"$f":"ASIN!B1061","v":0},{"$f":"ASIN!C1061","v":0},{"$f":"ASIN!D1061","v":0},{"$f":"ASIN!E1061","v":0},{"$f":"ASIN!F1061","v":0}]
[{"$f":"ASIN!A1062","v":0},{"$f":"ASIN!B1062","v":0},{"$f":"ASIN!C1062","v":0},{"$f":"ASIN!D1062","v":0},{"$f":"ASIN!E1062","v":0},{"$f":"ASIN!F1062","v":0}]
[{"$f":"ASIN!A1063","v":0},{"$f":"ASIN!B1063","v":0},{"$f":"ASIN!C1063","v":0},{"$f":"ASIN!D1063","v":0},{"$f":"ASIN!E1063","v":0},{"$f":"ASIN!F1063","v":0}]
[{"$f":"ASIN!A1064","v":0},{"$f":"ASIN!B1064","v":0},{"$f":"ASIN!C1064","v":0},{"$f":"ASIN!D1064","v":0},{"$f":"ASIN!E1064","v":0},{"$f":"ASIN!F1064","v":0}]
[{"$f":"ASIN!A1065","v":0},{"$f":"ASIN!B1065","v":0},{"$f":"ASIN!C1065","v":0},{"$f":"ASIN!D1065","v":0},{"$f":"ASIN!E1065","v":0},{"$f":"ASIN!F1065","v":0}]
[{"$f":"ASIN!A1066","v":0},{"$f":"ASIN!B1066","v":0},{"$f":"ASIN!C1066","v":0},{"$f":"ASIN!D1066","v":0},{"$f":"ASIN!E1066","v":0},{"$f":"ASIN!F1066","v":0}]
[{"$f":"ASIN!A1067","v":0},{"$f":"ASIN!B1067","v":0},{"$f":"ASIN!C1067","v":0},{"$f":"ASIN!D1067","v":0},{"$f":"ASIN!E1067","v":0},{"$f":"ASIN!F1067","v":0}]
[{"$f":"ASIN!A1068","v":0},{"$f":"ASIN!B1068","v":0},{"$f":"ASIN!C1068","v":0},{"$f":"ASIN!D1068","v":0},{"$f":"ASIN!E1068","v":0},{"$f":"ASIN!F1068","v":0}]
[{"$f":"ASIN!A1069","v":0},{"$f":"ASIN!B1069","v":0},{"$f":"ASIN!C1069","v":0},{"$f":"ASIN!D1069","v":0},{"$f":"ASIN!E1069","v":0},{"$f":"ASIN!F1069","v":0}]
[{"$f":"ASIN!A1070","v":0},{"$f":"ASIN!B1070","v":0},{"$f":"ASIN!C1070","v":0},{"$f":"ASIN!D1070","v":0},{"$f":"ASIN!E1070","v":0},{"$f":"ASIN!F1070","v":0}]
[{"$f":"ASIN!A1071","v":0},{"$f":"ASIN!B1071","v":0},{"$f":"ASIN!C1071","v":0},{"$f":"ASIN!D1071","v":0},{"$f":"ASIN!E1071","v":0},{"$f":"ASIN!F1071","v":0}]
[{"$f":"ASIN!A1072","v":0},{"$f":"ASIN!B1072","v":0},{"$f":"ASIN!C1072","v":0},{"$f":"ASIN!D1072","v":0},{"$f":"ASIN!E1072","v":0},{"$f":"ASIN!F1072","v":0}]
[{"$f":"ASIN!A1073","v":0},{"$f":"ASIN!B1073","v":0},{"$f":"ASIN!C1073","v":0},{"$f":"ASIN!D1073","v":0},{"$f":"ASIN!E1073","v":0},{"$f":"ASIN!F1073","v":0}]
[{"$f":"ASIN!A1074","v":0},{"$f":"ASIN!B1074","v":0},{"$f":"ASIN!C1074","v":0},{"$f":"ASIN!D1074","v":0},{"$f":"ASIN!E1074","v":0},{"$f":"ASIN!F1074","v":0}]
[{"$f":"ASIN!A1075","v":0},{"$f":"ASIN!B1075","v":0},{"$f":"ASIN!C1075","v":0},{"$f":"ASIN!D1075","v":0},{"$f":"ASIN!E1075","v":0},{"$f":"ASIN!F1075","v":0}]
[{"$f":"ASIN!A1076","v":0},{"$f":"ASIN!B1076","v":0},{"$f":"ASIN!C1076","v":0},{"$f":"ASIN!D1076","v":0},{"$f":"ASIN!E1076","v":0},{"$f":"ASIN!F1076","v":0}]
[{"$f":"ASIN!A1077","v":0},{"$f":"ASIN!B1077","v":0},{"$f":"ASIN!C1077","v":0},{"$f":"ASIN!D1077","v":0},{"$f":"ASIN!E1077","v":0},{"$f":"ASIN!F1077","v":0}]
[{"$f":"ASIN!A1078","v":0},{"$f":"ASIN!B1078","v":0},{"$f":"ASIN!C1078","v":0},{"$f":"ASIN!D1078","v":0},{"$f":"ASIN!E1078","v":0},{"$f":"ASIN!F1078","v":0}]
[{"$f":"ASIN!A1079","v":0},{"$f":"ASIN!B1079","v":0},{"$f":"ASIN!C1079","v":0},{"$f":"ASIN!D1079","v":0},{"$f":"ASIN!E1079","v":0},{"$f":"ASIN!F1079","v":0}]
[{"$f":"ASIN!A1080","v":0},{"$f":"ASIN!B1080","v":0},{"$f":"ASIN!C1080","v":0},{"$f":"ASIN!D1080","v":0},{"$f":"ASIN!E1080","v":0},{"$f":"ASIN!F1080","v":0}]
[{"$f":"ASIN!A1081","v":0},{"$f":"ASIN!B1081","v":0},{"$f":"ASIN!C1081","v":0},{"$f":"ASIN!D1081","v":0},{"$f":"ASIN!E1081","v":0},{"$f":"ASIN!F1081","v":0}]
[{"$f":"ASIN!A1082","v":0},{"$f":"ASIN!B1082","v":0},{"$f":"ASIN!C1082","v":0},{"$f":"ASIN!D1082","v":0},{"$f":"ASIN!E1082","v":0},{"$f":"ASIN!F1082","v":0}]
[{"$f":"ASIN!A1083","v":0},{"$f":"ASIN!B1083","v":0},{"$f":"ASIN!C1083","v":0},{"$f":"ASIN!D1083","v":0},{"$f":"ASIN!E1083","v":0},{"$f":"ASIN!F1083","v":0}]
[{"$f":"ASIN!A1084","v":0},{"$f":"ASIN!B1084","v":0},{"$f":"ASIN!C1084","v":0},{"$f":"ASIN!D1084","v":0},{"$f":"ASIN!E1084","v":0},{"$f":"ASIN!F1084","v":0}]
[{"$f":"ASIN!A1085","v":0},{"$f":"ASIN!B1085","v":0},{"$f":"ASIN!C1085","v":0},{"$f":"ASIN!D1085","v":0},{"$f":"ASIN!E1085","v":0},{"$f":"ASIN!F1085","v":0}]
[{"$f":"ASIN!A1086","v":0},{"$f":"ASIN!B1086","v":0},{"$f":"ASIN!C1086","v":0},{"$f":"ASIN!D1086","v":0},{"$f":"ASIN!E1086","v":0},{"$f":"ASIN!F1086","v":0}]
[{"$f":"ASIN!A1087","v":0},{"$f":"ASIN!B1087","v":0},{"$f":"ASIN!C1087","v":0},{"$f":"ASIN!D1087","v":0},{"$f":"ASIN!E1087","v":0},{"$f":"ASIN!F1087","v":0}]
[{"$f":"ASIN!A1088","v":0},{"$f":"ASIN!B1088","v":0},{"$f":"ASIN!C1088","v":0},{"$f":"ASIN!D1088","v":0},{"$f":"ASIN!E1088","v":0},{"$f":"ASIN!F1088","v":0}]
[{"$f":"ASIN!A1089","v":0},{"$f":"ASIN!B1089","v":0},{"$f":"ASIN!C1089","v":0},{"$f":"ASIN!D1089","v":0},{"$f":"ASIN!E1089","v":0},{"$f":"ASIN!F1089","v":0}]
[{"$f":"ASIN!A1090","v":0},{"$f":"ASIN!B1090","v":0},{"$f":"ASIN!C1090","v":0},{"$f":"ASIN!D1090","v":0},{"$f":"ASIN!E1090","v":0},{"$f":"ASIN!F1090","v":0}]
[{"$f":"ASIN!A1091","v":0},{"$f":"ASIN!B1091","v":0},{"$f":"ASIN!C1091","v":0},{"$f":"ASIN!D1091","v":0},{"$f":"ASIN!E1091","v":0},{"$f":"ASIN!F1091","v":0}]
[{"$f":"ASIN!A1092","v":0},{"$f":"ASIN!B1092","v":0},{"$f":"ASIN!C1092","v":0},{"$f":"ASIN!D1092","v":0},{"$f":"ASIN!E1092","v":0},{"$f":"ASIN!F1092","v":0}]
[{"$f":"ASIN!A1093","v":0},{"$f":"ASIN!B1093","v":0},{"$f":"ASIN!C1093","v":0},{"$f":"ASIN!D1093","v":0},{"$f":"ASIN!E1093","v":0},{"$f":"ASIN!F1093","v":0}]
[{"$f":"ASIN!A1094","v":0},{"$f":"ASIN!B1094","v":0},{"$f":"ASIN!C1094","v":0},{"$f":"ASIN!D1094","v":0},{"$f":"ASIN!E1094","v":0},{"$f":"ASIN!F1094","v":0}]
[{"$f":"ASIN!A1095","v":0},{"$f":"ASIN!B1095","v":0},{"$f":"ASIN!C1095","v":0},{"$f":"ASIN!D1095","v":0},{"$f":"ASIN!E1095","v":0},{"$f":"ASIN!F1095","v":0}]
[{"$f":"ASIN!A1096","v":0},{"$f":"ASIN!B1096","v":0},{"$f":"ASIN!C1096","v":0},{"$f":"ASIN!D1096","v":0},{"$f":"ASIN!E1096","v":0},{"$f":"ASIN!F1096","v":0}]
[{"$f":"ASIN!A1097","v":0},{"$f":"ASIN!B1097","v":0},{"$f":"ASIN!C1097","v":0},{"$f":"ASIN!D1097","v":0},{"$f":"ASIN!E1097","v":0},{"$f":"ASIN!F1097","v":0}]
[{"$f":"ASIN!A1098","v":0},{"$f":"ASIN!B1098","v":0},{"$f":"ASIN!C1098","v":0},{"$f":"ASIN!D1098","v":0},{"$f":"ASIN!E1098","v":0},{"$f":"ASIN!F1098","v":0}]
[{"$f":"ASIN!A1099","v":0},{"$f":"ASIN!B1099","v":0},{"$f":"ASIN!C1099","v":0},{"$f":"ASIN!D1099","v":0},{"$f":"ASIN!E1099","v":0},{"$f":"ASIN!F1099","v":0}]
[{"$f":"ASIN!A1100","v":0},{"$f":"ASIN!B1100","v":0},{"$f":"ASIN!C1100","v":0},{"$f":"ASIN!D1100","v":0},{"$f":"ASIN!E1100","v":0},{"$f":"ASIN!F1100","v":0}]
[{"$f":"ASIN!A1101","v":0},{"$f":"ASIN!B1101","v":0},{"$f":"ASIN!C1101","v":0},{"$f":"ASIN!D1101","v":0},{"$f":"ASIN!E1101","v":0},{"$f":"ASIN!F1101","v":0}]
[{"$f":"ASIN!A1102","v":0},{"$f":"ASIN!B1102","v":0},{"$f":"ASIN!C1102","v":0},{"$f":"ASIN!D1102","v":0},{"$f":"ASIN!E1102","v":0},{"$f":"ASIN!F1102","v":0}]
[{"$f":"ASIN!A1103","v":0},{"$f":"ASIN!B1103","v":0},{"$f":"ASIN!C1103","v":0},{"$f":"ASIN!D1103","v":0},{"$f":"ASIN!E1103","v":0},{"$f":"ASIN!F1103","v":0}]
[{"$f":"ASIN!A1104","v":0},{"$f":"ASIN!B1104","v":0},{"$f":"ASIN!C1104","v":0},{"$f":"ASIN!D1104","v":0},{"$f":"ASIN!E1104","v":0},{"$f":"ASIN!F1104","v":0}]
[{"$f":"ASIN!A1105","v":0},{"$f":"ASIN!B1105","v":0},{"$f":"ASIN!C1105","v":0},{"$f":"ASIN!D1105","v":0},{"$f":"ASIN!E1105","v":0},{"$f":"ASIN!F1105","v":0}]
[{"$f":"ASIN!A1106","v":0},{"$f":"ASIN!B1106","v":0},{"$f":"ASIN!C1106","v":0},{"$f":"ASIN!D1106","v":0},{"$f":"ASIN!E1106","v":0},{"$f":"ASIN!F1106","v":0}]
[{"$f":"ASIN!A1107","v":0},{"$f":"ASIN!B1107","v":0},{"$f":"ASIN!C1107","v":0},{"$f":"ASIN!D1107","v":0},{"$f":"ASIN!E1107","v":0},{"$f":"ASIN!F1107","v":0}]
[{"$f":"ASIN!A1108","v":0},{"$f":"ASIN!B1108","v":0},{"$f":"ASIN!C1108","v":0},{"$f":"ASIN!D1108","v":0},{"$f":"ASIN!E1108","v":0},{"$f":"ASIN!F1108","v":0}]
[{"$f":"ASIN!A1109","v":0},{"$f":"ASIN!B1109","v":0},{"$f":"ASIN!C1109","v":0},{"$f":"ASIN!D1109","v":0},{"$f":"ASIN!E1109","v":0},{"$f":"ASIN!F1109","v":0}]
[{"$f":"ASIN!A1110","v":0},{"$f":"ASIN!B1110","v":0},{"$f":"ASIN!C1110","v":0},{"$f":"ASIN!D1110","v":0},{"$f":"ASIN!E1110","v":0},{"$f":"ASIN!F1110","v":0}]
[{"$f":"ASIN!A1111","v":0},{"$f":"ASIN!B1111","v":0},{"$f":"ASIN!C1111","v":0},{"$f":"ASIN!D1111","v":0},{"$f":"ASIN!E1111","v":0},{"$f":"ASIN!F1111","v":0}]
[{"$f":"ASIN!A1112","v":0},{"$f":"ASIN!B1112","v":0},{"$f":"ASIN!C1112","v":0},{"$f":"ASIN!D1112","v":0},{"$f":"ASIN!E1112","v":0},{"$f":"ASIN!F1112","v":0}]
[{"$f":"ASIN!A1113","v":0},{"$f":"ASIN!B1113","v":0},{"$f":"ASIN!C1113","v":0},{"$f":"ASIN!D1113","v":0},{"$f":"ASIN!E1113","v":0},{"$f":"ASIN!F1113","v":0}]
[{"$f":"ASIN!A1114","v":0},{"$f":"ASIN!B1114","v":0},{"$f":"ASIN!C1114","v":0},{"$f":"ASIN!D1114","v":0},{"$f":"ASIN!E1114","v":0},{"$f":"ASIN!F1114","v":0}]
[{"$f":"ASIN!A1115","v":0},{"$f":"ASIN!B1115","v":0},{"$f":"ASIN!C1115","v":0},{"$f":"ASIN!D1115","v":0},{"$f":"ASIN!E1115","v":0},{"$f":"ASIN!F1115","v":0}]
[{"$f":"ASIN!A1116","v":0},{"$f":"ASIN!B1116","v":0},{"$f":"ASIN!C1116","v":0},{"$f":"ASIN!D1116","v":0},{"$f":"ASIN!E1116","v":0},{"$f":"ASIN!F1116","v":0}]
[{"$f":"ASIN!A1117","v":0},{"$f":"ASIN!B1117","v":0},{"$f":"ASIN!C1117","v":0},{"$f":"ASIN!D1117","v":0},{"$f":"ASIN!E1117","v":0},{"$f":"ASIN!F1117","v":0}]
[{"$f":"ASIN!A1118","v":0},{"$f":"ASIN!B1118","v":0},{"$f":"ASIN!C1118","v":0},{"$f":"ASIN!D1118","v":0},{"$f":"ASIN!E1118","v":0},{"$f":"ASIN!F1118","v":0}]
[{"$f":"ASIN!A1119","v":0},{"$f":"ASIN!B1119","v":0},{"$f":"ASIN!C1119","v":0},{"$f":"ASIN!D1119","v":0},{"$f":"ASIN!E1119","v":0},{"$f":"ASIN!F1119","v":0}]
[{"$f":"ASIN!A1120","v":0},{"$f":"ASIN!B1120","v":0},{"$f":"ASIN!C1120","v":0},{"$f":"ASIN!D1120","v":0},{"$f":"ASIN!E1120","v":0},{"$f":"ASIN!F1120","v":0}]
[{"$f":"ASIN!A1121","v":0},{"$f":"ASIN!B1121","v":0},{"$f":"ASIN!C1121","v":0},{"$f":"ASIN!D1121","v":0},{"$f":"ASIN!E1121","v":0},{"$f":"ASIN!F1121","v":0}]
[{"$f":"ASIN!A1122","v":0},{"$f":"ASIN!B1122","v":0},{"$f":"ASIN!C1122","v":0},{"$f":"ASIN!D1122","v":0},{"$f":"ASIN!E1122","v":0},{"$f":"ASIN!F1122","v":0}]
[{"$f":"ASIN!A1123","v":0},{"$f":"ASIN!B1123","v":0},{"$f":"ASIN!C1123","v":0},{"$f":"ASIN!D1123","v":0},{"$f":"ASIN!E1123","v":0},{"$f":"ASIN!F1123","v":0}]
[{"$f":"ASIN!A1124","v":0},{"$f":"ASIN!B1124","v":0},{"$f":"ASIN!C1124","v":0},{"$f":"ASIN!D1124","v":0},{"$f":"ASIN!E1124","v":0},{"$f":"ASIN!F1124","v":0}]
[{"$f":"ASIN!A1125","v":0},{"$f":"ASIN!B1125","v":0},{"$f":"ASIN!C1125","v":0},{"$f":"ASIN!D1125","v":0},{"$f":"ASIN!E1125","v":0},{"$f":"ASIN!F1125","v":0}]
[{"$f":"ASIN!A1126","v":0},{"$f":"ASIN!B1126","v":0},{"$f":"ASIN!C1126","v":0},{"$f":"ASIN!D1126","v":0},{"$f":"ASIN!E1126","v":0},{"$f":"ASIN!F1126","v":0}]
[{"$f":"ASIN!A1127","v":0},{"$f":"ASIN!B1127","v":0},{"$f":"ASIN!C1127","v":0},{"$f":"ASIN!D1127","v":0},{"$f":"ASIN!E1127","v":0},{"$f":"ASIN!F1127","v":0}]
[{"$f":"ASIN!A1128","v":0},{"$f":"ASIN!B1128","v":0},{"$f":"ASIN!C1128","v":0},{"$f":"ASIN!D1128","v":0},{"$f":"ASIN!E1128","v":0},{"$f":"ASIN!F1128","v":0}]
[{"$f":"ASIN!A1129","v":0},{"$f":"ASIN!B1129","v":0},{"$f":"ASIN!C1129","v":0},{"$f":"ASIN!D1129","v":0},{"$f":"ASIN!E1129","v":0},{"$f":"ASIN!F1129","v":0}]
[{"$f":"ASIN!A1130","v":0},{"$f":"ASIN!B1130","v":0},{"$f":"ASIN!C1130","v":0},{"$f":"ASIN!D1130","v":0},{"$f":"ASIN!E1130","v":0},{"$f":"ASIN!F1130","v":0}]
[{"$f":"ASIN!A1131","v":0},{"$f":"ASIN!B1131","v":0},{"$f":"ASIN!C1131","v":0},{"$f":"ASIN!D1131","v":0},{"$f":"ASIN!E1131","v":0},{"$f":"ASIN!F1131","v":0}]
[{"$f":"ASIN!A1132","v":0},{"$f":"ASIN!B1132","v":0},{"$f":"ASIN!C1132","v":0},{"$f":"ASIN!D1132","v":0},{"$f":"ASIN!E1132","v":0},{"$f":"ASIN!F1132","v":0}]
[{"$f":"ASIN!A1133","v":0},{"$f":"ASIN!B1133","v":0},{"$f":"ASIN!C1133","v":0},{"$f":"ASIN!D1133","v":0},{"$f":"ASIN!E1133","v":0},{"$f":"ASIN!F1133","v":0}]
[{"$f":"ASIN!A1134","v":0},{"$f":"ASIN!B1134","v":0},{"$f":"ASIN!C1134","v":0},{"$f":"ASIN!D1134","v":0},{"$f":"ASIN!E1134","v":0},{"$f":"ASIN!F1134","v":0}]
[{"$f":"ASIN!A1135","v":0},{"$f":"ASIN!B1135","v":0},{"$f":"ASIN!C1135","v":0},{"$f":"ASIN!D1135","v":0},{"$f":"ASIN!E1135","v":0},{"$f":"ASIN!F1135","v":0}]
[{"$f":"ASIN!A1136","v":0},{"$f":"ASIN!B1136","v":0},{"$f":"ASIN!C1136","v":0},{"$f":"ASIN!D1136","v":0},{"$f":"ASIN!E1136","v":0},{"$f":"ASIN!F1136","v":0}]
[{"$f":"ASIN!A1137","v":0},{"$f":"ASIN!B1137","v":0},{"$f":"ASIN!C1137","v":0},{"$f":"ASIN!D1137","v":0},{"$f":"ASIN!E1137","v":0},{"$f":"ASIN!F1137","v":0}]
[{"$f":"ASIN!A1138","v":0},{"$f":"ASIN!B1138","v":0},{"$f":"ASIN!C1138","v":0},{"$f":"ASIN!D1138","v":0},{"$f":"ASIN!E1138","v":0},{"$f":"ASIN!F1138","v":0}]
[{"$f":"ASIN!A1139","v":0},{"$f":"ASIN!B1139","v":0},{"$f":"ASIN!C1139","v":0},{"$f":"ASIN!D1139","v":0},{"$f":"ASIN!E1139","v":0},{"$f":"ASIN!F1139","v":0}]
[{"$f":"ASIN!A1140","v":0},{"$f":"ASIN!B1140","v":0},{"$f":"ASIN!C1140","v":0},{"$f":"ASIN!D1140","v":0},{"$f":"ASIN!E1140","v":0},{"$f":"ASIN!F1140","v":0}]
[{"$f":"ASIN!A1141","v":0},{"$f":"ASIN!B1141","v":0},{"$f":"ASIN!C1141","v":0},{"$f":"ASIN!D1141","v":0},{"$f":"ASIN!E1141","v":0},{"$f":"ASIN!F1141","v":0}]
[{"$f":"ASIN!A1142","v":0},{"$f":"ASIN!B1142","v":0},{"$f":"ASIN!C1142","v":0},{"$f":"ASIN!D1142","v":0},{"$f":"ASIN!E1142","v":0},{"$f":"ASIN!F1142","v":0}]
[{"$f":"ASIN!A1143","v":0},{"$f":"ASIN!B1143","v":0},{"$f":"ASIN!C1143","v":0},{"$f":"ASIN!D1143","v":0},{"$f":"ASIN!E1143","v":0},{"$f":"ASIN!F1143","v":0}]
[{"$f":"ASIN!A1144","v":0},{"$f":"ASIN!B1144","v":0},{"$f":"ASIN!C1144","v":0},{"$f":"ASIN!D1144","v":0},{"$f":"ASIN!E1144","v":0},{"$f":"ASIN!F1144","v":0}]
[{"$f":"ASIN!A1145","v":0},{"$f":"ASIN!B1145","v":0},{"$f":"ASIN!C1145","v":0},{"$f":"ASIN!D1145","v":0},{"$f":"ASIN!E1145","v":0},{"$f":"ASIN!F1145","v":0}]
[{"$f":"ASIN!A1146","v":0},{"$f":"ASIN!B1146","v":0},{"$f":"ASIN!C1146","v":0},{"$f":"ASIN!D1146","v":0},{"$f":"ASIN!E1146","v":0},{"$f":"ASIN!F1146","v":0}]
[{"$f":"ASIN!A1147","v":0},{"$f":"ASIN!B1147","v":0},{"$f":"ASIN!C1147","v":0},{"$f":"ASIN!D1147","v":0},{"$f":"ASIN!E1147","v":0},{"$f":"ASIN!F1147","v":0}]
[{"$f":"ASIN!A1148","v":0},{"$f":"ASIN!B1148","v":0},{"$f":"ASIN!C1148","v":0},{"$f":"ASIN!D1148","v":0},{"$f":"ASIN!E1148","v":0},{"$f":"ASIN!F1148","v":0}]
[{"$f":"ASIN!A1149","v":0},{"$f":"ASIN!B1149","v":0},{"$f":"ASIN!C1149","v":0},{"$f":"ASIN!D1149","v":0},{"$f":"ASIN!E1149","v":0},{"$f":"ASIN!F1149","v":0}]
[{"$f":"ASIN!A1150","v":0},{"$f":"ASIN!B1150","v":0},{"$f":"ASIN!C1150","v":0},{"$f":"ASIN!D1150","v":0},{"$f":"ASIN!E1150","v":0},{"$f":"ASIN!F1150","v":0}]
[{"$f":"ASIN!A1151","v":0},{"$f":"ASIN!B1151","v":0},{"$f":"ASIN!C1151","v":0},{"$f":"ASIN!D1151","v":0},{"$f":"ASIN!E1151","v":0},{"$f":"ASIN!F1151","v":0}]
[{"$f":"ASIN!A1152","v":0},{"$f":"ASIN!B1152","v":0},{"$f":"ASIN!C1152","v":0},{"$f":"ASIN!D1152","v":0},{"$f":"ASIN!E1152","v":0},{"$f":"ASIN!F1152","v":0}]
[{"$f":"ASIN!A1153","v":0},{"$f":"ASIN!B1153","v":0},{"$f":"ASIN!C1153","v":0},{"$f":"ASIN!D1153","v":0},{"$f":"ASIN!E1153","v":0},{"$f":"ASIN!F1153","v":0}]
[{"$f":"ASIN!A1154","v":0},{"$f":"ASIN!B1154","v":0},{"$f":"ASIN!C1154","v":0},{"$f":"ASIN!D1154","v":0},{"$f":"ASIN!E1154","v":0},{"$f":"ASIN!F1154","v":0}]
[{"$f":"ASIN!A1155","v":0},{"$f":"ASIN!B1155","v":0},{"$f":"ASIN!C1155","v":0},{"$f":"ASIN!D1155","v":0},{"$f":"ASIN!E1155","v":0},{"$f":"ASIN!F1155","v":0}]
[{"$f":"ASIN!A1156","v":0},{"$f":"ASIN!B1156","v":0},{"$f":"ASIN!C1156","v":0},{"$f":"ASIN!D1156","v":0},{"$f":"ASIN!E1156","v":0},{"$f":"ASIN!F1156","v":0}]
[{"$f":"ASIN!A1157","v":0},{"$f":"ASIN!B1157","v":0},{"$f":"ASIN!C1157","v":0},{"$f":"ASIN!D1157","v":0},{"$f":"ASIN!E1157","v":0},{"$f":"ASIN!F1157","v":0}]
[{"$f":"ASIN!A1158","v":0},{"$f":"ASIN!B1158","v":0},{"$f":"ASIN!C1158","v":0},{"$f":"ASIN!D1158","v":0},{"$f":"ASIN!E1158","v":0},{"$f":"ASIN!F1158","v":0}]
[{"$f":"ASIN!A1159","v":0},{"$f":"ASIN!B1159","v":0},{"$f":"ASIN!C1159","v":0},{"$f":"ASIN!D1159","v":0},{"$f":"ASIN!E1159","v":0},{"$f":"ASIN!F1159","v":0}]
[{"$f":"ASIN!A1160","v":0},{"$f":"ASIN!B1160","v":0},{"$f":"ASIN!C1160","v":0},{"$f":"ASIN!D1160","v":0},{"$f":"ASIN!E1160","v":0},{"$f":"ASIN!F1160","v":0}]
[{"$f":"ASIN!A1161","v":0},{"$f":"ASIN!B1161","v":0},{"$f":"ASIN!C1161","v":0},{"$f":"ASIN!D1161","v":0},{"$f":"ASIN!E1161","v":0},{"$f":"ASIN!F1161","v":0}]
[{"$f":"ASIN!A1162","v":0},{"$f":"ASIN!B1162","v":0},{"$f":"ASIN!C1162","v":0},{"$f":"ASIN!D1162","v":0},{"$f":"ASIN!E1162","v":0},{"$f":"ASIN!F1162","v":0}]
[{"$f":"ASIN!A1163","v":0},{"$f":"ASIN!B1163","v":0},{"$f":"ASIN!C1163","v":0},{"$f":"ASIN!D1163","v":0},{"$f":"ASIN!E1163","v":0},{"$f":"ASIN!F1163","v":0}]
[{"$f":"ASIN!A1164","v":0},{"$f":"ASIN!B1164","v":0},{"$f":"ASIN!C1164","v":0},{"$f":"ASIN!D1164","v":0},{"$f":"ASIN!E1164","v":0},{"$f":"ASIN!F1164","v":0}]
[{"$f":"ASIN!A1165","v":0},{"$f":"ASIN!B1165","v":0},{"$f":"ASIN!C1165","v":0},{"$f":"ASIN!D1165","v":0},{"$f":"ASIN!E1165","v":0},{"$f":"ASIN!F1165","v":0}]
[{"$f":"ASIN!A1166","v":0},{"$f":"ASIN!B1166","v":0},{"$f":"ASIN!C1166","v":0},{"$f":"ASIN!D1166","v":0},{"$f":"ASIN!E1166","v":0},{"$f":"ASIN!F1166","v":0}]
[{"$f":"ASIN!A1167","v":0},{"$f":"ASIN!B1167","v":0},{"$f":"ASIN!C1167","v":0},{"$f":"ASIN!D1167","v":0},{"$f":"ASIN!E1167","v":0},{"$f":"ASIN!F1167","v":0}]
[{"$f":"ASIN!A1168","v":0},{"$f":"ASIN!B1168","v":0},{"$f":"ASIN!C1168","v":0},{"$f":"ASIN!D1168","v":0},{"$f":"ASIN!E1168","v":0},{"$f":"ASIN!F1168","v":0}]
[{"$f":"ASIN!A1169","v":0},{"$f":"ASIN!B1169","v":0},{"$f":"ASIN!C1169","v":0},{"$f":"ASIN!D1169","v":0},{"$f":"ASIN!E1169","v":0},{"$f":"ASIN!F1169","v":0}]
[{"$f":"ASIN!A1170","v":0},{"$f":"ASIN!B1170","v":0},{"$f":"ASIN!C1170","v":0},{"$f":"ASIN!D1170","v":0},{"$f":"ASIN!E1170","v":0},{"$f":"ASIN!F1170","v":0}]
[{"$f":"ASIN!A1171","v":0},{"$f":"ASIN!B1171","v":0},{"$f":"ASIN!C1171","v":0},{"$f":"ASIN!D1171","v":0},{"$f":"ASIN!E1171","v":0},{"$f":"ASIN!F1171","v":0}]
[{"$f":"ASIN!A1172","v":0},{"$f":"ASIN!B1172","v":0},{"$f":"ASIN!C1172","v":0},{"$f":"ASIN!D1172","v":0},{"$f":"ASIN!E1172","v":0},{"$f":"ASIN!F1172","v":0}]
[{"$f":"ASIN!A1173","v":0},{"$f":"ASIN!B1173","v":0},{"$f":"ASIN!C1173","v":0},{"$f":"ASIN!D1173","v":0},{"$f":"ASIN!E1173","v":0},{"$f":"ASIN!F1173","v":0}]
[{"$f":"ASIN!A1174","v":0},{"$f":"ASIN!B1174","v":0},{"$f":"ASIN!C1174","v":0},{"$f":"ASIN!D1174","v":0},{"$f":"ASIN!E1174","v":0},{"$f":"ASIN!F1174","v":0}]
[{"$f":"ASIN!A1175","v":0},{"$f":"ASIN!B1175","v":0},{"$f":"ASIN!C1175","v":0},{"$f":"ASIN!D1175","v":0},{"$f":"ASIN!E1175","v":0},{"$f":"ASIN!F1175","v":0}]
[{"$f":"ASIN!A1176","v":0},{"$f":"ASIN!B1176","v":0},{"$f":"ASIN!C1176","v":0},{"$f":"ASIN!D1176","v":0},{"$f":"ASIN!E1176","v":0},{"$f":"ASIN!F1176","v":0}]
[{"$f":"ASIN!A1177","v":0},{"$f":"ASIN!B1177","v":0},{"$f":"ASIN!C1177","v":0},{"$f":"ASIN!D1177","v":0},{"$f":"ASIN!E1177","v":0},{"$f":"ASIN!F1177","v":0}]
[{"$f":"ASIN!A1178","v":0},{"$f":"ASIN!B1178","v":0},{"$f":"ASIN!C1178","v":0},{"$f":"ASIN!D1178","v":0},{"$f":"ASIN!E1178","v":0},{"$f":"ASIN!F1178","v":0}]
[{"$f":"ASIN!A1179","v":0},{"$f":"ASIN!B1179","v":0},{"$f":"ASIN!C1179","v":0},{"$f":"ASIN!D1179","v":0},{"$f":"ASIN!E1179","v":0},{"$f":"ASIN!F1179","v":0}]
[{"$f":"ASIN!A1180","v":0},{"$f":"ASIN!B1180","v":0},{"$f":"ASIN!C1180","v":0},{"$f":"ASIN!D1180","v":0},{"$f":"ASIN!E1180","v":0},{"$f":"ASIN!F1180","v":0}]
[{"$f":"ASIN!A1181","v":0},{"$f":"ASIN!B1181","v":0},{"$f":"ASIN!C1181","v":0},{"$f":"ASIN!D1181","v":0},{"$f":"ASIN!E1181","v":0},{"$f":"ASIN!F1181","v":0}]
[{"$f":"ASIN!A1182","v":0},{"$f":"ASIN!B1182","v":0},{"$f":"ASIN!C1182","v":0},{"$f":"ASIN!D1182","v":0},{"$f":"ASIN!E1182","v":0},{"$f":"ASIN!F1182","v":0}]
[{"$f":"ASIN!A1183","v":0},{"$f":"ASIN!B1183","v":0},{"$f":"ASIN!C1183","v":0},{"$f":"ASIN!D1183","v":0},{"$f":"ASIN!E1183","v":0},{"$f":"ASIN!F1183","v":0}]
[{"$f":"ASIN!A1184","v":0},{"$f":"ASIN!B1184","v":0},{"$f":"ASIN!C1184","v":0},{"$f":"ASIN!D1184","v":0},{"$f":"ASIN!E1184","v":0},{"$f":"ASIN!F1184","v":0}]
[{"$f":"ASIN!A1185","v":0},{"$f":"ASIN!B1185","v":0},{"$f":"ASIN!C1185","v":0},{"$f":"ASIN!D1185","v":0},{"$f":"ASIN!E1185","v":0},{"$f":"ASIN!F1185","v":0}]
[{"$f":"ASIN!A1186","v":0},{"$f":"ASIN!B1186","v":0},{"$f":"ASIN!C1186","v":0},{"$f":"ASIN!D1186","v":0},{"$f":"ASIN!E1186","v":0},{"$f":"ASIN!F1186","v":0}]
[{"$f":"ASIN!A1187","v":0},{"$f":"ASIN!B1187","v":0},{"$f":"ASIN!C1187","v":0},{"$f":"ASIN!D1187","v":0},{"$f":"ASIN!E1187","v":0},{"$f":"ASIN!F1187","v":0}]
[{"$f":"ASIN!A1188","v":0},{"$f":"ASIN!B1188","v":0},{"$f":"ASIN!C1188","v":0},{"$f":"ASIN!D1188","v":0},{"$f":"ASIN!E1188","v":0},{"$f":"ASIN!F1188","v":0}]
[{"$f":"ASIN!A1189","v":0},{"$f":"ASIN!B1189","v":0},{"$f":"ASIN!C1189","v":0},{"$f":"ASIN!D1189","v":0},{"$f":"ASIN!E1189","v":0},{"$f":"ASIN!F1189","v":0}]
[{"$f":"ASIN!A1190","v":0},{"$f":"ASIN!B1190","v":0},{"$f":"ASIN!C1190","v":0},{"$f":"ASIN!D1190","v":0},{"$f":"ASIN!E1190","v":0},{"$f":"ASIN!F1190","v":0}]
[{"$f":"ASIN!A1191","v":0},{"$f":"ASIN!B1191","v":0},{"$f":"ASIN!C1191","v":0},{"$f":"ASIN!D1191","v":0},{"$f":"ASIN!E1191","v":0},{"$f":"ASIN!F1191","v":0}]
[{"$f":"ASIN!A1192","v":0},{"$f":"ASIN!B1192","v":0},{"$f":"ASIN!C1192","v":0},{"$f":"ASIN!D1192","v":0},{"$f":"ASIN!E1192","v":0},{"$f":"ASIN!F1192","v":0}]
[{"$f":"ASIN!A1193","v":0},{"$f":"ASIN!B1193","v":0},{"$f":"ASIN!C1193","v":0},{"$f":"ASIN!D1193","v":0},{"$f":"ASIN!E1193","v":0},{"$f":"ASIN!F1193","v":0}]
[{"$f":"ASIN!A1194","v":0},{"$f":"ASIN!B1194","v":0},{"$f":"ASIN!C1194","v":0},{"$f":"ASIN!D1194","v":0},{"$f":"ASIN!E1194","v":0},{"$f":"ASIN!F1194","v":0}]
[{"$f":"ASIN!A1195","v":0},{"$f":"ASIN!B1195","v":0},{"$f":"ASIN!C1195","v":0},{"$f":"ASIN!D1195","v":0},{"$f":"ASIN!E1195","v":0},{"$f":"ASIN!F1195","v":0}]
[{"$f":"ASIN!A1196","v":0},{"$f":"ASIN!B1196","v":0},{"$f":"ASIN!C1196","v":0},{"$f":"ASIN!D1196","v":0},{"$f":"ASIN!E1196","v":0},{"$f":"ASIN!F1196","v":0}]
[{"$f":"ASIN!A1197","v":0},{"$f":"ASIN!B1197","v":0},{"$f":"ASIN!C1197","v":0},{"$f":"ASIN!D1197","v":0},{"$f":"ASIN!E1197","v":0},{"$f":"ASIN!F1197","v":0}]
[{"$f":"ASIN!A1198","v":0},{"$f":"ASIN!B1198","v":0},{"$f":"ASIN!C1198","v":0},{"$f":"ASIN!D1198","v":0},{"$f":"ASIN!E1198","v":0},{"$f":"ASIN!F1198","v":0}]
[{"$f":"ASIN!A1199","v":0},{"$f":"ASIN!B1199","v":0},{"$f":"ASIN!C1199","v":0},{"$f":"ASIN!D1199","v":0},{"$f":"ASIN!E1199","v":0},{"$f":"ASIN!F1199","v":0}]
[{"$f":"ASIN!A1200","v":0},{"$f":"ASIN!B1200","v":0},{"$f":"ASIN!C1200","v":0},{"$f":"ASIN!D1200","v":0},{"$f":"ASIN!E1200","v":0},{"$f":"ASIN!F1200","v":0}]
[{"$f":"ASIN!A1201","v":0},{"$f":"ASIN!B1201","v":0},{"$f":"ASIN!C1201","v":0},{"$f":"ASIN!D1201","v":0},{"$f":"ASIN!E1201","v":0},{"$f":"ASIN!F1201","v":0}]
[{"$f":"ASIN!A1202","v":0},{"$f":"ASIN!B1202","v":0},{"$f":"ASIN!C1202","v":0},{"$f":"ASIN!D1202","v":0},{"$f":"ASIN!E1202","v":0},{"$f":"ASIN!F1202","v":0}]
[{"$f":"ASIN!A1203","v":0},{"$f":"ASIN!B1203","v":0},{"$f":"ASIN!C1203","v":0},{"$f":"ASIN!D1203","v":0},{"$f":"ASIN!E1203","v":0},{"$f":"ASIN!F1203","v":0}]
[{"$f":"ASIN!A1204","v":0},{"$f":"ASIN!B1204","v":0},{"$f":"ASIN!C1204","v":0},{"$f":"ASIN!D1204","v":0},{"$f":"ASIN!E1204","v":0},{"$f":"ASIN!F1204","v":0}]
[{"$f":"ASIN!A1205","v":0},{"$f":"ASIN!B1205","v":0},{"$f":"ASIN!C1205","v":0},{"$f":"ASIN!D1205","v":0},{"$f":"ASIN!E1205","v":0},{"$f":"ASIN!F1205","v":0}]
[{"$f":"ASIN!A1206","v":0},{"$f":"ASIN!B1206","v":0},{"$f":"ASIN!C1206","v":0},{"$f":"ASIN!D1206","v":0},{"$f":"ASIN!E1206","v":0},{"$f":"ASIN!F1206","v":0}]
[{"$f":"ASIN!A1207","v":0},{"$f":"ASIN!B1207","v":0},{"$f":"ASIN!C1207","v":0},{"$f":"ASIN!D1207","v":0},{"$f":"ASIN!E1207","v":0},{"$f":"ASIN!F1207","v":0}]
[{"$f":"ASIN!A1208","v":0},{"$f":"ASIN!B1208","v":0},{"$f":"ASIN!C1208","v":0},{"$f":"ASIN!D1208","v":0},{"$f":"ASIN!E1208","v":0},{"$f":"ASIN!F1208","v":0}]
[{"$f":"ASIN!A1209","v":0},{"$f":"ASIN!B1209","v":0},{"$f":"ASIN!C1209","v":0},{"$f":"ASIN!D1209","v":0},{"$f":"ASIN!E1209","v":0},{"$f":"ASIN!F1209","v":0}]
[{"$f":"ASIN!A1210","v":0},{"$f":"ASIN!B1210","v":0},{"$f":"ASIN!C1210","v":0},{"$f":"ASIN!D1210","v":0},{"$f":"ASIN!E1210","v":0},{"$f":"ASIN!F1210","v":0}]
[{"$f":"ASIN!A1211","v":0},{"$f":"ASIN!B1211","v":0},{"$f":"ASIN!C1211","v":0},{"$f":"ASIN!D1211","v":0},{"$f":"ASIN!E1211","v":0},{"$f":"ASIN!F1211","v":0}]
[{"$f":"ASIN!A1212","v":0},{"$f":"ASIN!B1212","v":0},{"$f":"ASIN!C1212","v":0},{"$f":"ASIN!D1212","v":0},{"$f":"ASIN!E1212","v":0},{"$f":"ASIN!F1212","v":0}]
[{"$f":"ASIN!A1213","v":0},{"$f":"ASIN!B1213","v":0},{"$f":"ASIN!C1213","v":0},{"$f":"ASIN!D1213","v":0},{"$f":"ASIN!E1213","v":0},{"$f":"ASIN!F1213","v":0}]
[{"$f":"ASIN!A1214","v":0},{"$f":"ASIN!B1214","v":0},{"$f":"ASIN!C1214","v":0},{"$f":"ASIN!D1214","v":0},{"$f":"ASIN!E1214","v":0},{"$f":"ASIN!F1214","v":0}]
[{"$f":"ASIN!A1215","v":0},{"$f":"ASIN!B1215","v":0},{"$f":"ASIN!C1215","v":0},{"$f":"ASIN!D1215","v":0},{"$f":"ASIN!E1215","v":0},{"$f":"ASIN!F1215","v":0}]
[{"$f":"ASIN!A1216","v":0},{"$f":"ASIN!B1216","v":0},{"$f":"ASIN!C1216","v":0},{"$f":"ASIN!D1216","v":0},{"$f":"ASIN!E1216","v":0},{"$f":"ASIN!F1216","v":0}]
[{"$f":"ASIN!A1217","v":0},{"$f":"ASIN!B1217","v":0},{"$f":"ASIN!C1217","v":0},{"$f":"ASIN!D1217","v":0},{"$f":"ASIN!E1217","v":0},{"$f":"ASIN!F1217","v":0}]
[{"$f":"ASIN!A1218","v":0},{"$f":"ASIN!B1218","v":0},{"$f":"ASIN!C1218","v":0},{"$f":"ASIN!D1218","v":0},{"$f":"ASIN!E1218","v":0},{"$f":"ASIN!F1218","v":0}]
[{"$f":"ASIN!A1219","v":0},{"$f":"ASIN!B1219","v":0},{"$f":"ASIN!C1219","v":0},{"$f":"ASIN!D1219","v":0},{"$f":"ASIN!E1219","v":0},{"$f":"ASIN!F1219","v":0}]
[{"$f":"ASIN!A1220","v":0},{"$f":"ASIN!B1220","v":0},{"$f":"ASIN!C1220","v":0},{"$f":"ASIN!D1220","v":0},{"$f":"ASIN!E1220","v":0},{"$f":"ASIN!F1220","v":0}]
[{"$f":"ASIN!A1221","v":0},{"$f":"ASIN!B1221","v":0},{"$f":"ASIN!C1221","v":0},{"$f":"ASIN!D1221","v":0},{"$f":"ASIN!E1221","v":0},{"$f":"ASIN!F1221","v":0}]
[{"$f":"ASIN!A1222","v":0},{"$f":"ASIN!B1222","v":0},{"$f":"ASIN!C1222","v":0},{"$f":"ASIN!D1222","v":0},{"$f":"ASIN!E1222","v":0},{"$f":"ASIN!F1222","v":0}]
[{"$f":"ASIN!A1223","v":0},{"$f":"ASIN!B1223","v":0},{"$f":"ASIN!C1223","v":0},{"$f":"ASIN!D1223","v":0},{"$f":"ASIN!E1223","v":0},{"$f":"ASIN!F1223","v":0}]
[{"$f":"ASIN!A1224","v":0},{"$f":"ASIN!B1224","v":0},{"$f":"ASIN!C1224","v":0},{"$f":"ASIN!D1224","v":0},{"$f":"ASIN!E1224","v":0},{"$f":"ASIN!F1224","v":0}]
[{"$f":"ASIN!A1225","v":0},{"$f":"ASIN!B1225","v":0},{"$f":"ASIN!C1225","v":0},{"$f":"ASIN!D1225","v":0},{"$f":"ASIN!E1225","v":0},{"$f":"ASIN!F1225","v":0}]
[{"$f":"ASIN!A1226","v":0},{"$f":"ASIN!B1226","v":0},{"$f":"ASIN!C1226","v":0},{"$f":"ASIN!D1226","v":0},{"$f":"ASIN!E1226","v":0},{"$f":"ASIN!F1226","v":0}]
[{"$f":"ASIN!A1227","v":0},{"$f":"ASIN!B1227","v":0},{"$f":"ASIN!C1227","v":0},{"$f":"ASIN!D1227","v":0},{"$f":"ASIN!E1227","v":0},{"$f":"ASIN!F1227","v":0}]
[{"$f":"ASIN!A1228","v":0},{"$f":"ASIN!B1228","v":0},{"$f":"ASIN!C1228","v":0},{"$f":"ASIN!D1228","v":0},{"$f":"ASIN!E1228","v":0},{"$f":"ASIN!F1228","v":0}]
[{"$f":"ASIN!A1229","v":0},{"$f":"ASIN!B1229","v":0},{"$f":"ASIN!C1229","v":0},{"$f":"ASIN!D1229","v":0},{"$f":"ASIN!E1229","v":0},{"$f":"ASIN!F1229","v":0}]
[{"$f":"ASIN!A1230","v":0},{"$f":"ASIN!B1230","v":0},{"$f":"ASIN!C1230","v":0},{"$f":"ASIN!D1230","v":0},{"$f":"ASIN!E1230","v":0},{"$f":"ASIN!F1230","v":0}]
[{"$f":"ASIN!A1231","v":0},{"$f":"ASIN!B1231","v":0},{"$f":"ASIN!C1231","v":0},{"$f":"ASIN!D1231","v":0},{"$f":"ASIN!E1231","v":0},{"$f":"ASIN!F1231","v":0}]
[{"$f":"ASIN!A1232","v":0},{"$f":"ASIN!B1232","v":0},{"$f":"ASIN!C1232","v":0},{"$f":"ASIN!D1232","v":0},{"$f":"ASIN!E1232","v":0},{"$f":"ASIN!F1232","v":0}]
[{"$f":"ASIN!A1233","v":0},{"$f":"ASIN!B1233","v":0},{"$f":"ASIN!C1233","v":0},{"$f":"ASIN!D1233","v":0},{"$f":"ASIN!E1233","v":0},{"$f":"ASIN!F1233","v":0}]
[{"$f":"ASIN!A1234","v":0},{"$f":"ASIN!B1234","v":0},{"$f":"ASIN!C1234","v":0},{"$f":"ASIN!D1234","v":0},{"$f":"ASIN!E1234","v":0},{"$f":"ASIN!F1234","v":0}]
[{"$f":"ASIN!A1235","v":0},{"$f":"ASIN!B1235","v":0},{"$f":"ASIN!C1235","v":0},{"$f":"ASIN!D1235","v":0},{"$f":"ASIN!E1235","v":0},{"$f":"ASIN!F1235","v":0}]
[{"$f":"ASIN!A1236","v":0},{"$f":"ASIN!B1236","v":0},{"$f":"ASIN!C1236","v":0},{"$f":"ASIN!D1236","v":0},{"$f":"ASIN!E1236","v":0},{"$f":"ASIN!F1236","v":0}]
[{"$f":"ASIN!A1237","v":0},{"$f":"ASIN!B1237","v":0},{"$f":"ASIN!C1237","v":0},{"$f":"ASIN!D1237","v":0},{"$f":"ASIN!E1237","v":0},{"$f":"ASIN!F1237","v":0}]
[{"$f":"ASIN!A1238","v":0},{"$f":"ASIN!B1238","v":0},{"$f":"ASIN!C1238","v":0},{"$f":"ASIN!D1238","v":0},{"$f":"ASIN!E1238","v":0},{"$f":"ASIN!F1238","v":0}]
[{"$f":"ASIN!A1239","v":0},{"$f":"ASIN!B1239","v":0},{"$f":"ASIN!C1239","v":0},{"$f":"ASIN!D1239","v":0},{"$f":"ASIN!E1239","v":0},{"$f":"ASIN!F1239","v":0}]
[{"$f":"ASIN!A1240","v":0},{"$f":"ASIN!B1240","v":0},{"$f":"ASIN!C1240","v":0},{"$f":"ASIN!D1240","v":0},{"$f":"ASIN!E1240","v":0},{"$f":"ASIN!F1240","v":0}]
[{"$f":"ASIN!A1241","v":0},{"$f":"ASIN!B1241","v":0},{"$f":"ASIN!C1241","v":0},{"$f":"ASIN!D1241","v":0},{"$f":"ASIN!E1241","v":0},{"$f":"ASIN!F1241","v":0}]
[{"$f":"ASIN!A1242","v":0},{"$f":"ASIN!B1242","v":0},{"$f":"ASIN!C1242","v":0},{"$f":"ASIN!D1242","v":0},{"$f":"ASIN!E1242","v":0},{"$f":"ASIN!F1242","v":0}]
[{"$f":"ASIN!A1243","v":0},{"$f":"ASIN!B1243","v":0},{"$f":"ASIN!C1243","v":0},{"$f":"ASIN!D1243","v":0},{"$f":"ASIN!E1243","v":0},{"$f":"ASIN!F1243","v":0}]
[{"$f":"ASIN!A1244","v":0},{"$f":"ASIN!B1244","v":0},{"$f":"ASIN!C1244","v":0},{"$f":"ASIN!D1244","v":0},{"$f":"ASIN!E1244","v":0},{"$f":"ASIN!F1244","v":0}]
[{"$f":"ASIN!A1245","v":0},{"$f":"ASIN!B1245","v":0},{"$f":"ASIN!C1245","v":0},{"$f":"ASIN!D1245","v":0},{"$f":"ASIN!E1245","v":0},{"$f":"ASIN!F1245","v":0}]
[{"$f":"ASIN!A1246","v":0},{"$f":"ASIN!B1246","v":0},{"$f":"ASIN!C1246","v":0},{"$f":"ASIN!D1246","v":0},{"$f":"ASIN!E1246","v":0},{"$f":"ASIN!F1246","v":0}]
[{"$f":"ASIN!A1247","v":0},{"$f":"ASIN!B1247","v":0},{"$f":"ASIN!C1247","v":0},{"$f":"ASIN!D1247","v":0},{"$f":"ASIN!E1247","v":0},{"$f":"ASIN!F1247","v":0}]
[{"$f":"ASIN!A1248","v":0},{"$f":"ASIN!B1248","v":0},{"$f":"ASIN!C1248","v":0},{"$f":"ASIN!D1248","v":0},{"$f":"ASIN!E1248","v":0},{"$f":"ASIN!F1248","v":0}]
[{"$f":"ASIN!A1249","v":0},{"$f":"ASIN!B1249","v":0},{"$f":"ASIN!C1249","v":0},{"$f":"ASIN!D1249","v":0},{"$f":"ASIN!E1249","v":0},{"$f":"ASIN!F1249","v":0}]
[{"$f":"ASIN!A1250","v":0},{"$f":"ASIN!B1250","v":0},{"$f":"ASIN!C1250","v":0},{"$f":"ASIN!D1250","v":0},{"$f":"ASIN!E1250","v":0},{"$f":"ASIN!F1250","v":0}]
[{"$f":"ASIN!A1251","v":0},{"$f":"ASIN!B1251","v":0},{"$f":"ASIN!C1251","v":0},{"$f":"ASIN!D1251","v":0},{"$f":"ASIN!E1251","v":0},{"$f":"ASIN!F1251","v":0}]
[{"$f":"ASIN!A1252","v":0},{"$f":"ASIN!B1252","v":0},{"$f":"ASIN!C1252","v":0},{"$f":"ASIN!D1252","v":0},{"$f":"ASIN!E1252","v":0},{"$f":"ASIN!F1252","v":0}]
[{"$f":"ASIN!A1253","v":0},{"$f":"ASIN!B1253","v":0},{"$f":"ASIN!C1253","v":0},{"$f":"ASIN!D1253","v":0},{"$f":"ASIN!E1253","v":0},{"$f":"ASIN!F1253","v":0}]
[{"$f":"ASIN!A1254","v":0},{"$f":"ASIN!B1254","v":0},{"$f":"ASIN!C1254","v":0},{"$f":"ASIN!D1254","v":0},{"$f":"ASIN!E1254","v":0},{"$f":"ASIN!F1254","v":0}]
[{"$f":"ASIN!A1255","v":0},{"$f":"ASIN!B1255","v":0},{"$f":"ASIN!C1255","v":0},{"$f":"ASIN!D1255","v":0},{"$f":"ASIN!E1255","v":0},{"$f":"ASIN!F1255","v":0}]
[{"$f":"ASIN!A1256","v":0},{"$f":"ASIN!B1256","v":0},{"$f":"ASIN!C1256","v":0},{"$f":"ASIN!D1256","v":0},{"$f":"ASIN!E1256","v":0},{"$f":"ASIN!F1256","v":0}]
[{"$f":"ASIN!A1257","v":0},{"$f":"ASIN!B1257","v":0},{"$f":"ASIN!C1257","v":0},{"$f":"ASIN!D1257","v":0},{"$f":"ASIN!E1257","v":0},{"$f":"ASIN!F1257","v":0}]
[{"$f":"ASIN!A1258","v":0},{"$f":"ASIN!B1258","v":0},{"$f":"ASIN!C1258","v":0},{"$f":"ASIN!D1258","v":0},{"$f":"ASIN!E1258","v":0},{"$f":"ASIN!F1258","v":0}]
[{"$f":"ASIN!A1259","v":0},{"$f":"ASIN!B1259","v":0},{"$f":"ASIN!C1259","v":0},{"$f":"ASIN!D1259","v":0},{"$f":"ASIN!E1259","v":0},{"$f":"ASIN!F1259","v":0}]
[{"$f":"ASIN!A1260","v":0},{"$f":"ASIN!B1260","v":0},{"$f":"ASIN!C1260","v":0},{"$f":"ASIN!D1260","v":0},{"$f":"ASIN!E1260","v":0},{"$f":"ASIN!F1260","v":0}]
[{"$f":"ASIN!A1261","v":0},{"$f":"ASIN!B1261","v":0},{"$f":"ASIN!C1261","v":0},{"$f":"ASIN!D1261","v":0},{"$f":"ASIN!E1261","v":0},{"$f":"ASIN!F1261","v":0}]
[{"$f":"ASIN!A1262","v":0},{"$f":"ASIN!B1262","v":0},{"$f":"ASIN!C1262","v":0},{"$f":"ASIN!D1262","v":0},{"$f":"ASIN!E1262","v":0},{"$f":"ASIN!F1262","v":0}]
[{"$f":"ASIN!A1263","v":0},{"$f":"ASIN!B1263","v":0},{"$f":"ASIN!C1263","v":0},{"$f":"ASIN!D1263","v":0},{"$f":"ASIN!E1263","v":0},{"$f":"ASIN!F1263","v":0}]
[{"$f":"ASIN!A1264","v":0},{"$f":"ASIN!B1264","v":0},{"$f":"ASIN!C1264","v":0},{"$f":"ASIN!D1264","v":0},{"$f":"ASIN!E1264","v":0},{"$f":"ASIN!F1264","v":0}]
[{"$f":"ASIN!A1265","v":0},{"$f":"ASIN!B1265","v":0},{"$f":"ASIN!C1265","v":0},{"$f":"ASIN!D1265","v":0},{"$f":"ASIN!E1265","v":0},{"$f":"ASIN!F1265","v":0}]
[{"$f":"ASIN!A1266","v":0},{"$f":"ASIN!B1266","v":0},{"$f":"ASIN!C1266","v":0},{"$f":"ASIN!D1266","v":0},{"$f":"ASIN!E1266","v":0},{"$f":"ASIN!F1266","v":0}]
[{"$f":"ASIN!A1267","v":0},{"$f":"ASIN!B1267","v":0},{"$f":"ASIN!C1267","v":0},{"$f":"ASIN!D1267","v":0},{"$f":"ASIN!E1267","v":0},{"$f":"ASIN!F1267","v":0}]
[{"$f":"ASIN!A1268","v":0},{"$f":"ASIN!B1268","v":0},{"$f":"ASIN!C1268","v":0},{"$f":"ASIN!D1268","v":0},{"$f":"ASIN!E1268","v":0},{"$f":"ASIN!F1268","v":0}]
[{"$f":"ASIN!A1269","v":0},{"$f":"ASIN!B1269","v":0},{"$f":"ASIN!C1269","v":0},{"$f":"ASIN!D1269","v":0},{"$f":"ASIN!E1269","v":0},{"$f":"ASIN!F1269","v":0}]
[{"$f":"ASIN!A1270","v":0},{"$f":"ASIN!B1270","v":0},{"$f":"ASIN!C1270","v":0},{"$f":"ASIN!D1270","v":0},{"$f":"ASIN!E1270","v":0},{"$f":"ASIN!F1270","v":0}]
[{"$f":"ASIN!A1271","v":0},{"$f":"ASIN!B1271","v":0},{"$f":"ASIN!C1271","v":0},{"$f":"ASIN!D1271","v":0},{"$f":"ASIN!E1271","v":0},{"$f":"ASIN!F1271","v":0}]
[{"$f":"ASIN!A1272","v":0},{"$f":"ASIN!B1272","v":0},{"$f":"ASIN!C1272","v":0},{"$f":"ASIN!D1272","v":0},{"$f":"ASIN!E1272","v":0},{"$f":"ASIN!F1272","v":0}]
[{"$f":"ASIN!A1273","v":0},{"$f":"ASIN!B1273","v":0},{"$f":"ASIN!C1273","v":0},{"$f":"ASIN!D1273","v":0},{"$f":"ASIN!E1273","v":0},{"$f":"ASIN!F1273","v":0}]
[{"$f":"ASIN!A1274","v":0},{"$f":"ASIN!B1274","v":0},{"$f":"ASIN!C1274","v":0},{"$f":"ASIN!D1274","v":0},{"$f":"ASIN!E1274","v":0},{"$f":"ASIN!F1274","v":0}]
[{"$f":"ASIN!A1275","v":0},{"$f":"ASIN!B1275","v":0},{"$f":"ASIN!C1275","v":0},{"$f":"ASIN!D1275","v":0},{"$f":"ASIN!E1275","v":0},{"$f":"ASIN!F1275","v":0}]
[{"$f":"ASIN!A1276","v":0},{"$f":"ASIN!B1276","v":0},{"$f":"ASIN!C1276","v":0},{"$f":"ASIN!D1276","v":0},{"$f":"ASIN!E1276","v":0},{"$f":"ASIN!F1276","v":0}]
[{"$f":"ASIN!A1277","v":0},{"$f":"ASIN!B1277","v":0},{"$f":"ASIN!C1277","v":0},{"$f":"ASIN!D1277","v":0},{"$f":"ASIN!E1277","v":0},{"$f":"ASIN!F1277","v":0}]
[{"$f":"ASIN!A1278","v":0},{"$f":"ASIN!B1278","v":0},{"$f":"ASIN!C1278","v":0},{"$f":"ASIN!D1278","v":0},{"$f":"ASIN!E1278","v":0},{"$f":"ASIN!F1278","v":0}]
[{"$f":"ASIN!A1279","v":0},{"$f":"ASIN!B1279","v":0},{"$f":"ASIN!C1279","v":0},{"$f":"ASIN!D1279","v":0},{"$f":"ASIN!E1279","v":0},{"$f":"ASIN!F1279","v":0}]
[{"$f":"ASIN!A1280","v":0},{"$f":"ASIN!B1280","v":0},{"$f":"ASIN!C1280","v":0},{"$f":"ASIN!D1280","v":0},{"$f":"ASIN!E1280","v":0},{"$f":"ASIN!F1280","v":0}]
[{"$f":"ASIN!A1281","v":0},{"$f":"ASIN!B1281","v":0},{"$f":"ASIN!C1281","v":0},{"$f":"ASIN!D1281","v":0},{"$f":"ASIN!E1281","v":0},{"$f":"ASIN!F1281","v":0}]
[{"$f":"ASIN!A1282","v":0},{"$f":"ASIN!B1282","v":0},{"$f":"ASIN!C1282","v":0},{"$f":"ASIN!D1282","v":0},{"$f":"ASIN!E1282","v":0},{"$f":"ASIN!F1282","v":0}]
[{"$f":"ASIN!A1283","v":0},{"$f":"ASIN!B1283","v":0},{"$f":"ASIN!C1283","v":0},{"$f":"ASIN!D1283","v":0},{"$f":"ASIN!E1283","v":0},{"$f":"ASIN!F1283","v":0}]
[{"$f":"ASIN!A1284","v":0},{"$f":"ASIN!B1284","v":0},{"$f":"ASIN!C1284","v":0},{"$f":"ASIN!D1284","v":0},{"$f":"ASIN!E1284","v":0},{"$f":"ASIN!F1284","v":0}]
[{"$f":"ASIN!A1285","v":0},{"$f":"ASIN!B1285","v":0},{"$f":"ASIN!C1285","v":0},{"$f":"ASIN!D1285","v":0},{"$f":"ASIN!E1285","v":0},{"$f":"ASIN!F1285","v":0}]
[{"$f":"ASIN!A1286","v":0},{"$f":"ASIN!B1286","v":0},{"$f":"ASIN!C1286","v":0},{"$f":"ASIN!D1286","v":0},{"$f":"ASIN!E1286","v":0},{"$f":"ASIN!F1286","v":0}]
[{"$f":"ASIN!A1287","v":0},{"$f":"ASIN!B1287","v":0},{"$f":"ASIN!C1287","v":0},{"$f":"ASIN!D1287","v":0},{"$f":"ASIN!E1287","v":0},{"$f":"ASIN!F1287","v":0}]
[{"$f":"ASIN!A1288","v":0},{"$f":"ASIN!B1288","v":0},{"$f":"ASIN!C1288","v":0},{"$f":"ASIN!D1288","v":0},{"$f":"ASIN!E1288","v":0},{"$f":"ASIN!F1288","v":0}]
[{"$f":"ASIN!A1289","v":0},{"$f":"ASIN!B1289","v":0},{"$f":"ASIN!C1289","v":0},{"$f":"ASIN!D1289","v":0},{"$f":"ASIN!E1289","v":0},{"$f":"ASIN!F1289","v":0}]
[{"$f":"ASIN!A1290","v":0},{"$f":"ASIN!B1290","v":0},{"$f":"ASIN!C1290","v":0},{"$f":"ASIN!D1290","v":0},{"$f":"ASIN!E1290","v":0},{"$f":"ASIN!F1290","v":0}]
[{"$f":"ASIN!A1291","v":0},{"$f":"ASIN!B1291","v":0},{"$f":"ASIN!C1291","v":0},{"$f":"ASIN!D1291","v":0},{"$f":"ASIN!E1291","v":0},{"$f":"ASIN!F1291","v":0}]
[{"$f":"ASIN!A1292","v":0},{"$f":"ASIN!B1292","v":0},{"$f":"ASIN!C1292","v":0},{"$f":"ASIN!D1292","v":0},{"$f":"ASIN!E1292","v":0},{"$f":"ASIN!F1292","v":0}]
[{"$f":"ASIN!A1293","v":0},{"$f":"ASIN!B1293","v":0},{"$f":"ASIN!C1293","v":0},{"$f":"ASIN!D1293","v":0},{"$f":"ASIN!E1293","v":0},{"$f":"ASIN!F1293","v":0}]
[{"$f":"ASIN!A1294","v":0},{"$f":"ASIN!B1294","v":0},{"$f":"ASIN!C1294","v":0},{"$f":"ASIN!D1294","v":0},{"$f":"ASIN!E1294","v":0},{"$f":"ASIN!F1294","v":0}]
[{"$f":"ASIN!A1295","v":0},{"$f":"ASIN!B1295","v":0},{"$f":"ASIN!C1295","v":0},{"$f":"ASIN!D1295","v":0},{"$f":"ASIN!E1295","v":0},{"$f":"ASIN!F1295","v":0}]
[{"$f":"ASIN!A1296","v":0},{"$f":"ASIN!B1296","v":0},{"$f":"ASIN!C1296","v":0},{"$f":"ASIN!D1296","v":0},{"$f":"ASIN!E1296","v":0},{"$f":"ASIN!F1296","v":0}]
[{"$f":"ASIN!A1297","v":0},{"$f":"ASIN!B1297","v":0},{"$f":"ASIN!C1297","v":0},{"$f":"ASIN!D1297","v":0},{"$f":"ASIN!E1297","v":0},{"$f":"ASIN!F1297","v":0}]
[{"$f":"ASIN!A1298","v":0},{"$f":"ASIN!B1298","v":0},{"$f":"ASIN!C1298","v":0},{"$f":"ASIN!D1298","v":0},{"$f":"ASIN!E1298","v":0},{"$f":"ASIN!F1298","v":0}]
[{"$f":"ASIN!A1299","v":0},{"$f":"ASIN!B1299","v":0},{"$f":"ASIN!C1299","v":0},{"$f":"ASIN!D1299","v":0},{"$f":"ASIN!E1299","v":0},{"$f":"ASIN!F1299","v":0}]
[{"$f":"ASIN!A1300","v":0},{"$f":"ASIN!B1300","v":0},{"$f":"ASIN!C1300","v":0},{"$f":"ASIN!D1300","v":0},{"$f":"ASIN!E1300","v":0},{"$f":"ASIN!F1300","v":0}]
[{"$f":"ASIN!A1301","v":0},{"$f":"ASIN!B1301","v":0},{"$f":"ASIN!C1301","v":0},{"$f":"ASIN!D1301","v":0},{"$f":"ASIN!E1301","v":0},{"$f":"ASIN!F1301","v":0}]
[{"$f":"ASIN!A1302","v":0},{"$f":"ASIN!B1302","v":0},{"$f":"ASIN!C1302","v":0},{"$f":"ASIN!D1302","v":0},{"$f":"ASIN!E1302","v":0},{"$f":"ASIN!F1302","v":0}]
[{"$f":"ASIN!A1303","v":0},{"$f":"ASIN!B1303","v":0},{"$f":"ASIN!C1303","v":0},{"$f":"ASIN!D1303","v":0},{"$f":"ASIN!E1303","v":0},{"$f":"ASIN!F1303","v":0}]
[{"$f":"ASIN!A1304","v":0},{"$f":"ASIN!B1304","v":0},{"$f":"ASIN!C1304","v":0},{"$f":"ASIN!D1304","v":0},{"$f":"ASIN!E1304","v":0},{"$f":"ASIN!F1304","v":0}]
[{"$f":"ASIN!A1305","v":0},{"$f":"ASIN!B1305","v":0},{"$f":"ASIN!C1305","v":0},{"$f":"ASIN!D1305","v":0},{"$f":"ASIN!E1305","v":0},{"$f":"ASIN!F1305","v":0}]
[{"$f":"ASIN!A1306","v":0},{"$f":"ASIN!B1306","v":0},{"$f":"ASIN!C1306","v":0},{"$f":"ASIN!D1306","v":0},{"$f":"ASIN!E1306","v":0},{"$f":"ASIN!F1306","v":0}]
[{"$f":"ASIN!A1307","v":0},{"$f":"ASIN!B1307","v":0},{"$f":"ASIN!C1307","v":0},{"$f":"ASIN!D1307","v":0},{"$f":"ASIN!E1307","v":0},{"$f":"ASIN!F1307","v":0}]
[{"$f":"ASIN!A1308","v":0},{"$f":"ASIN!B1308","v":0},{"$f":"ASIN!C1308","v":0},{"$f":"ASIN!D1308","v":0},{"$f":"ASIN!E1308","v":0},{"$f":"ASIN!F1308","v":0}]
[{"$f":"ASIN!A1309","v":0},{"$f":"ASIN!B1309","v":0},{"$f":"ASIN!C1309","v":0},{"$f":"ASIN!D1309","v":0},{"$f":"ASIN!E1309","v":0},{"$f":"ASIN!F1309","v":0}]
[{"$f":"ASIN!A1310","v":0},{"$f":"ASIN!B1310","v":0},{"$f":"ASIN!C1310","v":0},{"$f":"ASIN!D1310","v":0},{"$f":"ASIN!E1310","v":0},{"$f":"ASIN!F1310","v":0}]
[{"$f":"ASIN!A1311","v":0},{"$f":"ASIN!B1311","v":0},{"$f":"ASIN!C1311","v":0},{"$f":"ASIN!D1311","v":0},{"$f":"ASIN!E1311","v":0},{"$f":"ASIN!F1311","v":0}]
[{"$f":"ASIN!A1312","v":0},{"$f":"ASIN!B1312","v":0},{"$f":"ASIN!C1312","v":0},{"$f":"ASIN!D1312","v":0},{"$f":"ASIN!E1312","v":0},{"$f":"ASIN!F1312","v":0}]
[{"$f":"ASIN!A1313","v":0},{"$f":"ASIN!B1313","v":0},{"$f":"ASIN!C1313","v":0},{"$f":"ASIN!D1313","v":0},{"$f":"ASIN!E1313","v":0},{"$f":"ASIN!F1313","v":0}]
[{"$f":"ASIN!A1314","v":0},{"$f":"ASIN!B1314","v":0},{"$f":"ASIN!C1314","v":0},{"$f":"ASIN!D1314","v":0},{"$f":"ASIN!E1314","v":0},{"$f":"ASIN!F1314","v":0}]
[{"$f":"ASIN!A1315","v":0},{"$f":"ASIN!B1315","v":0},{"$f":"ASIN!C1315","v":0},{"$f":"ASIN!D1315","v":0},{"$f":"ASIN!E1315","v":0},{"$f":"ASIN!F1315","v":0}]
[{"$f":"ASIN!A1316","v":0},{"$f":"ASIN!B1316","v":0},{"$f":"ASIN!C1316","v":0},{"$f":"ASIN!D1316","v":0},{"$f":"ASIN!E1316","v":0},{"$f":"ASIN!F1316","v":0}]
[{"$f":"ASIN!A1317","v":0},{"$f":"ASIN!B1317","v":0},{"$f":"ASIN!C1317","v":0},{"$f":"ASIN!D1317","v":0},{"$f":"ASIN!E1317","v":0},{"$f":"ASIN!F1317","v":0}]
[{"$f":"ASIN!A1318","v":0},{"$f":"ASIN!B1318","v":0},{"$f":"ASIN!C1318","v":0},{"$f":"ASIN!D1318","v":0},{"$f":"ASIN!E1318","v":0},{"$f":"ASIN!F1318","v":0}]
[{"$f":"ASIN!A1319","v":0},{"$f":"ASIN!B1319","v":0},{"$f":"ASIN!C1319","v":0},{"$f":"ASIN!D1319","v":0},{"$f":"ASIN!E1319","v":0},{"$f":"ASIN!F1319","v":0}]
[{"$f":"ASIN!A1320","v":0},{"$f":"ASIN!B1320","v":0},{"$f":"ASIN!C1320","v":0},{"$f":"ASIN!D1320","v":0},{"$f":"ASIN!E1320","v":0},{"$f":"ASIN!F1320","v":0}]
[{"$f":"ASIN!A1321","v":0},{"$f":"ASIN!B1321","v":0},{"$f":"ASIN!C1321","v":0},{"$f":"ASIN!D1321","v":0},{"$f":"ASIN!E1321","v":0},{"$f":"ASIN!F1321","v":0}]
[{"$f":"ASIN!A1322","v":0},{"$f":"ASIN!B1322","v":0},{"$f":"ASIN!C1322","v":0},{"$f":"ASIN!D1322","v":0},{"$f":"ASIN!E1322","v":0},{"$f":"ASIN!F1322","v":0}]
[{"$f":"ASIN!A1323","v":0},{"$f":"ASIN!B1323","v":0},{"$f":"ASIN!C1323","v":0},{"$f":"ASIN!D1323","v":0},{"$f":"ASIN!E1323","v":0},{"$f":"ASIN!F1323","v":0}]
[{"$f":"ASIN!A1324","v":0},{"$f":"ASIN!B1324","v":0},{"$f":"ASIN!C1324","v":0},{"$f":"ASIN!D1324","v":0},{"$f":"ASIN!E1324","v":0},{"$f":"ASIN!F1324","v":0}]
[{"$f":"ASIN!A1325","v":0},{"$f":"ASIN!B1325","v":0},{"$f":"ASIN!C1325","v":0},{"$f":"ASIN!D1325","v":0},{"$f":"ASIN!E1325","v":0},{"$f":"ASIN!F1325","v":0}]
[{"$f":"ASIN!A1326","v":0},{"$f":"ASIN!B1326","v":0},{"$f":"ASIN!C1326","v":0},{"$f":"ASIN!D1326","v":0},{"$f":"ASIN!E1326","v":0},{"$f":"ASIN!F1326","v":0}]
[{"$f":"ASIN!A1327","v":0},{"$f":"ASIN!B1327","v":0},{"$f":"ASIN!C1327","v":0},{"$f":"ASIN!D1327","v":0},{"$f":"ASIN!E1327","v":0},{"$f":"ASIN!F1327","v":0}]
[{"$f":"ASIN!A1328","v":0},{"$f":"ASIN!B1328","v":0},{"$f":"ASIN!C1328","v":0},{"$f":"ASIN!D1328","v":0},{"$f":"ASIN!E1328","v":0},{"$f":"ASIN!F1328","v":0}]
[{"$f":"ASIN!A1329","v":0},{"$f":"ASIN!B1329","v":0},{"$f":"ASIN!C1329","v":0},{"$f":"ASIN!D1329","v":0},{"$f":"ASIN!E1329","v":0},{"$f":"ASIN!F1329","v":0}]
[{"$f":"ASIN!A1330","v":0},{"$f":"ASIN!B1330","v":0},{"$f":"ASIN!C1330","v":0},{"$f":"ASIN!D1330","v":0},{"$f":"ASIN!E1330","v":0},{"$f":"ASIN!F1330","v":0}]
[{"$f":"ASIN!A1331","v":0},{"$f":"ASIN!B1331","v":0},{"$f":"ASIN!C1331","v":0},{"$f":"ASIN!D1331","v":0},{"$f":"ASIN!E1331","v":0},{"$f":"ASIN!F1331","v":0}]
[{"$f":"ASIN!A1332","v":0},{"$f":"ASIN!B1332","v":0},{"$f":"ASIN!C1332","v":0},{"$f":"ASIN!D1332","v":0},{"$f":"ASIN!E1332","v":0},{"$f":"ASIN!F1332","v":0}]
[{"$f":"ASIN!A1333","v":0},{"$f":"ASIN!B1333","v":0},{"$f":"ASIN!C1333","v":0},{"$f":"ASIN!D1333","v":0},{"$f":"ASIN!E1333","v":0},{"$f":"ASIN!F1333","v":0}]
[{"$f":"ASIN!A1334","v":0},{"$f":"ASIN!B1334","v":0},{"$f":"ASIN!C1334","v":0},{"$f":"ASIN!D1334","v":0},{"$f":"ASIN!E1334","v":0},{"$f":"ASIN!F1334","v":0}]
[{"$f":"ASIN!A1335","v":0},{"$f":"ASIN!B1335","v":0},{"$f":"ASIN!C1335","v":0},{"$f":"ASIN!D1335","v":0},{"$f":"ASIN!E1335","v":0},{"$f":"ASIN!F1335","v":0}]
[{"$f":"ASIN!A1336","v":0},{"$f":"ASIN!B1336","v":0},{"$f":"ASIN!C1336","v":0},{"$f":"ASIN!D1336","v":0},{"$f":"ASIN!E1336","v":0},{"$f":"ASIN!F1336","v":0}]
[{"$f":"ASIN!A1337","v":0},{"$f":"ASIN!B1337","v":0},{"$f":"ASIN!C1337","v":0},{"$f":"ASIN!D1337","v":0},{"$f":"ASIN!E1337","v":0},{"$f":"ASIN!F1337","v":0}]
[{"$f":"ASIN!A1338","v":0},{"$f":"ASIN!B1338","v":0},{"$f":"ASIN!C1338","v":0},{"$f":"ASIN!D1338","v":0},{"$f":"ASIN!E1338","v":0},{"$f":"ASIN!F1338","v":0}]
[{"$f":"ASIN!A1339","v":0},{"$f":"ASIN!B1339","v":0},{"$f":"ASIN!C1339","v":0},{"$f":"ASIN!D1339","v":0},{"$f":"ASIN!E1339","v":0},{"$f":"ASIN!F1339","v":0}]
[{"$f":"ASIN!A1340","v":0},{"$f":"ASIN!B1340","v":0},{"$f":"ASIN!C1340","v":0},{"$f":"ASIN!D1340","v":0},{"$f":"ASIN!E1340","v":0},{"$f":"ASIN!F1340","v":0}]
[{"$f":"ASIN!A1341","v":0},{"$f":"ASIN!B1341","v":0},{"$f":"ASIN!C1341","v":0},{"$f":"ASIN!D1341","v":0},{"$f":"ASIN!E1341","v":0},{"$f":"ASIN!F1341","v":0}]
[{"$f":"ASIN!A1342","v":0},{"$f":"ASIN!B1342","v":0},{"$f":"ASIN!C1342","v":0},{"$f":"ASIN!D1342","v":0},{"$f":"ASIN!E1342","v":0},{"$f":"ASIN!F1342","v":0}]
[{"$f":"ASIN!A1343","v":0},{"$f":"ASIN!B1343","v":0},{"$f":"ASIN!C1343","v":0},{"$f":"ASIN!D1343","v":0},{"$f":"ASIN!E1343","v":0},{"$f":"ASIN!F1343","v":0}]
[{"$f":"ASIN!A1344","v":0},{"$f":"ASIN!B1344","v":0},{"$f":"ASIN!C1344","v":0},{"$f":"ASIN!D1344","v":0},{"$f":"ASIN!E1344","v":0},{"$f":"ASIN!F1344","v":0}]
[{"$f":"ASIN!A1345","v":0},{"$f":"ASIN!B1345","v":0},{"$f":"ASIN!C1345","v":0},{"$f":"ASIN!D1345","v":0},{"$f":"ASIN!E1345","v":0},{"$f":"ASIN!F1345","v":0}]
[{"$f":"ASIN!A1346","v":0},{"$f":"ASIN!B1346","v":0},{"$f":"ASIN!C1346","v":0},{"$f":"ASIN!D1346","v":0},{"$f":"ASIN!E1346","v":0},{"$f":"ASIN!F1346","v":0}]
[{"$f":"ASIN!A1347","v":0},{"$f":"ASIN!B1347","v":0},{"$f":"ASIN!C1347","v":0},{"$f":"ASIN!D1347","v":0},{"$f":"ASIN!E1347","v":0},{"$f":"ASIN!F1347","v":0}]
[{"$f":"ASIN!A1348","v":0},{"$f":"ASIN!B1348","v":0},{"$f":"ASIN!C1348","v":0},{"$f":"ASIN!D1348","v":0},{"$f":"ASIN!E1348","v":0},{"$f":"ASIN!F1348","v":0}]
[{"$f":"ASIN!A1349","v":0},{"$f":"ASIN!B1349","v":0},{"$f":"ASIN!C1349","v":0},{"$f":"ASIN!D1349","v":0},{"$f":"ASIN!E1349","v":0},{"$f":"ASIN!F1349","v":0}]
[{"$f":"ASIN!A1350","v":0},{"$f":"ASIN!B1350","v":0},{"$f":"ASIN!C1350","v":0},{"$f":"ASIN!D1350","v":0},{"$f":"ASIN!E1350","v":0},{"$f":"ASIN!F1350","v":0}]
[{"$f":"ASIN!A1351","v":0},{"$f":"ASIN!B1351","v":0},{"$f":"ASIN!C1351","v":0},{"$f":"ASIN!D1351","v":0},{"$f":"ASIN!E1351","v":0},{"$f":"ASIN!F1351","v":0}]
[{"$f":"ASIN!A1352","v":0},{"$f":"ASIN!B1352","v":0},{"$f":"ASIN!C1352","v":0},{"$f":"ASIN!D1352","v":0},{"$f":"ASIN!E1352","v":0},{"$f":"ASIN!F1352","v":0}]
[{"$f":"ASIN!A1353","v":0},{"$f":"ASIN!B1353","v":0},{"$f":"ASIN!C1353","v":0},{"$f":"ASIN!D1353","v":0},{"$f":"ASIN!E1353","v":0},{"$f":"ASIN!F1353","v":0}]
[{"$f":"ASIN!A1354","v":0},{"$f":"ASIN!B1354","v":0},{"$f":"ASIN!C1354","v":0},{"$f":"ASIN!D1354","v":0},{"$f":"ASIN!E1354","v":0},{"$f":"ASIN!F1354","v":0}]
[{"$f":"ASIN!A1355","v":0},{"$f":"ASIN!B1355","v":0},{"$f":"ASIN!C1355","v":0},{"$f":"ASIN!D1355","v":0},{"$f":"ASIN!E1355","v":0},{"$f":"ASIN!F1355","v":0}]
[{"$f":"ASIN!A1356","v":0},{"$f":"ASIN!B1356","v":0},{"$f":"ASIN!C1356","v":0},{"$f":"ASIN!D1356","v":0},{"$f":"ASIN!E1356","v":0},{"$f":"ASIN!F1356","v":0}]
[{"$f":"ASIN!A1357","v":0},{"$f":"ASIN!B1357","v":0},{"$f":"ASIN!C1357","v":0},{"$f":"ASIN!D1357","v":0},{"$f":"ASIN!E1357","v":0},{"$f":"ASIN!F1357","v":0}]
[{"$f":"ASIN!A1358","v":0},{"$f":"ASIN!B1358","v":0},{"$f":"ASIN!C1358","v":0},{"$f":"ASIN!D1358","v":0},{"$f":"ASIN!E1358","v":0},{"$f":"ASIN!F1358","v":0}]
[{"$f":"ASIN!A1359","v":0},{"$f":"ASIN!B1359","v":0},{"$f":"ASIN!C1359","v":0},{"$f":"ASIN!D1359","v":0},{"$f":"ASIN!E1359","v":0},{"$f":"ASIN!F1359","v":0}]
[{"$f":"ASIN!A1360","v":0},{"$f":"ASIN!B1360","v":0},{"$f":"ASIN!C1360","v":0},{"$f":"ASIN!D1360","v":0},{"$f":"ASIN!E1360","v":0},{"$f":"ASIN!F1360","v":0}]
[{"$f":"ASIN!A1361","v":0},{"$f":"ASIN!B1361","v":0},{"$f":"ASIN!C1361","v":0},{"$f":"ASIN!D1361","v":0},{"$f":"ASIN!E1361","v":0},{"$f":"ASIN!F1361","v":0}]
[{"$f":"ASIN!A1362","v":0},{"$f":"ASIN!B1362","v":0},{"$f":"ASIN!C1362","v":0},{"$f":"ASIN!D1362","v":0},{"$f":"ASIN!E1362","v":0},{"$f":"ASIN!F1362","v":0}]
[{"$f":"ASIN!A1363","v":0},{"$f":"ASIN!B1363","v":0},{"$f":"ASIN!C1363","v":0},{"$f":"ASIN!D1363","v":0},{"$f":"ASIN!E1363","v":0},{"$f":"ASIN!F1363","v":0}]
[{"$f":"ASIN!A1364","v":0},{"$f":"ASIN!B1364","v":0},{"$f":"ASIN!C1364","v":0},{"$f":"ASIN!D1364","v":0},{"$f":"ASIN!E1364","v":0},{"$f":"ASIN!F1364","v":0}]
[{"$f":"ASIN!A1365","v":0},{"$f":"ASIN!B1365","v":0},{"$f":"ASIN!C1365","v":0},{"$f":"ASIN!D1365","v":0},{"$f":"ASIN!E1365","v":0},{"$f":"ASIN!F1365","v":0}]
[{"$f":"ASIN!A1366","v":0},{"$f":"ASIN!B1366","v":0},{"$f":"ASIN!C1366","v":0},{"$f":"ASIN!D1366","v":0},{"$f":"ASIN!E1366","v":0},{"$f":"ASIN!F1366","v":0}]
[{"$f":"ASIN!A1367","v":0},{"$f":"ASIN!B1367","v":0},{"$f":"ASIN!C1367","v":0},{"$f":"ASIN!D1367","v":0},{"$f":"ASIN!E1367","v":0},{"$f":"ASIN!F1367","v":0}]
[{"$f":"ASIN!A1368","v":0},{"$f":"ASIN!B1368","v":0},{"$f":"ASIN!C1368","v":0},{"$f":"ASIN!D1368","v":0},{"$f":"ASIN!E1368","v":0},{"$f":"ASIN!F1368","v":0}]
[{"$f":"ASIN!A1369","v":0},{"$f":"ASIN!B1369","v":0},{"$f":"ASIN!C1369","v":0},{"$f":"ASIN!D1369","v":0},{"$f":"ASIN!E1369","v":0},{"$f":"ASIN!F1369","v":0}]
[{"$f":"ASIN!A1370","v":0},{"$f":"ASIN!B1370","v":0},{"$f":"ASIN!C1370","v":0},{"$f":"ASIN!D1370","v":0},{"$f":"ASIN!E1370","v":0},{"$f":"ASIN!F1370","v":0}]
[{"$f":"ASIN!A1371","v":0},{"$f":"ASIN!B1371","v":0},{"$f":"ASIN!C1371","v":0},{"$f":"ASIN!D1371","v":0},{"$f":"ASIN!E1371","v":0},{"$f":"ASIN!F1371","v":0}]
[{"$f":"ASIN!A1372","v":0},{"$f":"ASIN!B1372","v":0},{"$f":"ASIN!C1372","v":0},{"$f":"ASIN!D1372","v":0},{"$f":"ASIN!E1372","v":0},{"$f":"ASIN!F1372","v":0}]
[{"$f":"ASIN!A1373","v":0},{"$f":"ASIN!B1373","v":0},{"$f":"ASIN!C1373","v":0},{"$f":"ASIN!D1373","v":0},{"$f":"ASIN!E1373","v":0},{"$f":"ASIN!F1373","v":0}]
[{"$f":"ASIN!A1374","v":0},{"$f":"ASIN!B1374","v":0},{"$f":"ASIN!C1374","v":0},{"$f":"ASIN!D1374","v":0},{"$f":"ASIN!E1374","v":0},{"$f":"ASIN!F1374","v":0}]
[{"$f":"ASIN!A1375","v":0},{"$f":"ASIN!B1375","v":0},{"$f":"ASIN!C1375","v":0},{"$f":"ASIN!D1375","v":0},{"$f":"ASIN!E1375","v":0},{"$f":"ASIN!F1375","v":0}]
[{"$f":"ASIN!A1376","v":0},{"$f":"ASIN!B1376","v":0},{"$f":"ASIN!C1376","v":0},{"$f":"ASIN!D1376","v":0},{"$f":"ASIN!E1376","v":0},{"$f":"ASIN!F1376","v":0}]
[{"$f":"ASIN!A1377","v":0},{"$f":"ASIN!B1377","v":0},{"$f":"ASIN!C1377","v":0},{"$f":"ASIN!D1377","v":0},{"$f":"ASIN!E1377","v":0},{"$f":"ASIN!F1377","v":0}]
[{"$f":"ASIN!A1378","v":0},{"$f":"ASIN!B1378","v":0},{"$f":"ASIN!C1378","v":0},{"$f":"ASIN!D1378","v":0},{"$f":"ASIN!E1378","v":0},{"$f":"ASIN!F1378","v":0}]
[{"$f":"ASIN!A1379","v":0},{"$f":"ASIN!B1379","v":0},{"$f":"ASIN!C1379","v":0},{"$f":"ASIN!D1379","v":0},{"$f":"ASIN!E1379","v":0},{"$f":"ASIN!F1379","v":0}]
[{"$f":"ASIN!A1380","v":0},{"$f":"ASIN!B1380","v":0},{"$f":"ASIN!C1380","v":0},{"$f":"ASIN!D1380","v":0},{"$f":"ASIN!E1380","v":0},{"$f":"ASIN!F1380","v":0}]
[{"$f":"ASIN!A1381","v":0},{"$f":"ASIN!B1381","v":0},{"$f":"ASIN!C1381","v":0},{"$f":"ASIN!D1381","v":0},{"$f":"ASIN!E1381","v":0},{"$f":"ASIN!F1381","v":0}]
[{"$f":"ASIN!A1382","v":0},{"$f":"ASIN!B1382","v":0},{"$f":"ASIN!C1382","v":0},{"$f":"ASIN!D1382","v":0},{"$f":"ASIN!E1382","v":0},{"$f":"ASIN!F1382","v":0}]
[{"$f":"ASIN!A1383","v":0},{"$f":"ASIN!B1383","v":0},{"$f":"ASIN!C1383","v":0},{"$f":"ASIN!D1383","v":0},{"$f":"ASIN!E1383","v":0},{"$f":"ASIN!F1383","v":0}]
[{"$f":"ASIN!A1384","v":0},{"$f":"ASIN!B1384","v":0},{"$f":"ASIN!C1384","v":0},{"$f":"ASIN!D1384","v":0},{"$f":"ASIN!E1384","v":0},{"$f":"ASIN!F1384","v":0}]
[{"$f":"ASIN!A1385","v":0},{"$f":"ASIN!B1385","v":0},{"$f":"ASIN!C1385","v":0},{"$f":"ASIN!D1385","v":0},{"$f":"ASIN!E1385","v":0},{"$f":"ASIN!F1385","v":0}]
[{"$f":"ASIN!A1386","v":0},{"$f":"ASIN!B1386","v":0},{"$f":"ASIN!C1386","v":0},{"$f":"ASIN!D1386","v":0},{"$f":"ASIN!E1386","v":0},{"$f":"ASIN!F1386","v":0}]
[{"$f":"ASIN!A1387","v":0},{"$f":"ASIN!B1387","v":0},{"$f":"ASIN!C1387","v":0},{"$f":"ASIN!D1387","v":0},{"$f":"ASIN!E1387","v":0},{"$f":"ASIN!F1387","v":0}]
[{"$f":"ASIN!A1388","v":0},{"$f":"ASIN!B1388","v":0},{"$f":"ASIN!C1388","v":0},{"$f":"ASIN!D1388","v":0},{"$f":"ASIN!E1388","v":0},{"$f":"ASIN!F1388","v":0}]
[{"$f":"ASIN!A1389","v":0},{"$f":"ASIN!B1389","v":0},{"$f":"ASIN!C1389","v":0},{"$f":"ASIN!D1389","v":0},{"$f":"ASIN!E1389","v":0},{"$f":"ASIN!F1389","v":0}]
[{"$f":"ASIN!A1390","v":0},{"$f":"ASIN!B1390","v":0},{"$f":"ASIN!C1390","v":0},{"$f":"ASIN!D1390","v":0},{"$f":"ASIN!E1390","v":0},{"$f":"ASIN!F1390","v":0}]
[{"$f":"ASIN!A1391","v":0},{"$f":"ASIN!B1391","v":0},{"$f":"ASIN!C1391","v":0},{"$f":"ASIN!D1391","v":0},{"$f":"ASIN!E1391","v":0},{"$f":"ASIN!F1391","v":0}]
[{"$f":"ASIN!A1392","v":0},{"$f":"ASIN!B1392","v":0},{"$f":"ASIN!C1392","v":0},{"$f":"ASIN!D1392","v":0},{"$f":"ASIN!E1392","v":0},{"$f":"ASIN!F1392","v":0}]
[{"$f":"ASIN!A1393","v":0},{"$f":"ASIN!B1393","v":0},{"$f":"ASIN!C1393","v":0},{"$f":"ASIN!D1393","v":0},{"$f":"ASIN!E1393","v":0},{"$f":"ASIN!F1393","v":0}]
[{"$f":"ASIN!A1394","v":0},{"$f":"ASIN!B1394","v":0},{"$f":"ASIN!C1394","v":0},{"$f":"ASIN!D1394","v":0},{"$f":"ASIN!E1394","v":0},{"$f":"ASIN!F1394","v":0}]
[{"$f":"ASIN!A1395","v":0},{"$f":"ASIN!B1395","v":0},{"$f":"ASIN!C1395","v":0},{"$f":"ASIN!D1395","v":0},{"$f":"ASIN!E1395","v":0},{"$f":"ASIN!F1395","v":0}]
[{"$f":"ASIN!A1396","v":0},{"$f":"ASIN!B1396","v":0},{"$f":"ASIN!C1396","v":0},{"$f":"ASIN!D1396","v":0},{"$f":"ASIN!E1396","v":0},{"$f":"ASIN!F1396","v":0}]
[{"$f":"ASIN!A1397","v":0},{"$f":"ASIN!B1397","v":0},{"$f":"ASIN!C1397","v":0},{"$f":"ASIN!D1397","v":0},{"$f":"ASIN!E1397","v":0},{"$f":"ASIN!F1397","v":0}]
[{"$f":"ASIN!A1398","v":0},{"$f":"ASIN!B1398","v":0},{"$f":"ASIN!C1398","v":0},{"$f":"ASIN!D1398","v":0},{"$f":"ASIN!E1398","v":0},{"$f":"ASIN!F1398","v":0}]
[{"$f":"ASIN!A1399","v":0},{"$f":"ASIN!B1399","v":0},{"$f":"ASIN!C1399","v":0},{"$f":"ASIN!D1399","v":0},{"$f":"ASIN!E1399","v":0},{"$f":"ASIN!F1399","v":0}]
[{"$f":"ASIN!A1400","v":0},{"$f":"ASIN!B1400","v":0},{"$f":"ASIN!C1400","v":0},{"$f":"ASIN!D1400","v":0},{"$f":"ASIN!E1400","v":0},{"$f":"ASIN!F1400","v":0}]
[{"$f":"ASIN!A1401","v":0},{"$f":"ASIN!B1401","v":0},{"$f":"ASIN!C1401","v":0},{"$f":"ASIN!D1401","v":0},{"$f":"ASIN!E1401","v":0},{"$f":"ASIN!F1401","v":0}]
[{"$f":"ASIN!A1402","v":0},{"$f":"ASIN!B1402","v":0},{"$f":"ASIN!C1402","v":0},{"$f":"ASIN!D1402","v":0},{"$f":"ASIN!E1402","v":0},{"$f":"ASIN!F1402","v":0}]
[{"$f":"ASIN!A1403","v":0},{"$f":"ASIN!B1403","v":0},{"$f":"ASIN!C1403","v":0},{"$f":"ASIN!D1403","v":0},{"$f":"ASIN!E1403","v":0},{"$f":"ASIN!F1403","v":0}]
[{"$f":"ASIN!A1404","v":0},{"$f":"ASIN!B1404","v":0},{"$f":"ASIN!C1404","v":0},{"$f":"ASIN!D1404","v":0},{"$f":"ASIN!E1404","v":0},{"$f":"ASIN!F1404","v":0}]
[{"$f":"ASIN!A1405","v":0},{"$f":"ASIN!B1405","v":0},{"$f":"ASIN!C1405","v":0},{"$f":"ASIN!D1405","v":0},{"$f":"ASIN!E1405","v":0},{"$f":"ASIN!F1405","v":0}]
[{"$f":"ASIN!A1406","v":0},{"$f":"ASIN!B1406","v":0},{"$f":"ASIN!C1406","v":0},{"$f":"ASIN!D1406","v":0},{"$f":"ASIN!E1406","v":0},{"$f":"ASIN!F1406","v":0}]
[{"$f":"ASIN!A1407","v":0},{"$f":"ASIN!B1407","v":0},{"$f":"ASIN!C1407","v":0},{"$f":"ASIN!D1407","v":0},{"$f":"ASIN!E1407","v":0},{"$f":"ASIN!F1407","v":0}]
[{"$f":"ASIN!A1408","v":0},{"$f":"ASIN!B1408","v":0},{"$f":"ASIN!C1408","v":0},{"$f":"ASIN!D1408","v":0},{"$f":"ASIN!E1408","v":0},{"$f":"ASIN!F1408","v":0}]
[{"$f":"ASIN!A1409","v":0},{"$f":"ASIN!B1409","v":0},{"$f":"ASIN!C1409","v":0},{"$f":"ASIN!D1409","v":0},{"$f":"ASIN!E1409","v":0},{"$f":"ASIN!F1409","v":0}]
[{"$f":"ASIN!A1410","v":0},{"$f":"ASIN!B1410","v":0},{"$f":"ASIN!C1410","v":0},{"$f":"ASIN!D1410","v":0},{"$f":"ASIN!E1410","v":0},{"$f":"ASIN!F1410","v":0}]
[{"$f":"ASIN!A1411","v":0},{"$f":"ASIN!B1411","v":0},{"$f":"ASIN!C1411","v":0},{"$f":"ASIN!D1411","v":0},{"$f":"ASIN!E1411","v":0},{"$f":"ASIN!F1411","v":0}]
[{"$f":"ASIN!A1412","v":0},{"$f":"ASIN!B1412","v":0},{"$f":"ASIN!C1412","v":0},{"$f":"ASIN!D1412","v":0},{"$f":"ASIN!E1412","v":0},{"$f":"ASIN!F1412","v":0}]
[{"$f":"ASIN!A1413","v":0},{"$f":"ASIN!B1413","v":0},{"$f":"ASIN!C1413","v":0},{"$f":"ASIN!D1413","v":0},{"$f":"ASIN!E1413","v":0},{"$f":"ASIN!F1413","v":0}]
[{"$f":"ASIN!A1414","v":0},{"$f":"ASIN!B1414","v":0},{"$f":"ASIN!C1414","v":0},{"$f":"ASIN!D1414","v":0},{"$f":"ASIN!E1414","v":0},{"$f":"ASIN!F1414","v":0}]
[{"$f":"ASIN!A1415","v":0},{"$f":"ASIN!B1415","v":0},{"$f":"ASIN!C1415","v":0},{"$f":"ASIN!D1415","v":0},{"$f":"ASIN!E1415","v":0},{"$f":"ASIN!F1415","v":0}]
[{"$f":"ASIN!A1416","v":0},{"$f":"ASIN!B1416","v":0},{"$f":"ASIN!C1416","v":0},{"$f":"ASIN!D1416","v":0},{"$f":"ASIN!E1416","v":0},{"$f":"ASIN!F1416","v":0}]
[{"$f":"ASIN!A1417","v":0},{"$f":"ASIN!B1417","v":0},{"$f":"ASIN!C1417","v":0},{"$f":"ASIN!D1417","v":0},{"$f":"ASIN!E1417","v":0},{"$f":"ASIN!F1417","v":0}]
[{"$f":"ASIN!A1418","v":0},{"$f":"ASIN!B1418","v":0},{"$f":"ASIN!C1418","v":0},{"$f":"ASIN!D1418","v":0},{"$f":"ASIN!E1418","v":0},{"$f":"ASIN!F1418","v":0}]
[{"$f":"ASIN!A1419","v":0},{"$f":"ASIN!B1419","v":0},{"$f":"ASIN!C1419","v":0},{"$f":"ASIN!D1419","v":0},{"$f":"ASIN!E1419","v":0},{"$f":"ASIN!F1419","v":0}]
[{"$f":"ASIN!A1420","v":0},{"$f":"ASIN!B1420","v":0},{"$f":"ASIN!C1420","v":0},{"$f":"ASIN!D1420","v":0},{"$f":"ASIN!E1420","v":0},{"$f":"ASIN!F1420","v":0}]
[{"$f":"ASIN!A1421","v":0},{"$f":"ASIN!B1421","v":0},{"$f":"ASIN!C1421","v":0},{"$f":"ASIN!D1421","v":0},{"$f":"ASIN!E1421","v":0},{"$f":"ASIN!F1421","v":0}]
[{"$f":"ASIN!A1422","v":0},{"$f":"ASIN!B1422","v":0},{"$f":"ASIN!C1422","v":0},{"$f":"ASIN!D1422","v":0},{"$f":"ASIN!E1422","v":0},{"$f":"ASIN!F1422","v":0}]
[{"$f":"ASIN!A1423","v":0},{"$f":"ASIN!B1423","v":0},{"$f":"ASIN!C1423","v":0},{"$f":"ASIN!D1423","v":0},{"$f":"ASIN!E1423","v":0},{"$f":"ASIN!F1423","v":0}]
[{"$f":"ASIN!A1424","v":0},{"$f":"ASIN!B1424","v":0},{"$f":"ASIN!C1424","v":0},{"$f":"ASIN!D1424","v":0},{"$f":"ASIN!E1424","v":0},{"$f":"ASIN!F1424","v":0}]
[{"$f":"ASIN!A1425","v":0},{"$f":"ASIN!B1425","v":0},{"$f":"ASIN!C1425","v":0},{"$f":"ASIN!D1425","v":0},{"$f":"ASIN!E1425","v":0},{"$f":"ASIN!F1425","v":0}]
[{"$f":"ASIN!A1426","v":0},{"$f":"ASIN!B1426","v":0},{"$f":"ASIN!C1426","v":0},{"$f":"ASIN!D1426","v":0},{"$f":"ASIN!E1426","v":0},{"$f":"ASIN!F1426","v":0}]
[{"$f":"ASIN!A1427","v":0},{"$f":"ASIN!B1427","v":0},{"$f":"ASIN!C1427","v":0},{"$f":"ASIN!D1427","v":0},{"$f":"ASIN!E1427","v":0},{"$f":"ASIN!F1427","v":0}]
[{"$f":"ASIN!A1428","v":0},{"$f":"ASIN!B1428","v":0},{"$f":"ASIN!C1428","v":0},{"$f":"ASIN!D1428","v":0},{"$f":"ASIN!E1428","v":0},{"$f":"ASIN!F1428","v":0}]
[{"$f":"ASIN!A1429","v":0},{"$f":"ASIN!B1429","v":0},{"$f":"ASIN!C1429","v":0},{"$f":"ASIN!D1429","v":0},{"$f":"ASIN!E1429","v":0},{"$f":"ASIN!F1429","v":0}]
[{"$f":"ASIN!A1430","v":0},{"$f":"ASIN!B1430","v":0},{"$f":"ASIN!C1430","v":0},{"$f":"ASIN!D1430","v":0},{"$f":"ASIN!E1430","v":0},{"$f":"ASIN!F1430","v":0}]
[{"$f":"ASIN!A1431","v":0},{"$f":"ASIN!B1431","v":0},{"$f":"ASIN!C1431","v":0},{"$f":"ASIN!D1431","v":0},{"$f":"ASIN!E1431","v":0},{"$f":"ASIN!F1431","v":0}]
[{"$f":"ASIN!A1432","v":0},{"$f":"ASIN!B1432","v":0},{"$f":"ASIN!C1432","v":0},{"$f":"ASIN!D1432","v":0},{"$f":"ASIN!E1432","v":0},{"$f":"ASIN!F1432","v":0}]
[{"$f":"ASIN!A1433","v":0},{"$f":"ASIN!B1433","v":0},{"$f":"ASIN!C1433","v":0},{"$f":"ASIN!D1433","v":0},{"$f":"ASIN!E1433","v":0},{"$f":"ASIN!F1433","v":0}]
[{"$f":"ASIN!A1434","v":0},{"$f":"ASIN!B1434","v":0},{"$f":"ASIN!C1434","v":0},{"$f":"ASIN!D1434","v":0},{"$f":"ASIN!E1434","v":0},{"$f":"ASIN!F1434","v":0}]
[{"$f":"ASIN!A1435","v":0},{"$f":"ASIN!B1435","v":0},{"$f":"ASIN!C1435","v":0},{"$f":"ASIN!D1435","v":0},{"$f":"ASIN!E1435","v":0},{"$f":"ASIN!F1435","v":0}]
[{"$f":"ASIN!A1436","v":0},{"$f":"ASIN!B1436","v":0},{"$f":"ASIN!C1436","v":0},{"$f":"ASIN!D1436","v":0},{"$f":"ASIN!E1436","v":0},{"$f":"ASIN!F1436","v":0}]
[{"$f":"ASIN!A1437","v":0},{"$f":"ASIN!B1437","v":0},{"$f":"ASIN!C1437","v":0},{"$f":"ASIN!D1437","v":0},{"$f":"ASIN!E1437","v":0},{"$f":"ASIN!F1437","v":0}]
[{"$f":"ASIN!A1438","v":0},{"$f":"ASIN!B1438","v":0},{"$f":"ASIN!C1438","v":0},{"$f":"ASIN!D1438","v":0},{"$f":"ASIN!E1438","v":0},{"$f":"ASIN!F1438","v":0}]
[{"$f":"ASIN!A1439","v":0},{"$f":"ASIN!B1439","v":0},{"$f":"ASIN!C1439","v":0},{"$f":"ASIN!D1439","v":0},{"$f":"ASIN!E1439","v":0},{"$f":"ASIN!F1439","v":0}]
[{"$f":"ASIN!A1440","v":0},{"$f":"ASIN!B1440","v":0},{"$f":"ASIN!C1440","v":0},{"$f":"ASIN!D1440","v":0},{"$f":"ASIN!E1440","v":0},{"$f":"ASIN!F1440","v":0}]
[{"$f":"ASIN!A1441","v":0},{"$f":"ASIN!B1441","v":0},{"$f":"ASIN!C1441","v":0},{"$f":"ASIN!D1441","v":0},{"$f":"ASIN!E1441","v":0},{"$f":"ASIN!F1441","v":0}]
[{"$f":"ASIN!A1442","v":0},{"$f":"ASIN!B1442","v":0},{"$f":"ASIN!C1442","v":0},{"$f":"ASIN!D1442","v":0},{"$f":"ASIN!E1442","v":0},{"$f":"ASIN!F1442","v":0}]
[{"$f":"ASIN!A1443","v":0},{"$f":"ASIN!B1443","v":0},{"$f":"ASIN!C1443","v":0},{"$f":"ASIN!D1443","v":0},{"$f":"ASIN!E1443","v":0},{"$f":"ASIN!F1443","v":0}]
[{"$f":"ASIN!A1444","v":0},{"$f":"ASIN!B1444","v":0},{"$f":"ASIN!C1444","v":0},{"$f":"ASIN!D1444","v":0},{"$f":"ASIN!E1444","v":0},{"$f":"ASIN!F1444","v":0}]
[{"$f":"ASIN!A1445","v":0},{"$f":"ASIN!B1445","v":0},{"$f":"ASIN!C1445","v":0},{"$f":"ASIN!D1445","v":0},{"$f":"ASIN!E1445","v":0},{"$f":"ASIN!F1445","v":0}]
[{"$f":"ASIN!A1446","v":0},{"$f":"ASIN!B1446","v":0},{"$f":"ASIN!C1446","v":0},{"$f":"ASIN!D1446","v":0},{"$f":"ASIN!E1446","v":0},{"$f":"ASIN!F1446","v":0}]
[{"$f":"ASIN!A1447","v":0},{"$f":"ASIN!B1447","v":0},{"$f":"ASIN!C1447","v":0},{"$f":"ASIN!D1447","v":0},{"$f":"ASIN!E1447","v":0},{"$f":"ASIN!F1447","v":0}]
[{"$f":"ASIN!A1448","v":0},{"$f":"ASIN!B1448","v":0},{"$f":"ASIN!C1448","v":0},{"$f":"ASIN!D1448","v":0},{"$f":"ASIN!E1448","v":0},{"$f":"ASIN!F1448","v":0}]
[{"$f":"ASIN!A1449","v":0},{"$f":"ASIN!B1449","v":0},{"$f":"ASIN!C1449","v":0},{"$f":"ASIN!D1449","v":0},{"$f":"ASIN!E1449","v":0},{"$f":"ASIN!F1449","v":0}]
[{"$f":"ASIN!A1450","v":0},{"$f":"ASIN!B1450","v":0},{"$f":"ASIN!C1450","v":0},{"$f":"ASIN!D1450","v":0},{"$f":"ASIN!E1450","v":0},{"$f":"ASIN!F1450","v":0}]
[{"$f":"ASIN!A1451","v":0},{"$f":"ASIN!B1451","v":0},{"$f":"ASIN!C1451","v":0},{"$f":"ASIN!D1451","v":0},{"$f":"ASIN!E1451","v":0},{"$f":"ASIN!F1451","v":0}]
[{"$f":"ASIN!A1452","v":0},{"$f":"ASIN!B1452","v":0},{"$f":"ASIN!C1452","v":0},{"$f":"ASIN!D1452","v":0},{"$f":"ASIN!E1452","v":0},{"$f":"ASIN!F1452","v":0}]
[{"$f":"ASIN!A1453","v":0},{"$f":"ASIN!B1453","v":0},{"$f":"ASIN!C1453","v":0},{"$f":"ASIN!D1453","v":0},{"$f":"ASIN!E1453","v":0},{"$f":"ASIN!F1453","v":0}]
[{"$f":"ASIN!A1454","v":0},{"$f":"ASIN!B1454","v":0},{"$f":"ASIN!C1454","v":0},{"$f":"ASIN!D1454","v":0},{"$f":"ASIN!E1454","v":0},{"$f":"ASIN!F1454","v":0}]
[{"$f":"ASIN!A1455","v":0},{"$f":"ASIN!B1455","v":0},{"$f":"ASIN!C1455","v":0},{"$f":"ASIN!D1455","v":0},{"$f":"ASIN!E1455","v":0},{"$f":"ASIN!F1455","v":0}]
[{"$f":"ASIN!A1456","v":0},{"$f":"ASIN!B1456","v":0},{"$f":"ASIN!C1456","v":0},{"$f":"ASIN!D1456","v":0},{"$f":"ASIN!E1456","v":0},{"$f":"ASIN!F1456","v":0}]
[{"$f":"ASIN!A1457","v":0},{"$f":"ASIN!B1457","v":0},{"$f":"ASIN!C1457","v":0},{"$f":"ASIN!D1457","v":0},{"$f":"ASIN!E1457","v":0},{"$f":"ASIN!F1457","v":0}]
[{"$f":"ASIN!A1458","v":0},{"$f":"ASIN!B1458","v":0},{"$f":"ASIN!C1458","v":0},{"$f":"ASIN!D1458","v":0},{"$f":"ASIN!E1458","v":0},{"$f":"ASIN!F1458","v":0}]
[{"$f":"ASIN!A1459","v":0},{"$f":"ASIN!B1459","v":0},{"$f":"ASIN!C1459","v":0},{"$f":"ASIN!D1459","v":0},{"$f":"ASIN!E1459","v":0},{"$f":"ASIN!F1459","v":0}]
[{"$f":"ASIN!A1460","v":0},{"$f":"ASIN!B1460","v":0},{"$f":"ASIN!C1460","v":0},{"$f":"ASIN!D1460","v":0},{"$f":"ASIN!E1460","v":0},{"$f":"ASIN!F1460","v":0}]
[{"$f":"ASIN!A1461","v":0},{"$f":"ASIN!B1461","v":0},{"$f":"ASIN!C1461","v":0},{"$f":"ASIN!D1461","v":0},{"$f":"ASIN!E1461","v":0},{"$f":"ASIN!F1461","v":0}]
[{"$f":"ASIN!A1462","v":0},{"$f":"ASIN!B1462","v":0},{"$f":"ASIN!C1462","v":0},{"$f":"ASIN!D1462","v":0},{"$f":"ASIN!E1462","v":0},{"$f":"ASIN!F1462","v":0}]
[{"$f":"ASIN!A1463","v":0},{"$f":"ASIN!B1463","v":0},{"$f":"ASIN!C1463","v":0},{"$f":"ASIN!D1463","v":0},{"$f":"ASIN!E1463","v":0},{"$f":"ASIN!F1463","v":0}]
[{"$f":"ASIN!A1464","v":0},{"$f":"ASIN!B1464","v":0},{"$f":"ASIN!C1464","v":0},{"$f":"ASIN!D1464","v":0},{"$f":"ASIN!E1464","v":0},{"$f":"ASIN!F1464","v":0}]
[{"$f":"ASIN!A1465","v":0},{"$f":"ASIN!B1465","v":0},{"$f":"ASIN!C1465","v":0},{"$f":"ASIN!D1465","v":0},{"$f":"ASIN!E1465","v":0},{"$f":"ASIN!F1465","v":0}]
[{"$f":"ASIN!A1466","v":0},{"$f":"ASIN!B1466","v":0},{"$f":"ASIN!C1466","v":0},{"$f":"ASIN!D1466","v":0},{"$f":"ASIN!E1466","v":0},{"$f":"ASIN!F1466","v":0}]
[{"$f":"ASIN!A1467","v":0},{"$f":"ASIN!B1467","v":0},{"$f":"ASIN!C1467","v":0},{"$f":"ASIN!D1467","v":0},{"$f":"ASIN!E1467","v":0},{"$f":"ASIN!F1467","v":0}]
[{"$f":"ASIN!A1468","v":0},{"$f":"ASIN!B1468","v":0},{"$f":"ASIN!C1468","v":0},{"$f":"ASIN!D1468","v":0},{"$f":"ASIN!E1468","v":0},{"$f":"ASIN!F1468","v":0}]
[{"$f":"ASIN!A1469","v":0},{"$f":"ASIN!B1469","v":0},{"$f":"ASIN!C1469","v":0},{"$f":"ASIN!D1469","v":0},{"$f":"ASIN!E1469","v":0},{"$f":"ASIN!F1469","v":0}]
[{"$f":"ASIN!A1470","v":0},{"$f":"ASIN!B1470","v":0},{"$f":"ASIN!C1470","v":0},{"$f":"ASIN!D1470","v":0},{"$f":"ASIN!E1470","v":0},{"$f":"ASIN!F1470","v":0}]
[{"$f":"ASIN!A1471","v":0},{"$f":"ASIN!B1471","v":0},{"$f":"ASIN!C1471","v":0},{"$f":"ASIN!D1471","v":0},{"$f":"ASIN!E1471","v":0},{"$f":"ASIN!F1471","v":0}]
[{"$f":"ASIN!A1472","v":0},{"$f":"ASIN!B1472","v":0},{"$f":"ASIN!C1472","v":0},{"$f":"ASIN!D1472","v":0},{"$f":"ASIN!E1472","v":0},{"$f":"ASIN!F1472","v":0}]
[{"$f":"ASIN!A1473","v":0},{"$f":"ASIN!B1473","v":0},{"$f":"ASIN!C1473","v":0},{"$f":"ASIN!D1473","v":0},{"$f":"ASIN!E1473","v":0},{"$f":"ASIN!F1473","v":0}]
[{"$f":"ASIN!A1474","v":0},{"$f":"ASIN!B1474","v":0},{"$f":"ASIN!C1474","v":0},{"$f":"ASIN!D1474","v":0},{"$f":"ASIN!E1474","v":0},{"$f":"ASIN!F1474","v":0}]
[{"$f":"ASIN!A1475","v":0},{"$f":"ASIN!B1475","v":0},{"$f":"ASIN!C1475","v":0},{"$f":"ASIN!D1475","v":0},{"$f":"ASIN!E1475","v":0},{"$f":"ASIN!F1475","v":0}]
[{"$f":"ASIN!A1476","v":0},{"$f":"ASIN!B1476","v":0},{"$f":"ASIN!C1476","v":0},{"$f":"ASIN!D1476","v":0},{"$f":"ASIN!E1476","v":0},{"$f":"ASIN!F1476","v":0}]
[{"$f":"ASIN!A1477","v":0},{"$f":"ASIN!B1477","v":0},{"$f":"ASIN!C1477","v":0},{"$f":"ASIN!D1477","v":0},{"$f":"ASIN!E1477","v":0},{"$f":"ASIN!F1477","v":0}]
[{"$f":"ASIN!A1478","v":0},{"$f":"ASIN!B1478","v":0},{"$f":"ASIN!C1478","v":0},{"$f":"ASIN!D1478","v":0},{"$f":"ASIN!E1478","v":0},{"$f":"ASIN!F1478","v":0}]
[{"$f":"ASIN!A1479","v":0},{"$f":"ASIN!B1479","v":0},{"$f":"ASIN!C1479","v":0},{"$f":"ASIN!D1479","v":0},{"$f":"ASIN!E1479","v":0},{"$f":"ASIN!F1479","v":0}]
[{"$f":"ASIN!A1480","v":0},{"$f":"ASIN!B1480","v":0},{"$f":"ASIN!C1480","v":0},{"$f":"ASIN!D1480","v":0},{"$f":"ASIN!E1480","v":0},{"$f":"ASIN!F1480","v":0}]
[{"$f":"ASIN!A1481","v":0},{"$f":"ASIN!B1481","v":0},{"$f":"ASIN!C1481","v":0},{"$f":"ASIN!D1481","v":0},{"$f":"ASIN!E1481","v":0},{"$f":"ASIN!F1481","v":0}]
[{"$f":"ASIN!A1482","v":0},{"$f":"ASIN!B1482","v":0},{"$f":"ASIN!C1482","v":0},{"$f":"ASIN!D1482","v":0},{"$f":"ASIN!E1482","v":0},{"$f":"ASIN!F1482","v":0}]
[{"$f":"ASIN!A1483","v":0},{"$f":"ASIN!B1483","v":0},{"$f":"ASIN!C1483","v":0},{"$f":"ASIN!D1483","v":0},{"$f":"ASIN!E1483","v":0},{"$f":"ASIN!F1483","v":0}]
[{"$f":"ASIN!A1484","v":0},{"$f":"ASIN!B1484","v":0},{"$f":"ASIN!C1484","v":0},{"$f":"ASIN!D1484","v":0},{"$f":"ASIN!E1484","v":0},{"$f":"ASIN!F1484","v":0}]
[{"$f":"ASIN!A1485","v":0},{"$f":"ASIN!B1485","v":0},{"$f":"ASIN!C1485","v":0},{"$f":"ASIN!D1485","v":0},{"$f":"ASIN!E1485","v":0},{"$f":"ASIN!F1485","v":0}]
[{"$f":"ASIN!A1486","v":0},{"$f":"ASIN!B1486","v":0},{"$f":"ASIN!C1486","v":0},{"$f":"ASIN!D1486","v":0},{"$f":"ASIN!E1486","v":0},{"$f":"ASIN!F1486","v":0}]
[{"$f":"ASIN!A1487","v":0},{"$f":"ASIN!B1487","v":0},{"$f":"ASIN!C1487","v":0},{"$f":"ASIN!D1487","v":0},{"$f":"ASIN!E1487","v":0},{"$f":"ASIN!F1487","v":0}]
[{"$f":"ASIN!A1488","v":0},{"$f":"ASIN!B1488","v":0},{"$f":"ASIN!C1488","v":0},{"$f":"ASIN!D1488","v":0},{"$f":"ASIN!E1488","v":0},{"$f":"ASIN!F1488","v":0}]
[{"$f":"ASIN!A1489","v":0},{"$f":"ASIN!B1489","v":0},{"$f":"ASIN!C1489","v":0},{"$f":"ASIN!D1489","v":0},{"$f":"ASIN!E1489","v":0},{"$f":"ASIN!F1489","v":0}]
[{"$f":"ASIN!A1490","v":0},{"$f":"ASIN!B1490","v":0},{"$f":"ASIN!C1490","v":0},{"$f":"ASIN!D1490","v":0},{"$f":"ASIN!E1490","v":0},{"$f":"ASIN!F1490","v":0}]
[{"$f":"ASIN!A1491","v":0},{"$f":"ASIN!B1491","v":0},{"$f":"ASIN!C1491","v":0},{"$f":"ASIN!D1491","v":0},{"$f":"ASIN!E1491","v":0},{"$f":"ASIN!F1491","v":0}]
[{"$f":"ASIN!A1492","v":0},{"$f":"ASIN!B1492","v":0},{"$f":"ASIN!C1492","v":0},{"$f":"ASIN!D1492","v":0},{"$f":"ASIN!E1492","v":0},{"$f":"ASIN!F1492","v":0}]
[{"$f":"ASIN!A1493","v":0},{"$f":"ASIN!B1493","v":0},{"$f":"ASIN!C1493","v":0},{"$f":"ASIN!D1493","v":0},{"$f":"ASIN!E1493","v":0},{"$f":"ASIN!F1493","v":0}]
[{"$f":"ASIN!A1494","v":0},{"$f":"ASIN!B1494","v":0},{"$f":"ASIN!C1494","v":0},{"$f":"ASIN!D1494","v":0},{"$f":"ASIN!E1494","v":0},{"$f":"ASIN!F1494","v":0}]
[{"$f":"ASIN!A1495","v":0},{"$f":"ASIN!B1495","v":0},{"$f":"ASIN!C1495","v":0},{"$f":"ASIN!D1495","v":0},{"$f":"ASIN!E1495","v":0},{"$f":"ASIN!F1495","v":0}]
[{"$f":"ASIN!A1496","v":0},{"$f":"ASIN!B1496","v":0},{"$f":"ASIN!C1496","v":0},{"$f":"ASIN!D1496","v":0},{"$f":"ASIN!E1496","v":0},{"$f":"ASIN!F1496","v":0}]
[{"$f":"ASIN!A1497","v":0},{"$f":"ASIN!B1497","v":0},{"$f":"ASIN!C1497","v":0},{"$f":"ASIN!D1497","v":0},{"$f":"ASIN!E1497","v":0},{"$f":"ASIN!F1497","v":0}]
[{"$f":"ASIN!A1498","v":0},{"$f":"ASIN!B1498","v":0},{"$f":"ASIN!C1498","v":0},{"$f":"ASIN!D1498","v":0},{"$f":"ASIN!E1498","v":0},{"$f":"ASIN!F1498","v":0}]
[{"$f":"ASIN!A1499","v":0},{"$f":"ASIN!B1499","v":0},{"$f":"ASIN!C1499","v":0},{"$f":"ASIN!D1499","v":0},{"$f":"ASIN!E1499","v":0},{"$f":"ASIN!F1499","v":0}]
[{"$f":"ASIN!A1500","v":0},{"$f":"ASIN!B1500","v":0},{"$f":"ASIN!C1500","v":0},{"$f":"ASIN!D1500","v":0},{"$f":"ASIN!E1500","v":0},{"$f":"ASIN!F1500","v":0}]
[{"$f":"ASIN!A1501","v":0},{"$f":"ASIN!B1501","v":0},{"$f":"ASIN!C1501","v":0},{"$f":"ASIN!D1501","v":0},{"$f":"ASIN!E1501","v":0},{"$f":"ASIN!F1501","v":0}]
[{"$f":"ASIN!A1502","v":0},{"$f":"ASIN!B1502","v":0},{"$f":"ASIN!C1502","v":0},{"$f":"ASIN!D1502","v":0},{"$f":"ASIN!E1502","v":0},{"$f":"ASIN!F1502","v":0}]
[{"$f":"ASIN!A1503","v":0},{"$f":"ASIN!B1503","v":0},{"$f":"ASIN!C1503","v":0},{"$f":"ASIN!D1503","v":0},{"$f":"ASIN!E1503","v":0},{"$f":"ASIN!F1503","v":0}]
[{"$f":"ASIN!A1504","v":0},{"$f":"ASIN!B1504","v":0},{"$f":"ASIN!C1504","v":0},{"$f":"ASIN!D1504","v":0},{"$f":"ASIN!E1504","v":0},{"$f":"ASIN!F1504","v":0}]
[{"$f":"ASIN!A1505","v":0},{"$f":"ASIN!B1505","v":0},{"$f":"ASIN!C1505","v":0},{"$f":"ASIN!D1505","v":0},{"$f":"ASIN!E1505","v":0},{"$f":"ASIN!F1505","v":0}]
[{"$f":"ASIN!A1506","v":0},{"$f":"ASIN!B1506","v":0},{"$f":"ASIN!C1506","v":0},{"$f":"ASIN!D1506","v":0},{"$f":"ASIN!E1506","v":0},{"$f":"ASIN!F1506","v":0}]
[{"$f":"ASIN!A1507","v":0},{"$f":"ASIN!B1507","v":0},{"$f":"ASIN!C1507","v":0},{"$f":"ASIN!D1507","v":0},{"$f":"ASIN!E1507","v":0},{"$f":"ASIN!F1507","v":0}]
[{"$f":"ASIN!A1508","v":0},{"$f":"ASIN!B1508","v":0},{"$f":"ASIN!C1508","v":0},{"$f":"ASIN!D1508","v":0},{"$f":"ASIN!E1508","v":0},{"$f":"ASIN!F1508","v":0}]
[{"$f":"ASIN!A1509","v":0},{"$f":"ASIN!B1509","v":0},{"$f":"ASIN!C1509","v":0},{"$f":"ASIN!D1509","v":0},{"$f":"ASIN!E1509","v":0},{"$f":"ASIN!F1509","v":0}]
[{"$f":"ASIN!A1510","v":0},{"$f":"ASIN!B1510","v":0},{"$f":"ASIN!C1510","v":0},{"$f":"ASIN!D1510","v":0},{"$f":"ASIN!E1510","v":0},{"$f":"ASIN!F1510","v":0}]
[{"$f":"ASIN!A1511","v":0},{"$f":"ASIN!B1511","v":0},{"$f":"ASIN!C1511","v":0},{"$f":"ASIN!D1511","v":0},{"$f":"ASIN!E1511","v":0},{"$f":"ASIN!F1511","v":0}]
[{"$f":"ASIN!A1512","v":0},{"$f":"ASIN!B1512","v":0},{"$f":"ASIN!C1512","v":0},{"$f":"ASIN!D1512","v":0},{"$f":"ASIN!E1512","v":0},{"$f":"ASIN!F1512","v":0}]
[{"$f":"ASIN!A1513","v":0},{"$f":"ASIN!B1513","v":0},{"$f":"ASIN!C1513","v":0},{"$f":"ASIN!D1513","v":0},{"$f":"ASIN!E1513","v":0},{"$f":"ASIN!F1513","v":0}]
[{"$f":"ASIN!A1514","v":0},{"$f":"ASIN!B1514","v":0},{"$f":"ASIN!C1514","v":0},{"$f":"ASIN!D1514","v":0},{"$f":"ASIN!E1514","v":0},{"$f":"ASIN!F1514","v":0}]
[{"$f":"ASIN!A1515","v":0},{"$f":"ASIN!B1515","v":0},{"$f":"ASIN!C1515","v":0},{"$f":"ASIN!D1515","v":0},{"$f":"ASIN!E1515","v":0},{"$f":"ASIN!F1515","v":0}]
[{"$f":"ASIN!A1516","v":0},{"$f":"ASIN!B1516","v":0},{"$f":"ASIN!C1516","v":0},{"$f":"ASIN!D1516","v":0},{"$f":"ASIN!E1516","v":0},{"$f":"ASIN!F1516","v":0}]
[{"$f":"ASIN!A1517","v":0},{"$f":"ASIN!B1517","v":0},{"$f":"ASIN!C1517","v":0},{"$f":"ASIN!D1517","v":0},{"$f":"ASIN!E1517","v":0},{"$f":"ASIN!F1517","v":0}]
[{"$f":"ASIN!A1518","v":0},{"$f":"ASIN!B1518","v":0},{"$f":"ASIN!C1518","v":0},{"$f":"ASIN!D1518","v":0},{"$f":"ASIN!E1518","v":0},{"$f":"ASIN!F1518","v":0}]
[{"$f":"ASIN!A1519","v":0},{"$f":"ASIN!B1519","v":0},{"$f":"ASIN!C1519","v":0},{"$f":"ASIN!D1519","v":0},{"$f":"ASIN!E1519","v":0},{"$f":"ASIN!F1519","v":0}]
[{"$f":"ASIN!A1520","v":0},{"$f":"ASIN!B1520","v":0},{"$f":"ASIN!C1520","v":0},{"$f":"ASIN!D1520","v":0},{"$f":"ASIN!E1520","v":0},{"$f":"ASIN!F1520","v":0}]
[{"$f":"ASIN!A1521","v":0},{"$f":"ASIN!B1521","v":0},{"$f":"ASIN!C1521","v":0},{"$f":"ASIN!D1521","v":0},{"$f":"ASIN!E1521","v":0},{"$f":"ASIN!F1521","v":0}]
[{"$f":"ASIN!A1522","v":0},{"$f":"ASIN!B1522","v":0},{"$f":"ASIN!C1522","v":0},{"$f":"ASIN!D1522","v":0},{"$f":"ASIN!E1522","v":0},{"$f":"ASIN!F1522","v":0}]
[{"$f":"ASIN!A1523","v":0},{"$f":"ASIN!B1523","v":0},{"$f":"ASIN!C1523","v":0},{"$f":"ASIN!D1523","v":0},{"$f":"ASIN!E1523","v":0},{"$f":"ASIN!F1523","v":0}]
[{"$f":"ASIN!A1524","v":0},{"$f":"ASIN!B1524","v":0},{"$f":"ASIN!C1524","v":0},{"$f":"ASIN!D1524","v":0},{"$f":"ASIN!E1524","v":0},{"$f":"ASIN!F1524","v":0}]
[{"$f":"ASIN!A1525","v":0},{"$f":"ASIN!B1525","v":0},{"$f":"ASIN!C1525","v":0},{"$f":"ASIN!D1525","v":0},{"$f":"ASIN!E1525","v":0},{"$f":"ASIN!F1525","v":0}]
[{"$f":"ASIN!A1526","v":0},{"$f":"ASIN!B1526","v":0},{"$f":"ASIN!C1526","v":0},{"$f":"ASIN!D1526","v":0},{"$f":"ASIN!E1526","v":0},{"$f":"ASIN!F1526","v":0}]
[{"$f":"ASIN!A1527","v":0},{"$f":"ASIN!B1527","v":0},{"$f":"ASIN!C1527","v":0},{"$f":"ASIN!D1527","v":0},{"$f":"ASIN!E1527","v":0},{"$f":"ASIN!F1527","v":0}]
[{"$f":"ASIN!A1528","v":0},{"$f":"ASIN!B1528","v":0},{"$f":"ASIN!C1528","v":0},{"$f":"ASIN!D1528","v":0},{"$f":"ASIN!E1528","v":0},{"$f":"ASIN!F1528","v":0}]
[{"$f":"ASIN!A1529","v":0},{"$f":"ASIN!B1529","v":0},{"$f":"ASIN!C1529","v":0},{"$f":"ASIN!D1529","v":0},{"$f":"ASIN!E1529","v":0},{"$f":"ASIN!F1529","v":0}]
[{"$f":"ASIN!A1530","v":0},{"$f":"ASIN!B1530","v":0},{"$f":"ASIN!C1530","v":0},{"$f":"ASIN!D1530","v":0},{"$f":"ASIN!E1530","v":0},{"$f":"ASIN!F1530","v":0}]
[{"$f":"ASIN!A1531","v":0},{"$f":"ASIN!B1531","v":0},{"$f":"ASIN!C1531","v":0},{"$f":"ASIN!D1531","v":0},{"$f":"ASIN!E1531","v":0},{"$f":"ASIN!F1531","v":0}]
[{"$f":"ASIN!A1532","v":0},{"$f":"ASIN!B1532","v":0},{"$f":"ASIN!C1532","v":0},{"$f":"ASIN!D1532","v":0},{"$f":"ASIN!E1532","v":0},{"$f":"ASIN!F1532","v":0}]
[{"$f":"ASIN!A1533","v":0},{"$f":"ASIN!B1533","v":0},{"$f":"ASIN!C1533","v":0},{"$f":"ASIN!D1533","v":0},{"$f":"ASIN!E1533","v":0},{"$f":"ASIN!F1533","v":0}]
[{"$f":"ASIN!A1534","v":0},{"$f":"ASIN!B1534","v":0},{"$f":"ASIN!C1534","v":0},{"$f":"ASIN!D1534","v":0},{"$f":"ASIN!E1534","v":0},{"$f":"ASIN!F1534","v":0}]
[{"$f":"ASIN!A1535","v":0},{"$f":"ASIN!B1535","v":0},{"$f":"ASIN!C1535","v":0},{"$f":"ASIN!D1535","v":0},{"$f":"ASIN!E1535","v":0},{"$f":"ASIN!F1535","v":0}]
[{"$f":"ASIN!A1536","v":0},{"$f":"ASIN!B1536","v":0},{"$f":"ASIN!C1536","v":0},{"$f":"ASIN!D1536","v":0},{"$f":"ASIN!E1536","v":0},{"$f":"ASIN!F1536","v":0}]
[{"$f":"ASIN!A1537","v":0},{"$f":"ASIN!B1537","v":0},{"$f":"ASIN!C1537","v":0},{"$f":"ASIN!D1537","v":0},{"$f":"ASIN!E1537","v":0},{"$f":"ASIN!F1537","v":0}]
[{"$f":"ASIN!A1538","v":0},{"$f":"ASIN!B1538","v":0},{"$f":"ASIN!C1538","v":0},{"$f":"ASIN!D1538","v":0},{"$f":"ASIN!E1538","v":0},{"$f":"ASIN!F1538","v":0}]
[{"$f":"ASIN!A1539","v":0},{"$f":"ASIN!B1539","v":0},{"$f":"ASIN!C1539","v":0},{"$f":"ASIN!D1539","v":0},{"$f":"ASIN!E1539","v":0},{"$f":"ASIN!F1539","v":0}]
[{"$f":"ASIN!A1540","v":0},{"$f":"ASIN!B1540","v":0},{"$f":"ASIN!C1540","v":0},{"$f":"ASIN!D1540","v":0},{"$f":"ASIN!E1540","v":0},{"$f":"ASIN!F1540","v":0}]
[{"$f":"ASIN!A1541","v":0},{"$f":"ASIN!B1541","v":0},{"$f":"ASIN!C1541","v":0},{"$f":"ASIN!D1541","v":0},{"$f":"ASIN!E1541","v":0},{"$f":"ASIN!F1541","v":0}]
[{"$f":"ASIN!A1542","v":0},{"$f":"ASIN!B1542","v":0},{"$f":"ASIN!C1542","v":0},{"$f":"ASIN!D1542","v":0},{"$f":"ASIN!E1542","v":0},{"$f":"ASIN!F1542","v":0}]
[{"$f":"ASIN!A1543","v":0},{"$f":"ASIN!B1543","v":0},{"$f":"ASIN!C1543","v":0},{"$f":"ASIN!D1543","v":0},{"$f":"ASIN!E1543","v":0},{"$f":"ASIN!F1543","v":0}]
[{"$f":"ASIN!A1544","v":0},{"$f":"ASIN!B1544","v":0},{"$f":"ASIN!C1544","v":0},{"$f":"ASIN!D1544","v":0},{"$f":"ASIN!E1544","v":0},{"$f":"ASIN!F1544","v":0}]
[{"$f":"ASIN!A1545","v":0},{"$f":"ASIN!B1545","v":0},{"$f":"ASIN!C1545","v":0},{"$f":"ASIN!D1545","v":0},{"$f":"ASIN!E1545","v":0},{"$f":"ASIN!F1545","v":0}]
[{"$f":"ASIN!A1546","v":0},{"$f":"ASIN!B1546","v":0},{"$f":"ASIN!C1546","v":0},{"$f":"ASIN!D1546","v":0},{"$f":"ASIN!E1546","v":0},{"$f":"ASIN!F1546","v":0}]
[{"$f":"ASIN!A1547","v":0},{"$f":"ASIN!B1547","v":0},{"$f":"ASIN!C1547","v":0},{"$f":"ASIN!D1547","v":0},{"$f":"ASIN!E1547","v":0},{"$f":"ASIN!F1547","v":0}]
[{"$f":"ASIN!A1548","v":0},{"$f":"ASIN!B1548","v":0},{"$f":"ASIN!C1548","v":0},{"$f":"ASIN!D1548","v":0},{"$f":"ASIN!E1548","v":0},{"$f":"ASIN!F1548","v":0}]
[{"$f":"ASIN!A1549","v":0},{"$f":"ASIN!B1549","v":0},{"$f":"ASIN!C1549","v":0},{"$f":"ASIN!D1549","v":0},{"$f":"ASIN!E1549","v":0},{"$f":"ASIN!F1549","v":0}]
[{"$f":"ASIN!A1550","v":0},{"$f":"ASIN!B1550","v":0},{"$f":"ASIN!C1550","v":0},{"$f":"ASIN!D1550","v":0},{"$f":"ASIN!E1550","v":0},{"$f":"ASIN!F1550","v":0}]
[{"$f":"ASIN!A1551","v":0},{"$f":"ASIN!B1551","v":0},{"$f":"ASIN!C1551","v":0},{"$f":"ASIN!D1551","v":0},{"$f":"ASIN!E1551","v":0},{"$f":"ASIN!F1551","v":0}]
[{"$f":"ASIN!A1552","v":0},{"$f":"ASIN!B1552","v":0},{"$f":"ASIN!C1552","v":0},{"$f":"ASIN!D1552","v":0},{"$f":"ASIN!E1552","v":0},{"$f":"ASIN!F1552","v":0}]
[{"$f":"ASIN!A1553","v":0},{"$f":"ASIN!B1553","v":0},{"$f":"ASIN!C1553","v":0},{"$f":"ASIN!D1553","v":0},{"$f":"ASIN!E1553","v":0},{"$f":"ASIN!F1553","v":0}]
[{"$f":"ASIN!A1554","v":0},{"$f":"ASIN!B1554","v":0},{"$f":"ASIN!C1554","v":0},{"$f":"ASIN!D1554","v":0},{"$f":"ASIN!E1554","v":0},{"$f":"ASIN!F1554","v":0}]
[{"$f":"ASIN!A1555","v":0},{"$f":"ASIN!B1555","v":0},{"$f":"ASIN!C1555","v":0},{"$f":"ASIN!D1555","v":0},{"$f":"ASIN!E1555","v":0},{"$f":"ASIN!F1555","v":0}]
[{"$f":"ASIN!A1556","v":0},{"$f":"ASIN!B1556","v":0},{"$f":"ASIN!C1556","v":0},{"$f":"ASIN!D1556","v":0},{"$f":"ASIN!E1556","v":0},{"$f":"ASIN!F1556","v":0}]
[{"$f":"ASIN!A1557","v":0},{"$f":"ASIN!B1557","v":0},{"$f":"ASIN!C1557","v":0},{"$f":"ASIN!D1557","v":0},{"$f":"ASIN!E1557","v":0},{"$f":"ASIN!F1557","v":0}]
[{"$f":"ASIN!A1558","v":0},{"$f":"ASIN!B1558","v":0},{"$f":"ASIN!C1558","v":0},{"$f":"ASIN!D1558","v":0},{"$f":"ASIN!E1558","v":0},{"$f":"ASIN!F1558","v":0}]
[{"$f":"ASIN!A1559","v":0},{"$f":"ASIN!B1559","v":0},{"$f":"ASIN!C1559","v":0},{"$f":"ASIN!D1559","v":0},{"$f":"ASIN!E1559","v":0},{"$f":"ASIN!F1559","v":0}]
[{"$f":"ASIN!A1560","v":0},{"$f":"ASIN!B1560","v":0},{"$f":"ASIN!C1560","v":0},{"$f":"ASIN!D1560","v":0},{"$f":"ASIN!E1560","v":0},{"$f":"ASIN!F1560","v":0}]
[{"$f":"ASIN!A1561","v":0},{"$f":"ASIN!B1561","v":0},{"$f":"ASIN!C1561","v":0},{"$f":"ASIN!D1561","v":0},{"$f":"ASIN!E1561","v":0},{"$f":"ASIN!F1561","v":0}]
[{"$f":"ASIN!A1562","v":0},{"$f":"ASIN!B1562","v":0},{"$f":"ASIN!C1562","v":0},{"$f":"ASIN!D1562","v":0},{"$f":"ASIN!E1562","v":0},{"$f":"ASIN!F1562","v":0}]
[{"$f":"ASIN!A1563","v":0},{"$f":"ASIN!B1563","v":0},{"$f":"ASIN!C1563","v":0},{"$f":"ASIN!D1563","v":0},{"$f":"ASIN!E1563","v":0},{"$f":"ASIN!F1563","v":0}]
[{"$f":"ASIN!A1564","v":0},{"$f":"ASIN!B1564","v":0},{"$f":"ASIN!C1564","v":0},{"$f":"ASIN!D1564","v":0},{"$f":"ASIN!E1564","v":0},{"$f":"ASIN!F1564","v":0}]
[{"$f":"ASIN!A1565","v":0},{"$f":"ASIN!B1565","v":0},{"$f":"ASIN!C1565","v":0},{"$f":"ASIN!D1565","v":0},{"$f":"ASIN!E1565","v":0},{"$f":"ASIN!F1565","v":0}]
[{"$f":"ASIN!A1566","v":0},{"$f":"ASIN!B1566","v":0},{"$f":"ASIN!C1566","v":0},{"$f":"ASIN!D1566","v":0},{"$f":"ASIN!E1566","v":0},{"$f":"ASIN!F1566","v":0}]
[{"$f":"ASIN!A1567","v":0},{"$f":"ASIN!B1567","v":0},{"$f":"ASIN!C1567","v":0},{"$f":"ASIN!D1567","v":0},{"$f":"ASIN!E1567","v":0},{"$f":"ASIN!F1567","v":0}]
[{"$f":"ASIN!A1568","v":0},{"$f":"ASIN!B1568","v":0},{"$f":"ASIN!C1568","v":0},{"$f":"ASIN!D1568","v":0},{"$f":"ASIN!E1568","v":0},{"$f":"ASIN!F1568","v":0}]
[{"$f":"ASIN!A1569","v":0},{"$f":"ASIN!B1569","v":0},{"$f":"ASIN!C1569","v":0},{"$f":"ASIN!D1569","v":0},{"$f":"ASIN!E1569","v":0},{"$f":"ASIN!F1569","v":0}]
[{"$f":"ASIN!A1570","v":0},{"$f":"ASIN!B1570","v":0},{"$f":"ASIN!C1570","v":0},{"$f":"ASIN!D1570","v":0},{"$f":"ASIN!E1570","v":0},{"$f":"ASIN!F1570","v":0}]
[{"$f":"ASIN!A1571","v":0},{"$f":"ASIN!B1571","v":0},{"$f":"ASIN!C1571","v":0},{"$f":"ASIN!D1571","v":0},{"$f":"ASIN!E1571","v":0},{"$f":"ASIN!F1571","v":0}]
[{"$f":"ASIN!A1572","v":0},{"$f":"ASIN!B1572","v":0},{"$f":"ASIN!C1572","v":0},{"$f":"ASIN!D1572","v":0},{"$f":"ASIN!E1572","v":0},{"$f":"ASIN!F1572","v":0}]
[{"$f":"ASIN!A1573","v":0},{"$f":"ASIN!B1573","v":0},{"$f":"ASIN!C1573","v":0},{"$f":"ASIN!D1573","v":0},{"$f":"ASIN!E1573","v":0},{"$f":"ASIN!F1573","v":0}]
[{"$f":"ASIN!A1574","v":0},{"$f":"ASIN!B1574","v":0},{"$f":"ASIN!C1574","v":0},{"$f":"ASIN!D1574","v":0},{"$f":"ASIN!E1574","v":0},{"$f":"ASIN!F1574","v":0}]
[{"$f":"ASIN!A1575","v":0},{"$f":"ASIN!B1575","v":0},{"$f":"ASIN!C1575","v":0},{"$f":"ASIN!D1575","v":0},{"$f":"ASIN!E1575","v":0},{"$f":"ASIN!F1575","v":0}]
[{"$f":"ASIN!A1576","v":0},{"$f":"ASIN!B1576","v":0},{"$f":"ASIN!C1576","v":0},{"$f":"ASIN!D1576","v":0},{"$f":"ASIN!E1576","v":0},{"$f":"ASIN!F1576","v":0}]
[{"$f":"ASIN!A1577","v":0},{"$f":"ASIN!B1577","v":0},{"$f":"ASIN!C1577","v":0},{"$f":"ASIN!D1577","v":0},{"$f":"ASIN!E1577","v":0},{"$f":"ASIN!F1577","v":0}]
[{"$f":"ASIN!A1578","v":0},{"$f":"ASIN!B1578","v":0},{"$f":"ASIN!C1578","v":0},{"$f":"ASIN!D1578","v":0},{"$f":"ASIN!E1578","v":0},{"$f":"ASIN!F1578","v":0}]
[{"$f":"ASIN!A1579","v":0},{"$f":"ASIN!B1579","v":0},{"$f":"ASIN!C1579","v":0},{"$f":"ASIN!D1579","v":0},{"$f":"ASIN!E1579","v":0},{"$f":"ASIN!F1579","v":0}]
[{"$f":"ASIN!A1580","v":0},{"$f":"ASIN!B1580","v":0},{"$f":"ASIN!C1580","v":0},{"$f":"ASIN!D1580","v":0},{"$f":"ASIN!E1580","v":0},{"$f":"ASIN!F1580","v":0}]
[{"$f":"ASIN!A1581","v":0},{"$f":"ASIN!B1581","v":0},{"$f":"ASIN!C1581","v":0},{"$f":"ASIN!D1581","v":0},{"$f":"ASIN!E1581","v":0},{"$f":"ASIN!F1581","v":0}]
[{"$f":"ASIN!A1582","v":0},{"$f":"ASIN!B1582","v":0},{"$f":"ASIN!C1582","v":0},{"$f":"ASIN!D1582","v":0},{"$f":"ASIN!E1582","v":0},{"$f":"ASIN!F1582","v":0}]
[{"$f":"ASIN!A1583","v":0},{"$f":"ASIN!B1583","v":0},{"$f":"ASIN!C1583","v":0},{"$f":"ASIN!D1583","v":0},{"$f":"ASIN!E1583","v":0},{"$f":"ASIN!F1583","v":0}]
[{"$f":"ASIN!A1584","v":0},{"$f":"ASIN!B1584","v":0},{"$f":"ASIN!C1584","v":0},{"$f":"ASIN!D1584","v":0},{"$f":"ASIN!E1584","v":0},{"$f":"ASIN!F1584","v":0}]
[{"$f":"ASIN!A1585","v":0},{"$f":"ASIN!B1585","v":0},{"$f":"ASIN!C1585","v":0},{"$f":"ASIN!D1585","v":0},{"$f":"ASIN!E1585","v":0},{"$f":"ASIN!F1585","v":0}]
[{"$f":"ASIN!A1586","v":0},{"$f":"ASIN!B1586","v":0},{"$f":"ASIN!C1586","v":0},{"$f":"ASIN!D1586","v":0},{"$f":"ASIN!E1586","v":0},{"$f":"ASIN!F1586","v":0}]
[{"$f":"ASIN!A1587","v":0},{"$f":"ASIN!B1587","v":0},{"$f":"ASIN!C1587","v":0},{"$f":"ASIN!D1587","v":0},{"$f":"ASIN!E1587","v":0},{"$f":"ASIN!F1587","v":0}]
[{"$f":"ASIN!A1588","v":0},{"$f":"ASIN!B1588","v":0},{"$f":"ASIN!C1588","v":0},{"$f":"ASIN!D1588","v":0},{"$f":"ASIN!E1588","v":0},{"$f":"ASIN!F1588","v":0}]
[{"$f":"ASIN!A1589","v":0},{"$f":"ASIN!B1589","v":0},{"$f":"ASIN!C1589","v":0},{"$f":"ASIN!D1589","v":0},{"$f":"ASIN!E1589","v":0},{"$f":"ASIN!F1589","v":0}]
[{"$f":"ASIN!A1590","v":0},{"$f":"ASIN!B1590","v":0},{"$f":"ASIN!C1590","v":0},{"$f":"ASIN!D1590","v":0},{"$f":"ASIN!E1590","v":0},{"$f":"ASIN!F1590","v":0}]
[{"$f":"ASIN!A1591","v":0},{"$f":"ASIN!B1591","v":0},{"$f":"ASIN!C1591","v":0},{"$f":"ASIN!D1591","v":0},{"$f":"ASIN!E1591","v":0},{"$f":"ASIN!F1591","v":0}]
[{"$f":"ASIN!A1592","v":0},{"$f":"ASIN!B1592","v":0},{"$f":"ASIN!C1592","v":0},{"$f":"ASIN!D1592","v":0},{"$f":"ASIN!E1592","v":0},{"$f":"ASIN!F1592","v":0}]
[{"$f":"ASIN!A1593","v":0},{"$f":"ASIN!B1593","v":0},{"$f":"ASIN!C1593","v":0},{"$f":"ASIN!D1593","v":0},{"$f":"ASIN!E1593","v":0},{"$f":"ASIN!F1593","v":0}]
[{"$f":"ASIN!A1594","v":0},{"$f":"ASIN!B1594","v":0},{"$f":"ASIN!C1594","v":0},{"$f":"ASIN!D1594","v":0},{"$f":"ASIN!E1594","v":0},{"$f":"ASIN!F1594","v":0}]
[{"$f":"ASIN!A1595","v":0},{"$f":"ASIN!B1595","v":0},{"$f":"ASIN!C1595","v":0},{"$f":"ASIN!D1595","v":0},{"$f":"ASIN!E1595","v":0},{"$f":"ASIN!F1595","v":0}]
[{"$f":"ASIN!A1596","v":0},{"$f":"ASIN!B1596","v":0},{"$f":"ASIN!C1596","v":0},{"$f":"ASIN!D1596","v":0},{"$f":"ASIN!E1596","v":0},{"$f":"ASIN!F1596","v":0}]
[{"$f":"ASIN!A1597","v":0},{"$f":"ASIN!B1597","v":0},{"$f":"ASIN!C1597","v":0},{"$f":"ASIN!D1597","v":0},{"$f":"ASIN!E1597","v":0},{"$f":"ASIN!F1597","v":0}]
[{"$f":"ASIN!A1598","v":0},{"$f":"ASIN!B1598","v":0},{"$f":"ASIN!C1598","v":0},{"$f":"ASIN!D1598","v":0},{"$f":"ASIN!E1598","v":0},{"$f":"ASIN!F1598","v":0}]
[{"$f":"ASIN!A1599","v":0},{"$f":"ASIN!B1599","v":0},{"$f":"ASIN!C1599","v":0},{"$f":"ASIN!D1599","v":0},{"$f":"ASIN!E1599","v":0},{"$f":"ASIN!F1599","v":0}]
[{"$f":"ASIN!A1600","v":0},{"$f":"ASIN!B1600","v":0},{"$f":"ASIN!C1600","v":0},{"$f":"ASIN!D1600","v":0},{"$f":"ASIN!E1600","v":0},{"$f":"ASIN!F1600","v":0}]
[{"$f":"ASIN!A1601","v":0},{"$f":"ASIN!B1601","v":0},{"$f":"ASIN!C1601","v":0},{"$f":"ASIN!D1601","v":0},{"$f":"ASIN!E1601","v":0},{"$f":"ASIN!F1601","v":0}]
[{"$f":"ASIN!A1602","v":0},{"$f":"ASIN!B1602","v":0},{"$f":"ASIN!C1602","v":0},{"$f":"ASIN!D1602","v":0},{"$f":"ASIN!E1602","v":0},{"$f":"ASIN!F1602","v":0}]
[{"$f":"ASIN!A1603","v":0},{"$f":"ASIN!B1603","v":0},{"$f":"ASIN!C1603","v":0},{"$f":"ASIN!D1603","v":0},{"$f":"ASIN!E1603","v":0},{"$f":"ASIN!F1603","v":0}]
[{"$f":"ASIN!A1604","v":0},{"$f":"ASIN!B1604","v":0},{"$f":"ASIN!C1604","v":0},{"$f":"ASIN!D1604","v":0},{"$f":"ASIN!E1604","v":0},{"$f":"ASIN!F1604","v":0}]
[{"$f":"ASIN!A1605","v":0},{"$f":"ASIN!B1605","v":0},{"$f":"ASIN!C1605","v":0},{"$f":"ASIN!D1605","v":0},{"$f":"ASIN!E1605","v":0},{"$f":"ASIN!F1605","v":0}]
[{"$f":"ASIN!A1606","v":0},{"$f":"ASIN!B1606","v":0},{"$f":"ASIN!C1606","v":0},{"$f":"ASIN!D1606","v":0},{"$f":"ASIN!E1606","v":0},{"$f":"ASIN!F1606","v":0}]
[{"$f":"ASIN!A1607","v":0},{"$f":"ASIN!B1607","v":0},{"$f":"ASIN!C1607","v":0},{"$f":"ASIN!D1607","v":0},{"$f":"ASIN!E1607","v":0},{"$f":"ASIN!F1607","v":0}]
[{"$f":"ASIN!A1608","v":0},{"$f":"ASIN!B1608","v":0},{"$f":"ASIN!C1608","v":0},{"$f":"ASIN!D1608","v":0},{"$f":"ASIN!E1608","v":0},{"$f":"ASIN!F1608","v":0}]
[{"$f":"ASIN!A1609","v":0},{"$f":"ASIN!B1609","v":0},{"$f":"ASIN!C1609","v":0},{"$f":"ASIN!D1609","v":0},{"$f":"ASIN!E1609","v":0},{"$f":"ASIN!F1609","v":0}]
[{"$f":"ASIN!A1610","v":0},{"$f":"ASIN!B1610","v":0},{"$f":"ASIN!C1610","v":0},{"$f":"ASIN!D1610","v":0},{"$f":"ASIN!E1610","v":0},{"$f":"ASIN!F1610","v":0}]
[{"$f":"ASIN!A1611","v":0},{"$f":"ASIN!B1611","v":0},{"$f":"ASIN!C1611","v":0},{"$f":"ASIN!D1611","v":0},{"$f":"ASIN!E1611","v":0},{"$f":"ASIN!F1611","v":0}]
[{"$f":"ASIN!A1612","v":0},{"$f":"ASIN!B1612","v":0},{"$f":"ASIN!C1612","v":0},{"$f":"ASIN!D1612","v":0},{"$f":"ASIN!E1612","v":0},{"$f":"ASIN!F1612","v":0}]
[{"$f":"ASIN!A1613","v":0},{"$f":"ASIN!B1613","v":0},{"$f":"ASIN!C1613","v":0},{"$f":"ASIN!D1613","v":0},{"$f":"ASIN!E1613","v":0},{"$f":"ASIN!F1613","v":0}]
[{"$f":"ASIN!A1614","v":0},{"$f":"ASIN!B1614","v":0},{"$f":"ASIN!C1614","v":0},{"$f":"ASIN!D1614","v":0},{"$f":"ASIN!E1614","v":0},{"$f":"ASIN!F1614","v":0}]
[{"$f":"ASIN!A1615","v":0},{"$f":"ASIN!B1615","v":0},{"$f":"ASIN!C1615","v":0},{"$f":"ASIN!D1615","v":0},{"$f":"ASIN!E1615","v":0},{"$f":"ASIN!F1615","v":0}]
[{"$f":"ASIN!A1616","v":0},{"$f":"ASIN!B1616","v":0},{"$f":"ASIN!C1616","v":0},{"$f":"ASIN!D1616","v":0},{"$f":"ASIN!E1616","v":0},{"$f":"ASIN!F1616","v":0}]
[{"$f":"ASIN!A1617","v":0},{"$f":"ASIN!B1617","v":0},{"$f":"ASIN!C1617","v":0},{"$f":"ASIN!D1617","v":0},{"$f":"ASIN!E1617","v":0},{"$f":"ASIN!F1617","v":0}]
[{"$f":"ASIN!A1618","v":0},{"$f":"ASIN!B1618","v":0},{"$f":"ASIN!C1618","v":0},{"$f":"ASIN!D1618","v":0},{"$f":"ASIN!E1618","v":0},{"$f":"ASIN!F1618","v":0}]
[{"$f":"ASIN!A1619","v":0},{"$f":"ASIN!B1619","v":0},{"$f":"ASIN!C1619","v":0},{"$f":"ASIN!D1619","v":0},{"$f":"ASIN!E1619","v":0},{"$f":"ASIN!F1619","v":0}]
[{"$f":"ASIN!A1620","v":0},{"$f":"ASIN!B1620","v":0},{"$f":"ASIN!C1620","v":0},{"$f":"ASIN!D1620","v":0},{"$f":"ASIN!E1620","v":0},{"$f":"ASIN!F1620","v":0}]
[{"$f":"ASIN!A1621","v":0},{"$f":"ASIN!B1621","v":0},{"$f":"ASIN!C1621","v":0},{"$f":"ASIN!D1621","v":0},{"$f":"ASIN!E1621","v":0},{"$f":"ASIN!F1621","v":0}]
[{"$f":"ASIN!A1622","v":0},{"$f":"ASIN!B1622","v":0},{"$f":"ASIN!C1622","v":0},{"$f":"ASIN!D1622","v":0},{"$f":"ASIN!E1622","v":0},{"$f":"ASIN!F1622","v":0}]
[{"$f":"ASIN!A1623","v":0},{"$f":"ASIN!B1623","v":0},{"$f":"ASIN!C1623","v":0},{"$f":"ASIN!D1623","v":0},{"$f":"ASIN!E1623","v":0},{"$f":"ASIN!F1623","v":0}]
[{"$f":"ASIN!A1624","v":0},{"$f":"ASIN!B1624","v":0},{"$f":"ASIN!C1624","v":0},{"$f":"ASIN!D1624","v":0},{"$f":"ASIN!E1624","v":0},{"$f":"ASIN!F1624","v":0}]
[{"$f":"ASIN!A1625","v":0},{"$f":"ASIN!B1625","v":0},{"$f":"ASIN!C1625","v":0},{"$f":"ASIN!D1625","v":0},{"$f":"ASIN!E1625","v":0},{"$f":"ASIN!F1625","v":0}]
[{"$f":"ASIN!A1626","v":0},{"$f":"ASIN!B1626","v":0},{"$f":"ASIN!C1626","v":0},{"$f":"ASIN!D1626","v":0},{"$f":"ASIN!E1626","v":0},{"$f":"ASIN!F1626","v":0}]
[{"$f":"ASIN!A1627","v":0},{"$f":"ASIN!B1627","v":0},{"$f":"ASIN!C1627","v":0},{"$f":"ASIN!D1627","v":0},{"$f":"ASIN!E1627","v":0},{"$f":"ASIN!F1627","v":0}]
[{"$f":"ASIN!A1628","v":0},{"$f":"ASIN!B1628","v":0},{"$f":"ASIN!C1628","v":0},{"$f":"ASIN!D1628","v":0},{"$f":"ASIN!E1628","v":0},{"$f":"ASIN!F1628","v":0}]
[{"$f":"ASIN!A1629","v":0},{"$f":"ASIN!B1629","v":0},{"$f":"ASIN!C1629","v":0},{"$f":"ASIN!D1629","v":0},{"$f":"ASIN!E1629","v":0},{"$f":"ASIN!F1629","v":0}]
[{"$f":"ASIN!A1630","v":0},{"$f":"ASIN!B1630","v":0},{"$f":"ASIN!C1630","v":0},{"$f":"ASIN!D1630","v":0},{"$f":"ASIN!E1630","v":0},{"$f":"ASIN!F1630","v":0}]
[{"$f":"ASIN!A1631","v":0},{"$f":"ASIN!B1631","v":0},{"$f":"ASIN!C1631","v":0},{"$f":"ASIN!D1631","v":0},{"$f":"ASIN!E1631","v":0},{"$f":"ASIN!F1631","v":0}]
[{"$f":"ASIN!A1632","v":0},{"$f":"ASIN!B1632","v":0},{"$f":"ASIN!C1632","v":0},{"$f":"ASIN!D1632","v":0},{"$f":"ASIN!E1632","v":0},{"$f":"ASIN!F1632","v":0}]
[{"$f":"ASIN!A1633","v":0},{"$f":"ASIN!B1633","v":0},{"$f":"ASIN!C1633","v":0},{"$f":"ASIN!D1633","v":0},{"$f":"ASIN!E1633","v":0},{"$f":"ASIN!F1633","v":0}]
[{"$f":"ASIN!A1634","v":0},{"$f":"ASIN!B1634","v":0},{"$f":"ASIN!C1634","v":0},{"$f":"ASIN!D1634","v":0},{"$f":"ASIN!E1634","v":0},{"$f":"ASIN!F1634","v":0}]
[{"$f":"ASIN!A1635","v":0},{"$f":"ASIN!B1635","v":0},{"$f":"ASIN!C1635","v":0},{"$f":"ASIN!D1635","v":0},{"$f":"ASIN!E1635","v":0},{"$f":"ASIN!F1635","v":0}]
[{"$f":"ASIN!A1636","v":0},{"$f":"ASIN!B1636","v":0},{"$f":"ASIN!C1636","v":0},{"$f":"ASIN!D1636","v":0},{"$f":"ASIN!E1636","v":0},{"$f":"ASIN!F1636","v":0}]
[{"$f":"ASIN!A1637","v":0},{"$f":"ASIN!B1637","v":0},{"$f":"ASIN!C1637","v":0},{"$f":"ASIN!D1637","v":0},{"$f":"ASIN!E1637","v":0},{"$f":"ASIN!F1637","v":0}]
[{"$f":"ASIN!A1638","v":0},{"$f":"ASIN!B1638","v":0},{"$f":"ASIN!C1638","v":0},{"$f":"ASIN!D1638","v":0},{"$f":"ASIN!E1638","v":0},{"$f":"ASIN!F1638","v":0}]
[{"$f":"ASIN!A1639","v":0},{"$f":"ASIN!B1639","v":0},{"$f":"ASIN!C1639","v":0},{"$f":"ASIN!D1639","v":0},{"$f":"ASIN!E1639","v":0},{"$f":"ASIN!F1639","v":0}]
[{"$f":"ASIN!A1640","v":0},{"$f":"ASIN!B1640","v":0},{"$f":"ASIN!C1640","v":0},{"$f":"ASIN!D1640","v":0},{"$f":"ASIN!E1640","v":0},{"$f":"ASIN!F1640","v":0}]
[{"$f":"ASIN!A1641","v":0},{"$f":"ASIN!B1641","v":0},{"$f":"ASIN!C1641","v":0},{"$f":"ASIN!D1641","v":0},{"$f":"ASIN!E1641","v":0},{"$f":"ASIN!F1641","v":0}]
[{"$f":"ASIN!A1642","v":0},{"$f":"ASIN!B1642","v":0},{"$f":"ASIN!C1642","v":0},{"$f":"ASIN!D1642","v":0},{"$f":"ASIN!E1642","v":0},{"$f":"ASIN!F1642","v":0}]
[{"$f":"ASIN!A1643","v":0},{"$f":"ASIN!B1643","v":0},{"$f":"ASIN!C1643","v":0},{"$f":"ASIN!D1643","v":0},{"$f":"ASIN!E1643","v":0},{"$f":"ASIN!F1643","v":0}]
[{"$f":"ASIN!A1644","v":0},{"$f":"ASIN!B1644","v":0},{"$f":"ASIN!C1644","v":0},{"$f":"ASIN!D1644","v":0},{"$f":"ASIN!E1644","v":0},{"$f":"ASIN!F1644","v":0}]
[{"$f":"ASIN!A1645","v":0},{"$f":"ASIN!B1645","v":0},{"$f":"ASIN!C1645","v":0},{"$f":"ASIN!D1645","v":0},{"$f":"ASIN!E1645","v":0},{"$f":"ASIN!F1645","v":0}]
[{"$f":"ASIN!A1646","v":0},{"$f":"ASIN!B1646","v":0},{"$f":"ASIN!C1646","v":0},{"$f":"ASIN!D1646","v":0},{"$f":"ASIN!E1646","v":0},{"$f":"ASIN!F1646","v":0}]
[{"$f":"ASIN!A1647","v":0},{"$f":"ASIN!B1647","v":0},{"$f":"ASIN!C1647","v":0},{"$f":"ASIN!D1647","v":0},{"$f":"ASIN!E1647","v":0},{"$f":"ASIN!F1647","v":0}]
[{"$f":"ASIN!A1648","v":0},{"$f":"ASIN!B1648","v":0},{"$f":"ASIN!C1648","v":0},{"$f":"ASIN!D1648","v":0},{"$f":"ASIN!E1648","v":0},{"$f":"ASIN!F1648","v":0}]
[{"$f":"ASIN!A1649","v":0},{"$f":"ASIN!B1649","v":0},{"$f":"ASIN!C1649","v":0},{"$f":"ASIN!D1649","v":0},{"$f":"ASIN!E1649","v":0},{"$f":"ASIN!F1649","v":0}]
[{"$f":"ASIN!A1650","v":0},{"$f":"ASIN!B1650","v":0},{"$f":"ASIN!C1650","v":0},{"$f":"ASIN!D1650","v":0},{"$f":"ASIN!E1650","v":0},{"$f":"ASIN!F1650","v":0}]
[{"$f":"ASIN!A1651","v":0},{"$f":"ASIN!B1651","v":0},{"$f":"ASIN!C1651","v":0},{"$f":"ASIN!D1651","v":0},{"$f":"ASIN!E1651","v":0},{"$f":"ASIN!F1651","v":0}]
[{"$f":"ASIN!A1652","v":0},{"$f":"ASIN!B1652","v":0},{"$f":"ASIN!C1652","v":0},{"$f":"ASIN!D1652","v":0},{"$f":"ASIN!E1652","v":0},{"$f":"ASIN!F1652","v":0}]
[{"$f":"ASIN!A1653","v":0},{"$f":"ASIN!B1653","v":0},{"$f":"ASIN!C1653","v":0},{"$f":"ASIN!D1653","v":0},{"$f":"ASIN!E1653","v":0},{"$f":"ASIN!F1653","v":0}]
[{"$f":"ASIN!A1654","v":0},{"$f":"ASIN!B1654","v":0},{"$f":"ASIN!C1654","v":0},{"$f":"ASIN!D1654","v":0},{"$f":"ASIN!E1654","v":0},{"$f":"ASIN!F1654","v":0}]
[{"$f":"ASIN!A1655","v":0},{"$f":"ASIN!B1655","v":0},{"$f":"ASIN!C1655","v":0},{"$f":"ASIN!D1655","v":0},{"$f":"ASIN!E1655","v":0},{"$f":"ASIN!F1655","v":0}]
[{"$f":"ASIN!A1656","v":0},{"$f":"ASIN!B1656","v":0},{"$f":"ASIN!C1656","v":0},{"$f":"ASIN!D1656","v":0},{"$f":"ASIN!E1656","v":0},{"$f":"ASIN!F1656","v":0}]
[{"$f":"ASIN!A1657","v":0},{"$f":"ASIN!B1657","v":0},{"$f":"ASIN!C1657","v":0},{"$f":"ASIN!D1657","v":0},{"$f":"ASIN!E1657","v":0},{"$f":"ASIN!F1657","v":0}]
[{"$f":"ASIN!A1658","v":0},{"$f":"ASIN!B1658","v":0},{"$f":"ASIN!C1658","v":0},{"$f":"ASIN!D1658","v":0},{"$f":"ASIN!E1658","v":0},{"$f":"ASIN!F1658","v":0}]
[{"$f":"ASIN!A1659","v":0},{"$f":"ASIN!B1659","v":0},{"$f":"ASIN!C1659","v":0},{"$f":"ASIN!D1659","v":0},{"$f":"ASIN!E1659","v":0},{"$f":"ASIN!F1659","v":0}]
[{"$f":"ASIN!A1660","v":0},{"$f":"ASIN!B1660","v":0},{"$f":"ASIN!C1660","v":0},{"$f":"ASIN!D1660","v":0},{"$f":"ASIN!E1660","v":0},{"$f":"ASIN!F1660","v":0}]
[{"$f":"ASIN!A1661","v":0},{"$f":"ASIN!B1661","v":0},{"$f":"ASIN!C1661","v":0},{"$f":"ASIN!D1661","v":0},{"$f":"ASIN!E1661","v":0},{"$f":"ASIN!F1661","v":0}]
[{"$f":"ASIN!A1662","v":0},{"$f":"ASIN!B1662","v":0},{"$f":"ASIN!C1662","v":0},{"$f":"ASIN!D1662","v":0},{"$f":"ASIN!E1662","v":0},{"$f":"ASIN!F1662","v":0}]
[{"$f":"ASIN!A1663","v":0},{"$f":"ASIN!B1663","v":0},{"$f":"ASIN!C1663","v":0},{"$f":"ASIN!D1663","v":0},{"$f":"ASIN!E1663","v":0},{"$f":"ASIN!F1663","v":0}]
[{"$f":"ASIN!A1664","v":0},{"$f":"ASIN!B1664","v":0},{"$f":"ASIN!C1664","v":0},{"$f":"ASIN!D1664","v":0},{"$f":"ASIN!E1664","v":0},{"$f":"ASIN!F1664","v":0}]
[{"$f":"ASIN!A1665","v":0},{"$f":"ASIN!B1665","v":0},{"$f":"ASIN!C1665","v":0},{"$f":"ASIN!D1665","v":0},{"$f":"ASIN!E1665","v":0},{"$f":"ASIN!F1665","v":0}]
[{"$f":"ASIN!A1666","v":0},{"$f":"ASIN!B1666","v":0},{"$f":"ASIN!C1666","v":0},{"$f":"ASIN!D1666","v":0},{"$f":"ASIN!E1666","v":0},{"$f":"ASIN!F1666","v":0}]
[{"$f":"ASIN!A1667","v":0},{"$f":"ASIN!B1667","v":0},{"$f":"ASIN!C1667","v":0},{"$f":"ASIN!D1667","v":0},{"$f":"ASIN!E1667","v":0},{"$f":"ASIN!F1667","v":0}]
[{"$f":"ASIN!A1668","v":0},{"$f":"ASIN!B1668","v":0},{"$f":"ASIN!C1668","v":0},{"$f":"ASIN!D1668","v":0},{"$f":"ASIN!E1668","v":0},{"$f":"ASIN!F1668","v":0}]
[{"$f":"ASIN!A1669","v":0},{"$f":"ASIN!B1669","v":0},{"$f":"ASIN!C1669","v":0},{"$f":"ASIN!D1669","v":0},{"$f":"ASIN!E1669","v":0},{"$f":"ASIN!F1669","v":0}]
[{"$f":"ASIN!A1670","v":0},{"$f":"ASIN!B1670","v":0},{"$f":"ASIN!C1670","v":0},{"$f":"ASIN!D1670","v":0},{"$f":"ASIN!E1670","v":0},{"$f":"ASIN!F1670","v":0}]
[{"$f":"ASIN!A1671","v":0},{"$f":"ASIN!B1671","v":0},{"$f":"ASIN!C1671","v":0},{"$f":"ASIN!D1671","v":0},{"$f":"ASIN!E1671","v":0},{"$f":"ASIN!F1671","v":0}]
[{"$f":"ASIN!A1672","v":0},{"$f":"ASIN!B1672","v":0},{"$f":"ASIN!C1672","v":0},{"$f":"ASIN!D1672","v":0},{"$f":"ASIN!E1672","v":0},{"$f":"ASIN!F1672","v":0}]
[{"$f":"ASIN!A1673","v":0},{"$f":"ASIN!B1673","v":0},{"$f":"ASIN!C1673","v":0},{"$f":"ASIN!D1673","v":0},{"$f":"ASIN!E1673","v":0},{"$f":"ASIN!F1673","v":0}]
[{"$f":"ASIN!A1674","v":0},{"$f":"ASIN!B1674","v":0},{"$f":"ASIN!C1674","v":0},{"$f":"ASIN!D1674","v":0},{"$f":"ASIN!E1674","v":0},{"$f":"ASIN!F1674","v":0}]
[{"$f":"ASIN!A1675","v":0},{"$f":"ASIN!B1675","v":0},{"$f":"ASIN!C1675","v":0},{"$f":"ASIN!D1675","v":0},{"$f":"ASIN!E1675","v":0},{"$f":"ASIN!F1675","v":0}]
[{"$f":"ASIN!A1676","v":0},{"$f":"ASIN!B1676","v":0},{"$f":"ASIN!C1676","v":0},{"$f":"ASIN!D1676","v":0},{"$f":"ASIN!E1676","v":0},{"$f":"ASIN!F1676","v":0}]
[{"$f":"ASIN!A1677","v":0},{"$f":"ASIN!B1677","v":0},{"$f":"ASIN!C1677","v":0},{"$f":"ASIN!D1677","v":0},{"$f":"ASIN!E1677","v":0},{"$f":"ASIN!F1677","v":0}]
[{"$f":"ASIN!A1678","v":0},{"$f":"ASIN!B1678","v":0},{"$f":"ASIN!C1678","v":0},{"$f":"ASIN!D1678","v":0},{"$f":"ASIN!E1678","v":0},{"$f":"ASIN!F1678","v":0}]
[{"$f":"ASIN!A1679","v":0},{"$f":"ASIN!B1679","v":0},{"$f":"ASIN!C1679","v":0},{"$f":"ASIN!D1679","v":0},{"$f":"ASIN!E1679","v":0},{"$f":"ASIN!F1679","v":0}]
[{"$f":"ASIN!A1680","v":0},{"$f":"ASIN!B1680","v":0},{"$f":"ASIN!C1680","v":0},{"$f":"ASIN!D1680","v":0},{"$f":"ASIN!E1680","v":0},{"$f":"ASIN!F1680","v":0}]
[{"$f":"ASIN!A1681","v":0},{"$f":"ASIN!B1681","v":0},{"$f":"ASIN!C1681","v":0},{"$f":"ASIN!D1681","v":0},{"$f":"ASIN!E1681","v":0},{"$f":"ASIN!F1681","v":0}]
[{"$f":"ASIN!A1682","v":0},{"$f":"ASIN!B1682","v":0},{"$f":"ASIN!C1682","v":0},{"$f":"ASIN!D1682","v":0},{"$f":"ASIN!E1682","v":0},{"$f":"ASIN!F1682","v":0}]
[{"$f":"ASIN!A1683","v":0},{"$f":"ASIN!B1683","v":0},{"$f":"ASIN!C1683","v":0},{"$f":"ASIN!D1683","v":0},{"$f":"ASIN!E1683","v":0},{"$f":"ASIN!F1683","v":0}]
[{"$f":"ASIN!A1684","v":0},{"$f":"ASIN!B1684","v":0},{"$f":"ASIN!C1684","v":0},{"$f":"ASIN!D1684","v":0},{"$f":"ASIN!E1684","v":0},{"$f":"ASIN!F1684","v":0}]
[{"$f":"ASIN!A1685","v":0},{"$f":"ASIN!B1685","v":0},{"$f":"ASIN!C1685","v":0},{"$f":"ASIN!D1685","v":0},{"$f":"ASIN!E1685","v":0},{"$f":"ASIN!F1685","v":0}]
[{"$f":"ASIN!A1686","v":0},{"$f":"ASIN!B1686","v":0},{"$f":"ASIN!C1686","v":0},{"$f":"ASIN!D1686","v":0},{"$f":"ASIN!E1686","v":0},{"$f":"ASIN!F1686","v":0}]
[{"$f":"ASIN!A1687","v":0},{"$f":"ASIN!B1687","v":0},{"$f":"ASIN!C1687","v":0},{"$f":"ASIN!D1687","v":0},{"$f":"ASIN!E1687","v":0},{"$f":"ASIN!F1687","v":0}]
[{"$f":"ASIN!A1688","v":0},{"$f":"ASIN!B1688","v":0},{"$f":"ASIN!C1688","v":0},{"$f":"ASIN!D1688","v":0},{"$f":"ASIN!E1688","v":0},{"$f":"ASIN!F1688","v":0}]
[{"$f":"ASIN!A1689","v":0},{"$f":"ASIN!B1689","v":0},{"$f":"ASIN!C1689","v":0},{"$f":"ASIN!D1689","v":0},{"$f":"ASIN!E1689","v":0},{"$f":"ASIN!F1689","v":0}]
[{"$f":"ASIN!A1690","v":0},{"$f":"ASIN!B1690","v":0},{"$f":"ASIN!C1690","v":0},{"$f":"ASIN!D1690","v":0},{"$f":"ASIN!E1690","v":0},{"$f":"ASIN!F1690","v":0}]
[{"$f":"ASIN!A1691","v":0},{"$f":"ASIN!B1691","v":0},{"$f":"ASIN!C1691","v":0},{"$f":"ASIN!D1691","v":0},{"$f":"ASIN!E1691","v":0},{"$f":"ASIN!F1691","v":0}]
[{"$f":"ASIN!A1692","v":0},{"$f":"ASIN!B1692","v":0},{"$f":"ASIN!C1692","v":0},{"$f":"ASIN!D1692","v":0},{"$f":"ASIN!E1692","v":0},{"$f":"ASIN!F1692","v":0}]
[{"$f":"ASIN!A1693","v":0},{"$f":"ASIN!B1693","v":0},{"$f":"ASIN!C1693","v":0},{"$f":"ASIN!D1693","v":0},{"$f":"ASIN!E1693","v":0},{"$f":"ASIN!F1693","v":0}]
[{"$f":"ASIN!A1694","v":0},{"$f":"ASIN!B1694","v":0},{"$f":"ASIN!C1694","v":0},{"$f":"ASIN!D1694","v":0},{"$f":"ASIN!E1694","v":0},{"$f":"ASIN!F1694","v":0}]
[{"$f":"ASIN!A1695","v":0},{"$f":"ASIN!B1695","v":0},{"$f":"ASIN!C1695","v":0},{"$f":"ASIN!D1695","v":0},{"$f":"ASIN!E1695","v":0},{"$f":"ASIN!F1695","v":0}]
[{"$f":"ASIN!A1696","v":0},{"$f":"ASIN!B1696","v":0},{"$f":"ASIN!C1696","v":0},{"$f":"ASIN!D1696","v":0},{"$f":"ASIN!E1696","v":0},{"$f":"ASIN!F1696","v":0}]
[{"$f":"ASIN!A1697","v":0},{"$f":"ASIN!B1697","v":0},{"$f":"ASIN!C1697","v":0},{"$f":"ASIN!D1697","v":0},{"$f":"ASIN!E1697","v":0},{"$f":"ASIN!F1697","v":0}]
[{"$f":"ASIN!A1698","v":0},{"$f":"ASIN!B1698","v":0},{"$f":"ASIN!C1698","v":0},{"$f":"ASIN!D1698","v":0},{"$f":"ASIN!E1698","v":0},{"$f":"ASIN!F1698","v":0}]
[{"$f":"ASIN!A1699","v":0},{"$f":"ASIN!B1699","v":0},{"$f":"ASIN!C1699","v":0},{"$f":"ASIN!D1699","v":0},{"$f":"ASIN!E1699","v":0},{"$f":"ASIN!F1699","v":0}]
[{"$f":"ASIN!A1700","v":0},{"$f":"ASIN!B1700","v":0},{"$f":"ASIN!C1700","v":0},{"$f":"ASIN!D1700","v":0},{"$f":"ASIN!E1700","v":0},{"$f":"ASIN!F1700","v":0}]
[{"$f":"ASIN!A1701","v":0},{"$f":"ASIN!B1701","v":0},{"$f":"ASIN!C1701","v":0},{"$f":"ASIN!D1701","v":0},{"$f":"ASIN!E1701","v":0},{"$f":"ASIN!F1701","v":0}]
[{"$f":"ASIN!A1702","v":0},{"$f":"ASIN!B1702","v":0},{"$f":"ASIN!C1702","v":0},{"$f":"ASIN!D1702","v":0},{"$f":"ASIN!E1702","v":0},{"$f":"ASIN!F1702","v":0}]
[{"$f":"ASIN!A1703","v":0},{"$f":"ASIN!B1703","v":0},{"$f":"ASIN!C1703","v":0},{"$f":"ASIN!D1703","v":0},{"$f":"ASIN!E1703","v":0},{"$f":"ASIN!F1703","v":0}]
[{"$f":"ASIN!A1704","v":0},{"$f":"ASIN!B1704","v":0},{"$f":"ASIN!C1704","v":0},{"$f":"ASIN!D1704","v":0},{"$f":"ASIN!E1704","v":0},{"$f":"ASIN!F1704","v":0}]
[{"$f":"ASIN!A1705","v":0},{"$f":"ASIN!B1705","v":0},{"$f":"ASIN!C1705","v":0},{"$f":"ASIN!D1705","v":0},{"$f":"ASIN!E1705","v":0},{"$f":"ASIN!F1705","v":0}]
[{"$f":"ASIN!A1706","v":0},{"$f":"ASIN!B1706","v":0},{"$f":"ASIN!C1706","v":0},{"$f":"ASIN!D1706","v":0},{"$f":"ASIN!E1706","v":0},{"$f":"ASIN!F1706","v":0}]
[{"$f":"ASIN!A1707","v":0},{"$f":"ASIN!B1707","v":0},{"$f":"ASIN!C1707","v":0},{"$f":"ASIN!D1707","v":0},{"$f":"ASIN!E1707","v":0},{"$f":"ASIN!F1707","v":0}]
[{"$f":"ASIN!A1708","v":0},{"$f":"ASIN!B1708","v":0},{"$f":"ASIN!C1708","v":0},{"$f":"ASIN!D1708","v":0},{"$f":"ASIN!E1708","v":0},{"$f":"ASIN!F1708","v":0}]
[{"$f":"ASIN!A1709","v":0},{"$f":"ASIN!B1709","v":0},{"$f":"ASIN!C1709","v":0},{"$f":"ASIN!D1709","v":0},{"$f":"ASIN!E1709","v":0},{"$f":"ASIN!F1709","v":0}]
[{"$f":"ASIN!A1710","v":0},{"$f":"ASIN!B1710","v":0},{"$f":"ASIN!C1710","v":0},{"$f":"ASIN!D1710","v":0},{"$f":"ASIN!E1710","v":0},{"$f":"ASIN!F1710","v":0}]
[{"$f":"ASIN!A1711","v":0},{"$f":"ASIN!B1711","v":0},{"$f":"ASIN!C1711","v":0},{"$f":"ASIN!D1711","v":0},{"$f":"ASIN!E1711","v":0},{"$f":"ASIN!F1711","v":0}]
[{"$f":"ASIN!A1712","v":0},{"$f":"ASIN!B1712","v":0},{"$f":"ASIN!C1712","v":0},{"$f":"ASIN!D1712","v":0},{"$f":"ASIN!E1712","v":0},{"$f":"ASIN!F1712","v":0}]
[{"$f":"ASIN!A1713","v":0},{"$f":"ASIN!B1713","v":0},{"$f":"ASIN!C1713","v":0},{"$f":"ASIN!D1713","v":0},{"$f":"ASIN!E1713","v":0},{"$f":"ASIN!F1713","v":0}]
[{"$f":"ASIN!A1714","v":0},{"$f":"ASIN!B1714","v":0},{"$f":"ASIN!C1714","v":0},{"$f":"ASIN!D1714","v":0},{"$f":"ASIN!E1714","v":0},{"$f":"ASIN!F1714","v":0}]
[{"$f":"ASIN!A1715","v":0},{"$f":"ASIN!B1715","v":0},{"$f":"ASIN!C1715","v":0},{"$f":"ASIN!D1715","v":0},{"$f":"ASIN!E1715","v":0},{"$f":"ASIN!F1715","v":0}]
[{"$f":"ASIN!A1716","v":0},{"$f":"ASIN!B1716","v":0},{"$f":"ASIN!C1716","v":0},{"$f":"ASIN!D1716","v":0},{"$f":"ASIN!E1716","v":0},{"$f":"ASIN!F1716","v":0}]
[{"$f":"ASIN!A1717","v":0},{"$f":"ASIN!B1717","v":0},{"$f":"ASIN!C1717","v":0},{"$f":"ASIN!D1717","v":0},{"$f":"ASIN!E1717","v":0},{"$f":"ASIN!F1717","v":0}]
[{"$f":"ASIN!A1718","v":0},{"$f":"ASIN!B1718","v":0},{"$f":"ASIN!C1718","v":0},{"$f":"ASIN!D1718","v":0},{"$f":"ASIN!E1718","v":0},{"$f":"ASIN!F1718","v":0}]
[{"$f":"ASIN!A1719","v":0},{"$f":"ASIN!B1719","v":0},{"$f":"ASIN!C1719","v":0},{"$f":"ASIN!D1719","v":0},{"$f":"ASIN!E1719","v":0},{"$f":"ASIN!F1719","v":0}]
[{"$f":"ASIN!A1720","v":0},{"$f":"ASIN!B1720","v":0},{"$f":"ASIN!C1720","v":0},{"$f":"ASIN!D1720","v":0},{"$f":"ASIN!E1720","v":0},{"$f":"ASIN!F1720","v":0}]
[{"$f":"ASIN!A1721","v":0},{"$f":"ASIN!B1721","v":0},{"$f":"ASIN!C1721","v":0},{"$f":"ASIN!D1721","v":0},{"$f":"ASIN!E1721","v":0},{"$f":"ASIN!F1721","v":0}]
[{"$f":"ASIN!A1722","v":0},{"$f":"ASIN!B1722","v":0},{"$f":"ASIN!C1722","v":0},{"$f":"ASIN!D1722","v":0},{"$f":"ASIN!E1722","v":0},{"$f":"ASIN!F1722","v":0}]
[{"$f":"ASIN!A1723","v":0},{"$f":"ASIN!B1723","v":0},{"$f":"ASIN!C1723","v":0},{"$f":"ASIN!D1723","v":0},{"$f":"ASIN!E1723","v":0},{"$f":"ASIN!F1723","v":0}]
[{"$f":"ASIN!A1724","v":0},{"$f":"ASIN!B1724","v":0},{"$f":"ASIN!C1724","v":0},{"$f":"ASIN!D1724","v":0},{"$f":"ASIN!E1724","v":0},{"$f":"ASIN!F1724","v":0}]
[{"$f":"ASIN!A1725","v":0},{"$f":"ASIN!B1725","v":0},{"$f":"ASIN!C1725","v":0},{"$f":"ASIN!D1725","v":0},{"$f":"ASIN!E1725","v":0},{"$f":"ASIN!F1725","v":0}]
[{"$f":"ASIN!A1726","v":0},{"$f":"ASIN!B1726","v":0},{"$f":"ASIN!C1726","v":0},{"$f":"ASIN!D1726","v":0},{"$f":"ASIN!E1726","v":0},{"$f":"ASIN!F1726","v":0}]
[{"$f":"ASIN!A1727","v":0},{"$f":"ASIN!B1727","v":0},{"$f":"ASIN!C1727","v":0},{"$f":"ASIN!D1727","v":0},{"$f":"ASIN!E1727","v":0},{"$f":"ASIN!F1727","v":0}]
[{"$f":"ASIN!A1728","v":0},{"$f":"ASIN!B1728","v":0},{"$f":"ASIN!C1728","v":0},{"$f":"ASIN!D1728","v":0},{"$f":"ASIN!E1728","v":0},{"$f":"ASIN!F1728","v":0}]
[{"$f":"ASIN!A1729","v":0},{"$f":"ASIN!B1729","v":0},{"$f":"ASIN!C1729","v":0},{"$f":"ASIN!D1729","v":0},{"$f":"ASIN!E1729","v":0},{"$f":"ASIN!F1729","v":0}]
[{"$f":"ASIN!A1730","v":0},{"$f":"ASIN!B1730","v":0},{"$f":"ASIN!C1730","v":0},{"$f":"ASIN!D1730","v":0},{"$f":"ASIN!E1730","v":0},{"$f":"ASIN!F1730","v":0}]
[{"$f":"ASIN!A1731","v":0},{"$f":"ASIN!B1731","v":0},{"$f":"ASIN!C1731","v":0},{"$f":"ASIN!D1731","v":0},{"$f":"ASIN!E1731","v":0},{"$f":"ASIN!F1731","v":0}]
[{"$f":"ASIN!A1732","v":0},{"$f":"ASIN!B1732","v":0},{"$f":"ASIN!C1732","v":0},{"$f":"ASIN!D1732","v":0},{"$f":"ASIN!E1732","v":0},{"$f":"ASIN!F1732","v":0}]
[{"$f":"ASIN!A1733","v":0},{"$f":"ASIN!B1733","v":0},{"$f":"ASIN!C1733","v":0},{"$f":"ASIN!D1733","v":0},{"$f":"ASIN!E1733","v":0},{"$f":"ASIN!F1733","v":0}]
[{"$f":"ASIN!A1734","v":0},{"$f":"ASIN!B1734","v":0},{"$f":"ASIN!C1734","v":0},{"$f":"ASIN!D1734","v":0},{"$f":"ASIN!E1734","v":0},{"$f":"ASIN!F1734","v":0}]
[{"$f":"ASIN!A1735","v":0},{"$f":"ASIN!B1735","v":0},{"$f":"ASIN!C1735","v":0},{"$f":"ASIN!D1735","v":0},{"$f":"ASIN!E1735","v":0},{"$f":"ASIN!F1735","v":0}]
[{"$f":"ASIN!A1736","v":0},{"$f":"ASIN!B1736","v":0},{"$f":"ASIN!C1736","v":0},{"$f":"ASIN!D1736","v":0},{"$f":"ASIN!E1736","v":0},{"$f":"ASIN!F1736","v":0}]
[{"$f":"ASIN!A1737","v":0},{"$f":"ASIN!B1737","v":0},{"$f":"ASIN!C1737","v":0},{"$f":"ASIN!D1737","v":0},{"$f":"ASIN!E1737","v":0},{"$f":"ASIN!F1737","v":0}]
[{"$f":"ASIN!A1738","v":0},{"$f":"ASIN!B1738","v":0},{"$f":"ASIN!C1738","v":0},{"$f":"ASIN!D1738","v":0},{"$f":"ASIN!E1738","v":0},{"$f":"ASIN!F1738","v":0}]
[{"$f":"ASIN!A1739","v":0},{"$f":"ASIN!B1739","v":0},{"$f":"ASIN!C1739","v":0},{"$f":"ASIN!D1739","v":0},{"$f":"ASIN!E1739","v":0},{"$f":"ASIN!F1739","v":0}]
[{"$f":"ASIN!A1740","v":0},{"$f":"ASIN!B1740","v":0},{"$f":"ASIN!C1740","v":0},{"$f":"ASIN!D1740","v":0},{"$f":"ASIN!E1740","v":0},{"$f":"ASIN!F1740","v":0}]
[{"$f":"ASIN!A1741","v":0},{"$f":"ASIN!B1741","v":0},{"$f":"ASIN!C1741","v":0},{"$f":"ASIN!D1741","v":0},{"$f":"ASIN!E1741","v":0},{"$f":"ASIN!F1741","v":0}]
[{"$f":"ASIN!A1742","v":0},{"$f":"ASIN!B1742","v":0},{"$f":"ASIN!C1742","v":0},{"$f":"ASIN!D1742","v":0},{"$f":"ASIN!E1742","v":0},{"$f":"ASIN!F1742","v":0}]
[{"$f":"ASIN!A1743","v":0},{"$f":"ASIN!B1743","v":0},{"$f":"ASIN!C1743","v":0},{"$f":"ASIN!D1743","v":0},{"$f":"ASIN!E1743","v":0},{"$f":"ASIN!F1743","v":0}]
[{"$f":"ASIN!A1744","v":0},{"$f":"ASIN!B1744","v":0},{"$f":"ASIN!C1744","v":0},{"$f":"ASIN!D1744","v":0},{"$f":"ASIN!E1744","v":0},{"$f":"ASIN!F1744","v":0}]
[{"$f":"ASIN!A1745","v":0},{"$f":"ASIN!B1745","v":0},{"$f":"ASIN!C1745","v":0},{"$f":"ASIN!D1745","v":0},{"$f":"ASIN!E1745","v":0},{"$f":"ASIN!F1745","v":0}]
[{"$f":"ASIN!A1746","v":0},{"$f":"ASIN!B1746","v":0},{"$f":"ASIN!C1746","v":0},{"$f":"ASIN!D1746","v":0},{"$f":"ASIN!E1746","v":0},{"$f":"ASIN!F1746","v":0}]
[{"$f":"ASIN!A1747","v":0},{"$f":"ASIN!B1747","v":0},{"$f":"ASIN!C1747","v":0},{"$f":"ASIN!D1747","v":0},{"$f":"ASIN!E1747","v":0},{"$f":"ASIN!F1747","v":0}]
[{"$f":"ASIN!A1748","v":0},{"$f":"ASIN!B1748","v":0},{"$f":"ASIN!C1748","v":0},{"$f":"ASIN!D1748","v":0},{"$f":"ASIN!E1748","v":0},{"$f":"ASIN!F1748","v":0}]
[{"$f":"ASIN!A1749","v":0},{"$f":"ASIN!B1749","v":0},{"$f":"ASIN!C1749","v":0},{"$f":"ASIN!D1749","v":0},{"$f":"ASIN!E1749","v":0},{"$f":"ASIN!F1749","v":0}]
[{"$f":"ASIN!A1750","v":0},{"$f":"ASIN!B1750","v":0},{"$f":"ASIN!C1750","v":0},{"$f":"ASIN!D1750","v":0},{"$f":"ASIN!E1750","v":0},{"$f":"ASIN!F1750","v":0}]
[{"$f":"ASIN!A1751","v":0},{"$f":"ASIN!B1751","v":0},{"$f":"ASIN!C1751","v":0},{"$f":"ASIN!D1751","v":0},{"$f":"ASIN!E1751","v":0},{"$f":"ASIN!F1751","v":0}]
[{"$f":"ASIN!A1752","v":0},{"$f":"ASIN!B1752","v":0},{"$f":"ASIN!C1752","v":0},{"$f":"ASIN!D1752","v":0},{"$f":"ASIN!E1752","v":0},{"$f":"ASIN!F1752","v":0}]
[{"$f":"ASIN!A1753","v":0},{"$f":"ASIN!B1753","v":0},{"$f":"ASIN!C1753","v":0},{"$f":"ASIN!D1753","v":0},{"$f":"ASIN!E1753","v":0},{"$f":"ASIN!F1753","v":0}]
[{"$f":"ASIN!A1754","v":0},{"$f":"ASIN!B1754","v":0},{"$f":"ASIN!C1754","v":0},{"$f":"ASIN!D1754","v":0},{"$f":"ASIN!E1754","v":0},{"$f":"ASIN!F1754","v":0}]
[{"$f":"ASIN!A1755","v":0},{"$f":"ASIN!B1755","v":0},{"$f":"ASIN!C1755","v":0},{"$f":"ASIN!D1755","v":0},{"$f":"ASIN!E1755","v":0},{"$f":"ASIN!F1755","v":0}]
[{"$f":"ASIN!A1756","v":0},{"$f":"ASIN!B1756","v":0},{"$f":"ASIN!C1756","v":0},{"$f":"ASIN!D1756","v":0},{"$f":"ASIN!E1756","v":0},{"$f":"ASIN!F1756","v":0}]
[{"$f":"ASIN!A1757","v":0},{"$f":"ASIN!B1757","v":0},{"$f":"ASIN!C1757","v":0},{"$f":"ASIN!D1757","v":0},{"$f":"ASIN!E1757","v":0},{"$f":"ASIN!F1757","v":0}]
[{"$f":"ASIN!A1758","v":0},{"$f":"ASIN!B1758","v":0},{"$f":"ASIN!C1758","v":0},{"$f":"ASIN!D1758","v":0},{"$f":"ASIN!E1758","v":0},{"$f":"ASIN!F1758","v":0}]
[{"$f":"ASIN!A1759","v":0},{"$f":"ASIN!B1759","v":0},{"$f":"ASIN!C1759","v":0},{"$f":"ASIN!D1759","v":0},{"$f":"ASIN!E1759","v":0},{"$f":"ASIN!F1759","v":0}]
[{"$f":"ASIN!A1760","v":0},{"$f":"ASIN!B1760","v":0},{"$f":"ASIN!C1760","v":0},{"$f":"ASIN!D1760","v":0},{"$f":"ASIN!E1760","v":0},{"$f":"ASIN!F1760","v":0}]
[{"$f":"ASIN!A1761","v":0},{"$f":"ASIN!B1761","v":0},{"$f":"ASIN!C1761","v":0},{"$f":"ASIN!D1761","v":0},{"$f":"ASIN!E1761","v":0},{"$f":"ASIN!F1761","v":0}]
[{"$f":"ASIN!A1762","v":0},{"$f":"ASIN!B1762","v":0},{"$f":"ASIN!C1762","v":0},{"$f":"ASIN!D1762","v":0},{"$f":"ASIN!E1762","v":0},{"$f":"ASIN!F1762","v":0}]
[{"$f":"ASIN!A1763","v":0},{"$f":"ASIN!B1763","v":0},{"$f":"ASIN!C1763","v":0},{"$f":"ASIN!D1763","v":0},{"$f":"ASIN!E1763","v":0},{"$f":"ASIN!F1763","v":0}]
[{"$f":"ASIN!A1764","v":0},{"$f":"ASIN!B1764","v":0},{"$f":"ASIN!C1764","v":0},{"$f":"ASIN!D1764","v":0},{"$f":"ASIN!E1764","v":0},{"$f":"ASIN!F1764","v":0}]
[{"$f":"ASIN!A1765","v":0},{"$f":"ASIN!B1765","v":0},{"$f":"ASIN!C1765","v":0},{"$f":"ASIN!D1765","v":0},{"$f":"ASIN!E1765","v":0},{"$f":"ASIN!F1765","v":0}]
[{"$f":"ASIN!A1766","v":0},{"$f":"ASIN!B1766","v":0},{"$f":"ASIN!C1766","v":0},{"$f":"ASIN!D1766","v":0},{"$f":"ASIN!E1766","v":0},{"$f":"ASIN!F1766","v":0}]
[{"$f":"ASIN!A1767","v":0},{"$f":"ASIN!B1767","v":0},{"$f":"ASIN!C1767","v":0},{"$f":"ASIN!D1767","v":0},{"$f":"ASIN!E1767","v":0},{"$f":"ASIN!F1767","v":0}]
[{"$f":"ASIN!A1768","v":0},{"$f":"ASIN!B1768","v":0},{"$f":"ASIN!C1768","v":0},{"$f":"ASIN!D1768","v":0},{"$f":"ASIN!E1768","v":0},{"$f":"ASIN!F1768","v":0}]
[{"$f":"ASIN!A1769","v":0},{"$f":"ASIN!B1769","v":0},{"$f":"ASIN!C1769","v":0},{"$f":"ASIN!D1769","v":0},{"$f":"ASIN!E1769","v":0},{"$f":"ASIN!F1769","v":0}]
[{"$f":"ASIN!A1770","v":0},{"$f":"ASIN!B1770","v":0},{"$f":"ASIN!C1770","v":0},{"$f":"ASIN!D1770","v":0},{"$f":"ASIN!E1770","v":0},{"$f":"ASIN!F1770","v":0}]
[{"$f":"ASIN!A1771","v":0},{"$f":"ASIN!B1771","v":0},{"$f":"ASIN!C1771","v":0},{"$f":"ASIN!D1771","v":0},{"$f":"ASIN!E1771","v":0},{"$f":"ASIN!F1771","v":0}]
[{"$f":"ASIN!A1772","v":0},{"$f":"ASIN!B1772","v":0},{"$f":"ASIN!C1772","v":0},{"$f":"ASIN!D1772","v":0},{"$f":"ASIN!E1772","v":0},{"$f":"ASIN!F1772","v":0}]
[{"$f":"ASIN!A1773","v":0},{"$f":"ASIN!B1773","v":0},{"$f":"ASIN!C1773","v":0},{"$f":"ASIN!D1773","v":0},{"$f":"ASIN!E1773","v":0},{"$f":"ASIN!F1773","v":0}]
[{"$f":"ASIN!A1774","v":0},{"$f":"ASIN!B1774","v":0},{"$f":"ASIN!C1774","v":0},{"$f":"ASIN!D1774","v":0},{"$f":"ASIN!E1774","v":0},{"$f":"ASIN!F1774","v":0}]
[{"$f":"ASIN!A1775","v":0},{"$f":"ASIN!B1775","v":0},{"$f":"ASIN!C1775","v":0},{"$f":"ASIN!D1775","v":0},{"$f":"ASIN!E1775","v":0},{"$f":"ASIN!F1775","v":0}]
[{"$f":"ASIN!A1776","v":0},{"$f":"ASIN!B1776","v":0},{"$f":"ASIN!C1776","v":0},{"$f":"ASIN!D1776","v":0},{"$f":"ASIN!E1776","v":0},{"$f":"ASIN!F1776","v":0}]
[{"$f":"ASIN!A1777","v":0},{"$f":"ASIN!B1777","v":0},{"$f":"ASIN!C1777","v":0},{"$f":"ASIN!D1777","v":0},{"$f":"ASIN!E1777","v":0},{"$f":"ASIN!F1777","v":0}]
[{"$f":"ASIN!A1778","v":0},{"$f":"ASIN!B1778","v":0},{"$f":"ASIN!C1778","v":0},{"$f":"ASIN!D1778","v":0},{"$f":"ASIN!E1778","v":0},{"$f":"ASIN!F1778","v":0}]
[{"$f":"ASIN!A1779","v":0},{"$f":"ASIN!B1779","v":0},{"$f":"ASIN!C1779","v":0},{"$f":"ASIN!D1779","v":0},{"$f":"ASIN!E1779","v":0},{"$f":"ASIN!F1779","v":0}]
[{"$f":"ASIN!A1780","v":0},{"$f":"ASIN!B1780","v":0},{"$f":"ASIN!C1780","v":0},{"$f":"ASIN!D1780","v":0},{"$f":"ASIN!E1780","v":0},{"$f":"ASIN!F1780","v":0}]
[{"$f":"ASIN!A1781","v":0},{"$f":"ASIN!B1781","v":0},{"$f":"ASIN!C1781","v":0},{"$f":"ASIN!D1781","v":0},{"$f":"ASIN!E1781","v":0},{"$f":"ASIN!F1781","v":0}]
[{"$f":"ASIN!A1782","v":0},{"$f":"ASIN!B1782","v":0},{"$f":"ASIN!C1782","v":0},{"$f":"ASIN!D1782","v":0},{"$f":"ASIN!E1782","v":0},{"$f":"ASIN!F1782","v":0}]
[{"$f":"ASIN!A1783","v":0},{"$f":"ASIN!B1783","v":0},{"$f":"ASIN!C1783","v":0},{"$f":"ASIN!D1783","v":0},{"$f":"ASIN!E1783","v":0},{"$f":"ASIN!F1783","v":0}]
[{"$f":"ASIN!A1784","v":0},{"$f":"ASIN!B1784","v":0},{"$f":"ASIN!C1784","v":0},{"$f":"ASIN!D1784","v":0},{"$f":"ASIN!E1784","v":0},{"$f":"ASIN!F1784","v":0}]
[{"$f":"ASIN!A1785","v":0},{"$f":"ASIN!B1785","v":0},{"$f":"ASIN!C1785","v":0},{"$f":"ASIN!D1785","v":0},{"$f":"ASIN!E1785","v":0},{"$f":"ASIN!F1785","v":0}]
[{"$f":"ASIN!A1786","v":0},{"$f":"ASIN!B1786","v":0},{"$f":"ASIN!C1786","v":0},{"$f":"ASIN!D1786","v":0},{"$f":"ASIN!E1786","v":0},{"$f":"ASIN!F1786","v":0}]
[{"$f":"ASIN!A1787","v":0},{"$f":"ASIN!B1787","v":0},{"$f":"ASIN!C1787","v":0},{"$f":"ASIN!D1787","v":0},{"$f":"ASIN!E1787","v":0},{"$f":"ASIN!F1787","v":0}]
[{"$f":"ASIN!A1788","v":0},{"$f":"ASIN!B1788","v":0},{"$f":"ASIN!C1788","v":0},{"$f":"ASIN!D1788","v":0},{"$f":"ASIN!E1788","v":0},{"$f":"ASIN!F1788","v":0}]
[{"$f":"ASIN!A1789","v":0},{"$f":"ASIN!B1789","v":0},{"$f":"ASIN!C1789","v":0},{"$f":"ASIN!D1789","v":0},{"$f":"ASIN!E1789","v":0},{"$f":"ASIN!F1789","v":0}]
[{"$f":"ASIN!A1790","v":0},{"$f":"ASIN!B1790","v":0},{"$f":"ASIN!C1790","v":0},{"$f":"ASIN!D1790","v":0},{"$f":"ASIN!E1790","v":0},{"$f":"ASIN!F1790","v":0}]
[{"$f":"ASIN!A1791","v":0},{"$f":"ASIN!B1791","v":0},{"$f":"ASIN!C1791","v":0},{"$f":"ASIN!D1791","v":0},{"$f":"ASIN!E1791","v":0},{"$f":"ASIN!F1791","v":0}]
[{"$f":"ASIN!A1792","v":0},{"$f":"ASIN!B1792","v":0},{"$f":"ASIN!C1792","v":0},{"$f":"ASIN!D1792","v":0},{"$f":"ASIN!E1792","v":0},{"$f":"ASIN!F1792","v":0}]
[{"$f":"ASIN!A1793","v":0},{"$f":"ASIN!B1793","v":0},{"$f":"ASIN!C1793","v":0},{"$f":"ASIN!D1793","v":0},{"$f":"ASIN!E1793","v":0},{"$f":"ASIN!F1793","v":0}]
[{"$f":"ASIN!A1794","v":0},{"$f":"ASIN!B1794","v":0},{"$f":"ASIN!C1794","v":0},{"$f":"ASIN!D1794","v":0},{"$f":"ASIN!E1794","v":0},{"$f":"ASIN!F1794","v":0}]
[{"$f":"ASIN!A1795","v":0},{"$f":"ASIN!B1795","v":0},{"$f":"ASIN!C1795","v":0},{"$f":"ASIN!D1795","v":0},{"$f":"ASIN!E1795","v":0},{"$f":"ASIN!F1795","v":0}]
[{"$f":"ASIN!A1796","v":0},{"$f":"ASIN!B1796","v":0},{"$f":"ASIN!C1796","v":0},{"$f":"ASIN!D1796","v":0},{"$f":"ASIN!E1796","v":0},{"$f":"ASIN!F1796","v":0}]
[{"$f":"ASIN!A1797","v":0},{"$f":"ASIN!B1797","v":0},{"$f":"ASIN!C1797","v":0},{"$f":"ASIN!D1797","v":0},{"$f":"ASIN!E1797","v":0},{"$f":"ASIN!F1797","v":0}]
[{"$f":"ASIN!A1798","v":0},{"$f":"ASIN!B1798","v":0},{"$f":"ASIN!C1798","v":0},{"$f":"ASIN!D1798","v":0},{"$f":"ASIN!E1798","v":0},{"$f":"ASIN!F1798","v":0}]
[{"$f":"ASIN!A1799","v":0},{"$f":"ASIN!B1799","v":0},{"$f":"ASIN!C1799","v":0},{"$f":"ASIN!D1799","v":0},{"$f":"ASIN!E1799","v":0},{"$f":"ASIN!F1799","v":0}]
[{"$f":"ASIN!A1800","v":0},{"$f":"ASIN!B1800","v":0},{"$f":"ASIN!C1800","v":0},{"$f":"ASIN!D1800","v":0},{"$f":"ASIN!E1800","v":0},{"$f":"ASIN!F1800","v":0}]
[{"$f":"ASIN!A1801","v":0},{"$f":"ASIN!B1801","v":0},{"$f":"ASIN!C1801","v":0},{"$f":"ASIN!D1801","v":0},{"$f":"ASIN!E1801","v":0},{"$f":"ASIN!F1801","v":0}]
[{"$f":"ASIN!A1802","v":0},{"$f":"ASIN!B1802","v":0},{"$f":"ASIN!C1802","v":0},{"$f":"ASIN!D1802","v":0},{"$f":"ASIN!E1802","v":0},{"$f":"ASIN!F1802","v":0}]
[{"$f":"ASIN!A1803","v":0},{"$f":"ASIN!B1803","v":0},{"$f":"ASIN!C1803","v":0},{"$f":"ASIN!D1803","v":0},{"$f":"ASIN!E1803","v":0},{"$f":"ASIN!F1803","v":0}]
[{"$f":"ASIN!A1804","v":0},{"$f":"ASIN!B1804","v":0},{"$f":"ASIN!C1804","v":0},{"$f":"ASIN!D1804","v":0},{"$f":"ASIN!E1804","v":0},{"$f":"ASIN!F1804","v":0}]
[{"$f":"ASIN!A1805","v":0},{"$f":"ASIN!B1805","v":0},{"$f":"ASIN!C1805","v":0},{"$f":"ASIN!D1805","v":0},{"$f":"ASIN!E1805","v":0},{"$f":"ASIN!F1805","v":0}]
[{"$f":"ASIN!A1806","v":0},{"$f":"ASIN!B1806","v":0},{"$f":"ASIN!C1806","v":0},{"$f":"ASIN!D1806","v":0},{"$f":"ASIN!E1806","v":0},{"$f":"ASIN!F1806","v":0}]
[{"$f":"ASIN!A1807","v":0},{"$f":"ASIN!B1807","v":0},{"$f":"ASIN!C1807","v":0},{"$f":"ASIN!D1807","v":0},{"$f":"ASIN!E1807","v":0},{"$f":"ASIN!F1807","v":0}]
[{"$f":"ASIN!A1808","v":0},{"$f":"ASIN!B1808","v":0},{"$f":"ASIN!C1808","v":0},{"$f":"ASIN!D1808","v":0},{"$f":"ASIN!E1808","v":0},{"$f":"ASIN!F1808","v":0}]
[{"$f":"ASIN!A1809","v":0},{"$f":"ASIN!B1809","v":0},{"$f":"ASIN!C1809","v":0},{"$f":"ASIN!D1809","v":0},{"$f":"ASIN!E1809","v":0},{"$f":"ASIN!F1809","v":0}]
[{"$f":"ASIN!A1810","v":0},{"$f":"ASIN!B1810","v":0},{"$f":"ASIN!C1810","v":0},{"$f":"ASIN!D1810","v":0},{"$f":"ASIN!E1810","v":0},{"$f":"ASIN!F1810","v":0}]
[{"$f":"ASIN!A1811","v":0},{"$f":"ASIN!B1811","v":0},{"$f":"ASIN!C1811","v":0},{"$f":"ASIN!D1811","v":0},{"$f":"ASIN!E1811","v":0},{"$f":"ASIN!F1811","v":0}]
[{"$f":"ASIN!A1812","v":0},{"$f":"ASIN!B1812","v":0},{"$f":"ASIN!C1812","v":0},{"$f":"ASIN!D1812","v":0},{"$f":"ASIN!E1812","v":0},{"$f":"ASIN!F1812","v":0}]
[{"$f":"ASIN!A1813","v":0},{"$f":"ASIN!B1813","v":0},{"$f":"ASIN!C1813","v":0},{"$f":"ASIN!D1813","v":0},{"$f":"ASIN!E1813","v":0},{"$f":"ASIN!F1813","v":0}]
[{"$f":"ASIN!A1814","v":0},{"$f":"ASIN!B1814","v":0},{"$f":"ASIN!C1814","v":0},{"$f":"ASIN!D1814","v":0},{"$f":"ASIN!E1814","v":0},{"$f":"ASIN!F1814","v":0}]
[{"$f":"ASIN!A1815","v":0},{"$f":"ASIN!B1815","v":0},{"$f":"ASIN!C1815","v":0},{"$f":"ASIN!D1815","v":0},{"$f":"ASIN!E1815","v":0},{"$f":"ASIN!F1815","v":0}]
[{"$f":"ASIN!A1816","v":0},{"$f":"ASIN!B1816","v":0},{"$f":"ASIN!C1816","v":0},{"$f":"ASIN!D1816","v":0},{"$f":"ASIN!E1816","v":0},{"$f":"ASIN!F1816","v":0}]
[{"$f":"ASIN!A1817","v":0},{"$f":"ASIN!B1817","v":0},{"$f":"ASIN!C1817","v":0},{"$f":"ASIN!D1817","v":0},{"$f":"ASIN!E1817","v":0},{"$f":"ASIN!F1817","v":0}]
[{"$f":"ASIN!A1818","v":0},{"$f":"ASIN!B1818","v":0},{"$f":"ASIN!C1818","v":0},{"$f":"ASIN!D1818","v":0},{"$f":"ASIN!E1818","v":0},{"$f":"ASIN!F1818","v":0}]
[{"$f":"ASIN!A1819","v":0},{"$f":"ASIN!B1819","v":0},{"$f":"ASIN!C1819","v":0},{"$f":"ASIN!D1819","v":0},{"$f":"ASIN!E1819","v":0},{"$f":"ASIN!F1819","v":0}]
[{"$f":"ASIN!A1820","v":0},{"$f":"ASIN!B1820","v":0},{"$f":"ASIN!C1820","v":0},{"$f":"ASIN!D1820","v":0},{"$f":"ASIN!E1820","v":0},{"$f":"ASIN!F1820","v":0}]
[{"$f":"ASIN!A1821","v":0},{"$f":"ASIN!B1821","v":0},{"$f":"ASIN!C1821","v":0},{"$f":"ASIN!D1821","v":0},{"$f":"ASIN!E1821","v":0},{"$f":"ASIN!F1821","v":0}]
[{"$f":"ASIN!A1822","v":0},{"$f":"ASIN!B1822","v":0},{"$f":"ASIN!C1822","v":0},{"$f":"ASIN!D1822","v":0},{"$f":"ASIN!E1822","v":0},{"$f":"ASIN!F1822","v":0}]
[{"$f":"ASIN!A1823","v":0},{"$f":"ASIN!B1823","v":0},{"$f":"ASIN!C1823","v":0},{"$f":"ASIN!D1823","v":0},{"$f":"ASIN!E1823","v":0},{"$f":"ASIN!F1823","v":0}]
[{"$f":"ASIN!A1824","v":0},{"$f":"ASIN!B1824","v":0},{"$f":"ASIN!C1824","v":0},{"$f":"ASIN!D1824","v":0},{"$f":"ASIN!E1824","v":0},{"$f":"ASIN!F1824","v":0}]
[{"$f":"ASIN!A1825","v":0},{"$f":"ASIN!B1825","v":0},{"$f":"ASIN!C1825","v":0},{"$f":"ASIN!D1825","v":0},{"$f":"ASIN!E1825","v":0},{"$f":"ASIN!F1825","v":0}]
[{"$f":"ASIN!A1826","v":0},{"$f":"ASIN!B1826","v":0},{"$f":"ASIN!C1826","v":0},{"$f":"ASIN!D1826","v":0},{"$f":"ASIN!E1826","v":0},{"$f":"ASIN!F1826","v":0}]
[{"$f":"ASIN!A1827","v":0},{"$f":"ASIN!B1827","v":0},{"$f":"ASIN!C1827","v":0},{"$f":"ASIN!D1827","v":0},{"$f":"ASIN!E1827","v":0},{"$f":"ASIN!F1827","v":0}]
[{"$f":"ASIN!A1828","v":0},{"$f":"ASIN!B1828","v":0},{"$f":"ASIN!C1828","v":0},{"$f":"ASIN!D1828","v":0},{"$f":"ASIN!E1828","v":0},{"$f":"ASIN!F1828","v":0}]
[{"$f":"ASIN!A1829","v":0},{"$f":"ASIN!B1829","v":0},{"$f":"ASIN!C1829","v":0},{"$f":"ASIN!D1829","v":0},{"$f":"ASIN!E1829","v":0},{"$f":"ASIN!F1829","v":0}]
[{"$f":"ASIN!A1830","v":0},{"$f":"ASIN!B1830","v":0},{"$f":"ASIN!C1830","v":0},{"$f":"ASIN!D1830","v":0},{"$f":"ASIN!E1830","v":0},{"$f":"ASIN!F1830","v":0}]
[{"$f":"ASIN!A1831","v":0},{"$f":"ASIN!B1831","v":0},{"$f":"ASIN!C1831","v":0},{"$f":"ASIN!D1831","v":0},{"$f":"ASIN!E1831","v":0},{"$f":"ASIN!F1831","v":0}]
[{"$f":"ASIN!A1832","v":0},{"$f":"ASIN!B1832","v":0},{"$f":"ASIN!C1832","v":0},{"$f":"ASIN!D1832","v":0},{"$f":"ASIN!E1832","v":0},{"$f":"ASIN!F1832","v":0}]
[{"$f":"ASIN!A1833","v":0},{"$f":"ASIN!B1833","v":0},{"$f":"ASIN!C1833","v":0},{"$f":"ASIN!D1833","v":0},{"$f":"ASIN!E1833","v":0},{"$f":"ASIN!F1833","v":0}]
[{"$f":"ASIN!A1834","v":0},{"$f":"ASIN!B1834","v":0},{"$f":"ASIN!C1834","v":0},{"$f":"ASIN!D1834","v":0},{"$f":"ASIN!E1834","v":0},{"$f":"ASIN!F1834","v":0}]
[{"$f":"ASIN!A1835","v":0},{"$f":"ASIN!B1835","v":0},{"$f":"ASIN!C1835","v":0},{"$f":"ASIN!D1835","v":0},{"$f":"ASIN!E1835","v":0},{"$f":"ASIN!F1835","v":0}]
[{"$f":"ASIN!A1836","v":0},{"$f":"ASIN!B1836","v":0},{"$f":"ASIN!C1836","v":0},{"$f":"ASIN!D1836","v":0},{"$f":"ASIN!E1836","v":0},{"$f":"ASIN!F1836","v":0}]
[{"$f":"ASIN!A1837","v":0},{"$f":"ASIN!B1837","v":0},{"$f":"ASIN!C1837","v":0},{"$f":"ASIN!D1837","v":0},{"$f":"ASIN!E1837","v":0},{"$f":"ASIN!F1837","v":0}]
[{"$f":"ASIN!A1838","v":0},{"$f":"ASIN!B1838","v":0},{"$f":"ASIN!C1838","v":0},{"$f":"ASIN!D1838","v":0},{"$f":"ASIN!E1838","v":0},{"$f":"ASIN!F1838","v":0}]
[{"$f":"ASIN!A1839","v":0},{"$f":"ASIN!B1839","v":0},{"$f":"ASIN!C1839","v":0},{"$f":"ASIN!D1839","v":0},{"$f":"ASIN!E1839","v":0},{"$f":"ASIN!F1839","v":0}]
[{"$f":"ASIN!A1840","v":0},{"$f":"ASIN!B1840","v":0},{"$f":"ASIN!C1840","v":0},{"$f":"ASIN!D1840","v":0},{"$f":"ASIN!E1840","v":0},{"$f":"ASIN!F1840","v":0}]
[{"$f":"ASIN!A1841","v":0},{"$f":"ASIN!B1841","v":0},{"$f":"ASIN!C1841","v":0},{"$f":"ASIN!D1841","v":0},{"$f":"ASIN!E1841","v":0},{"$f":"ASIN!F1841","v":0}]
[{"$f":"ASIN!A1842","v":0},{"$f":"ASIN!B1842","v":0},{"$f":"ASIN!C1842","v":0},{"$f":"ASIN!D1842","v":0},{"$f":"ASIN!E1842","v":0},{"$f":"ASIN!F1842","v":0}]
[{"$f":"ASIN!A1843","v":0},{"$f":"ASIN!B1843","v":0},{"$f":"ASIN!C1843","v":0},{"$f":"ASIN!D1843","v":0},{"$f":"ASIN!E1843","v":0},{"$f":"ASIN!F1843","v":0}]
[{"$f":"ASIN!A1844","v":0},{"$f":"ASIN!B1844","v":0},{"$f":"ASIN!C1844","v":0},{"$f":"ASIN!D1844","v":0},{"$f":"ASIN!E1844","v":0},{"$f":"ASIN!F1844","v":0}]
[{"$f":"ASIN!A1845","v":0},{"$f":"ASIN!B1845","v":0},{"$f":"ASIN!C1845","v":0},{"$f":"ASIN!D1845","v":0},{"$f":"ASIN!E1845","v":0},{"$f":"ASIN!F1845","v":0}]
[{"$f":"ASIN!A1846","v":0},{"$f":"ASIN!B1846","v":0},{"$f":"ASIN!C1846","v":0},{"$f":"ASIN!D1846","v":0},{"$f":"ASIN!E1846","v":0},{"$f":"ASIN!F1846","v":0}]
[{"$f":"ASIN!A1847","v":0},{"$f":"ASIN!B1847","v":0},{"$f":"ASIN!C1847","v":0},{"$f":"ASIN!D1847","v":0},{"$f":"ASIN!E1847","v":0},{"$f":"ASIN!F1847","v":0}]
[{"$f":"ASIN!A1848","v":0},{"$f":"ASIN!B1848","v":0},{"$f":"ASIN!C1848","v":0},{"$f":"ASIN!D1848","v":0},{"$f":"ASIN!E1848","v":0},{"$f":"ASIN!F1848","v":0}]
[{"$f":"ASIN!A1849","v":0},{"$f":"ASIN!B1849","v":0},{"$f":"ASIN!C1849","v":0},{"$f":"ASIN!D1849","v":0},{"$f":"ASIN!E1849","v":0},{"$f":"ASIN!F1849","v":0}]
[{"$f":"ASIN!A1850","v":0},{"$f":"ASIN!B1850","v":0},{"$f":"ASIN!C1850","v":0},{"$f":"ASIN!D1850","v":0},{"$f":"ASIN!E1850","v":0},{"$f":"ASIN!F1850","v":0}]
[{"$f":"ASIN!A1851","v":0},{"$f":"ASIN!B1851","v":0},{"$f":"ASIN!C1851","v":0},{"$f":"ASIN!D1851","v":0},{"$f":"ASIN!E1851","v":0},{"$f":"ASIN!F1851","v":0}]
[{"$f":"ASIN!A1852","v":0},{"$f":"ASIN!B1852","v":0},{"$f":"ASIN!C1852","v":0},{"$f":"ASIN!D1852","v":0},{"$f":"ASIN!E1852","v":0},{"$f":"ASIN!F1852","v":0}]
[{"$f":"ASIN!A1853","v":0},{"$f":"ASIN!B1853","v":0},{"$f":"ASIN!C1853","v":0},{"$f":"ASIN!D1853","v":0},{"$f":"ASIN!E1853","v":0},{"$f":"ASIN!F1853","v":0}]
[{"$f":"ASIN!A1854","v":0},{"$f":"ASIN!B1854","v":0},{"$f":"ASIN!C1854","v":0},{"$f":"ASIN!D1854","v":0},{"$f":"ASIN!E1854","v":0},{"$f":"ASIN!F1854","v":0}]
[{"$f":"ASIN!A1855","v":0},{"$f":"ASIN!B1855","v":0},{"$f":"ASIN!C1855","v":0},{"$f":"ASIN!D1855","v":0},{"$f":"ASIN!E1855","v":0},{"$f":"ASIN!F1855","v":0}]
[{"$f":"ASIN!A1856","v":0},{"$f":"ASIN!B1856","v":0},{"$f":"ASIN!C1856","v":0},{"$f":"ASIN!D1856","v":0},{"$f":"ASIN!E1856","v":0},{"$f":"ASIN!F1856","v":0}]
[{"$f":"ASIN!A1857","v":0},{"$f":"ASIN!B1857","v":0},{"$f":"ASIN!C1857","v":0},{"$f":"ASIN!D1857","v":0},{"$f":"ASIN!E1857","v":0},{"$f":"ASIN!F1857","v":0}]
[{"$f":"ASIN!A1858","v":0},{"$f":"ASIN!B1858","v":0},{"$f":"ASIN!C1858","v":0},{"$f":"ASIN!D1858","v":0},{"$f":"ASIN!E1858","v":0},{"$f":"ASIN!F1858","v":0}]
[{"$f":"ASIN!A1859","v":0},{"$f":"ASIN!B1859","v":0},{"$f":"ASIN!C1859","v":0},{"$f":"ASIN!D1859","v":0},{"$f":"ASIN!E1859","v":0},{"$f":"ASIN!F1859","v":0}]
[{"$f":"ASIN!A1860","v":0},{"$f":"ASIN!B1860","v":0},{"$f":"ASIN!C1860","v":0},{"$f":"ASIN!D1860","v":0},{"$f":"ASIN!E1860","v":0},{"$f":"ASIN!F1860","v":0}]
[{"$f":"ASIN!A1861","v":0},{"$f":"ASIN!B1861","v":0},{"$f":"ASIN!C1861","v":0},{"$f":"ASIN!D1861","v":0},{"$f":"ASIN!E1861","v":0},{"$f":"ASIN!F1861","v":0}]
[{"$f":"ASIN!A1862","v":0},{"$f":"ASIN!B1862","v":0},{"$f":"ASIN!C1862","v":0},{"$f":"ASIN!D1862","v":0},{"$f":"ASIN!E1862","v":0},{"$f":"ASIN!F1862","v":0}]
[{"$f":"ASIN!A1863","v":0},{"$f":"ASIN!B1863","v":0},{"$f":"ASIN!C1863","v":0},{"$f":"ASIN!D1863","v":0},{"$f":"ASIN!E1863","v":0},{"$f":"ASIN!F1863","v":0}]
[{"$f":"ASIN!A1864","v":0},{"$f":"ASIN!B1864","v":0},{"$f":"ASIN!C1864","v":0},{"$f":"ASIN!D1864","v":0},{"$f":"ASIN!E1864","v":0},{"$f":"ASIN!F1864","v":0}]
[{"$f":"ASIN!A1865","v":0},{"$f":"ASIN!B1865","v":0},{"$f":"ASIN!C1865","v":0},{"$f":"ASIN!D1865","v":0},{"$f":"ASIN!E1865","v":0},{"$f":"ASIN!F1865","v":0}]
[{"$f":"ASIN!A1866","v":0},{"$f":"ASIN!B1866","v":0},{"$f":"ASIN!C1866","v":0},{"$f":"ASIN!D1866","v":0},{"$f":"ASIN!E1866","v":0},{"$f":"ASIN!F1866","v":0}]
[{"$f":"ASIN!A1867","v":0},{"$f":"ASIN!B1867","v":0},{"$f":"ASIN!C1867","v":0},{"$f":"ASIN!D1867","v":0},{"$f":"ASIN!E1867","v":0},{"$f":"ASIN!F1867","v":0}]
[{"$f":"ASIN!A1868","v":0},{"$f":"ASIN!B1868","v":0},{"$f":"ASIN!C1868","v":0},{"$f":"ASIN!D1868","v":0},{"$f":"ASIN!E1868","v":0},{"$f":"ASIN!F1868","v":0}]
[{"$f":"ASIN!A1869","v":0},{"$f":"ASIN!B1869","v":0},{"$f":"ASIN!C1869","v":0},{"$f":"ASIN!D1869","v":0},{"$f":"ASIN!E1869","v":0},{"$f":"ASIN!F1869","v":0}]
[{"$f":"ASIN!A1870","v":0},{"$f":"ASIN!B1870","v":0},{"$f":"ASIN!C1870","v":0},{"$f":"ASIN!D1870","v":0},{"$f":"ASIN!E1870","v":0},{"$f":"ASIN!F1870","v":0}]
[{"$f":"ASIN!A1871","v":0},{"$f":"ASIN!B1871","v":0},{"$f":"ASIN!C1871","v":0},{"$f":"ASIN!D1871","v":0},{"$f":"ASIN!E1871","v":0},{"$f":"ASIN!F1871","v":0}]
[{"$f":"ASIN!A1872","v":0},{"$f":"ASIN!B1872","v":0},{"$f":"ASIN!C1872","v":0},{"$f":"ASIN!D1872","v":0},{"$f":"ASIN!E1872","v":0},{"$f":"ASIN!F1872","v":0}]
[{"$f":"ASIN!A1873","v":0},{"$f":"ASIN!B1873","v":0},{"$f":"ASIN!C1873","v":0},{"$f":"ASIN!D1873","v":0},{"$f":"ASIN!E1873","v":0},{"$f":"ASIN!F1873","v":0}]
[{"$f":"ASIN!A1874","v":0},{"$f":"ASIN!B1874","v":0},{"$f":"ASIN!C1874","v":0},{"$f":"ASIN!D1874","v":0},{"$f":"ASIN!E1874","v":0},{"$f":"ASIN!F1874","v":0}]
[{"$f":"ASIN!A1875","v":0},{"$f":"ASIN!B1875","v":0},{"$f":"ASIN!C1875","v":0},{"$f":"ASIN!D1875","v":0},{"$f":"ASIN!E1875","v":0},{"$f":"ASIN!F1875","v":0}]
[{"$f":"ASIN!A1876","v":0},{"$f":"ASIN!B1876","v":0},{"$f":"ASIN!C1876","v":0},{"$f":"ASIN!D1876","v":0},{"$f":"ASIN!E1876","v":0},{"$f":"ASIN!F1876","v":0}]
[{"$f":"ASIN!A1877","v":0},{"$f":"ASIN!B1877","v":0},{"$f":"ASIN!C1877","v":0},{"$f":"ASIN!D1877","v":0},{"$f":"ASIN!E1877","v":0},{"$f":"ASIN!F1877","v":0}]
[{"$f":"ASIN!A1878","v":0},{"$f":"ASIN!B1878","v":0},{"$f":"ASIN!C1878","v":0},{"$f":"ASIN!D1878","v":0},{"$f":"ASIN!E1878","v":0},{"$f":"ASIN!F1878","v":0}]
[{"$f":"ASIN!A1879","v":0},{"$f":"ASIN!B1879","v":0},{"$f":"ASIN!C1879","v":0},{"$f":"ASIN!D1879","v":0},{"$f":"ASIN!E1879","v":0},{"$f":"ASIN!F1879","v":0}]
[{"$f":"ASIN!A1880","v":0},{"$f":"ASIN!B1880","v":0},{"$f":"ASIN!C1880","v":0},{"$f":"ASIN!D1880","v":0},{"$f":"ASIN!E1880","v":0},{"$f":"ASIN!F1880","v":0}]
[{"$f":"ASIN!A1881","v":0},{"$f":"ASIN!B1881","v":0},{"$f":"ASIN!C1881","v":0},{"$f":"ASIN!D1881","v":0},{"$f":"ASIN!E1881","v":0},{"$f":"ASIN!F1881","v":0}]
[{"$f":"ASIN!A1882","v":0},{"$f":"ASIN!B1882","v":0},{"$f":"ASIN!C1882","v":0},{"$f":"ASIN!D1882","v":0},{"$f":"ASIN!E1882","v":0},{"$f":"ASIN!F1882","v":0}]
[{"$f":"ASIN!A1883","v":0},{"$f":"ASIN!B1883","v":0},{"$f":"ASIN!C1883","v":0},{"$f":"ASIN!D1883","v":0},{"$f":"ASIN!E1883","v":0},{"$f":"ASIN!F1883","v":0}]
[{"$f":"ASIN!A1884","v":0},{"$f":"ASIN!B1884","v":0},{"$f":"ASIN!C1884","v":0},{"$f":"ASIN!D1884","v":0},{"$f":"ASIN!E1884","v":0},{"$f":"ASIN!F1884","v":0}]
[{"$f":"ASIN!A1885","v":0},{"$f":"ASIN!B1885","v":0},{"$f":"ASIN!C1885","v":0},{"$f":"ASIN!D1885","v":0},{"$f":"ASIN!E1885","v":0},{"$f":"ASIN!F1885","v":0}]
[{"$f":"ASIN!A1886","v":0},{"$f":"ASIN!B1886","v":0},{"$f":"ASIN!C1886","v":0},{"$f":"ASIN!D1886","v":0},{"$f":"ASIN!E1886","v":0},{"$f":"ASIN!F1886","v":0}]
[{"$f":"ASIN!A1887","v":0},{"$f":"ASIN!B1887","v":0},{"$f":"ASIN!C1887","v":0},{"$f":"ASIN!D1887","v":0},{"$f":"ASIN!E1887","v":0},{"$f":"ASIN!F1887","v":0}]
[{"$f":"ASIN!A1888","v":0},{"$f":"ASIN!B1888","v":0},{"$f":"ASIN!C1888","v":0},{"$f":"ASIN!D1888","v":0},{"$f":"ASIN!E1888","v":0},{"$f":"ASIN!F1888","v":0}]
[{"$f":"ASIN!A1889","v":0},{"$f":"ASIN!B1889","v":0},{"$f":"ASIN!C1889","v":0},{"$f":"ASIN!D1889","v":0},{"$f":"ASIN!E1889","v":0},{"$f":"ASIN!F1889","v":0}]
[{"$f":"ASIN!A1890","v":0},{"$f":"ASIN!B1890","v":0},{"$f":"ASIN!C1890","v":0},{"$f":"ASIN!D1890","v":0},{"$f":"ASIN!E1890","v":0},{"$f":"ASIN!F1890","v":0}]
[{"$f":"ASIN!A1891","v":0},{"$f":"ASIN!B1891","v":0},{"$f":"ASIN!C1891","v":0},{"$f":"ASIN!D1891","v":0},{"$f":"ASIN!E1891","v":0},{"$f":"ASIN!F1891","v":0}]
[{"$f":"ASIN!A1892","v":0},{"$f":"ASIN!B1892","v":0},{"$f":"ASIN!C1892","v":0},{"$f":"ASIN!D1892","v":0},{"$f":"ASIN!E1892","v":0},{"$f":"ASIN!F1892","v":0}]
[{"$f":"ASIN!A1893","v":0},{"$f":"ASIN!B1893","v":0},{"$f":"ASIN!C1893","v":0},{"$f":"ASIN!D1893","v":0},{"$f":"ASIN!E1893","v":0},{"$f":"ASIN!F1893","v":0}]
[{"$f":"ASIN!A1894","v":0},{"$f":"ASIN!B1894","v":0},{"$f":"ASIN!C1894","v":0},{"$f":"ASIN!D1894","v":0},{"$f":"ASIN!E1894","v":0},{"$f":"ASIN!F1894","v":0}]
[{"$f":"ASIN!A1895","v":0},{"$f":"ASIN!B1895","v":0},{"$f":"ASIN!C1895","v":0},{"$f":"ASIN!D1895","v":0},{"$f":"ASIN!E1895","v":0},{"$f":"ASIN!F1895","v":0}]
[{"$f":"ASIN!A1896","v":0},{"$f":"ASIN!B1896","v":0},{"$f":"ASIN!C1896","v":0},{"$f":"ASIN!D1896","v":0},{"$f":"ASIN!E1896","v":0},{"$f":"ASIN!F1896","v":0}]
[{"$f":"ASIN!A1897","v":0},{"$f":"ASIN!B1897","v":0},{"$f":"ASIN!C1897","v":0},{"$f":"ASIN!D1897","v":0},{"$f":"ASIN!E1897","v":0},{"$f":"ASIN!F1897","v":0}]
[{"$f":"ASIN!A1898","v":0},{"$f":"ASIN!B1898","v":0},{"$f":"ASIN!C1898","v":0},{"$f":"ASIN!D1898","v":0},{"$f":"ASIN!E1898","v":0},{"$f":"ASIN!F1898","v":0}]
[{"$f":"ASIN!A1899","v":0},{"$f":"ASIN!B1899","v":0},{"$f":"ASIN!C1899","v":0},{"$f":"ASIN!D1899","v":0},{"$f":"ASIN!E1899","v":0},{"$f":"ASIN!F1899","v":0}]
[{"$f":"ASIN!A1900","v":0},{"$f":"ASIN!B1900","v":0},{"$f":"ASIN!C1900","v":0},{"$f":"ASIN!D1900","v":0},{"$f":"ASIN!E1900","v":0},{"$f":"ASIN!F1900","v":0}]
[{"$f":"ASIN!A1901","v":0},{"$f":"ASIN!B1901","v":0},{"$f":"ASIN!C1901","v":0},{"$f":"ASIN!D1901","v":0},{"$f":"ASIN!E1901","v":0},{"$f":"ASIN!F1901","v":0}]
[{"$f":"ASIN!A1902","v":0},{"$f":"ASIN!B1902","v":0},{"$f":"ASIN!C1902","v":0},{"$f":"ASIN!D1902","v":0},{"$f":"ASIN!E1902","v":0},{"$f":"ASIN!F1902","v":0}]
[{"$f":"ASIN!A1903","v":0},{"$f":"ASIN!B1903","v":0},{"$f":"ASIN!C1903","v":0},{"$f":"ASIN!D1903","v":0},{"$f":"ASIN!E1903","v":0},{"$f":"ASIN!F1903","v":0}]
[{"$f":"ASIN!A1904","v":0},{"$f":"ASIN!B1904","v":0},{"$f":"ASIN!C1904","v":0},{"$f":"ASIN!D1904","v":0},{"$f":"ASIN!E1904","v":0},{"$f":"ASIN!F1904","v":0}]
[{"$f":"ASIN!A1905","v":0},{"$f":"ASIN!B1905","v":0},{"$f":"ASIN!C1905","v":0},{"$f":"ASIN!D1905","v":0},{"$f":"ASIN!E1905","v":0},{"$f":"ASIN!F1905","v":0}]
[{"$f":"ASIN!A1906","v":0},{"$f":"ASIN!B1906","v":0},{"$f":"ASIN!C1906","v":0},{"$f":"ASIN!D1906","v":0},{"$f":"ASIN!E1906","v":0},{"$f":"ASIN!F1906","v":0}]
[{"$f":"ASIN!A1907","v":0},{"$f":"ASIN!B1907","v":0},{"$f":"ASIN!C1907","v":0},{"$f":"ASIN!D1907","v":0},{"$f":"ASIN!E1907","v":0},{"$f":"ASIN!F1907","v":0}]
[{"$f":"ASIN!A1908","v":0},{"$f":"ASIN!B1908","v":0},{"$f":"ASIN!C1908","v":0},{"$f":"ASIN!D1908","v":0},{"$f":"ASIN!E1908","v":0},{"$f":"ASIN!F1908","v":0}]
[{"$f":"ASIN!A1909","v":0},{"$f":"ASIN!B1909","v":0},{"$f":"ASIN!C1909","v":0},{"$f":"ASIN!D1909","v":0},{"$f":"ASIN!E1909","v":0},{"$f":"ASIN!F1909","v":0}]
[{"$f":"ASIN!A1910","v":0},{"$f":"ASIN!B1910","v":0},{"$f":"ASIN!C1910","v":0},{"$f":"ASIN!D1910","v":0},{"$f":"ASIN!E1910","v":0},{"$f":"ASIN!F1910","v":0}]
[{"$f":"ASIN!A1911","v":0},{"$f":"ASIN!B1911","v":0},{"$f":"ASIN!C1911","v":0},{"$f":"ASIN!D1911","v":0},{"$f":"ASIN!E1911","v":0},{"$f":"ASIN!F1911","v":0}]
[{"$f":"ASIN!A1912","v":0},{"$f":"ASIN!B1912","v":0},{"$f":"ASIN!C1912","v":0},{"$f":"ASIN!D1912","v":0},{"$f":"ASIN!E1912","v":0},{"$f":"ASIN!F1912","v":0}]
[{"$f":"ASIN!A1913","v":0},{"$f":"ASIN!B1913","v":0},{"$f":"ASIN!C1913","v":0},{"$f":"ASIN!D1913","v":0},{"$f":"ASIN!E1913","v":0},{"$f":"ASIN!F1913","v":0}]
[{"$f":"ASIN!A1914","v":0},{"$f":"ASIN!B1914","v":0},{"$f":"ASIN!C1914","v":0},{"$f":"ASIN!D1914","v":0},{"$f":"ASIN!E1914","v":0},{"$f":"ASIN!F1914","v":0}]
[{"$f":"ASIN!A1915","v":0},{"$f":"ASIN!B1915","v":0},{"$f":"ASIN!C1915","v":0},{"$f":"ASIN!D1915","v":0},{"$f":"ASIN!E1915","v":0},{"$f":"ASIN!F1915","v":0}]
[{"$f":"ASIN!A1916","v":0},{"$f":"ASIN!B1916","v":0},{"$f":"ASIN!C1916","v":0},{"$f":"ASIN!D1916","v":0},{"$f":"ASIN!E1916","v":0},{"$f":"ASIN!F1916","v":0}]
[{"$f":"ASIN!A1917","v":0},{"$f":"ASIN!B1917","v":0},{"$f":"ASIN!C1917","v":0},{"$f":"ASIN!D1917","v":0},{"$f":"ASIN!E1917","v":0},{"$f":"ASIN!F1917","v":0}]
[{"$f":"ASIN!A1918","v":0},{"$f":"ASIN!B1918","v":0},{"$f":"ASIN!C1918","v":0},{"$f":"ASIN!D1918","v":0},{"$f":"ASIN!E1918","v":0},{"$f":"ASIN!F1918","v":0}]
[{"$f":"ASIN!A1919","v":0},{"$f":"ASIN!B1919","v":0},{"$f":"ASIN!C1919","v":0},{"$f":"ASIN!D1919","v":0},{"$f":"ASIN!E1919","v":0},{"$f":"ASIN!F1919","v":0}]
[{"$f":"ASIN!A1920","v":0},{"$f":"ASIN!B1920","v":0},{"$f":"ASIN!C1920","v":0},{"$f":"ASIN!D1920","v":0},{"$f":"ASIN!E1920","v":0},{"$f":"ASIN!F1920","v":0}]
[{"$f":"ASIN!A1921","v":0},{"$f":"ASIN!B1921","v":0},{"$f":"ASIN!C1921","v":0},{"$f":"ASIN!D1921","v":0},{"$f":"ASIN!E1921","v":0},{"$f":"ASIN!F1921","v":0}]
[{"$f":"ASIN!A1922","v":0},{"$f":"ASIN!B1922","v":0},{"$f":"ASIN!C1922","v":0},{"$f":"ASIN!D1922","v":0},{"$f":"ASIN!E1922","v":0},{"$f":"ASIN!F1922","v":0}]
[{"$f":"ASIN!A1923","v":0},{"$f":"ASIN!B1923","v":0},{"$f":"ASIN!C1923","v":0},{"$f":"ASIN!D1923","v":0},{"$f":"ASIN!E1923","v":0},{"$f":"ASIN!F1923","v":0}]
[{"$f":"ASIN!A1924","v":0},{"$f":"ASIN!B1924","v":0},{"$f":"ASIN!C1924","v":0},{"$f":"ASIN!D1924","v":0},{"$f":"ASIN!E1924","v":0},{"$f":"ASIN!F1924","v":0}]
[{"$f":"ASIN!A1925","v":0},{"$f":"ASIN!B1925","v":0},{"$f":"ASIN!C1925","v":0},{"$f":"ASIN!D1925","v":0},{"$f":"ASIN!E1925","v":0},{"$f":"ASIN!F1925","v":0}]
[{"$f":"ASIN!A1926","v":0},{"$f":"ASIN!B1926","v":0},{"$f":"ASIN!C1926","v":0},{"$f":"ASIN!D1926","v":0},{"$f":"ASIN!E1926","v":0},{"$f":"ASIN!F1926","v":0}]
[{"$f":"ASIN!A1927","v":0},{"$f":"ASIN!B1927","v":0},{"$f":"ASIN!C1927","v":0},{"$f":"ASIN!D1927","v":0},{"$f":"ASIN!E1927","v":0},{"$f":"ASIN!F1927","v":0}]
[{"$f":"ASIN!A1928","v":0},{"$f":"ASIN!B1928","v":0},{"$f":"ASIN!C1928","v":0},{"$f":"ASIN!D1928","v":0},{"$f":"ASIN!E1928","v":0},{"$f":"ASIN!F1928","v":0}]
[{"$f":"ASIN!A1929","v":0},{"$f":"ASIN!B1929","v":0},{"$f":"ASIN!C1929","v":0},{"$f":"ASIN!D1929","v":0},{"$f":"ASIN!E1929","v":0},{"$f":"ASIN!F1929","v":0}]
[{"$f":"ASIN!A1930","v":0},{"$f":"ASIN!B1930","v":0},{"$f":"ASIN!C1930","v":0},{"$f":"ASIN!D1930","v":0},{"$f":"ASIN!E1930","v":0},{"$f":"ASIN!F1930","v":0}]
[{"$f":"ASIN!A1931","v":0},{"$f":"ASIN!B1931","v":0},{"$f":"ASIN!C1931","v":0},{"$f":"ASIN!D1931","v":0},{"$f":"ASIN!E1931","v":0},{"$f":"ASIN!F1931","v":0}]
[{"$f":"ASIN!A1932","v":0},{"$f":"ASIN!B1932","v":0},{"$f":"ASIN!C1932","v":0},{"$f":"ASIN!D1932","v":0},{"$f":"ASIN!E1932","v":0},{"$f":"ASIN!F1932","v":0}]
[{"$f":"ASIN!A1933","v":0},{"$f":"ASIN!B1933","v":0},{"$f":"ASIN!C1933","v":0},{"$f":"ASIN!D1933","v":0},{"$f":"ASIN!E1933","v":0},{"$f":"ASIN!F1933","v":0}]
[{"$f":"ASIN!A1934","v":0},{"$f":"ASIN!B1934","v":0},{"$f":"ASIN!C1934","v":0},{"$f":"ASIN!D1934","v":0},{"$f":"ASIN!E1934","v":0},{"$f":"ASIN!F1934","v":0}]
[{"$f":"ASIN!A1935","v":0},{"$f":"ASIN!B1935","v":0},{"$f":"ASIN!C1935","v":0},{"$f":"ASIN!D1935","v":0},{"$f":"ASIN!E1935","v":0},{"$f":"ASIN!F1935","v":0}]
[{"$f":"ASIN!A1936","v":0},{"$f":"ASIN!B1936","v":0},{"$f":"ASIN!C1936","v":0},{"$f":"ASIN!D1936","v":0},{"$f":"ASIN!E1936","v":0},{"$f":"ASIN!F1936","v":0}]
[{"$f":"ASIN!A1937","v":0},{"$f":"ASIN!B1937","v":0},{"$f":"ASIN!C1937","v":0},{"$f":"ASIN!D1937","v":0},{"$f":"ASIN!E1937","v":0},{"$f":"ASIN!F1937","v":0}]
[{"$f":"ASIN!A1938","v":0},{"$f":"ASIN!B1938","v":0},{"$f":"ASIN!C1938","v":0},{"$f":"ASIN!D1938","v":0},{"$f":"ASIN!E1938","v":0},{"$f":"ASIN!F1938","v":0}]
[{"$f":"ASIN!A1939","v":0},{"$f":"ASIN!B1939","v":0},{"$f":"ASIN!C1939","v":0},{"$f":"ASIN!D1939","v":0},{"$f":"ASIN!E1939","v":0},{"$f":"ASIN!F1939","v":0}]
[{"$f":"ASIN!A1940","v":0},{"$f":"ASIN!B1940","v":0},{"$f":"ASIN!C1940","v":0},{"$f":"ASIN!D1940","v":0},{"$f":"ASIN!E1940","v":0},{"$f":"ASIN!F1940","v":0}]
[{"$f":"ASIN!A1941","v":0},{"$f":"ASIN!B1941","v":0},{"$f":"ASIN!C1941","v":0},{"$f":"ASIN!D1941","v":0},{"$f":"ASIN!E1941","v":0},{"$f":"ASIN!F1941","v":0}]
[{"$f":"ASIN!A1942","v":0},{"$f":"ASIN!B1942","v":0},{"$f":"ASIN!C1942","v":0},{"$f":"ASIN!D1942","v":0},{"$f":"ASIN!E1942","v":0},{"$f":"ASIN!F1942","v":0}]
[{"$f":"ASIN!A1943","v":0},{"$f":"ASIN!B1943","v":0},{"$f":"ASIN!C1943","v":0},{"$f":"ASIN!D1943","v":0},{"$f":"ASIN!E1943","v":0},{"$f":"ASIN!F1943","v":0}]
[{"$f":"ASIN!A1944","v":0},{"$f":"ASIN!B1944","v":0},{"$f":"ASIN!C1944","v":0},{"$f":"ASIN!D1944","v":0},{"$f":"ASIN!E1944","v":0},{"$f":"ASIN!F1944","v":0}]
[{"$f":"ASIN!A1945","v":0},{"$f":"ASIN!B1945","v":0},{"$f":"ASIN!C1945","v":0},{"$f":"ASIN!D1945","v":0},{"$f":"ASIN!E1945","v":0},{"$f":"ASIN!F1945","v":0}]
[{"$f":"ASIN!A1946","v":0},{"$f":"ASIN!B1946","v":0},{"$f":"ASIN!C1946","v":0},{"$f":"ASIN!D1946","v":0},{"$f":"ASIN!E1946","v":0},{"$f":"ASIN!F1946","v":0}]
[{"$f":"ASIN!A1947","v":0},{"$f":"ASIN!B1947","v":0},{"$f":"ASIN!C1947","v":0},{"$f":"ASIN!D1947","v":0},{"$f":"ASIN!E1947","v":0},{"$f":"ASIN!F1947","v":0}]
[{"$f":"ASIN!A1948","v":0},{"$f":"ASIN!B1948","v":0},{"$f":"ASIN!C1948","v":0},{"$f":"ASIN!D1948","v":0},{"$f":"ASIN!E1948","v":0},{"$f":"ASIN!F1948","v":0}]
[{"$f":"ASIN!A1949","v":0},{"$f":"ASIN!B1949","v":0},{"$f":"ASIN!C1949","v":0},{"$f":"ASIN!D1949","v":0},{"$f":"ASIN!E1949","v":0},{"$f":"ASIN!F1949","v":0}]
[{"$f":"ASIN!A1950","v":0},{"$f":"ASIN!B1950","v":0},{"$f":"ASIN!C1950","v":0},{"$f":"ASIN!D1950","v":0},{"$f":"ASIN!E1950","v":0},{"$f":"ASIN!F1950","v":0}]
[{"$f":"ASIN!A1951","v":0},{"$f":"ASIN!B1951","v":0},{"$f":"ASIN!C1951","v":0},{"$f":"ASIN!D1951","v":0},{"$f":"ASIN!E1951","v":0},{"$f":"ASIN!F1951","v":0}]
[{"$f":"ASIN!A1952","v":0},{"$f":"ASIN!B1952","v":0},{"$f":"ASIN!C1952","v":0},{"$f":"ASIN!D1952","v":0},{"$f":"ASIN!E1952","v":0},{"$f":"ASIN!F1952","v":0}]
[{"$f":"ASIN!A1953","v":0},{"$f":"ASIN!B1953","v":0},{"$f":"ASIN!C1953","v":0},{"$f":"ASIN!D1953","v":0},{"$f":"ASIN!E1953","v":0},{"$f":"ASIN!F1953","v":0}]
[{"$f":"ASIN!A1954","v":0},{"$f":"ASIN!B1954","v":0},{"$f":"ASIN!C1954","v":0},{"$f":"ASIN!D1954","v":0},{"$f":"ASIN!E1954","v":0},{"$f":"ASIN!F1954","v":0}]
[{"$f":"ASIN!A1955","v":0},{"$f":"ASIN!B1955","v":0},{"$f":"ASIN!C1955","v":0},{"$f":"ASIN!D1955","v":0},{"$f":"ASIN!E1955","v":0},{"$f":"ASIN!F1955","v":0}]
[{"$f":"ASIN!A1956","v":0},{"$f":"ASIN!B1956","v":0},{"$f":"ASIN!C1956","v":0},{"$f":"ASIN!D1956","v":0},{"$f":"ASIN!E1956","v":0},{"$f":"ASIN!F1956","v":0}]
[{"$f":"ASIN!A1957","v":0},{"$f":"ASIN!B1957","v":0},{"$f":"ASIN!C1957","v":0},{"$f":"ASIN!D1957","v":0},{"$f":"ASIN!E1957","v":0},{"$f":"ASIN!F1957","v":0}]
[{"$f":"ASIN!A1958","v":0},{"$f":"ASIN!B1958","v":0},{"$f":"ASIN!C1958","v":0},{"$f":"ASIN!D1958","v":0},{"$f":"ASIN!E1958","v":0},{"$f":"ASIN!F1958","v":0}]
[{"$f":"ASIN!A1959","v":0},{"$f":"ASIN!B1959","v":0},{"$f":"ASIN!C1959","v":0},{"$f":"ASIN!D1959","v":0},{"$f":"ASIN!E1959","v":0},{"$f":"ASIN!F1959","v":0}]
[{"$f":"ASIN!A1960","v":0},{"$f":"ASIN!B1960","v":0},{"$f":"ASIN!C1960","v":0},{"$f":"ASIN!D1960","v":0},{"$f":"ASIN!E1960","v":0},{"$f":"ASIN!F1960","v":0}]
[{"$f":"ASIN!A1961","v":0},{"$f":"ASIN!B1961","v":0},{"$f":"ASIN!C1961","v":0},{"$f":"ASIN!D1961","v":0},{"$f":"ASIN!E1961","v":0},{"$f":"ASIN!F1961","v":0}]
[{"$f":"ASIN!A1962","v":0},{"$f":"ASIN!B1962","v":0},{"$f":"ASIN!C1962","v":0},{"$f":"ASIN!D1962","v":0},{"$f":"ASIN!E1962","v":0},{"$f":"ASIN!F1962","v":0}]
[{"$f":"ASIN!A1963","v":0},{"$f":"ASIN!B1963","v":0},{"$f":"ASIN!C1963","v":0},{"$f":"ASIN!D1963","v":0},{"$f":"ASIN!E1963","v":0},{"$f":"ASIN!F1963","v":0}]
[{"$f":"ASIN!A1964","v":0},{"$f":"ASIN!B1964","v":0},{"$f":"ASIN!C1964","v":0},{"$f":"ASIN!D1964","v":0},{"$f":"ASIN!E1964","v":0},{"$f":"ASIN!F1964","v":0}]
[{"$f":"ASIN!A1965","v":0},{"$f":"ASIN!B1965","v":0},{"$f":"ASIN!C1965","v":0},{"$f":"ASIN!D1965","v":0},{"$f":"ASIN!E1965","v":0},{"$f":"ASIN!F1965","v":0}]
[{"$f":"ASIN!A1966","v":0},{"$f":"ASIN!B1966","v":0},{"$f":"ASIN!C1966","v":0},{"$f":"ASIN!D1966","v":0},{"$f":"ASIN!E1966","v":0},{"$f":"ASIN!F1966","v":0}]
[{"$f":"ASIN!A1967","v":0},{"$f":"ASIN!B1967","v":0},{"$f":"ASIN!C1967","v":0},{"$f":"ASIN!D1967","v":0},{"$f":"ASIN!E1967","v":0},{"$f":"ASIN!F1967","v":0}]
[{"$f":"ASIN!A1968","v":0},{"$f":"ASIN!B1968","v":0},{"$f":"ASIN!C1968","v":0},{"$f":"ASIN!D1968","v":0},{"$f":"ASIN!E1968","v":0},{"$f":"ASIN!F1968","v":0}]
[{"$f":"ASIN!A1969","v":0},{"$f":"ASIN!B1969","v":0},{"$f":"ASIN!C1969","v":0},{"$f":"ASIN!D1969","v":0},{"$f":"ASIN!E1969","v":0},{"$f":"ASIN!F1969","v":0}]
[{"$f":"ASIN!A1970","v":0},{"$f":"ASIN!B1970","v":0},{"$f":"ASIN!C1970","v":0},{"$f":"ASIN!D1970","v":0},{"$f":"ASIN!E1970","v":0},{"$f":"ASIN!F1970","v":0}]
[{"$f":"ASIN!A1971","v":0},{"$f":"ASIN!B1971","v":0},{"$f":"ASIN!C1971","v":0},{"$f":"ASIN!D1971","v":0},{"$f":"ASIN!E1971","v":0},{"$f":"ASIN!F1971","v":0}]
[{"$f":"ASIN!A1972","v":0},{"$f":"ASIN!B1972","v":0},{"$f":"ASIN!C1972","v":0},{"$f":"ASIN!D1972","v":0},{"$f":"ASIN!E1972","v":0},{"$f":"ASIN!F1972","v":0}]
[{"$f":"ASIN!A1973","v":0},{"$f":"ASIN!B1973","v":0},{"$f":"ASIN!C1973","v":0},{"$f":"ASIN!D1973","v":0},{"$f":"ASIN!E1973","v":0},{"$f":"ASIN!F1973","v":0}]
[{"$f":"ASIN!A1974","v":0},{"$f":"ASIN!B1974","v":0},{"$f":"ASIN!C1974","v":0},{"$f":"ASIN!D1974","v":0},{"$f":"ASIN!E1974","v":0},{"$f":"ASIN!F1974","v":0}]
[{"$f":"ASIN!A1975","v":0},{"$f":"ASIN!B1975","v":0},{"$f":"ASIN!C1975","v":0},{"$f":"ASIN!D1975","v":0},{"$f":"ASIN!E1975","v":0},{"$f":"ASIN!F1975","v":0}]
[{"$f":"ASIN!A1976","v":0},{"$f":"ASIN!B1976","v":0},{"$f":"ASIN!C1976","v":0},{"$f":"ASIN!D1976","v":0},{"$f":"ASIN!E1976","v":0},{"$f":"ASIN!F1976","v":0}]
[{"$f":"ASIN!A1977","v":0},{"$f":"ASIN!B1977","v":0},{"$f":"ASIN!C1977","v":0},{"$f":"ASIN!D1977","v":0},{"$f":"ASIN!E1977","v":0},{"$f":"ASIN!F1977","v":0}]
[{"$f":"ASIN!A1978","v":0},{"$f":"ASIN!B1978","v":0},{"$f":"ASIN!C1978","v":0},{"$f":"ASIN!D1978","v":0},{"$f":"ASIN!E1978","v":0},{"$f":"ASIN!F1978","v":0}]
[{"$f":"ASIN!A1979","v":0},{"$f":"ASIN!B1979","v":0},{"$f":"ASIN!C1979","v":0},{"$f":"ASIN!D1979","v":0},{"$f":"ASIN!E1979","v":0},{"$f":"ASIN!F1979","v":0}]
[{"$f":"ASIN!A1980","v":0},{"$f":"ASIN!B1980","v":0},{"$f":"ASIN!C1980","v":0},{"$f":"ASIN!D1980","v":0},{"$f":"ASIN!E1980","v":0},{"$f":"ASIN!F1980","v":0}]
[{"$f":"ASIN!A1981","v":0},{"$f":"ASIN!B1981","v":0},{"$f":"ASIN!C1981","v":0},{"$f":"ASIN!D1981","v":0},{"$f":"ASIN!E1981","v":0},{"$f":"ASIN!F1981","v":0}]
[{"$f":"ASIN!A1982","v":0},{"$f":"ASIN!B1982","v":0},{"$f":"ASIN!C1982","v":0},{"$f":"ASIN!D1982","v":0},{"$f":"ASIN!E1982","v":0},{"$f":"ASIN!F1982","v":0}]
[{"$f":"ASIN!A1983","v":0},{"$f":"ASIN!B1983","v":0},{"$f":"ASIN!C1983","v":0},{"$f":"ASIN!D1983","v":0},{"$f":"ASIN!E1983","v":0},{"$f":"ASIN!F1983","v":0}]
[{"$f":"ASIN!A1984","v":0},{"$f":"ASIN!B1984","v":0},{"$f":"ASIN!C1984","v":0},{"$f":"ASIN!D1984","v":0},{"$f":"ASIN!E1984","v":0},{"$f":"ASIN!F1984","v":0}]
[{"$f":"ASIN!A1985","v":0},{"$f":"ASIN!B1985","v":0},{"$f":"ASIN!C1985","v":0},{"$f":"ASIN!D1985","v":0},{"$f":"ASIN!E1985","v":0},{"$f":"ASIN!F1985","v":0}]
[{"$f":"ASIN!A1986","v":0},{"$f":"ASIN!B1986","v":0},{"$f":"ASIN!C1986","v":0},{"$f":"ASIN!D1986","v":0},{"$f":"ASIN!E1986","v":0},{"$f":"ASIN!F1986","v":0}]
[{"$f":"ASIN!A1987","v":0},{"$f":"ASIN!B1987","v":0},{"$f":"ASIN!C1987","v":0},{"$f":"ASIN!D1987","v":0},{"$f":"ASIN!E1987","v":0},{"$f":"ASIN!F1987","v":0}]
[{"$f":"ASIN!A1988","v":0},{"$f":"ASIN!B1988","v":0},{"$f":"ASIN!C1988","v":0},{"$f":"ASIN!D1988","v":0},{"$f":"ASIN!E1988","v":0},{"$f":"ASIN!F1988","v":0}]
[{"$f":"ASIN!A1989","v":0},{"$f":"ASIN!B1989","v":0},{"$f":"ASIN!C1989","v":0},{"$f":"ASIN!D1989","v":0},{"$f":"ASIN!E1989","v":0},{"$f":"ASIN!F1989","v":0}]
[{"$f":"ASIN!A1990","v":0},{"$f":"ASIN!B1990","v":0},{"$f":"ASIN!C1990","v":0},{"$f":"ASIN!D1990","v":0},{"$f":"ASIN!E1990","v":0},{"$f":"ASIN!F1990","v":0}]
[{"$f":"ASIN!A1991","v":0},{"$f":"ASIN!B1991","v":0},{"$f":"ASIN!C1991","v":0},{"$f":"ASIN!D1991","v":0},{"$f":"ASIN!E1991","v":0},{"$f":"ASIN!F1991","v":0}]
[{"$f":"ASIN!A1992","v":0},{"$f":"ASIN!B1992","v":0},{"$f":"ASIN!C1992","v":0},{"$f":"ASIN!D1992","v":0},{"$f":"ASIN!E1992","v":0},{"$f":"ASIN!F1992","v":0}]
[{"$f":"ASIN!A1993","v":0},{"$f":"ASIN!B1993","v":0},{"$f":"ASIN!C1993","v":0},{"$f":"ASIN!D1993","v":0},{"$f":"ASIN!E1993","v":0},{"$f":"ASIN!F1993","v":0}]
[{"$f":"ASIN!A1994","v":0},{"$f":"ASIN!B1994","v":0},{"$f":"ASIN!C1994","v":0},{"$f":"ASIN!D1994","v":0},{"$f":"ASIN!E1994","v":0},{"$f":"ASIN!F1994","v":0}]
[{"$f":"ASIN!A1995","v":0},{"$f":"ASIN!B1995","v":0},{"$f":"ASIN!C1995","v":0},{"$f":"ASIN!D1995","v":0},{"$f":"ASIN!E1995","v":0},{"$f":"ASIN!F1995","v":0}]
[{"$f":"ASIN!A1996","v":0},{"$f":"ASIN!B1996","v":0},{"$f":"ASIN!C1996","v":0},{"$f":"ASIN!D1996","v":0},{"$f":"ASIN!E1996","v":0},{"$f":"ASIN!F1996","v":0}]
[{"$f":"ASIN!A1997","v":0},{"$f":"ASIN!B1997","v":0},{"$f":"ASIN!C1997","v":0},{"$f":"ASIN!D1997","v":0},{"$f":"ASIN!E1997","v":0},{"$f":"ASIN!F1997","v":0}]
[{"$f":"ASIN!A1998","v":0},{"$f":"ASIN!B1998","v":0},{"$f":"ASIN!C1998","v":0},{"$f":"ASIN!D1998","v":0},{"$f":"ASIN!E1998","v":0},{"$f":"ASIN!F1998","v":0}]
[{"$f":"ASIN!A1999","v":0},{"$f":"ASIN!B1999","v":0},{"$f":"ASIN!C1999","v":0},{"$f":"ASIN!D1999","v":0},{"$f":"ASIN!E1999","v":0},{"$f":"ASIN!F1999","v":0}]
[{"$f":"ASIN!A2000","v":0},{"$f":"ASIN!B2000","v":0},{"$f":"ASIN!C2000","v":0},{"$f":"ASIN!D2000","v":0},{"$f":"ASIN!E2000","v":0},{"$f":"ASIN!F2000","v":0}]
[{"$f":"ASIN!A2018","v":0},{"$f":"ASIN!B2018","v":0},{"$f":"ASIN!C2018","v":0},{"$f":"ASIN!D2018","v":0},{"$f":"ASIN!E2018","v":0},{"$f":"ASIN!F2018","v":0}]
[{"$f":"ASIN!A2034","v":0},{"$f":"ASIN!B2034","v":0},{"$f":"ASIN!C2034","v":0},{"$f":"ASIN!D2034","v":0},{"$f":"ASIN!E2034","v":0},{"$f":"ASIN!F2034","v":0}]
[{"$f":"ASIN!A2067","v":0},{"$f":"ASIN!B2067","v":0},{"$f":"ASIN!C2067","v":0},{"$f":"ASIN!D2067","v":0},{"$f":"ASIN!E2067","v":0},{"$f":"ASIN!F2067","v":0}]
[{"$f":"ASIN!A2087","v":0},{"$f":"ASIN!B2087","v":0},{"$f":"ASIN!C2087","v":0},{"$f":"ASIN!D2087","v":0},{"$f":"ASIN!E2087","v":0},{"$f":"ASIN!F2087","v":0}]
[{"$f":"ASIN!A2100","v":0},{"$f":"ASIN!B2100","v":0},{"$f":"ASIN!C2100","v":0},{"$f":"ASIN!D2100","v":0},{"$f":"ASIN!E2100","v":0},{"$f":"ASIN!F2100","v":0}]
[{"$f":"ASIN!A2133","v":0},{"$f":"ASIN!B2133","v":0},{"$f":"ASIN!C2133","v":0},{"$f":"ASIN!D2133","v":0},{"$f":"ASIN!E2133","v":0},{"$f":"ASIN!F2133","v":0}]
[{"$f":"ASIN!A2158","v":0},{"$f":"ASIN!B2158","v":0},{"$f":"ASIN!C2158","v":0},{"$f":"ASIN!D2158","v":0},{"$f":"ASIN!E2158","v":0},{"$f":"ASIN!F2158","v":0}]
[{"$f":"ASIN!A2167","v":0},{"$f":"ASIN!B2167","v":0},{"$f":"ASIN!C2167","v":0},{"$f":"ASIN!D2167","v":0},{"$f":"ASIN!E2167","v":0},{"$f":"ASIN!F2167","v":0}]
[{"$f":"ASIN!A2191","v":0},{"$f":"ASIN!B2191","v":0},{"$f":"ASIN!C2191","v":0},{"$f":"ASIN!D2191","v":0},{"$f":"ASIN!E2191","v":0},{"$f":"ASIN!F2191","v":0}]
[{"$f":"ASIN!A2224","v":0},{"$f":"ASIN!B2224","v":0},{"$f":"ASIN!C2224","v":0},{"$f":"ASIN!D2224","v":0},{"$f":"ASIN!E2224","v":0},{"$f":"ASIN!F2224","v":0}]
[{"$f":"ASIN!A2257","v":0},{"$f":"ASIN!B2257","v":0},{"$f":"ASIN!C2257","v":0},{"$f":"ASIN!D2257","v":0},{"$f":"ASIN!E2257","v":0},{"$f":"ASIN!F2257","v":0}]
[{"$f":"ASIN!A2282","v":0},{"$f":"ASIN!B2282","v":0},{"$f":"ASIN!C2282","v":0},{"$f":"ASIN!D2282","v":0},{"$f":"ASIN!E2282","v":0},{"$f":"ASIN!F2282","v":0}]
[{"$f":"ASIN!A2290","v":0},{"$f":"ASIN!B2290","v":0},{"$f":"ASIN!C2290","v":0},{"$f":"ASIN!D2290","v":0},{"$f":"ASIN!E2290","v":0},{"$f":"ASIN!F2290","v":0}]
[{"$f":"ASIN!A2323","v":0},{"$f":"ASIN!B2323","v":0},{"$f":"ASIN!C2323","v":0},{"$f":"ASIN!D2323","v":0},{"$f":"ASIN!E2323","v":0},{"$f":"ASIN!F2323","v":0}]
[{"$f":"ASIN!A2348","v":0},{"$f":"ASIN!B2348","v":0},{"$f":"ASIN!C2348","v":0},{"$f":"ASIN!D2348","v":0},{"$f":"ASIN!E2348","v":0},{"$f":"ASIN!F2348","v":0}]
[{"$f":"ASIN!A2362","v":0},{"$f":"ASIN!B2362","v":0},{"$f":"ASIN!C2362","v":0},{"$f":"ASIN!D2362","v":0},{"$f":"ASIN!E2362","v":0},{"$f":"ASIN!F2362","v":0}]
[{"$f":"ASIN!A2381","v":0},{"$f":"ASIN!B2381","v":0},{"$f":"ASIN!C2381","v":0},{"$f":"ASIN!D2381","v":0},{"$f":"ASIN!E2381","v":0},{"$f":"ASIN!F2381","v":0}]
[{"$f":"ASIN!A2414","v":0},{"$f":"ASIN!B2414","v":0},{"$f":"ASIN!C2414","v":0},{"$f":"ASIN!D2414","v":0},{"$f":"ASIN!E2414","v":0},{"$f":"ASIN!F2414","v":0}]
[{"$f":"ASIN!A2447","v":0},{"$f":"ASIN!B2447","v":0},{"$f":"ASIN!C2447","v":0},{"$f":"ASIN!D2447","v":0},{"$f":"ASIN!E2447","v":0},{"$f":"ASIN!F2447","v":0}]
[{"$f":"ASIN!A2454","v":0},{"$f":"ASIN!B2454","v":0},{"$f":"ASIN!C2454","v":0},{"$f":"ASIN!D2454","v":0},{"$f":"ASIN!E2454","v":0},{"$f":"ASIN!F2454","v":0}]
[{"$f":"ASIN!A2480","v":0},{"$f":"ASIN!B2480","v":0},{"$f":"ASIN!C2480","v":0},{"$f":"ASIN!D2480","v":0},{"$f":"ASIN!E2480","v":0},{"$f":"ASIN!F2480","v":0}]
[{"$f":"ASIN!A2505","v":0},{"$f":"ASIN!B2505","v":0},{"$f":"ASIN!C2505","v":0},{"$f":"ASIN!D2505","v":0},{"$f":"ASIN!E2505","v":0},{"$f":"ASIN!F2505","v":0}]
[{"$f":"ASIN!A2538","v":0},{"$f":"ASIN!B2538","v":0},{"$f":"ASIN!C2538","v":0},{"$f":"ASIN!D2538","v":0},{"$f":"ASIN!E2538","v":0},{"$f":"ASIN!F2538","v":0}]
[{"$f":"ASIN!A2557","v":0},{"$f":"ASIN!B2557","v":0},{"$f":"ASIN!C2557","v":0},{"$f":"ASIN!D2557","v":0},{"$f":"ASIN!E2557","v":0},{"$f":"ASIN!F2557","v":0}]
[{"$f":"ASIN!A2571","v":0},{"$f":"ASIN!B2571","v":0},{"$f":"ASIN!C2571","v":0},{"$f":"ASIN!D2571","v":0},{"$f":"ASIN!E2571","v":0},{"$f":"ASIN!F2571","v":0}]
[{"$f":"ASIN!A2604","v":0},{"$f":"ASIN!B2604","v":0},{"$f":"ASIN!C2604","v":0},{"$f":"ASIN!D2604","v":0},{"$f":"ASIN!E2604","v":0},{"$f":"ASIN!F2604","v":0}]
[{"$f":"ASIN!A2637","v":0},{"$f":"ASIN!B2637","v":0},{"$f":"ASIN!C2637","v":0},{"$f":"ASIN!D2637","v":0},{"$f":"ASIN!E2637","v":0},{"$f":"ASIN!F2637","v":0}]
[{"$f":"ASIN!A2649","v":0},{"$f":"ASIN!B2649","v":0},{"$f":"ASIN!C2649","v":0},{"$f":"ASIN!D2649","v":0},{"$f":"ASIN!E2649","v":0},{"$f":"ASIN!F2649","v":0}]
[{"$f":"ASIN!A2670","v":0},{"$f":"ASIN!B2670","v":0},{"$f":"ASIN!C2670","v":0},{"$f":"ASIN!D2670","v":0},{"$f":"ASIN!E2670","v":0},{"$f":"ASIN!F2670","v":0}]
[{"$f":"ASIN!A2695","v":0},{"$f":"ASIN!B2695","v":0},{"$f":"ASIN!C2695","v":0},{"$f":"ASIN!D2695","v":0},{"$f":"ASIN!E2695","v":0},{"$f":"ASIN!F2695","v":0}]
[{"$f":"ASIN!A2728","v":0},{"$f":"ASIN!B2728","v":0},{"$f":"ASIN!C2728","v":0},{"$f":"ASIN!D2728","v":0},{"$f":"ASIN!E2728","v":0},{"$f":"ASIN!F2728","v":0}]
[{"$f":"ASIN!A2752","v":0},{"$f":"ASIN!B2752","v":0},{"$f":"ASIN!C2752","v":0},{"$f":"ASIN!D2752","v":0},{"$f":"ASIN!E2752","v":0},{"$f":"ASIN!F2752","v":0}]
[{"$f":"ASIN!A2761","v":0},{"$f":"ASIN!B2761","v":0},{"$f":"ASIN!C2761","v":0},{"$f":"ASIN!D2761","v":0},{"$f":"ASIN!E2761","v":0},{"$f":"ASIN!F2761","v":0}]
[{"$f":"ASIN!A2794","v":0},{"$f":"ASIN!B2794","v":0},{"$f":"ASIN!C2794","v":0},{"$f":"ASIN!D2794","v":0},{"$f":"ASIN!E2794","v":0},{"$f":"ASIN!F2794","v":0}]
[{"$f":"ASIN!A2827","v":0},{"$f":"ASIN!B2827","v":0},{"$f":"ASIN!C2827","v":0},{"$f":"ASIN!D2827","v":0},{"$f":"ASIN!E2827","v":0},{"$f":"ASIN!F2827","v":0}]
[{"$f":"ASIN!A2844","v":0},{"$f":"ASIN!B2844","v":0},{"$f":"ASIN!C2844","v":0},{"$f":"ASIN!D2844","v":0},{"$f":"ASIN!E2844","v":0},{"$f":"ASIN!F2844","v":0}]
[{"$f":"ASIN!A2860","v":0},{"$f":"ASIN!B2860","v":0},{"$f":"ASIN!C2860","v":0},{"$f":"ASIN!D2860","v":0},{"$f":"ASIN!E2860","v":0},{"$f":"ASIN!F2860","v":0}]
[{"$f":"ASIN!A2885","v":0},{"$f":"ASIN!B2885","v":0},{"$f":"ASIN!C2885","v":0},{"$f":"ASIN!D2885","v":0},{"$f":"ASIN!E2885","v":0},{"$f":"ASIN!F2885","v":0}]
[{"$f":"ASIN!A2918","v":0},{"$f":"ASIN!B2918","v":0},{"$f":"ASIN!C2918","v":0},{"$f":"ASIN!D2918","v":0},{"$f":"ASIN!E2918","v":0},{"$f":"ASIN!F2918","v":0}]
[{"$f":"ASIN!A2947","v":0},{"$f":"ASIN!B2947","v":0},{"$f":"ASIN!C2947","v":0},{"$f":"ASIN!D2947","v":0},{"$f":"ASIN!E2947","v":0},{"$f":"ASIN!F2947","v":0}]
[{"$f":"ASIN!A2951","v":0},{"$f":"ASIN!B2951","v":0},{"$f":"ASIN!C2951","v":0},{"$f":"ASIN!D2951","v":0},{"$f":"ASIN!E2951","v":0},{"$f":"ASIN!F2951","v":0}]
[{"$f":"ASIN!A2984","v":0},{"$f":"ASIN!B2984","v":0},{"$f":"ASIN!C2984","v":0},{"$f":"ASIN!D2984","v":0},{"$f":"ASIN!E2984","v":0},{"$f":"ASIN!F2984","v":0}]
[{"$f":"ASIN!A3009","v":0},{"$f":"ASIN!B3009","v":0},{"$f":"ASIN!C3009","v":0},{"$f":"ASIN!D3009","v":0},{"$f":"ASIN!E3009","v":0},{"$f":"ASIN!F3009","v":0}]
[{"$f":"ASIN!A3039","v":0},{"$f":"ASIN!B3039","v":0},{"$f":"ASIN!C3039","v":0},{"$f":"ASIN!D3039","v":0},{"$f":"ASIN!E3039","v":0},{"$f":"ASIN!F3039","v":0}]
[{"$f":"ASIN!A3050","v":0},{"$f":"ASIN!B3050","v":0},{"$f":"ASIN!C3050","v":0},{"$f":"ASIN!D3050","v":0},{"$f":"ASIN!E3050","v":0},{"$f":"ASIN!F3050","v":0}]
[{"$f":"ASIN!A3075","v":0},{"$f":"ASIN!B3075","v":0},{"$f":"ASIN!C3075","v":0},{"$f":"ASIN!D3075","v":0},{"$f":"ASIN!E3075","v":0},{"$f":"ASIN!F3075","v":0}]
[{"$f":"ASIN!A3108","v":0},{"$f":"ASIN!B3108","v":0},{"$f":"ASIN!C3108","v":0},{"$f":"ASIN!D3108","v":0},{"$f":"ASIN!E3108","v":0},{"$f":"ASIN!F3108","v":0}]
[{"$f":"ASIN!A3119","v":0},{"$f":"ASIN!B3119","v":0},{"$f":"ASIN!C3119","v":0},{"$f":"ASIN!D3119","v":0},{"$f":"ASIN!E3119","v":0},{"$f":"ASIN!F3119","v":0}]
[{"$f":"ASIN!A3141","v":0},{"$f":"ASIN!B3141","v":0},{"$f":"ASIN!C3141","v":0},{"$f":"ASIN!D3141","v":0},{"$f":"ASIN!E3141","v":0},{"$f":"ASIN!F3141","v":0}]
[{"$f":"ASIN!A3174","v":0},{"$f":"ASIN!B3174","v":0},{"$f":"ASIN!C3174","v":0},{"$f":"ASIN!D3174","v":0},{"$f":"ASIN!E3174","v":0},{"$f":"ASIN!F3174","v":0}]
[{"$f":"ASIN!A3199","v":0},{"$f":"ASIN!B3199","v":0},{"$f":"ASIN!C3199","v":0},{"$f":"ASIN!D3199","v":0},{"$f":"ASIN!E3199","v":0},{"$f":"ASIN!F3199","v":0}]
[{"$f":"ASIN!A3234","v":0},{"$f":"ASIN!B3234","v":0},{"$f":"ASIN!C3234","v":0},{"$f":"ASIN!D3234","v":0},{"$f":"ASIN!E3234","v":0},{"$f":"ASIN!F3234","v":0}]
[{"$f":"ASIN!A3240","v":0},{"$f":"ASIN!B3240","v":0},{"$f":"ASIN!C3240","v":0},{"$f":"ASIN!D3240","v":0},{"$f":"ASIN!E3240","v":0},{"$f":"ASIN!F3240","v":0}]
[{"$f":"ASIN!A3265","v":0},{"$f":"ASIN!B3265","v":0},{"$f":"ASIN!C3265","v":0},{"$f":"ASIN!D3265","v":0},{"$f":"ASIN!E3265","v":0},{"$f":"ASIN!F3265","v":0}]
[{"$f":"ASIN!A3298","v":0},{"$f":"ASIN!B3298","v":0},{"$f":"ASIN!C3298","v":0},{"$f":"ASIN!D3298","v":0},{"$f":"ASIN!E3298","v":0},{"$f":"ASIN!F3298","v":0}]
[{"$f":"ASIN!A3326","v":0},{"$f":"ASIN!B3326","v":0},{"$f":"ASIN!C3326","v":0},{"$f":"ASIN!D3326","v":0},{"$f":"ASIN!E3326","v":0},{"$f":"ASIN!F3326","v":0}]
[{"$f":"ASIN!A3331","v":0},{"$f":"ASIN!B3331","v":0},{"$f":"ASIN!C3331","v":0},{"$f":"ASIN!D3331","v":0},{"$f":"ASIN!E3331","v":0},{"$f":"ASIN!F3331","v":0}]
[{"$f":"ASIN!A3364","v":0},{"$f":"ASIN!B3364","v":0},{"$f":"ASIN!C3364","v":0},{"$f":"ASIN!D3364","v":0},{"$f":"ASIN!E3364","v":0},{"$f":"ASIN!F3364","v":0}]
[{"$f":"ASIN!A3389","v":0},{"$f":"ASIN!B3389","v":0},{"$f":"ASIN!C3389","v":0},{"$f":"ASIN!D3389","v":0},{"$f":"ASIN!E3389","v":0},{"$f":"ASIN!F3389","v":0}]
[{"$f":"ASIN!A3406","v":0},{"$f":"ASIN!B3406","v":0},{"$f":"ASIN!C3406","v":0},{"$f":"ASIN!D3406","v":0},{"$f":"ASIN!E3406","v":0},{"$f":"ASIN!F3406","v":0}]
[{"$f":"ASIN!A3430","v":0},{"$f":"ASIN!B3430","v":0},{"$f":"ASIN!C3430","v":0},{"$f":"ASIN!D3430","v":0},{"$f":"ASIN!E3430","v":0},{"$f":"ASIN!F3430","v":0}]
[{"$f":"ASIN!A3455","v":0},{"$f":"ASIN!B3455","v":0},{"$f":"ASIN!C3455","v":0},{"$f":"ASIN!D3455","v":0},{"$f":"ASIN!E3455","v":0},{"$f":"ASIN!F3455","v":0}]
[{"$f":"ASIN!A3488","v":0},{"$f":"ASIN!B3488","v":0},{"$f":"ASIN!C3488","v":0},{"$f":"ASIN!D3488","v":0},{"$f":"ASIN!E3488","v":0},{"$f":"ASIN!F3488","v":0}]
[{"$f":"ASIN!A3498","v":0},{"$f":"ASIN!B3498","v":0},{"$f":"ASIN!C3498","v":0},{"$f":"ASIN!D3498","v":0},{"$f":"ASIN!E3498","v":0},{"$f":"ASIN!F3498","v":0}]
[{"$f":"ASIN!A3521","v":0},{"$f":"ASIN!B3521","v":0},{"$f":"ASIN!C3521","v":0},{"$f":"ASIN!D3521","v":0},{"$f":"ASIN!E3521","v":0},{"$f":"ASIN!F3521","v":0}]
[{"$f":"ASIN!A3554","v":0},{"$f":"ASIN!B3554","v":0},{"$f":"ASIN!C3554","v":0},{"$f":"ASIN!D3554","v":0},{"$f":"ASIN!E3554","v":0},{"$f":"ASIN!F3554","v":0}]
[{"$f":"ASIN!A3579","v":0},{"$f":"ASIN!B3579","v":0},{"$f":"ASIN!C3579","v":0},{"$f":"ASIN!D3579","v":0},{"$f":"ASIN!E3579","v":0},{"$f":"ASIN!F3579","v":0}]
[{"$f":"ASIN!A3601","v":0},{"$f":"ASIN!B3601","v":0},{"$f":"ASIN!C3601","v":0},{"$f":"ASIN!D3601","v":0},{"$f":"ASIN!E3601","v":0},{"$f":"ASIN!F3601","v":0}]
[{"$f":"ASIN!A3620","v":0},{"$f":"ASIN!B3620","v":0},{"$f":"ASIN!C3620","v":0},{"$f":"ASIN!D3620","v":0},{"$f":"ASIN!E3620","v":0},{"$f":"ASIN!F3620","v":0}]
[{"$f":"ASIN!A3645","v":0},{"$f":"ASIN!B3645","v":0},{"$f":"ASIN!C3645","v":0},{"$f":"ASIN!D3645","v":0},{"$f":"ASIN!E3645","v":0},{"$f":"ASIN!F3645","v":0}]
[{"$f":"ASIN!A3678","v":0},{"$f":"ASIN!B3678","v":0},{"$f":"ASIN!C3678","v":0},{"$f":"ASIN!D3678","v":0},{"$f":"ASIN!E3678","v":0},{"$f":"ASIN!F3678","v":0}]
[{"$f":"ASIN!A3693","v":0},{"$f":"ASIN!B3693","v":0},{"$f":"ASIN!C3693","v":0},{"$f":"ASIN!D3693","v":0},{"$f":"ASIN!E3693","v":0},{"$f":"ASIN!F3693","v":0}]
[{"$f":"ASIN!A3711","v":0},{"$f":"ASIN!B3711","v":0},{"$f":"ASIN!C3711","v":0},{"$f":"ASIN!D3711","v":0},{"$f":"ASIN!E3711","v":0},{"$f":"ASIN!F3711","v":0}]
[{"$f":"ASIN!A3744","v":0},{"$f":"ASIN!B3744","v":0},{"$f":"ASIN!C3744","v":0},{"$f":"ASIN!D3744","v":0},{"$f":"ASIN!E3744","v":0},{"$f":"ASIN!F3744","v":0}]
[{"$f":"ASIN!A3769","v":0},{"$f":"ASIN!B3769","v":0},{"$f":"ASIN!C3769","v":0},{"$f":"ASIN!D3769","v":0},{"$f":"ASIN!E3769","v":0},{"$f":"ASIN!F3769","v":0}]
[{"$f":"ASIN!A3796","v":0},{"$f":"ASIN!B3796","v":0},{"$f":"ASIN!C3796","v":0},{"$f":"ASIN!D3796","v":0},{"$f":"ASIN!E3796","v":0},{"$f":"ASIN!F3796","v":0}]
[{"$f":"ASIN!A3826","v":0},{"$f":"ASIN!B3826","v":0},{"$f":"ASIN!C3826","v":0},{"$f":"ASIN!D3826","v":0},{"$f":"ASIN!E3826","v":0},{"$f":"ASIN!F3826","v":0}]
[{"$f":"ASIN!A3835","v":0},{"$f":"ASIN!B3835","v":0},{"$f":"ASIN!C3835","v":0},{"$f":"ASIN!D3835","v":0},{"$f":"ASIN!E3835","v":0},{"$f":"ASIN!F3835","v":0}]
[{"$f":"ASIN!A3868","v":0},{"$f":"ASIN!B3868","v":0},{"$f":"ASIN!C3868","v":0},{"$f":"ASIN!D3868","v":0},{"$f":"ASIN!E3868","v":0},{"$f":"ASIN!F3868","v":0}]
[{"$f":"ASIN!A3888","v":0},{"$f":"ASIN!B3888","v":0},{"$f":"ASIN!C3888","v":0},{"$f":"ASIN!D3888","v":0},{"$f":"ASIN!E3888","v":0},{"$f":"ASIN!F3888","v":0}]
[{"$f":"ASIN!A3901","v":0},{"$f":"ASIN!B3901","v":0},{"$f":"ASIN!C3901","v":0},{"$f":"ASIN!D3901","v":0},{"$f":"ASIN!E3901","v":0},{"$f":"ASIN!F3901","v":0}]
[{"$f":"ASIN!A3934","v":0},{"$f":"ASIN!B3934","v":0},{"$f":"ASIN!C3934","v":0},{"$f":"ASIN!D3934","v":0},{"$f":"ASIN!E3934","v":0},{"$f":"ASIN!F3934","v":0}]
[{"$f":"ASIN!A3959","v":0},{"$f":"ASIN!B3959","v":0},{"$f":"ASIN!C3959","v":0},{"$f":"ASIN!D3959","v":0},{"$f":"ASIN!E3959","v":0},{"$f":"ASIN!F3959","v":0}]
[{"$f":"ASIN!A3991","v":0},{"$f":"ASIN!B3991","v":0},{"$f":"ASIN!C3991","v":0},{"$f":"ASIN!D3991","v":0},{"$f":"ASIN!E3991","v":0},{"$f":"ASIN!F3991","v":0}]
[{"$f":"ASIN!A4016","v":0},{"$f":"ASIN!B4016","v":0},{"$f":"ASIN!C4016","v":0},{"$f":"ASIN!D4016","v":0},{"$f":"ASIN!E4016","v":0},{"$f":"ASIN!F4016","v":0}]
[{"$f":"ASIN!A4025","v":0},{"$f":"ASIN!B4025","v":0},{"$f":"ASIN!C4025","v":0},{"$f":"ASIN!D4025","v":0},{"$f":"ASIN!E4025","v":0},{"$f":"ASIN!F4025","v":0}]
[{"$f":"ASIN!A4058","v":0},{"$f":"ASIN!B4058","v":0},{"$f":"ASIN!C4058","v":0},{"$f":"ASIN!D4058","v":0},{"$f":"ASIN!E4058","v":0},{"$f":"ASIN!F4058","v":0}]
[{"$f":"ASIN!A4083","v":0},{"$f":"ASIN!B4083","v":0},{"$f":"ASIN!C4083","v":0},{"$f":"ASIN!D4083","v":0},{"$f":"ASIN!E4083","v":0},{"$f":"ASIN!F4083","v":0}]
[{"$f":"ASIN!A4091","v":0},{"$f":"ASIN!B4091","v":0},{"$f":"ASIN!C4091","v":0},{"$f":"ASIN!D4091","v":0},{"$f":"ASIN!E4091","v":0},{"$f":"ASIN!F4091","v":0}]
[{"$f":"ASIN!A4124","v":0},{"$f":"ASIN!B4124","v":0},{"$f":"ASIN!C4124","v":0},{"$f":"ASIN!D4124","v":0},{"$f":"ASIN!E4124","v":0},{"$f":"ASIN!F4124","v":0}]
[{"$f":"ASIN!A4149","v":0},{"$f":"ASIN!B4149","v":0},{"$f":"ASIN!C4149","v":0},{"$f":"ASIN!D4149","v":0},{"$f":"ASIN!E4149","v":0},{"$f":"ASIN!F4149","v":0}]
[{"$f":"ASIN!A4163","v":0},{"$f":"ASIN!B4163","v":0},{"$f":"ASIN!C4163","v":0},{"$f":"ASIN!D4163","v":0},{"$f":"ASIN!E4163","v":0},{"$f":"ASIN!F4163","v":0}]
[{"$f":"ASIN!A4206","v":0},{"$f":"ASIN!B4206","v":0},{"$f":"ASIN!C4206","v":0},{"$f":"ASIN!D4206","v":0},{"$f":"ASIN!E4206","v":0},{"$f":"ASIN!F4206","v":0}]
[{"$f":"ASIN!A4215","v":0},{"$f":"ASIN!B4215","v":0},{"$f":"ASIN!C4215","v":0},{"$f":"ASIN!D4215","v":0},{"$f":"ASIN!E4215","v":0},{"$f":"ASIN!F4215","v":0}]
[{"$f":"ASIN!A4248","v":0},{"$f":"ASIN!B4248","v":0},{"$f":"ASIN!C4248","v":0},{"$f":"ASIN!D4248","v":0},{"$f":"ASIN!E4248","v":0},{"$f":"ASIN!F4248","v":0}]
[{"$f":"ASIN!A4278","v":0},{"$f":"ASIN!B4278","v":0},{"$f":"ASIN!C4278","v":0},{"$f":"ASIN!D4278","v":0},{"$f":"ASIN!E4278","v":0},{"$f":"ASIN!F4278","v":0}]
[{"$f":"ASIN!A4281","v":0},{"$f":"ASIN!B4281","v":0},{"$f":"ASIN!C4281","v":0},{"$f":"ASIN!D4281","v":0},{"$f":"ASIN!E4281","v":0},{"$f":"ASIN!F4281","v":0}]
[{"$f":"ASIN!A4306","v":0},{"$f":"ASIN!B4306","v":0},{"$f":"ASIN!C4306","v":0},{"$f":"ASIN!D4306","v":0},{"$f":"ASIN!E4306","v":0},{"$f":"ASIN!F4306","v":0}]
[{"$f":"ASIN!A4339","v":0},{"$f":"ASIN!B4339","v":0},{"$f":"ASIN!C4339","v":0},{"$f":"ASIN!D4339","v":0},{"$f":"ASIN!E4339","v":0},{"$f":"ASIN!F4339","v":0}]
[{"$f":"ASIN!A4358","v":0},{"$f":"ASIN!B4358","v":0},{"$f":"ASIN!C4358","v":0},{"$f":"ASIN!D4358","v":0},{"$f":"ASIN!E4358","v":0},{"$f":"ASIN!F4358","v":0}]
[{"$f":"ASIN!A4396","v":0},{"$f":"ASIN!B4396","v":0},{"$f":"ASIN!C4396","v":0},{"$f":"ASIN!D4396","v":0},{"$f":"ASIN!E4396","v":0},{"$f":"ASIN!F4396","v":0}]
[{"$f":"ASIN!A4405","v":0},{"$f":"ASIN!B4405","v":0},{"$f":"ASIN!C4405","v":0},{"$f":"ASIN!D4405","v":0},{"$f":"ASIN!E4405","v":0},{"$f":"ASIN!F4405","v":0}]
[{"$f":"ASIN!A4438","v":0},{"$f":"ASIN!B4438","v":0},{"$f":"ASIN!C4438","v":0},{"$f":"ASIN!D4438","v":0},{"$f":"ASIN!E4438","v":0},{"$f":"ASIN!F4438","v":0}]
[{"$f":"ASIN!A4450","v":0},{"$f":"ASIN!B4450","v":0},{"$f":"ASIN!C4450","v":0},{"$f":"ASIN!D4450","v":0},{"$f":"ASIN!E4450","v":0},{"$f":"ASIN!F4450","v":0}]
[{"$f":"ASIN!A4471","v":0},{"$f":"ASIN!B4471","v":0},{"$f":"ASIN!C4471","v":0},{"$f":"ASIN!D4471","v":0},{"$f":"ASIN!E4471","v":0},{"$f":"ASIN!F4471","v":0}]
[{"$f":"ASIN!A4496","v":0},{"$f":"ASIN!B4496","v":0},{"$f":"ASIN!C4496","v":0},{"$f":"ASIN!D4496","v":0},{"$f":"ASIN!E4496","v":0},{"$f":"ASIN!F4496","v":0}]
[{"$f":"ASIN!A4529","v":0},{"$f":"ASIN!B4529","v":0},{"$f":"ASIN!C4529","v":0},{"$f":"ASIN!D4529","v":0},{"$f":"ASIN!E4529","v":0},{"$f":"ASIN!F4529","v":0}]
[{"$f":"ASIN!A4553","v":0},{"$f":"ASIN!B4553","v":0},{"$f":"ASIN!C4553","v":0},{"$f":"ASIN!D4553","v":0},{"$f":"ASIN!E4553","v":0},{"$f":"ASIN!F4553","v":0}]
[{"$f":"ASIN!A4586","v":0},{"$f":"ASIN!B4586","v":0},{"$f":"ASIN!C4586","v":0},{"$f":"ASIN!D4586","v":0},{"$f":"ASIN!E4586","v":0},{"$f":"ASIN!F4586","v":0}]
[{"$f":"ASIN!A4595","v":0},{"$f":"ASIN!B4595","v":0},{"$f":"ASIN!C4595","v":0},{"$f":"ASIN!D4595","v":0},{"$f":"ASIN!E4595","v":0},{"$f":"ASIN!F4595","v":0}]
[{"$f":"ASIN!A4620","v":0},{"$f":"ASIN!B4620","v":0},{"$f":"ASIN!C4620","v":0},{"$f":"ASIN!D4620","v":0},{"$f":"ASIN!E4620","v":0},{"$f":"ASIN!F4620","v":0}]
[{"$f":"ASIN!A4645","v":0},{"$f":"ASIN!B4645","v":0},{"$f":"ASIN!C4645","v":0},{"$f":"ASIN!D4645","v":0},{"$f":"ASIN!E4645","v":0},{"$f":"ASIN!F4645","v":0}]
[{"$f":"ASIN!A4661","v":0},{"$f":"ASIN!B4661","v":0},{"$f":"ASIN!C4661","v":0},{"$f":"ASIN!D4661","v":0},{"$f":"ASIN!E4661","v":0},{"$f":"ASIN!F4661","v":0}]
[{"$f":"ASIN!A4686","v":0},{"$f":"ASIN!B4686","v":0},{"$f":"ASIN!C4686","v":0},{"$f":"ASIN!D4686","v":0},{"$f":"ASIN!E4686","v":0},{"$f":"ASIN!F4686","v":0}]
[{"$f":"ASIN!A4719","v":0},{"$f":"ASIN!B4719","v":0},{"$f":"ASIN!C4719","v":0},{"$f":"ASIN!D4719","v":0},{"$f":"ASIN!E4719","v":0},{"$f":"ASIN!F4719","v":0}]
[{"$f":"ASIN!A4748","v":0},{"$f":"ASIN!B4748","v":0},{"$f":"ASIN!C4748","v":0},{"$f":"ASIN!D4748","v":0},{"$f":"ASIN!E4748","v":0},{"$f":"ASIN!F4748","v":0}]
[{"$f":"ASIN!A4776","v":0},{"$f":"ASIN!B4776","v":0},{"$f":"ASIN!C4776","v":0},{"$f":"ASIN!D4776","v":0},{"$f":"ASIN!E4776","v":0},{"$f":"ASIN!F4776","v":0}]
[{"$f":"ASIN!A4785","v":0},{"$f":"ASIN!B4785","v":0},{"$f":"ASIN!C4785","v":0},{"$f":"ASIN!D4785","v":0},{"$f":"ASIN!E4785","v":0},{"$f":"ASIN!F4785","v":0}]
[{"$f":"ASIN!A4810","v":0},{"$f":"ASIN!B4810","v":0},{"$f":"ASIN!C4810","v":0},{"$f":"ASIN!D4810","v":0},{"$f":"ASIN!E4810","v":0},{"$f":"ASIN!F4810","v":0}]
[{"$f":"ASIN!A4840","v":0},{"$f":"ASIN!B4840","v":0},{"$f":"ASIN!C4840","v":0},{"$f":"ASIN!D4840","v":0},{"$f":"ASIN!E4840","v":0},{"$f":"ASIN!F4840","v":0}]
[{"$f":"ASIN!A4851","v":0},{"$f":"ASIN!B4851","v":0},{"$f":"ASIN!C4851","v":0},{"$f":"ASIN!D4851","v":0},{"$f":"ASIN!E4851","v":0},{"$f":"ASIN!F4851","v":0}]
[{"$f":"ASIN!A4876","v":0},{"$f":"ASIN!B4876","v":0},{"$f":"ASIN!C4876","v":0},{"$f":"ASIN!D4876","v":0},{"$f":"ASIN!E4876","v":0},{"$f":"ASIN!F4876","v":0}]
[{"$f":"ASIN!A4909","v":0},{"$f":"ASIN!B4909","v":0},{"$f":"ASIN!C4909","v":0},{"$f":"ASIN!D4909","v":0},{"$f":"ASIN!E4909","v":0},{"$f":"ASIN!F4909","v":0}]
[{"$f":"ASIN!A4943","v":0},{"$f":"ASIN!B4943","v":0},{"$f":"ASIN!C4943","v":0},{"$f":"ASIN!D4943","v":0},{"$f":"ASIN!E4943","v":0},{"$f":"ASIN!F4943","v":0}]
[{"$f":"ASIN!A4966","v":0},{"$f":"ASIN!B4966","v":0},{"$f":"ASIN!C4966","v":0},{"$f":"ASIN!D4966","v":0},{"$f":"ASIN!E4966","v":0},{"$f":"ASIN!F4966","v":0}]
[{"$f":"ASIN!A4975","v":0},{"$f":"ASIN!B4975","v":0},{"$f":"ASIN!C4975","v":0},{"$f":"ASIN!D4975","v":0},{"$f":"ASIN!E4975","v":0},{"$f":"ASIN!F4975","v":0}]
[{"$f":"ASIN!A5000","v":0},{"$f":"ASIN!B5000","v":0},{"$f":"ASIN!C5000","v":0},{"$f":"ASIN!D5000","v":0},{"$f":"ASIN!E5000","v":0},{"$f":"ASIN!F5000","v":0}]
[{"$f":"ASIN!A5035","v":0},{"$f":"ASIN!B5035","v":0},{"$f":"ASIN!C5035","v":0},{"$f":"ASIN!D5035","v":0},{"$f":"ASIN!E5035","v":0},{"$f":"ASIN!F5035","v":0}]
[{"$f":"ASIN!A5041","v":0},{"$f":"ASIN!B5041","v":0},{"$f":"ASIN!C5041","v":0},{"$f":"ASIN!D5041","v":0},{"$f":"ASIN!E5041","v":0},{"$f":"ASIN!F5041","v":0}]
[{"$f":"ASIN!A5066","v":0},{"$f":"ASIN!B5066","v":0},{"$f":"ASIN!C5066","v":0},{"$f":"ASIN!D5066","v":0},{"$f":"ASIN!E5066","v":0},{"$f":"ASIN!F5066","v":0}]
[{"$f":"ASIN!A5099","v":0},{"$f":"ASIN!B5099","v":0},{"$f":"ASIN!C5099","v":0},{"$f":"ASIN!D5099","v":0},{"$f":"ASIN!E5099","v":0},{"$f":"ASIN!F5099","v":0}]
[{"$f":"ASIN!A5127","v":0},{"$f":"ASIN!B5127","v":0},{"$f":"ASIN!C5127","v":0},{"$f":"ASIN!D5127","v":0},{"$f":"ASIN!E5127","v":0},{"$f":"ASIN!F5127","v":0}]
[{"$f":"ASIN!A5156","v":0},{"$f":"ASIN!B5156","v":0},{"$f":"ASIN!C5156","v":0},{"$f":"ASIN!D5156","v":0},{"$f":"ASIN!E5156","v":0},{"$f":"ASIN!F5156","v":0}]
[{"$f":"ASIN!A5165","v":0},{"$f":"ASIN!B5165","v":0},{"$f":"ASIN!C5165","v":0},{"$f":"ASIN!D5165","v":0},{"$f":"ASIN!E5165","v":0},{"$f":"ASIN!F5165","v":0}]
[{"$f":"ASIN!A5190","v":0},{"$f":"ASIN!B5190","v":0},{"$f":"ASIN!C5190","v":0},{"$f":"ASIN!D5190","v":0},{"$f":"ASIN!E5190","v":0},{"$f":"ASIN!F5190","v":0}]
[{"$f":"ASIN!A5207","v":0},{"$f":"ASIN!B5207","v":0},{"$f":"ASIN!C5207","v":0},{"$f":"ASIN!D5207","v":0},{"$f":"ASIN!E5207","v":0},{"$f":"ASIN!F5207","v":0}]
[{"$f":"ASIN!A5231","v":0},{"$f":"ASIN!B5231","v":0},{"$f":"ASIN!C5231","v":0},{"$f":"ASIN!D5231","v":0},{"$f":"ASIN!E5231","v":0},{"$f":"ASIN!F5231","v":0}]
[{"$f":"ASIN!A5256","v":0},{"$f":"ASIN!B5256","v":0},{"$f":"ASIN!C5256","v":0},{"$f":"ASIN!D5256","v":0},{"$f":"ASIN!E5256","v":0},{"$f":"ASIN!F5256","v":0}]
[{"$f":"ASIN!A5289","v":0},{"$f":"ASIN!B5289","v":0},{"$f":"ASIN!C5289","v":0},{"$f":"ASIN!D5289","v":0},{"$f":"ASIN!E5289","v":0},{"$f":"ASIN!F5289","v":0}]
[{"$f":"ASIN!A5322","v":0},{"$f":"ASIN!B5322","v":0},{"$f":"ASIN!C5322","v":0},{"$f":"ASIN!D5322","v":0},{"$f":"ASIN!E5322","v":0},{"$f":"ASIN!F5322","v":0}]
[{"$f":"ASIN!A5346","v":0},{"$f":"ASIN!B5346","v":0},{"$f":"ASIN!C5346","v":0},{"$f":"ASIN!D5346","v":0},{"$f":"ASIN!E5346","v":0},{"$f":"ASIN!F5346","v":0}]
[{"$f":"ASIN!A5355","v":0},{"$f":"ASIN!B5355","v":0},{"$f":"ASIN!C5355","v":0},{"$f":"ASIN!D5355","v":0},{"$f":"ASIN!E5355","v":0},{"$f":"ASIN!F5355","v":0}]
[{"$f":"ASIN!A5380","v":0},{"$f":"ASIN!B5380","v":0},{"$f":"ASIN!C5380","v":0},{"$f":"ASIN!D5380","v":0},{"$f":"ASIN!E5380","v":0},{"$f":"ASIN!F5380","v":0}]
[{"$f":"ASIN!A5402","v":0},{"$f":"ASIN!B5402","v":0},{"$f":"ASIN!C5402","v":0},{"$f":"ASIN!D5402","v":0},{"$f":"ASIN!E5402","v":0},{"$f":"ASIN!F5402","v":0}]
[{"$f":"ASIN!A5437","v":0},{"$f":"ASIN!B5437","v":0},{"$f":"ASIN!C5437","v":0},{"$f":"ASIN!D5437","v":0},{"$f":"ASIN!E5437","v":0},{"$f":"ASIN!F5437","v":0}]
[{"$f":"ASIN!A5446","v":0},{"$f":"ASIN!B5446","v":0},{"$f":"ASIN!C5446","v":0},{"$f":"ASIN!D5446","v":0},{"$f":"ASIN!E5446","v":0},{"$f":"ASIN!F5446","v":0}]
[{"$f":"ASIN!A5479","v":0},{"$f":"ASIN!B5479","v":0},{"$f":"ASIN!C5479","v":0},{"$f":"ASIN!D5479","v":0},{"$f":"ASIN!E5479","v":0},{"$f":"ASIN!F5479","v":0}]
[{"$f":"ASIN!A5494","v":0},{"$f":"ASIN!B5494","v":0},{"$f":"ASIN!C5494","v":0},{"$f":"ASIN!D5494","v":0},{"$f":"ASIN!E5494","v":0},{"$f":"ASIN!F5494","v":0}]
[{"$f":"ASIN!A5536","v":0},{"$f":"ASIN!B5536","v":0},{"$f":"ASIN!C5536","v":0},{"$f":"ASIN!D5536","v":0},{"$f":"ASIN!E5536","v":0},{"$f":"ASIN!F5536","v":0}]
[{"$f":"ASIN!A5545","v":0},{"$f":"ASIN!B5545","v":0},{"$f":"ASIN!C5545","v":0},{"$f":"ASIN!D5545","v":0},{"$f":"ASIN!E5545","v":0},{"$f":"ASIN!F5545","v":0}]
[{"$f":"ASIN!A5570","v":0},{"$f":"ASIN!B5570","v":0},{"$f":"ASIN!C5570","v":0},{"$f":"ASIN!D5570","v":0},{"$f":"ASIN!E5570","v":0},{"$f":"ASIN!F5570","v":0}]
[{"$f":"ASIN!A5597","v":0},{"$f":"ASIN!B5597","v":0},{"$f":"ASIN!C5597","v":0},{"$f":"ASIN!D5597","v":0},{"$f":"ASIN!E5597","v":0},{"$f":"ASIN!F5597","v":0}]
[{"$f":"ASIN!A5627","v":0},{"$f":"ASIN!B5627","v":0},{"$f":"ASIN!C5627","v":0},{"$f":"ASIN!D5627","v":0},{"$f":"ASIN!E5627","v":0},{"$f":"ASIN!F5627","v":0}]
[{"$f":"ASIN!A5636","v":0},{"$f":"ASIN!B5636","v":0},{"$f":"ASIN!C5636","v":0},{"$f":"ASIN!D5636","v":0},{"$f":"ASIN!E5636","v":0},{"$f":"ASIN!F5636","v":0}]
[{"$f":"ASIN!A5669","v":0},{"$f":"ASIN!B5669","v":0},{"$f":"ASIN!C5669","v":0},{"$f":"ASIN!D5669","v":0},{"$f":"ASIN!E5669","v":0},{"$f":"ASIN!F5669","v":0}]
[{"$f":"ASIN!A5689","v":0},{"$f":"ASIN!B5689","v":0},{"$f":"ASIN!C5689","v":0},{"$f":"ASIN!D5689","v":0},{"$f":"ASIN!E5689","v":0},{"$f":"ASIN!F5689","v":0}]
[{"$f":"ASIN!A5726","v":0},{"$f":"ASIN!B5726","v":0},{"$f":"ASIN!C5726","v":0},{"$f":"ASIN!D5726","v":0},{"$f":"ASIN!E5726","v":0},{"$f":"ASIN!F5726","v":0}]
[{"$f":"ASIN!A5735","v":0},{"$f":"ASIN!B5735","v":0},{"$f":"ASIN!C5735","v":0},{"$f":"ASIN!D5735","v":0},{"$f":"ASIN!E5735","v":0},{"$f":"ASIN!F5735","v":0}]
[{"$f":"ASIN!A5760","v":0},{"$f":"ASIN!B5760","v":0},{"$f":"ASIN!C5760","v":0},{"$f":"ASIN!D5760","v":0},{"$f":"ASIN!E5760","v":0},{"$f":"ASIN!F5760","v":0}]
[{"$f":"ASIN!A5792","v":0},{"$f":"ASIN!B5792","v":0},{"$f":"ASIN!C5792","v":0},{"$f":"ASIN!D5792","v":0},{"$f":"ASIN!E5792","v":0},{"$f":"ASIN!F5792","v":0}]
[{"$f":"ASIN!A5817","v":0},{"$f":"ASIN!B5817","v":0},{"$f":"ASIN!C5817","v":0},{"$f":"ASIN!D5817","v":0},{"$f":"ASIN!E5817","v":0},{"$f":"ASIN!F5817","v":0}]
[{"$f":"ASIN!A5826","v":0},{"$f":"ASIN!B5826","v":0},{"$f":"ASIN!C5826","v":0},{"$f":"ASIN!D5826","v":0},{"$f":"ASIN!E5826","v":0},{"$f":"ASIN!F5826","v":0}]
[{"$f":"ASIN!A5859","v":0},{"$f":"ASIN!B5859","v":0},{"$f":"ASIN!C5859","v":0},{"$f":"ASIN!D5859","v":0},{"$f":"ASIN!E5859","v":0},{"$f":"ASIN!F5859","v":0}]
[{"$f":"ASIN!A5884","v":0},{"$f":"ASIN!B5884","v":0},{"$f":"ASIN!C5884","v":0},{"$f":"ASIN!D5884","v":0},{"$f":"ASIN!E5884","v":0},{"$f":"ASIN!F5884","v":0}]
[{"$f":"ASIN!A5916","v":0},{"$f":"ASIN!B5916","v":0},{"$f":"ASIN!C5916","v":0},{"$f":"ASIN!D5916","v":0},{"$f":"ASIN!E5916","v":0},{"$f":"ASIN!F5916","v":0}]
[{"$f":"ASIN!A5941","v":0},{"$f":"ASIN!B5941","v":0},{"$f":"ASIN!C5941","v":0},{"$f":"ASIN!D5941","v":0},{"$f":"ASIN!E5941","v":0},{"$f":"ASIN!F5941","v":0}]
[{"$f":"ASIN!A5950","v":0},{"$f":"ASIN!B5950","v":0},{"$f":"ASIN!C5950","v":0},{"$f":"ASIN!D5950","v":0},{"$f":"ASIN!E5950","v":0},{"$f":"ASIN!F5950","v":0}]
[{"$f":"ASIN!A5987","v":0},{"$f":"ASIN!B5987","v":0},{"$f":"ASIN!C5987","v":0},{"$f":"ASIN!D5987","v":0},{"$f":"ASIN!E5987","v":0},{"$f":"ASIN!F5987","v":0}]
[{"$f":"ASIN!A6007","v":0},{"$f":"ASIN!B6007","v":0},{"$f":"ASIN!C6007","v":0},{"$f":"ASIN!D6007","v":0},{"$f":"ASIN!E6007","v":0},{"$f":"ASIN!F6007","v":0}]
[{"$f":"ASIN!A6016","v":0},{"$f":"ASIN!B6016","v":0},{"$f":"ASIN!C6016","v":0},{"$f":"ASIN!D6016","v":0},{"$f":"ASIN!E6016","v":0},{"$f":"ASIN!F6016","v":0}]
[{"$f":"ASIN!A6049","v":0},{"$f":"ASIN!B6049","v":0},{"$f":"ASIN!C6049","v":0},{"$f":"ASIN!D6049","v":0},{"$f":"ASIN!E6049","v":0},{"$f":"ASIN!F6049","v":0}]
[{"$f":"ASIN!A6079","v":0},{"$f":"ASIN!B6079","v":0},{"$f":"ASIN!C6079","v":0},{"$f":"ASIN!D6079","v":0},{"$f":"ASIN!E6079","v":0},{"$f":"ASIN!F6079","v":0}]
[{"$f":"ASIN!A6106","v":0},{"$f":"ASIN!B6106","v":0},{"$f":"ASIN!C6106","v":0},{"$f":"ASIN!D6106","v":0},{"$f":"ASIN!E6106","v":0},{"$f":"ASIN!F6106","v":0}]
[{"$f":"ASIN!A6131","v":0},{"$f":"ASIN!B6131","v":0},{"$f":"ASIN!C6131","v":0},{"$f":"ASIN!D6131","v":0},{"$f":"ASIN!E6131","v":0},{"$f":"ASIN!F6131","v":0}]
[{"$f":"ASIN!A6140","v":0},{"$f":"ASIN!B6140","v":0},{"$f":"ASIN!C6140","v":0},{"$f":"ASIN!D6140","v":0},{"$f":"ASIN!E6140","v":0},{"$f":"ASIN!F6140","v":0}]
[{"$f":"ASIN!A6159","v":0},{"$f":"ASIN!B6159","v":0},{"$f":"ASIN!C6159","v":0},{"$f":"ASIN!D6159","v":0},{"$f":"ASIN!E6159","v":0},{"$f":"ASIN!F6159","v":0}]
[{"$f":"ASIN!A6197","v":0},{"$f":"ASIN!B6197","v":0},{"$f":"ASIN!C6197","v":0},{"$f":"ASIN!D6197","v":0},{"$f":"ASIN!E6197","v":0},{"$f":"ASIN!F6197","v":0}]
[{"$f":"ASIN!A6206","v":0},{"$f":"ASIN!B6206","v":0},{"$f":"ASIN!C6206","v":0},{"$f":"ASIN!D6206","v":0},{"$f":"ASIN!E6206","v":0},{"$f":"ASIN!F6206","v":0}]
[{"$f":"ASIN!A6239","v":0},{"$f":"ASIN!B6239","v":0},{"$f":"ASIN!C6239","v":0},{"$f":"ASIN!D6239","v":0},{"$f":"ASIN!E6239","v":0},{"$f":"ASIN!F6239","v":0}]
[{"$f":"ASIN!A6274","v":0},{"$f":"ASIN!B6274","v":0},{"$f":"ASIN!C6274","v":0},{"$f":"ASIN!D6274","v":0},{"$f":"ASIN!E6274","v":0},{"$f":"ASIN!F6274","v":0}]
[{"$f":"ASIN!A6296","v":0},{"$f":"ASIN!B6296","v":0},{"$f":"ASIN!C6296","v":0},{"$f":"ASIN!D6296","v":0},{"$f":"ASIN!E6296","v":0},{"$f":"ASIN!F6296","v":0}]
[{"$f":"ASIN!A6321","v":0},{"$f":"ASIN!B6321","v":0},{"$f":"ASIN!C6321","v":0},{"$f":"ASIN!D6321","v":0},{"$f":"ASIN!E6321","v":0},{"$f":"ASIN!F6321","v":0}]
[{"$f":"ASIN!A6330","v":0},{"$f":"ASIN!B6330","v":0},{"$f":"ASIN!C6330","v":0},{"$f":"ASIN!D6330","v":0},{"$f":"ASIN!E6330","v":0},{"$f":"ASIN!F6330","v":0}]
[{"$f":"ASIN!A6354","v":0},{"$f":"ASIN!B6354","v":0},{"$f":"ASIN!C6354","v":0},{"$f":"ASIN!D6354","v":0},{"$f":"ASIN!E6354","v":0},{"$f":"ASIN!F6354","v":0}]
[{"$f":"ASIN!A6387","v":0},{"$f":"ASIN!B6387","v":0},{"$f":"ASIN!C6387","v":0},{"$f":"ASIN!D6387","v":0},{"$f":"ASIN!E6387","v":0},{"$f":"ASIN!F6387","v":0}]
[{"$f":"ASIN!A6396","v":0},{"$f":"ASIN!B6396","v":0},{"$f":"ASIN!C6396","v":0},{"$f":"ASIN!D6396","v":0},{"$f":"ASIN!E6396","v":0},{"$f":"ASIN!F6396","v":0}]
[{"$f":"ASIN!A6421","v":0},{"$f":"ASIN!B6421","v":0},{"$f":"ASIN!C6421","v":0},{"$f":"ASIN!D6421","v":0},{"$f":"ASIN!E6421","v":0},{"$f":"ASIN!F6421","v":0}]
[{"$f":"ASIN!A6446","v":0},{"$f":"ASIN!B6446","v":0},{"$f":"ASIN!C6446","v":0},{"$f":"ASIN!D6446","v":0},{"$f":"ASIN!E6446","v":0},{"$f":"ASIN!F6446","v":0}]
[{"$f":"ASIN!A6486","v":0},{"$f":"ASIN!B6486","v":0},{"$f":"ASIN!C6486","v":0},{"$f":"ASIN!D6486","v":0},{"$f":"ASIN!E6486","v":0},{"$f":"ASIN!F6486","v":0}]
[{"$f":"ASIN!A6511","v":0},{"$f":"ASIN!B6511","v":0},{"$f":"ASIN!C6511","v":0},{"$f":"ASIN!D6511","v":0},{"$f":"ASIN!E6511","v":0},{"$f":"ASIN!F6511","v":0}]
[{"$f":"ASIN!A6520","v":0},{"$f":"ASIN!B6520","v":0},{"$f":"ASIN!C6520","v":0},{"$f":"ASIN!D6520","v":0},{"$f":"ASIN!E6520","v":0},{"$f":"ASIN!F6520","v":0}]
[{"$f":"ASIN!A6549","v":0},{"$f":"ASIN!B6549","v":0},{"$f":"ASIN!C6549","v":0},{"$f":"ASIN!D6549","v":0},{"$f":"ASIN!E6549","v":0},{"$f":"ASIN!F6549","v":0}]
[{"$f":"ASIN!A6577","v":0},{"$f":"ASIN!B6577","v":0},{"$f":"ASIN!C6577","v":0},{"$f":"ASIN!D6577","v":0},{"$f":"ASIN!E6577","v":0},{"$f":"ASIN!F6577","v":0}]
[{"$f":"ASIN!A6586","v":0},{"$f":"ASIN!B6586","v":0},{"$f":"ASIN!C6586","v":0},{"$f":"ASIN!D6586","v":0},{"$f":"ASIN!E6586","v":0},{"$f":"ASIN!F6586","v":0}]
[{"$f":"ASIN!A6611","v":0},{"$f":"ASIN!B6611","v":0},{"$f":"ASIN!C6611","v":0},{"$f":"ASIN!D6611","v":0},{"$f":"ASIN!E6611","v":0},{"$f":"ASIN!F6611","v":0}]
[{"$f":"ASIN!A6641","v":0},{"$f":"ASIN!B6641","v":0},{"$f":"ASIN!C6641","v":0},{"$f":"ASIN!D6641","v":0},{"$f":"ASIN!E6641","v":0},{"$f":"ASIN!F6641","v":0}]
[{"$f":"ASIN!A6676","v":0},{"$f":"ASIN!B6676","v":0},{"$f":"ASIN!C6676","v":0},{"$f":"ASIN!D6676","v":0},{"$f":"ASIN!E6676","v":0},{"$f":"ASIN!F6676","v":0}]
[{"$f":"ASIN!A6701","v":0},{"$f":"ASIN!B6701","v":0},{"$f":"ASIN!C6701","v":0},{"$f":"ASIN!D6701","v":0},{"$f":"ASIN!E6701","v":0},{"$f":"ASIN!F6701","v":0}]
[{"$f":"ASIN!A6710","v":0},{"$f":"ASIN!B6710","v":0},{"$f":"ASIN!C6710","v":0},{"$f":"ASIN!D6710","v":0},{"$f":"ASIN!E6710","v":0},{"$f":"ASIN!F6710","v":0}]
[{"$f":"ASIN!A6733","v":0},{"$f":"ASIN!B6733","v":0},{"$f":"ASIN!C6733","v":0},{"$f":"ASIN!D6733","v":0},{"$f":"ASIN!E6733","v":0},{"$f":"ASIN!F6733","v":0}]
[{"$f":"ASIN!A6767","v":0},{"$f":"ASIN!B6767","v":0},{"$f":"ASIN!C6767","v":0},{"$f":"ASIN!D6767","v":0},{"$f":"ASIN!E6767","v":0},{"$f":"ASIN!F6767","v":0}]
[{"$f":"ASIN!A6776","v":0},{"$f":"ASIN!B6776","v":0},{"$f":"ASIN!C6776","v":0},{"$f":"ASIN!D6776","v":0},{"$f":"ASIN!E6776","v":0},{"$f":"ASIN!F6776","v":0}]
[{"$f":"ASIN!A6801","v":0},{"$f":"ASIN!B6801","v":0},{"$f":"ASIN!C6801","v":0},{"$f":"ASIN!D6801","v":0},{"$f":"ASIN!E6801","v":0},{"$f":"ASIN!F6801","v":0}]
[{"$f":"ASIN!A6836","v":0},{"$f":"ASIN!B6836","v":0},{"$f":"ASIN!C6836","v":0},{"$f":"ASIN!D6836","v":0},{"$f":"ASIN!E6836","v":0},{"$f":"ASIN!F6836","v":0}]
[{"$f":"ASIN!A6866","v":0},{"$f":"ASIN!B6866","v":0},{"$f":"ASIN!C6866","v":0},{"$f":"ASIN!D6866","v":0},{"$f":"ASIN!E6866","v":0},{"$f":"ASIN!F6866","v":0}]
[{"$f":"ASIN!A6891","v":0},{"$f":"ASIN!B6891","v":0},{"$f":"ASIN!C6891","v":0},{"$f":"ASIN!D6891","v":0},{"$f":"ASIN!E6891","v":0},{"$f":"ASIN!F6891","v":0}]
[{"$f":"ASIN!A6900","v":0},{"$f":"ASIN!B6900","v":0},{"$f":"ASIN!C6900","v":0},{"$f":"ASIN!D6900","v":0},{"$f":"ASIN!E6900","v":0},{"$f":"ASIN!F6900","v":0}]
[{"$f":"ASIN!A6928","v":0},{"$f":"ASIN!B6928","v":0},{"$f":"ASIN!C6928","v":0},{"$f":"ASIN!D6928","v":0},{"$f":"ASIN!E6928","v":0},{"$f":"ASIN!F6928","v":0}]
[{"$f":"ASIN!A6957","v":0},{"$f":"ASIN!B6957","v":0},{"$f":"ASIN!C6957","v":0},{"$f":"ASIN!D6957","v":0},{"$f":"ASIN!E6957","v":0},{"$f":"ASIN!F6957","v":0}]
[{"$f":"ASIN!A6966","v":0},{"$f":"ASIN!B6966","v":0},{"$f":"ASIN!C6966","v":0},{"$f":"ASIN!D6966","v":0},{"$f":"ASIN!E6966","v":0},{"$f":"ASIN!F6966","v":0}]
[{"$f":"ASIN!A6991","v":0},{"$f":"ASIN!B6991","v":0},{"$f":"ASIN!C6991","v":0},{"$f":"ASIN!D6991","v":0},{"$f":"ASIN!E6991","v":0},{"$f":"ASIN!F6991","v":0}]
[{"$f":"ASIN!A7031","v":0},{"$f":"ASIN!B7031","v":0},{"$f":"ASIN!C7031","v":0},{"$f":"ASIN!D7031","v":0},{"$f":"ASIN!E7031","v":0},{"$f":"ASIN!F7031","v":0}]
[{"$f":"ASIN!A7056","v":0},{"$f":"ASIN!B7056","v":0},{"$f":"ASIN!C7056","v":0},{"$f":"ASIN!D7056","v":0},{"$f":"ASIN!E7056","v":0},{"$f":"ASIN!F7056","v":0}]
[{"$f":"ASIN!A7081","v":0},{"$f":"ASIN!B7081","v":0},{"$f":"ASIN!C7081","v":0},{"$f":"ASIN!D7081","v":0},{"$f":"ASIN!E7081","v":0},{"$f":"ASIN!F7081","v":0}]
[{"$f":"ASIN!A7090","v":0},{"$f":"ASIN!B7090","v":0},{"$f":"ASIN!C7090","v":0},{"$f":"ASIN!D7090","v":0},{"$f":"ASIN!E7090","v":0},{"$f":"ASIN!F7090","v":0}]
[{"$f":"ASIN!A7123","v":0},{"$f":"ASIN!B7123","v":0},{"$f":"ASIN!C7123","v":0},{"$f":"ASIN!D7123","v":0},{"$f":"ASIN!E7123","v":0},{"$f":"ASIN!F7123","v":0}]
[{"$f":"ASIN!A7147","v":0},{"$f":"ASIN!B7147","v":0},{"$f":"ASIN!C7147","v":0},{"$f":"ASIN!D7147","v":0},{"$f":"ASIN!E7147","v":0},{"$f":"ASIN!F7147","v":0}]
[{"$f":"ASIN!A7156","v":0},{"$f":"ASIN!B7156","v":0},{"$f":"ASIN!C7156","v":0},{"$f":"ASIN!D7156","v":0},{"$f":"ASIN!E7156","v":0},{"$f":"ASIN!F7156","v":0}]
[{"$f":"ASIN!A7181","v":0},{"$f":"ASIN!B7181","v":0},{"$f":"ASIN!C7181","v":0},{"$f":"ASIN!D7181","v":0},{"$f":"ASIN!E7181","v":0},{"$f":"ASIN!F7181","v":0}]
[{"$f":"ASIN!A7203","v":0},{"$f":"ASIN!B7203","v":0},{"$f":"ASIN!C7203","v":0},{"$f":"ASIN!D7203","v":0},{"$f":"ASIN!E7203","v":0},{"$f":"ASIN!F7203","v":0}]
[{"$f":"ASIN!A7238","v":0},{"$f":"ASIN!B7238","v":0},{"$f":"ASIN!C7238","v":0},{"$f":"ASIN!D7238","v":0},{"$f":"ASIN!E7238","v":0},{"$f":"ASIN!F7238","v":0}]
[{"$f":"ASIN!A7271","v":0},{"$f":"ASIN!B7271","v":0},{"$f":"ASIN!C7271","v":0},{"$f":"ASIN!D7271","v":0},{"$f":"ASIN!E7271","v":0},{"$f":"ASIN!F7271","v":0}]
[{"$f":"ASIN!A7280","v":0},{"$f":"ASIN!B7280","v":0},{"$f":"ASIN!C7280","v":0},{"$f":"ASIN!D7280","v":0},{"$f":"ASIN!E7280","v":0},{"$f":"ASIN!F7280","v":0}]
[{"$f":"ASIN!A7318","v":0},{"$f":"ASIN!B7318","v":0},{"$f":"ASIN!C7318","v":0},{"$f":"ASIN!D7318","v":0},{"$f":"ASIN!E7318","v":0},{"$f":"ASIN!F7318","v":0}]
[{"$f":"ASIN!A7337","v":0},{"$f":"ASIN!B7337","v":0},{"$f":"ASIN!C7337","v":0},{"$f":"ASIN!D7337","v":0},{"$f":"ASIN!E7337","v":0},{"$f":"ASIN!F7337","v":0}]
[{"$f":"ASIN!A7346","v":0},{"$f":"ASIN!B7346","v":0},{"$f":"ASIN!C7346","v":0},{"$f":"ASIN!D7346","v":0},{"$f":"ASIN!E7346","v":0},{"$f":"ASIN!F7346","v":0}]
[{"$f":"ASIN!A7371","v":0},{"$f":"ASIN!B7371","v":0},{"$f":"ASIN!C7371","v":0},{"$f":"ASIN!D7371","v":0},{"$f":"ASIN!E7371","v":0},{"$f":"ASIN!F7371","v":0}]
[{"$f":"ASIN!A7398","v":0},{"$f":"ASIN!B7398","v":0},{"$f":"ASIN!C7398","v":0},{"$f":"ASIN!D7398","v":0},{"$f":"ASIN!E7398","v":0},{"$f":"ASIN!F7398","v":0}]
[{"$f":"ASIN!A7428","v":0},{"$f":"ASIN!B7428","v":0},{"$f":"ASIN!C7428","v":0},{"$f":"ASIN!D7428","v":0},{"$f":"ASIN!E7428","v":0},{"$f":"ASIN!F7428","v":0}]
[{"$f":"ASIN!A7461","v":0},{"$f":"ASIN!B7461","v":0},{"$f":"ASIN!C7461","v":0},{"$f":"ASIN!D7461","v":0},{"$f":"ASIN!E7461","v":0},{"$f":"ASIN!F7461","v":0}]
[{"$f":"ASIN!A7470","v":0},{"$f":"ASIN!B7470","v":0},{"$f":"ASIN!C7470","v":0},{"$f":"ASIN!D7470","v":0},{"$f":"ASIN!E7470","v":0},{"$f":"ASIN!F7470","v":0}]
[{"$f":"ASIN!A7490","v":0},{"$f":"ASIN!B7490","v":0},{"$f":"ASIN!C7490","v":0},{"$f":"ASIN!D7490","v":0},{"$f":"ASIN!E7490","v":0},{"$f":"ASIN!F7490","v":0}]
[{"$f":"ASIN!A7527","v":0},{"$f":"ASIN!B7527","v":0},{"$f":"ASIN!C7527","v":0},{"$f":"ASIN!D7527","v":0},{"$f":"ASIN!E7527","v":0},{"$f":"ASIN!F7527","v":0}]
[{"$f":"ASIN!A7536","v":0},{"$f":"ASIN!B7536","v":0},{"$f":"ASIN!C7536","v":0},{"$f":"ASIN!D7536","v":0},{"$f":"ASIN!E7536","v":0},{"$f":"ASIN!F7536","v":0}]
[{"$f":"ASIN!A7561","v":0},{"$f":"ASIN!B7561","v":0},{"$f":"ASIN!C7561","v":0},{"$f":"ASIN!D7561","v":0},{"$f":"ASIN!E7561","v":0},{"$f":"ASIN!F7561","v":0}]
[{"$f":"ASIN!A7593","v":0},{"$f":"ASIN!B7593","v":0},{"$f":"ASIN!C7593","v":0},{"$f":"ASIN!D7593","v":0},{"$f":"ASIN!E7593","v":0},{"$f":"ASIN!F7593","v":0}]
[{"$f":"ASIN!A7618","v":0},{"$f":"ASIN!B7618","v":0},{"$f":"ASIN!C7618","v":0},{"$f":"ASIN!D7618","v":0},{"$f":"ASIN!E7618","v":0},{"$f":"ASIN!F7618","v":0}]
[{"$f":"ASIN!A7651","v":0},{"$f":"ASIN!B7651","v":0},{"$f":"ASIN!C7651","v":0},{"$f":"ASIN!D7651","v":0},{"$f":"ASIN!E7651","v":0},{"$f":"ASIN!F7651","v":0}]
[{"$f":"ASIN!A7660","v":0},{"$f":"ASIN!B7660","v":0},{"$f":"ASIN!C7660","v":0},{"$f":"ASIN!D7660","v":0},{"$f":"ASIN!E7660","v":0},{"$f":"ASIN!F7660","v":0}]
[{"$f":"ASIN!A7685","v":0},{"$f":"ASIN!B7685","v":0},{"$f":"ASIN!C7685","v":0},{"$f":"ASIN!D7685","v":0},{"$f":"ASIN!E7685","v":0},{"$f":"ASIN!F7685","v":0}]
[{"$f":"ASIN!A7717","v":0},{"$f":"ASIN!B7717","v":0},{"$f":"ASIN!C7717","v":0},{"$f":"ASIN!D7717","v":0},{"$f":"ASIN!E7717","v":0},{"$f":"ASIN!F7717","v":0}]
[{"$f":"ASIN!A7742","v":0},{"$f":"ASIN!B7742","v":0},{"$f":"ASIN!C7742","v":0},{"$f":"ASIN!D7742","v":0},{"$f":"ASIN!E7742","v":0},{"$f":"ASIN!F7742","v":0}]
[{"$f":"ASIN!A7751","v":0},{"$f":"ASIN!B7751","v":0},{"$f":"ASIN!C7751","v":0},{"$f":"ASIN!D7751","v":0},{"$f":"ASIN!E7751","v":0},{"$f":"ASIN!F7751","v":0}]
[{"$f":"ASIN!A7788","v":0},{"$f":"ASIN!B7788","v":0},{"$f":"ASIN!C7788","v":0},{"$f":"ASIN!D7788","v":0},{"$f":"ASIN!E7788","v":0},{"$f":"ASIN!F7788","v":0}]
[{"$f":"ASIN!A7808","v":0},{"$f":"ASIN!B7808","v":0},{"$f":"ASIN!C7808","v":0},{"$f":"ASIN!D7808","v":0},{"$f":"ASIN!E7808","v":0},{"$f":"ASIN!F7808","v":0}]
[{"$f":"ASIN!A7841","v":0},{"$f":"ASIN!B7841","v":0},{"$f":"ASIN!C7841","v":0},{"$f":"ASIN!D7841","v":0},{"$f":"ASIN!E7841","v":0},{"$f":"ASIN!F7841","v":0}]
[{"$f":"ASIN!A7850","v":0},{"$f":"ASIN!B7850","v":0},{"$f":"ASIN!C7850","v":0},{"$f":"ASIN!D7850","v":0},{"$f":"ASIN!E7850","v":0},{"$f":"ASIN!F7850","v":0}]
[{"$f":"ASIN!A7880","v":0},{"$f":"ASIN!B7880","v":0},{"$f":"ASIN!C7880","v":0},{"$f":"ASIN!D7880","v":0},{"$f":"ASIN!E7880","v":0},{"$f":"ASIN!F7880","v":0}]
[{"$f":"ASIN!A7907","v":0},{"$f":"ASIN!B7907","v":0},{"$f":"ASIN!C7907","v":0},{"$f":"ASIN!D7907","v":0},{"$f":"ASIN!E7907","v":0},{"$f":"ASIN!F7907","v":0}]
[{"$f":"ASIN!A7932","v":0},{"$f":"ASIN!B7932","v":0},{"$f":"ASIN!C7932","v":0},{"$f":"ASIN!D7932","v":0},{"$f":"ASIN!E7932","v":0},{"$f":"ASIN!F7932","v":0}]
[{"$f":"ASIN!A7941","v":0},{"$f":"ASIN!B7941","v":0},{"$f":"ASIN!C7941","v":0},{"$f":"ASIN!D7941","v":0},{"$f":"ASIN!E7941","v":0},{"$f":"ASIN!F7941","v":0}]
[{"$f":"ASIN!A7983","v":0},{"$f":"ASIN!B7983","v":0},{"$f":"ASIN!C7983","v":0},{"$f":"ASIN!D7983","v":0},{"$f":"ASIN!E7983","v":0},{"$f":"ASIN!F7983","v":0}]
[{"$f":"ASIN!A7998","v":0},{"$f":"ASIN!B7998","v":0},{"$f":"ASIN!C7998","v":0},{"$f":"ASIN!D7998","v":0},{"$f":"ASIN!E7998","v":0},{"$f":"ASIN!F7998","v":0}]
[{"$f":"ASIN!A8031","v":0},{"$f":"ASIN!B8031","v":0},{"$f":"ASIN!C8031","v":0},{"$f":"ASIN!D8031","v":0},{"$f":"ASIN!E8031","v":0},{"$f":"ASIN!F8031","v":0}]
[{"$f":"ASIN!A8056","v":0},{"$f":"ASIN!B8056","v":0},{"$f":"ASIN!C8056","v":0},{"$f":"ASIN!D8056","v":0},{"$f":"ASIN!E8056","v":0},{"$f":"ASIN!F8056","v":0}]
[{"$f":"ASIN!A8075","v":0},{"$f":"ASIN!B8075","v":0},{"$f":"ASIN!C8075","v":0},{"$f":"ASIN!D8075","v":0},{"$f":"ASIN!E8075","v":0},{"$f":"ASIN!F8075","v":0}]
[{"$f":"ASIN!A8097","v":0},{"$f":"ASIN!B8097","v":0},{"$f":"ASIN!C8097","v":0},{"$f":"ASIN!D8097","v":0},{"$f":"ASIN!E8097","v":0},{"$f":"ASIN!F8097","v":0}]
[{"$f":"ASIN!A8122","v":0},{"$f":"ASIN!B8122","v":0},{"$f":"ASIN!C8122","v":0},{"$f":"ASIN!D8122","v":0},{"$f":"ASIN!E8122","v":0},{"$f":"ASIN!F8122","v":0}]
[{"$f":"ASIN!A8131","v":0},{"$f":"ASIN!B8131","v":0},{"$f":"ASIN!C8131","v":0},{"$f":"ASIN!D8131","v":0},{"$f":"ASIN!E8131","v":0},{"$f":"ASIN!F8131","v":0}]
[{"$f":"ASIN!A8155","v":0},{"$f":"ASIN!B8155","v":0},{"$f":"ASIN!C8155","v":0},{"$f":"ASIN!D8155","v":0},{"$f":"ASIN!E8155","v":0},{"$f":"ASIN!F8155","v":0}]
[{"$f":"ASIN!A8188","v":0},{"$f":"ASIN!B8188","v":0},{"$f":"ASIN!C8188","v":0},{"$f":"ASIN!D8188","v":0},{"$f":"ASIN!E8188","v":0},{"$f":"ASIN!F8188","v":0}]
[{"$f":"ASIN!A8221","v":0},{"$f":"ASIN!B8221","v":0},{"$f":"ASIN!C8221","v":0},{"$f":"ASIN!D8221","v":0},{"$f":"ASIN!E8221","v":0},{"$f":"ASIN!F8221","v":0}]
[{"$f":"ASIN!A8246","v":0},{"$f":"ASIN!B8246","v":0},{"$f":"ASIN!C8246","v":0},{"$f":"ASIN!D8246","v":0},{"$f":"ASIN!E8246","v":0},{"$f":"ASIN!F8246","v":0}]
[{"$f":"ASIN!A8247","v":0},{"$f":"ASIN!B8247","v":0},{"$f":"ASIN!C8247","v":0},{"$f":"ASIN!D8247","v":0},{"$f":"ASIN!E8247","v":0},{"$f":"ASIN!F8247","v":0}]
[{"$f":"ASIN!A8287","v":0},{"$f":"ASIN!B8287","v":0},{"$f":"ASIN!C8287","v":0},{"$f":"ASIN!D8287","v":0},{"$f":"ASIN!E8287","v":0},{"$f":"ASIN!F8287","v":0}]
[{"$f":"ASIN!A8312","v":0},{"$f":"ASIN!B8312","v":0},{"$f":"ASIN!C8312","v":0},{"$f":"ASIN!D8312","v":0},{"$f":"ASIN!E8312","v":0},{"$f":"ASIN!F8312","v":0}]
[{"$f":"ASIN!A8321","v":0},{"$f":"ASIN!B8321","v":0},{"$f":"ASIN!C8321","v":0},{"$f":"ASIN!D8321","v":0},{"$f":"ASIN!E8321","v":0},{"$f":"ASIN!F8321","v":0}]
[{"$f":"ASIN!A8350","v":0},{"$f":"ASIN!B8350","v":0},{"$f":"ASIN!C8350","v":0},{"$f":"ASIN!D8350","v":0},{"$f":"ASIN!E8350","v":0},{"$f":"ASIN!F8350","v":0}]
[{"$f":"ASIN!A8378","v":0},{"$f":"ASIN!B8378","v":0},{"$f":"ASIN!C8378","v":0},{"$f":"ASIN!D8378","v":0},{"$f":"ASIN!E8378","v":0},{"$f":"ASIN!F8378","v":0}]
[{"$f":"ASIN!A8411","v":0},{"$f":"ASIN!B8411","v":0},{"$f":"ASIN!C8411","v":0},{"$f":"ASIN!D8411","v":0},{"$f":"ASIN!E8411","v":0},{"$f":"ASIN!F8411","v":0}]
[{"$f":"ASIN!A8436","v":0},{"$f":"ASIN!B8436","v":0},{"$f":"ASIN!C8436","v":0},{"$f":"ASIN!D8436","v":0},{"$f":"ASIN!E8436","v":0},{"$f":"ASIN!F8436","v":0}]
[{"$f":"ASIN!A8442","v":0},{"$f":"ASIN!B8442","v":0},{"$f":"ASIN!C8442","v":0},{"$f":"ASIN!D8442","v":0},{"$f":"ASIN!E8442","v":0},{"$f":"ASIN!F8442","v":0}]
[{"$f":"ASIN!A8477","v":0},{"$f":"ASIN!B8477","v":0},{"$f":"ASIN!C8477","v":0},{"$f":"ASIN!D8477","v":0},{"$f":"ASIN!E8477","v":0},{"$f":"ASIN!F8477","v":0}]
[{"$f":"ASIN!A8502","v":0},{"$f":"ASIN!B8502","v":0},{"$f":"ASIN!C8502","v":0},{"$f":"ASIN!D8502","v":0},{"$f":"ASIN!E8502","v":0},{"$f":"ASIN!F8502","v":0}]
[{"$f":"ASIN!A8511","v":0},{"$f":"ASIN!B8511","v":0},{"$f":"ASIN!C8511","v":0},{"$f":"ASIN!D8511","v":0},{"$f":"ASIN!E8511","v":0},{"$f":"ASIN!F8511","v":0}]
[{"$f":"ASIN!A8534","v":0},{"$f":"ASIN!B8534","v":0},{"$f":"ASIN!C8534","v":0},{"$f":"ASIN!D8534","v":0},{"$f":"ASIN!E8534","v":0},{"$f":"ASIN!F8534","v":0}]
[{"$f":"ASIN!A8568","v":0},{"$f":"ASIN!B8568","v":0},{"$f":"ASIN!C8568","v":0},{"$f":"ASIN!D8568","v":0},{"$f":"ASIN!E8568","v":0},{"$f":"ASIN!F8568","v":0}]
[{"$f":"ASIN!A8601","v":0},{"$f":"ASIN!B8601","v":0},{"$f":"ASIN!C8601","v":0},{"$f":"ASIN!D8601","v":0},{"$f":"ASIN!E8601","v":0},{"$f":"ASIN!F8601","v":0}]
[{"$f":"ASIN!A8626","v":0},{"$f":"ASIN!B8626","v":0},{"$f":"ASIN!C8626","v":0},{"$f":"ASIN!D8626","v":0},{"$f":"ASIN!E8626","v":0},{"$f":"ASIN!F8626","v":0}]
[{"$f":"ASIN!A8637","v":0},{"$f":"ASIN!B8637","v":0},{"$f":"ASIN!C8637","v":0},{"$f":"ASIN!D8637","v":0},{"$f":"ASIN!E8637","v":0},{"$f":"ASIN!F8637","v":0}]
[{"$f":"ASIN!A8667","v":0},{"$f":"ASIN!B8667","v":0},{"$f":"ASIN!C8667","v":0},{"$f":"ASIN!D8667","v":0},{"$f":"ASIN!E8667","v":0},{"$f":"ASIN!F8667","v":0}]
[{"$f":"ASIN!A8692","v":0},{"$f":"ASIN!B8692","v":0},{"$f":"ASIN!C8692","v":0},{"$f":"ASIN!D8692","v":0},{"$f":"ASIN!E8692","v":0},{"$f":"ASIN!F8692","v":0}]
[{"$f":"ASIN!A8701","v":0},{"$f":"ASIN!B8701","v":0},{"$f":"ASIN!C8701","v":0},{"$f":"ASIN!D8701","v":0},{"$f":"ASIN!E8701","v":0},{"$f":"ASIN!F8701","v":0}]
[{"$f":"ASIN!A8729","v":0},{"$f":"ASIN!B8729","v":0},{"$f":"ASIN!C8729","v":0},{"$f":"ASIN!D8729","v":0},{"$f":"ASIN!E8729","v":0},{"$f":"ASIN!F8729","v":0}]
[{"$f":"ASIN!A8758","v":0},{"$f":"ASIN!B8758","v":0},{"$f":"ASIN!C8758","v":0},{"$f":"ASIN!D8758","v":0},{"$f":"ASIN!E8758","v":0},{"$f":"ASIN!F8758","v":0}]
[{"$f":"ASIN!A8791","v":0},{"$f":"ASIN!B8791","v":0},{"$f":"ASIN!C8791","v":0},{"$f":"ASIN!D8791","v":0},{"$f":"ASIN!E8791","v":0},{"$f":"ASIN!F8791","v":0}]
[{"$f":"ASIN!A8816","v":0},{"$f":"ASIN!B8816","v":0},{"$f":"ASIN!C8816","v":0},{"$f":"ASIN!D8816","v":0},{"$f":"ASIN!E8816","v":0},{"$f":"ASIN!F8816","v":0}]
[{"$f":"ASIN!A8832","v":0},{"$f":"ASIN!B8832","v":0},{"$f":"ASIN!C8832","v":0},{"$f":"ASIN!D8832","v":0},{"$f":"ASIN!E8832","v":0},{"$f":"ASIN!F8832","v":0}]
[{"$f":"ASIN!A8849","v":0},{"$f":"ASIN!B8849","v":0},{"$f":"ASIN!C8849","v":0},{"$f":"ASIN!D8849","v":0},{"$f":"ASIN!E8849","v":0},{"$f":"ASIN!F8849","v":0}]
[{"$f":"ASIN!A8882","v":0},{"$f":"ASIN!B8882","v":0},{"$f":"ASIN!C8882","v":0},{"$f":"ASIN!D8882","v":0},{"$f":"ASIN!E8882","v":0},{"$f":"ASIN!F8882","v":0}]
[{"$f":"ASIN!A8891","v":0},{"$f":"ASIN!B8891","v":0},{"$f":"ASIN!C8891","v":0},{"$f":"ASIN!D8891","v":0},{"$f":"ASIN!E8891","v":0},{"$f":"ASIN!F8891","v":0}]
[{"$f":"ASIN!A8924","v":0},{"$f":"ASIN!B8924","v":0},{"$f":"ASIN!C8924","v":0},{"$f":"ASIN!D8924","v":0},{"$f":"ASIN!E8924","v":0},{"$f":"ASIN!F8924","v":0}]
[{"$f":"ASIN!A8948","v":0},{"$f":"ASIN!B8948","v":0},{"$f":"ASIN!C8948","v":0},{"$f":"ASIN!D8948","v":0},{"$f":"ASIN!E8948","v":0},{"$f":"ASIN!F8948","v":0}]
[{"$f":"ASIN!A8981","v":0},{"$f":"ASIN!B8981","v":0},{"$f":"ASIN!C8981","v":0},{"$f":"ASIN!D8981","v":0},{"$f":"ASIN!E8981","v":0},{"$f":"ASIN!F8981","v":0}]
[{"$f":"ASIN!A9006","v":0},{"$f":"ASIN!B9006","v":0},{"$f":"ASIN!C9006","v":0},{"$f":"ASIN!D9006","v":0},{"$f":"ASIN!E9006","v":0},{"$f":"ASIN!F9006","v":0}]
[{"$f":"ASIN!A9027","v":0},{"$f":"ASIN!B9027","v":0},{"$f":"ASIN!C9027","v":0},{"$f":"ASIN!D9027","v":0},{"$f":"ASIN!E9027","v":0},{"$f":"ASIN!F9027","v":0}]
[{"$f":"ASIN!A9039","v":0},{"$f":"ASIN!B9039","v":0},{"$f":"ASIN!C9039","v":0},{"$f":"ASIN!D9039","v":0},{"$f":"ASIN!E9039","v":0},{"$f":"ASIN!F9039","v":0}]
[{"$f":"ASIN!A9072","v":0},{"$f":"ASIN!B9072","v":0},{"$f":"ASIN!C9072","v":0},{"$f":"ASIN!D9072","v":0},{"$f":"ASIN!E9072","v":0},{"$f":"ASIN!F9072","v":0}]
[{"$f":"ASIN!A9081","v":0},{"$f":"ASIN!B9081","v":0},{"$f":"ASIN!C9081","v":0},{"$f":"ASIN!D9081","v":0},{"$f":"ASIN!E9081","v":0},{"$f":"ASIN!F9081","v":0}]
[{"$f":"ASIN!A9119","v":0},{"$f":"ASIN!B9119","v":0},{"$f":"ASIN!C9119","v":0},{"$f":"ASIN!D9119","v":0},{"$f":"ASIN!E9119","v":0},{"$f":"ASIN!F9119","v":0}]
[{"$f":"ASIN!A9138","v":0},{"$f":"ASIN!B9138","v":0},{"$f":"ASIN!C9138","v":0},{"$f":"ASIN!D9138","v":0},{"$f":"ASIN!E9138","v":0},{"$f":"ASIN!F9138","v":0}]
[{"$f":"ASIN!A9171","v":0},{"$f":"ASIN!B9171","v":0},{"$f":"ASIN!C9171","v":0},{"$f":"ASIN!D9171","v":0},{"$f":"ASIN!E9171","v":0},{"$f":"ASIN!F9171","v":0}]
[{"$f":"ASIN!A9196","v":0},{"$f":"ASIN!B9196","v":0},{"$f":"ASIN!C9196","v":0},{"$f":"ASIN!D9196","v":0},{"$f":"ASIN!E9196","v":0},{"$f":"ASIN!F9196","v":0}]
[{"$f":"ASIN!A9199","v":0},{"$f":"ASIN!B9199","v":0},{"$f":"ASIN!C9199","v":0},{"$f":"ASIN!D9199","v":0},{"$f":"ASIN!E9199","v":0},{"$f":"ASIN!F9199","v":0}]
[{"$f":"ASIN!A9229","v":0},{"$f":"ASIN!B9229","v":0},{"$f":"ASIN!C9229","v":0},{"$f":"ASIN!D9229","v":0},{"$f":"ASIN!E9229","v":0},{"$f":"ASIN!F9229","v":0}]
[{"$f":"ASIN!A9262","v":0},{"$f":"ASIN!B9262","v":0},{"$f":"ASIN!C9262","v":0},{"$f":"ASIN!D9262","v":0},{"$f":"ASIN!E9262","v":0},{"$f":"ASIN!F9262","v":0}]
[{"$f":"ASIN!A9271","v":0},{"$f":"ASIN!B9271","v":0},{"$f":"ASIN!C9271","v":0},{"$f":"ASIN!D9271","v":0},{"$f":"ASIN!E9271","v":0},{"$f":"ASIN!F9271","v":0}]
[{"$f":"ASIN!A9314","v":0},{"$f":"ASIN!B9314","v":0},{"$f":"ASIN!C9314","v":0},{"$f":"ASIN!D9314","v":0},{"$f":"ASIN!E9314","v":0},{"$f":"ASIN!F9314","v":0}]
[{"$f":"ASIN!A9328","v":0},{"$f":"ASIN!B9328","v":0},{"$f":"ASIN!C9328","v":0},{"$f":"ASIN!D9328","v":0},{"$f":"ASIN!E9328","v":0},{"$f":"ASIN!F9328","v":0}]
[{"$f":"ASIN!A9353","v":0},{"$f":"ASIN!B9353","v":0},{"$f":"ASIN!C9353","v":0},{"$f":"ASIN!D9353","v":0},{"$f":"ASIN!E9353","v":0},{"$f":"ASIN!F9353","v":0}]
[{"$f":"ASIN!A9386","v":0},{"$f":"ASIN!B9386","v":0},{"$f":"ASIN!C9386","v":0},{"$f":"ASIN!D9386","v":0},{"$f":"ASIN!E9386","v":0},{"$f":"ASIN!F9386","v":0}]
[{"$f":"ASIN!A9394","v":0},{"$f":"ASIN!B9394","v":0},{"$f":"ASIN!C9394","v":0},{"$f":"ASIN!D9394","v":0},{"$f":"ASIN!E9394","v":0},{"$f":"ASIN!F9394","v":0}]
[{"$f":"ASIN!A9419","v":0},{"$f":"ASIN!B9419","v":0},{"$f":"ASIN!C9419","v":0},{"$f":"ASIN!D9419","v":0},{"$f":"ASIN!E9419","v":0},{"$f":"ASIN!F9419","v":0}]
[{"$f":"ASIN!A9452","v":0},{"$f":"ASIN!B9452","v":0},{"$f":"ASIN!C9452","v":0},{"$f":"ASIN!D9452","v":0},{"$f":"ASIN!E9452","v":0},{"$f":"ASIN!F9452","v":0}]
[{"$f":"ASIN!A9461","v":0},{"$f":"ASIN!B9461","v":0},{"$f":"ASIN!C9461","v":0},{"$f":"ASIN!D9461","v":0},{"$f":"ASIN!E9461","v":0},{"$f":"ASIN!F9461","v":0}]
[{"$f":"ASIN!A9486","v":0},{"$f":"ASIN!B9486","v":0},{"$f":"ASIN!C9486","v":0},{"$f":"ASIN!D9486","v":0},{"$f":"ASIN!E9486","v":0},{"$f":"ASIN!F9486","v":0}]
[{"$f":"ASIN!A9518","v":0},{"$f":"ASIN!B9518","v":0},{"$f":"ASIN!C9518","v":0},{"$f":"ASIN!D9518","v":0},{"$f":"ASIN!E9518","v":0},{"$f":"ASIN!F9518","v":0}]
[{"$f":"ASIN!A9543","v":0},{"$f":"ASIN!B9543","v":0},{"$f":"ASIN!C9543","v":0},{"$f":"ASIN!D9543","v":0},{"$f":"ASIN!E9543","v":0},{"$f":"ASIN!F9543","v":0}]
[{"$f":"ASIN!A9576","v":0},{"$f":"ASIN!B9576","v":0},{"$f":"ASIN!C9576","v":0},{"$f":"ASIN!D9576","v":0},{"$f":"ASIN!E9576","v":0},{"$f":"ASIN!F9576","v":0}]
[{"$f":"ASIN!A9589","v":0},{"$f":"ASIN!B9589","v":0},{"$f":"ASIN!C9589","v":0},{"$f":"ASIN!D9589","v":0},{"$f":"ASIN!E9589","v":0},{"$f":"ASIN!F9589","v":0}]
[{"$f":"ASIN!A9609","v":0},{"$f":"ASIN!B9609","v":0},{"$f":"ASIN!C9609","v":0},{"$f":"ASIN!D9609","v":0},{"$f":"ASIN!E9609","v":0},{"$f":"ASIN!F9609","v":0}]
[{"$f":"ASIN!A9642","v":0},{"$f":"ASIN!B9642","v":0},{"$f":"ASIN!C9642","v":0},{"$f":"ASIN!D9642","v":0},{"$f":"ASIN!E9642","v":0},{"$f":"ASIN!F9642","v":0}]
[{"$f":"ASIN!A9651","v":0},{"$f":"ASIN!B9651","v":0},{"$f":"ASIN!C9651","v":0},{"$f":"ASIN!D9651","v":0},{"$f":"ASIN!E9651","v":0},{"$f":"ASIN!F9651","v":0}]
[{"$f":"ASIN!A9681","v":0},{"$f":"ASIN!B9681","v":0},{"$f":"ASIN!C9681","v":0},{"$f":"ASIN!D9681","v":0},{"$f":"ASIN!E9681","v":0},{"$f":"ASIN!F9681","v":0}]
[{"$f":"ASIN!A9708","v":0},{"$f":"ASIN!B9708","v":0},{"$f":"ASIN!C9708","v":0},{"$f":"ASIN!D9708","v":0},{"$f":"ASIN!E9708","v":0},{"$f":"ASIN!F9708","v":0}]
[{"$f":"ASIN!A9733","v":0},{"$f":"ASIN!B9733","v":0},{"$f":"ASIN!C9733","v":0},{"$f":"ASIN!D9733","v":0},{"$f":"ASIN!E9733","v":0},{"$f":"ASIN!F9733","v":0}]
[{"$f":"ASIN!A9766","v":0},{"$f":"ASIN!B9766","v":0},{"$f":"ASIN!C9766","v":0},{"$f":"ASIN!D9766","v":0},{"$f":"ASIN!E9766","v":0},{"$f":"ASIN!F9766","v":0}]
[{"$f":"ASIN!A9784","v":0},{"$f":"ASIN!B9784","v":0},{"$f":"ASIN!C9784","v":0},{"$f":"ASIN!D9784","v":0},{"$f":"ASIN!E9784","v":0},{"$f":"ASIN!F9784","v":0}]
[{"$f":"ASIN!A9799","v":0},{"$f":"ASIN!B9799","v":0},{"$f":"ASIN!C9799","v":0},{"$f":"ASIN!D9799","v":0},{"$f":"ASIN!E9799","v":0},{"$f":"ASIN!F9799","v":0}]
[{"$f":"ASIN!A9832","v":0},{"$f":"ASIN!B9832","v":0},{"$f":"ASIN!C9832","v":0},{"$f":"ASIN!D9832","v":0},{"$f":"ASIN!E9832","v":0},{"$f":"ASIN!F9832","v":0}]
[{"$f":"ASIN!A9857","v":0},{"$f":"ASIN!B9857","v":0},{"$f":"ASIN!C9857","v":0},{"$f":"ASIN!D9857","v":0},{"$f":"ASIN!E9857","v":0},{"$f":"ASIN!F9857","v":0}]
[{"$f":"ASIN!A9876","v":0},{"$f":"ASIN!B9876","v":0},{"$f":"ASIN!C9876","v":0},{"$f":"ASIN!D9876","v":0},{"$f":"ASIN!E9876","v":0},{"$f":"ASIN!F9876","v":0}]
[{"$f":"ASIN!A9898","v":0},{"$f":"ASIN!B9898","v":0},{"$f":"ASIN!C9898","v":0},{"$f":"ASIN!D9898","v":0},{"$f":"ASIN!E9898","v":0},{"$f":"ASIN!F9898","v":0}]
[{"$f":"ASIN!A9923","v":0},{"$f":"ASIN!B9923","v":0},{"$f":"ASIN!C9923","v":0},{"$f":"ASIN!D9923","v":0},{"$f":"ASIN!E9923","v":0},{"$f":"ASIN!F9923","v":0}]
[{"$f":"ASIN!A9956","v":0},{"$f":"ASIN!B9956","v":0},{"$f":"ASIN!C9956","v":0},{"$f":"ASIN!D9956","v":0},{"$f":"ASIN!E9956","v":0},{"$f":"ASIN!F9956","v":0}]
[{"$f":"ASIN!A9979","v":0},{"$f":"ASIN!B9979","v":0},{"$f":"ASIN!C9979","v":0},{"$f":"ASIN!D9979","v":0},{"$f":"ASIN!E9979","v":0},{"$f":"ASIN!F9979","v":0}]
[{"$f":"ASIN!A9989","v":0},{"$f":"ASIN!B9989","v":0},{"$f":"ASIN!C9989","v":0},{"$f":"ASIN!D9989","v":0},{"$f":"ASIN!E9989","v":0},{"$f":"ASIN!F9989","v":0}]
[{"$f":"ASIN!A10022","v":0},{"$f":"ASIN!B10022","v":0},{"$f":"ASIN!C10022","v":0},{"$f":"ASIN!D10022","v":0},{"$f":"ASIN!E10022","v":0},{"$f":"ASIN!F10022","v":0}]
[{"$f":"ASIN!A10047","v":0},{"$f":"ASIN!B10047","v":0},{"$f":"ASIN!C10047","v":0},{"$f":"ASIN!D10047","v":0},{"$f":"ASIN!E10047","v":0},{"$f":"ASIN!F10047","v":0}]
[{"$f":"ASIN!A10071","v":0},{"$f":"ASIN!B10071","v":0},{"$f":"ASIN!C10071","v":0},{"$f":"ASIN!D10071","v":0},{"$f":"ASIN!E10071","v":0},{"$f":"ASIN!F10071","v":0}]
[{"$f":"ASIN!A10088","v":0},{"$f":"ASIN!B10088","v":0},{"$f":"ASIN!C10088","v":0},{"$f":"ASIN!D10088","v":0},{"$f":"ASIN!E10088","v":0},{"$f":"ASIN!F10088","v":0}]
[{"$f":"ASIN!A10113","v":0},{"$f":"ASIN!B10113","v":0},{"$f":"ASIN!C10113","v":0},{"$f":"ASIN!D10113","v":0},{"$f":"ASIN!E10113","v":0},{"$f":"ASIN!F10113","v":0}]
[{"$f":"ASIN!A10146","v":0},{"$f":"ASIN!B10146","v":0},{"$f":"ASIN!C10146","v":0},{"$f":"ASIN!D10146","v":0},{"$f":"ASIN!E10146","v":0},{"$f":"ASIN!F10146","v":0}]
[{"$f":"ASIN!A10163","v":0},{"$f":"ASIN!B10163","v":0},{"$f":"ASIN!C10163","v":0},{"$f":"ASIN!D10163","v":0},{"$f":"ASIN!E10163","v":0},{"$f":"ASIN!F10163","v":0}]
[{"$f":"ASIN!A10179","v":0},{"$f":"ASIN!B10179","v":0},{"$f":"ASIN!C10179","v":0},{"$f":"ASIN!D10179","v":0},{"$f":"ASIN!E10179","v":0},{"$f":"ASIN!F10179","v":0}]
[{"$f":"ASIN!A10212","v":0},{"$f":"ASIN!B10212","v":0},{"$f":"ASIN!C10212","v":0},{"$f":"ASIN!D10212","v":0},{"$f":"ASIN!E10212","v":0},{"$f":"ASIN!F10212","v":0}]
[{"$f":"ASIN!A10237","v":0},{"$f":"ASIN!B10237","v":0},{"$f":"ASIN!C10237","v":0},{"$f":"ASIN!D10237","v":0},{"$f":"ASIN!E10237","v":0},{"$f":"ASIN!F10237","v":0}]
[{"$f":"ASIN!A10243","v":0},{"$f":"ASIN!B10243","v":0},{"$f":"ASIN!C10243","v":0},{"$f":"ASIN!D10243","v":0},{"$f":"ASIN!E10243","v":0},{"$f":"ASIN!F10243","v":0}]
[{"$f":"ASIN!A10278","v":0},{"$f":"ASIN!B10278","v":0},{"$f":"ASIN!C10278","v":0},{"$f":"ASIN!D10278","v":0},{"$f":"ASIN!E10278","v":0},{"$f":"ASIN!F10278","v":0}]
[{"$f":"ASIN!A10303","v":0},{"$f":"ASIN!B10303","v":0},{"$f":"ASIN!C10303","v":0},{"$f":"ASIN!D10303","v":0},{"$f":"ASIN!E10303","v":0},{"$f":"ASIN!F10303","v":0}]
[{"$f":"ASIN!A10336","v":0},{"$f":"ASIN!B10336","v":0},{"$f":"ASIN!C10336","v":0},{"$f":"ASIN!D10336","v":0},{"$f":"ASIN!E10336","v":0},{"$f":"ASIN!F10336","v":0}]
[{"$f":"ASIN!A10358","v":0},{"$f":"ASIN!B10358","v":0},{"$f":"ASIN!C10358","v":0},{"$f":"ASIN!D10358","v":0},{"$f":"ASIN!E10358","v":0},{"$f":"ASIN!F10358","v":0}]
[{"$f":"ASIN!A10369","v":0},{"$f":"ASIN!B10369","v":0},{"$f":"ASIN!C10369","v":0},{"$f":"ASIN!D10369","v":0},{"$f":"ASIN!E10369","v":0},{"$f":"ASIN!F10369","v":0}]
[{"$f":"ASIN!A10402","v":0},{"$f":"ASIN!B10402","v":0},{"$f":"ASIN!C10402","v":0},{"$f":"ASIN!D10402","v":0},{"$f":"ASIN!E10402","v":0},{"$f":"ASIN!F10402","v":0}]
[{"$f":"ASIN!A10427","v":0},{"$f":"ASIN!B10427","v":0},{"$f":"ASIN!C10427","v":0},{"$f":"ASIN!D10427","v":0},{"$f":"ASIN!E10427","v":0},{"$f":"ASIN!F10427","v":0}]
[{"$f":"ASIN!A10438","v":0},{"$f":"ASIN!B10438","v":0},{"$f":"ASIN!C10438","v":0},{"$f":"ASIN!D10438","v":0},{"$f":"ASIN!E10438","v":0},{"$f":"ASIN!F10438","v":0}]
[{"$f":"ASIN!A10468","v":0},{"$f":"ASIN!B10468","v":0},{"$f":"ASIN!C10468","v":0},{"$f":"ASIN!D10468","v":0},{"$f":"ASIN!E10468","v":0},{"$f":"ASIN!F10468","v":0}]
[{"$f":"ASIN!A10493","v":0},{"$f":"ASIN!B10493","v":0},{"$f":"ASIN!C10493","v":0},{"$f":"ASIN!D10493","v":0},{"$f":"ASIN!E10493","v":0},{"$f":"ASIN!F10493","v":0}]
[{"$f":"ASIN!A10526","v":0},{"$f":"ASIN!B10526","v":0},{"$f":"ASIN!C10526","v":0},{"$f":"ASIN!D10526","v":0},{"$f":"ASIN!E10526","v":0},{"$f":"ASIN!F10526","v":0}]
[{"$f":"ASIN!A10530","v":0},{"$f":"ASIN!B10530","v":0},{"$f":"ASIN!C10530","v":0},{"$f":"ASIN!D10530","v":0},{"$f":"ASIN!E10530","v":0},{"$f":"ASIN!F10530","v":0}]
[{"$f":"ASIN!A10559","v":0},{"$f":"ASIN!B10559","v":0},{"$f":"ASIN!C10559","v":0},{"$f":"ASIN!D10559","v":0},{"$f":"ASIN!E10559","v":0},{"$f":"ASIN!F10559","v":0}]
[{"$f":"ASIN!A10592","v":0},{"$f":"ASIN!B10592","v":0},{"$f":"ASIN!C10592","v":0},{"$f":"ASIN!D10592","v":0},{"$f":"ASIN!E10592","v":0},{"$f":"ASIN!F10592","v":0}]
[{"$f":"ASIN!A10617","v":0},{"$f":"ASIN!B10617","v":0},{"$f":"ASIN!C10617","v":0},{"$f":"ASIN!D10617","v":0},{"$f":"ASIN!E10617","v":0},{"$f":"ASIN!F10617","v":0}]
[{"$f":"ASIN!A10633","v":0},{"$f":"ASIN!B10633","v":0},{"$f":"ASIN!C10633","v":0},{"$f":"ASIN!D10633","v":0},{"$f":"ASIN!E10633","v":0},{"$f":"ASIN!F10633","v":0}]
[{"$f":"ASIN!A10650","v":0},{"$f":"ASIN!B10650","v":0},{"$f":"ASIN!C10650","v":0},{"$f":"ASIN!D10650","v":0},{"$f":"ASIN!E10650","v":0},{"$f":"ASIN!F10650","v":0}]
[{"$f":"ASIN!A10683","v":0},{"$f":"ASIN!B10683","v":0},{"$f":"ASIN!C10683","v":0},{"$f":"ASIN!D10683","v":0},{"$f":"ASIN!E10683","v":0},{"$f":"ASIN!F10683","v":0}]
[{"$f":"ASIN!A10716","v":0},{"$f":"ASIN!B10716","v":0},{"$f":"ASIN!C10716","v":0},{"$f":"ASIN!D10716","v":0},{"$f":"ASIN!E10716","v":0},{"$f":"ASIN!F10716","v":0}]
[{"$f":"ASIN!A10725","v":0},{"$f":"ASIN!B10725","v":0},{"$f":"ASIN!C10725","v":0},{"$f":"ASIN!D10725","v":0},{"$f":"ASIN!E10725","v":0},{"$f":"ASIN!F10725","v":0}]
[{"$f":"ASIN!A10749","v":0},{"$f":"ASIN!B10749","v":0},{"$f":"ASIN!C10749","v":0},{"$f":"ASIN!D10749","v":0},{"$f":"ASIN!E10749","v":0},{"$f":"ASIN!F10749","v":0}]
[{"$f":"ASIN!A10782","v":0},{"$f":"ASIN!B10782","v":0},{"$f":"ASIN!C10782","v":0},{"$f":"ASIN!D10782","v":0},{"$f":"ASIN!E10782","v":0},{"$f":"ASIN!F10782","v":0}]
[{"$f":"ASIN!A10807","v":0},{"$f":"ASIN!B10807","v":0},{"$f":"ASIN!C10807","v":0},{"$f":"ASIN!D10807","v":0},{"$f":"ASIN!E10807","v":0},{"$f":"ASIN!F10807","v":0}]
[{"$f":"ASIN!A10828","v":0},{"$f":"ASIN!B10828","v":0},{"$f":"ASIN!C10828","v":0},{"$f":"ASIN!D10828","v":0},{"$f":"ASIN!E10828","v":0},{"$f":"ASIN!F10828","v":0}]
[{"$f":"ASIN!A10840","v":0},{"$f":"ASIN!B10840","v":0},{"$f":"ASIN!C10840","v":0},{"$f":"ASIN!D10840","v":0},{"$f":"ASIN!E10840","v":0},{"$f":"ASIN!F10840","v":0}]
[{"$f":"ASIN!A10873","v":0},{"$f":"ASIN!B10873","v":0},{"$f":"ASIN!C10873","v":0},{"$f":"ASIN!D10873","v":0},{"$f":"ASIN!E10873","v":0},{"$f":"ASIN!F10873","v":0}]
[{"$f":"ASIN!A10906","v":0},{"$f":"ASIN!B10906","v":0},{"$f":"ASIN!C10906","v":0},{"$f":"ASIN!D10906","v":0},{"$f":"ASIN!E10906","v":0},{"$f":"ASIN!F10906","v":0}]
[{"$f":"ASIN!A10920","v":0},{"$f":"ASIN!B10920","v":0},{"$f":"ASIN!C10920","v":0},{"$f":"ASIN!D10920","v":0},{"$f":"ASIN!E10920","v":0},{"$f":"ASIN!F10920","v":0}]
[{"$f":"ASIN!A10939","v":0},{"$f":"ASIN!B10939","v":0},{"$f":"ASIN!C10939","v":0},{"$f":"ASIN!D10939","v":0},{"$f":"ASIN!E10939","v":0},{"$f":"ASIN!F10939","v":0}]
[{"$f":"ASIN!A10964","v":0},{"$f":"ASIN!B10964","v":0},{"$f":"ASIN!C10964","v":0},{"$f":"ASIN!D10964","v":0},{"$f":"ASIN!E10964","v":0},{"$f":"ASIN!F10964","v":0}]
[{"$f":"ASIN!A10997","v":0},{"$f":"ASIN!B10997","v":0},{"$f":"ASIN!C10997","v":0},{"$f":"ASIN!D10997","v":0},{"$f":"ASIN!E10997","v":0},{"$f":"ASIN!F10997","v":0}]
[{"$f":"ASIN!A11023","v":0},{"$f":"ASIN!B11023","v":0},{"$f":"ASIN!C11023","v":0},{"$f":"ASIN!D11023","v":0},{"$f":"ASIN!E11023","v":0},{"$f":"ASIN!F11023","v":0}]
[{"$f":"ASIN!A11030","v":0},{"$f":"ASIN!B11030","v":0},{"$f":"ASIN!C11030","v":0},{"$f":"ASIN!D11030","v":0},{"$f":"ASIN!E11030","v":0},{"$f":"ASIN!F11030","v":0}]
[{"$f":"ASIN!A11063","v":0},{"$f":"ASIN!B11063","v":0},{"$f":"ASIN!C11063","v":0},{"$f":"ASIN!D11063","v":0},{"$f":"ASIN!E11063","v":0},{"$f":"ASIN!F11063","v":0}]
[{"$f":"ASIN!A11096","v":0},{"$f":"ASIN!B11096","v":0},{"$f":"ASIN!C11096","v":0},{"$f":"ASIN!D11096","v":0},{"$f":"ASIN!E11096","v":0},{"$f":"ASIN!F11096","v":0}]
[{"$f":"ASIN!A11115","v":0},{"$f":"ASIN!B11115","v":0},{"$f":"ASIN!C11115","v":0},{"$f":"ASIN!D11115","v":0},{"$f":"ASIN!E11115","v":0},{"$f":"ASIN!F11115","v":0}]
[{"$f":"ASIN!A11129","v":0},{"$f":"ASIN!B11129","v":0},{"$f":"ASIN!C11129","v":0},{"$f":"ASIN!D11129","v":0},{"$f":"ASIN!E11129","v":0},{"$f":"ASIN!F11129","v":0}]
[{"$f":"ASIN!A11154","v":0},{"$f":"ASIN!B11154","v":0},{"$f":"ASIN!C11154","v":0},{"$f":"ASIN!D11154","v":0},{"$f":"ASIN!E11154","v":0},{"$f":"ASIN!F11154","v":0}]
[{"$f":"ASIN!A11187","v":0},{"$f":"ASIN!B11187","v":0},{"$f":"ASIN!C11187","v":0},{"$f":"ASIN!D11187","v":0},{"$f":"ASIN!E11187","v":0},{"$f":"ASIN!F11187","v":0}]
[{"$f":"ASIN!A11195","v":0},{"$f":"ASIN!B11195","v":0},{"$f":"ASIN!C11195","v":0},{"$f":"ASIN!D11195","v":0},{"$f":"ASIN!E11195","v":0},{"$f":"ASIN!F11195","v":0}]
[{"$f":"ASIN!A11220","v":0},{"$f":"ASIN!B11220","v":0},{"$f":"ASIN!C11220","v":0},{"$f":"ASIN!D11220","v":0},{"$f":"ASIN!E11220","v":0},{"$f":"ASIN!F11220","v":0}]
[{"$f":"ASIN!A11253","v":0},{"$f":"ASIN!B11253","v":0},{"$f":"ASIN!C11253","v":0},{"$f":"ASIN!D11253","v":0},{"$f":"ASIN!E11253","v":0},{"$f":"ASIN!F11253","v":0}]
[{"$f":"ASIN!A11286","v":0},{"$f":"ASIN!B11286","v":0},{"$f":"ASIN!C11286","v":0},{"$f":"ASIN!D11286","v":0},{"$f":"ASIN!E11286","v":0},{"$f":"ASIN!F11286","v":0}]
[{"$f":"ASIN!A11287","v":0},{"$f":"ASIN!B11287","v":0},{"$f":"ASIN!C11287","v":0},{"$f":"ASIN!D11287","v":0},{"$f":"ASIN!E11287","v":0},{"$f":"ASIN!F11287","v":0}]
[{"$f":"ASIN!A11319","v":0},{"$f":"ASIN!B11319","v":0},{"$f":"ASIN!C11319","v":0},{"$f":"ASIN!D11319","v":0},{"$f":"ASIN!E11319","v":0},{"$f":"ASIN!F11319","v":0}]
[{"$f":"ASIN!A11344","v":0},{"$f":"ASIN!B11344","v":0},{"$f":"ASIN!C11344","v":0},{"$f":"ASIN!D11344","v":0},{"$f":"ASIN!E11344","v":0},{"$f":"ASIN!F11344","v":0}]
[{"$f":"ASIN!A11377","v":0},{"$f":"ASIN!B11377","v":0},{"$f":"ASIN!C11377","v":0},{"$f":"ASIN!D11377","v":0},{"$f":"ASIN!E11377","v":0},{"$f":"ASIN!F11377","v":0}]
[{"$f":"ASIN!A11390","v":0},{"$f":"ASIN!B11390","v":0},{"$f":"ASIN!C11390","v":0},{"$f":"ASIN!D11390","v":0},{"$f":"ASIN!E11390","v":0},{"$f":"ASIN!F11390","v":0}]
[{"$f":"ASIN!A11410","v":0},{"$f":"ASIN!B11410","v":0},{"$f":"ASIN!C11410","v":0},{"$f":"ASIN!D11410","v":0},{"$f":"ASIN!E11410","v":0},{"$f":"ASIN!F11410","v":0}]
[{"$f":"ASIN!A11443","v":0},{"$f":"ASIN!B11443","v":0},{"$f":"ASIN!C11443","v":0},{"$f":"ASIN!D11443","v":0},{"$f":"ASIN!E11443","v":0},{"$f":"ASIN!F11443","v":0}]
[{"$f":"ASIN!A11468","v":0},{"$f":"ASIN!B11468","v":0},{"$f":"ASIN!C11468","v":0},{"$f":"ASIN!D11468","v":0},{"$f":"ASIN!E11468","v":0},{"$f":"ASIN!F11468","v":0}]
[{"$f":"ASIN!A11482","v":0},{"$f":"ASIN!B11482","v":0},{"$f":"ASIN!C11482","v":0},{"$f":"ASIN!D11482","v":0},{"$f":"ASIN!E11482","v":0},{"$f":"ASIN!F11482","v":0}]
[{"$f":"ASIN!A11509","v":0},{"$f":"ASIN!B11509","v":0},{"$f":"ASIN!C11509","v":0},{"$f":"ASIN!D11509","v":0},{"$f":"ASIN!E11509","v":0},{"$f":"ASIN!F11509","v":0}]
[{"$f":"ASIN!A11534","v":0},{"$f":"ASIN!B11534","v":0},{"$f":"ASIN!C11534","v":0},{"$f":"ASIN!D11534","v":0},{"$f":"ASIN!E11534","v":0},{"$f":"ASIN!F11534","v":0}]
[{"$f":"ASIN!A11567","v":0},{"$f":"ASIN!B11567","v":0},{"$f":"ASIN!C11567","v":0},{"$f":"ASIN!D11567","v":0},{"$f":"ASIN!E11567","v":0},{"$f":"ASIN!F11567","v":0}]
[{"$f":"ASIN!A11585","v":0},{"$f":"ASIN!B11585","v":0},{"$f":"ASIN!C11585","v":0},{"$f":"ASIN!D11585","v":0},{"$f":"ASIN!E11585","v":0},{"$f":"ASIN!F11585","v":0}]
[{"$f":"ASIN!A11600","v":0},{"$f":"ASIN!B11600","v":0},{"$f":"ASIN!C11600","v":0},{"$f":"ASIN!D11600","v":0},{"$f":"ASIN!E11600","v":0},{"$f":"ASIN!F11600","v":0}]
[{"$f":"ASIN!A11633","v":0},{"$f":"ASIN!B11633","v":0},{"$f":"ASIN!C11633","v":0},{"$f":"ASIN!D11633","v":0},{"$f":"ASIN!E11633","v":0},{"$f":"ASIN!F11633","v":0}]
[{"$f":"ASIN!A11658","v":0},{"$f":"ASIN!B11658","v":0},{"$f":"ASIN!C11658","v":0},{"$f":"ASIN!D11658","v":0},{"$f":"ASIN!E11658","v":0},{"$f":"ASIN!F11658","v":0}]
[{"$f":"ASIN!A11677","v":0},{"$f":"ASIN!B11677","v":0},{"$f":"ASIN!C11677","v":0},{"$f":"ASIN!D11677","v":0},{"$f":"ASIN!E11677","v":0},{"$f":"ASIN!F11677","v":0}]
[{"$f":"ASIN!A11699","v":0},{"$f":"ASIN!B11699","v":0},{"$f":"ASIN!C11699","v":0},{"$f":"ASIN!D11699","v":0},{"$f":"ASIN!E11699","v":0},{"$f":"ASIN!F11699","v":0}]
[{"$f":"ASIN!A11724","v":0},{"$f":"ASIN!B11724","v":0},{"$f":"ASIN!C11724","v":0},{"$f":"ASIN!D11724","v":0},{"$f":"ASIN!E11724","v":0},{"$f":"ASIN!F11724","v":0}]
[{"$f":"ASIN!A11757","v":0},{"$f":"ASIN!B11757","v":0},{"$f":"ASIN!C11757","v":0},{"$f":"ASIN!D11757","v":0},{"$f":"ASIN!E11757","v":0},{"$f":"ASIN!F11757","v":0}]
[{"$f":"ASIN!A11780","v":0},{"$f":"ASIN!B11780","v":0},{"$f":"ASIN!C11780","v":0},{"$f":"ASIN!D11780","v":0},{"$f":"ASIN!E11780","v":0},{"$f":"ASIN!F11780","v":0}]
[{"$f":"ASIN!A11790","v":0},{"$f":"ASIN!B11790","v":0},{"$f":"ASIN!C11790","v":0},{"$f":"ASIN!D11790","v":0},{"$f":"ASIN!E11790","v":0},{"$f":"ASIN!F11790","v":0}]
[{"$f":"ASIN!A11823","v":0},{"$f":"ASIN!B11823","v":0},{"$f":"ASIN!C11823","v":0},{"$f":"ASIN!D11823","v":0},{"$f":"ASIN!E11823","v":0},{"$f":"ASIN!F11823","v":0}]
[{"$f":"ASIN!A11848","v":0},{"$f":"ASIN!B11848","v":0},{"$f":"ASIN!C11848","v":0},{"$f":"ASIN!D11848","v":0},{"$f":"ASIN!E11848","v":0},{"$f":"ASIN!F11848","v":0}]
[{"$f":"ASIN!A11872","v":0},{"$f":"ASIN!B11872","v":0},{"$f":"ASIN!C11872","v":0},{"$f":"ASIN!D11872","v":0},{"$f":"ASIN!E11872","v":0},{"$f":"ASIN!F11872","v":0}]
[{"$f":"ASIN!A11889","v":0},{"$f":"ASIN!B11889","v":0},{"$f":"ASIN!C11889","v":0},{"$f":"ASIN!D11889","v":0},{"$f":"ASIN!E11889","v":0},{"$f":"ASIN!F11889","v":0}]
[{"$f":"ASIN!A11914","v":0},{"$f":"ASIN!B11914","v":0},{"$f":"ASIN!C11914","v":0},{"$f":"ASIN!D11914","v":0},{"$f":"ASIN!E11914","v":0},{"$f":"ASIN!F11914","v":0}]
[{"$f":"ASIN!A11947","v":0},{"$f":"ASIN!B11947","v":0},{"$f":"ASIN!C11947","v":0},{"$f":"ASIN!D11947","v":0},{"$f":"ASIN!E11947","v":0},{"$f":"ASIN!F11947","v":0}]
[{"$f":"ASIN!A11964","v":0},{"$f":"ASIN!B11964","v":0},{"$f":"ASIN!C11964","v":0},{"$f":"ASIN!D11964","v":0},{"$f":"ASIN!E11964","v":0},{"$f":"ASIN!F11964","v":0}]
[{"$f":"ASIN!A11980","v":0},{"$f":"ASIN!B11980","v":0},{"$f":"ASIN!C11980","v":0},{"$f":"ASIN!D11980","v":0},{"$f":"ASIN!E11980","v":0},{"$f":"ASIN!F11980","v":0}]
[{"$f":"ASIN!A12013","v":0},{"$f":"ASIN!B12013","v":0},{"$f":"ASIN!C12013","v":0},{"$f":"ASIN!D12013","v":0},{"$f":"ASIN!E12013","v":0},{"$f":"ASIN!F12013","v":0}]
[{"$f":"ASIN!A12038","v":0},{"$f":"ASIN!B12038","v":0},{"$f":"ASIN!C12038","v":0},{"$f":"ASIN!D12038","v":0},{"$f":"ASIN!E12038","v":0},{"$f":"ASIN!F12038","v":0}]
[{"$f":"ASIN!A12067","v":0},{"$f":"ASIN!B12067","v":0},{"$f":"ASIN!C12067","v":0},{"$f":"ASIN!D12067","v":0},{"$f":"ASIN!E12067","v":0},{"$f":"ASIN!F12067","v":0}]
[{"$f":"ASIN!A12079","v":0},{"$f":"ASIN!B12079","v":0},{"$f":"ASIN!C12079","v":0},{"$f":"ASIN!D12079","v":0},{"$f":"ASIN!E12079","v":0},{"$f":"ASIN!F12079","v":0}]
[{"$f":"ASIN!A12104","v":0},{"$f":"ASIN!B12104","v":0},{"$f":"ASIN!C12104","v":0},{"$f":"ASIN!D12104","v":0},{"$f":"ASIN!E12104","v":0},{"$f":"ASIN!F12104","v":0}]
[{"$f":"ASIN!A12137","v":0},{"$f":"ASIN!B12137","v":0},{"$f":"ASIN!C12137","v":0},{"$f":"ASIN!D12137","v":0},{"$f":"ASIN!E12137","v":0},{"$f":"ASIN!F12137","v":0}]
[{"$f":"ASIN!A12159","v":0},{"$f":"ASIN!B12159","v":0},{"$f":"ASIN!C12159","v":0},{"$f":"ASIN!D12159","v":0},{"$f":"ASIN!E12159","v":0},{"$f":"ASIN!F12159","v":0}]
[{"$f":"ASIN!A12170","v":0},{"$f":"ASIN!B12170","v":0},{"$f":"ASIN!C12170","v":0},{"$f":"ASIN!D12170","v":0},{"$f":"ASIN!E12170","v":0},{"$f":"ASIN!F12170","v":0}]
[{"$f":"ASIN!A12203","v":0},{"$f":"ASIN!B12203","v":0},{"$f":"ASIN!C12203","v":0},{"$f":"ASIN!D12203","v":0},{"$f":"ASIN!E12203","v":0},{"$f":"ASIN!F12203","v":0}]
[{"$f":"ASIN!A12228","v":0},{"$f":"ASIN!B12228","v":0},{"$f":"ASIN!C12228","v":0},{"$f":"ASIN!D12228","v":0},{"$f":"ASIN!E12228","v":0},{"$f":"ASIN!F12228","v":0}]
[{"$f":"ASIN!A12239","v":0},{"$f":"ASIN!B12239","v":0},{"$f":"ASIN!C12239","v":0},{"$f":"ASIN!D12239","v":0},{"$f":"ASIN!E12239","v":0},{"$f":"ASIN!F12239","v":0}]
[{"$f":"ASIN!A12261","v":0},{"$f":"ASIN!B12261","v":0},{"$f":"ASIN!C12261","v":0},{"$f":"ASIN!D12261","v":0},{"$f":"ASIN!E12261","v":0},{"$f":"ASIN!F12261","v":0}]
[{"$f":"ASIN!A12294","v":0},{"$f":"ASIN!B12294","v":0},{"$f":"ASIN!C12294","v":0},{"$f":"ASIN!D12294","v":0},{"$f":"ASIN!E12294","v":0},{"$f":"ASIN!F12294","v":0}]
[{"$f":"ASIN!A12327","v":0},{"$f":"ASIN!B12327","v":0},{"$f":"ASIN!C12327","v":0},{"$f":"ASIN!D12327","v":0},{"$f":"ASIN!E12327","v":0},{"$f":"ASIN!F12327","v":0}]
[{"$f":"ASIN!A12354","v":0},{"$f":"ASIN!B12354","v":0},{"$f":"ASIN!C12354","v":0},{"$f":"ASIN!D12354","v":0},{"$f":"ASIN!E12354","v":0},{"$f":"ASIN!F12354","v":0}]
[{"$f":"ASIN!A12360","v":0},{"$f":"ASIN!B12360","v":0},{"$f":"ASIN!C12360","v":0},{"$f":"ASIN!D12360","v":0},{"$f":"ASIN!E12360","v":0},{"$f":"ASIN!F12360","v":0}]
[{"$f":"ASIN!A12393","v":0},{"$f":"ASIN!B12393","v":0},{"$f":"ASIN!C12393","v":0},{"$f":"ASIN!D12393","v":0},{"$f":"ASIN!E12393","v":0},{"$f":"ASIN!F12393","v":0}]
[{"$f":"ASIN!A12418","v":0},{"$f":"ASIN!B12418","v":0},{"$f":"ASIN!C12418","v":0},{"$f":"ASIN!D12418","v":0},{"$f":"ASIN!E12418","v":0},{"$f":"ASIN!F12418","v":0}]
[{"$f":"ASIN!A12434","v":0},{"$f":"ASIN!B12434","v":0},{"$f":"ASIN!C12434","v":0},{"$f":"ASIN!D12434","v":0},{"$f":"ASIN!E12434","v":0},{"$f":"ASIN!F12434","v":0}]
[{"$f":"ASIN!A12451","v":0},{"$f":"ASIN!B12451","v":0},{"$f":"ASIN!C12451","v":0},{"$f":"ASIN!D12451","v":0},{"$f":"ASIN!E12451","v":0},{"$f":"ASIN!F12451","v":0}]
[{"$f":"ASIN!A12484","v":0},{"$f":"ASIN!B12484","v":0},{"$f":"ASIN!C12484","v":0},{"$f":"ASIN!D12484","v":0},{"$f":"ASIN!E12484","v":0},{"$f":"ASIN!F12484","v":0}]
[{"$f":"ASIN!A12517","v":0},{"$f":"ASIN!B12517","v":0},{"$f":"ASIN!C12517","v":0},{"$f":"ASIN!D12517","v":0},{"$f":"ASIN!E12517","v":0},{"$f":"ASIN!F12517","v":0}]
[{"$f":"ASIN!A12526","v":0},{"$f":"ASIN!B12526","v":0},{"$f":"ASIN!C12526","v":0},{"$f":"ASIN!D12526","v":0},{"$f":"ASIN!E12526","v":0},{"$f":"ASIN!F12526","v":0}]
[{"$f":"ASIN!A12550","v":0},{"$f":"ASIN!B12550","v":0},{"$f":"ASIN!C12550","v":0},{"$f":"ASIN!D12550","v":0},{"$f":"ASIN!E12550","v":0},{"$f":"ASIN!F12550","v":0}]
[{"$f":"ASIN!A12583","v":0},{"$f":"ASIN!B12583","v":0},{"$f":"ASIN!C12583","v":0},{"$f":"ASIN!D12583","v":0},{"$f":"ASIN!E12583","v":0},{"$f":"ASIN!F12583","v":0}]
[{"$f":"ASIN!A12608","v":0},{"$f":"ASIN!B12608","v":0},{"$f":"ASIN!C12608","v":0},{"$f":"ASIN!D12608","v":0},{"$f":"ASIN!E12608","v":0},{"$f":"ASIN!F12608","v":0}]
[{"$f":"ASIN!A12629","v":0},{"$f":"ASIN!B12629","v":0},{"$f":"ASIN!C12629","v":0},{"$f":"ASIN!D12629","v":0},{"$f":"ASIN!E12629","v":0},{"$f":"ASIN!F12629","v":0}]
[{"$f":"ASIN!A12641","v":0},{"$f":"ASIN!B12641","v":0},{"$f":"ASIN!C12641","v":0},{"$f":"ASIN!D12641","v":0},{"$f":"ASIN!E12641","v":0},{"$f":"ASIN!F12641","v":0}]
[{"$f":"ASIN!A12674","v":0},{"$f":"ASIN!B12674","v":0},{"$f":"ASIN!C12674","v":0},{"$f":"ASIN!D12674","v":0},{"$f":"ASIN!E12674","v":0},{"$f":"ASIN!F12674","v":0}]
[{"$f":"ASIN!A12707","v":0},{"$f":"ASIN!B12707","v":0},{"$f":"ASIN!C12707","v":0},{"$f":"ASIN!D12707","v":0},{"$f":"ASIN!E12707","v":0},{"$f":"ASIN!F12707","v":0}]
[{"$f":"ASIN!A12721","v":0},{"$f":"ASIN!B12721","v":0},{"$f":"ASIN!C12721","v":0},{"$f":"ASIN!D12721","v":0},{"$f":"ASIN!E12721","v":0},{"$f":"ASIN!F12721","v":0}]
[{"$f":"ASIN!A12740","v":0},{"$f":"ASIN!B12740","v":0},{"$f":"ASIN!C12740","v":0},{"$f":"ASIN!D12740","v":0},{"$f":"ASIN!E12740","v":0},{"$f":"ASIN!F12740","v":0}]
[{"$f":"ASIN!A12765","v":0},{"$f":"ASIN!B12765","v":0},{"$f":"ASIN!C12765","v":0},{"$f":"ASIN!D12765","v":0},{"$f":"ASIN!E12765","v":0},{"$f":"ASIN!F12765","v":0}]
[{"$f":"ASIN!A12798","v":0},{"$f":"ASIN!B12798","v":0},{"$f":"ASIN!C12798","v":0},{"$f":"ASIN!D12798","v":0},{"$f":"ASIN!E12798","v":0},{"$f":"ASIN!F12798","v":0}]
[{"$f":"ASIN!A12824","v":0},{"$f":"ASIN!B12824","v":0},{"$f":"ASIN!C12824","v":0},{"$f":"ASIN!D12824","v":0},{"$f":"ASIN!E12824","v":0},{"$f":"ASIN!F12824","v":0}]
[{"$f":"ASIN!A12831","v":0},{"$f":"ASIN!B12831","v":0},{"$f":"ASIN!C12831","v":0},{"$f":"ASIN!D12831","v":0},{"$f":"ASIN!E12831","v":0},{"$f":"ASIN!F12831","v":0}]
[{"$f":"ASIN!A12864","v":0},{"$f":"ASIN!B12864","v":0},{"$f":"ASIN!C12864","v":0},{"$f":"ASIN!D12864","v":0},{"$f":"ASIN!E12864","v":0},{"$f":"ASIN!F12864","v":0}]
[{"$f":"ASIN!A12897","v":0},{"$f":"ASIN!B12897","v":0},{"$f":"ASIN!C12897","v":0},{"$f":"ASIN!D12897","v":0},{"$f":"ASIN!E12897","v":0},{"$f":"ASIN!F12897","v":0}]
[{"$f":"ASIN!A12916","v":0},{"$f":"ASIN!B12916","v":0},{"$f":"ASIN!C12916","v":0},{"$f":"ASIN!D12916","v":0},{"$f":"ASIN!E12916","v":0},{"$f":"ASIN!F12916","v":0}]
[{"$f":"ASIN!A12930","v":0},{"$f":"ASIN!B12930","v":0},{"$f":"ASIN!C12930","v":0},{"$f":"ASIN!D12930","v":0},{"$f":"ASIN!E12930","v":0},{"$f":"ASIN!F12930","v":0}]
[{"$f":"ASIN!A12955","v":0},{"$f":"ASIN!B12955","v":0},{"$f":"ASIN!C12955","v":0},{"$f":"ASIN!D12955","v":0},{"$f":"ASIN!E12955","v":0},{"$f":"ASIN!F12955","v":0}]
[{"$f":"ASIN!A12988","v":0},{"$f":"ASIN!B12988","v":0},{"$f":"ASIN!C12988","v":0},{"$f":"ASIN!D12988","v":0},{"$f":"ASIN!E12988","v":0},{"$f":"ASIN!F12988","v":0}]
[{"$f":"ASIN!A13019","v":0},{"$f":"ASIN!B13019","v":0},{"$f":"ASIN!C13019","v":0},{"$f":"ASIN!D13019","v":0},{"$f":"ASIN!E13019","v":0},{"$f":"ASIN!F13019","v":0}]
[{"$f":"ASIN!A13021","v":0},{"$f":"ASIN!B13021","v":0},{"$f":"ASIN!C13021","v":0},{"$f":"ASIN!D13021","v":0},{"$f":"ASIN!E13021","v":0},{"$f":"ASIN!F13021","v":0}]
[{"$f":"ASIN!A13054","v":0},{"$f":"ASIN!B13054","v":0},{"$f":"ASIN!C13054","v":0},{"$f":"ASIN!D13054","v":0},{"$f":"ASIN!E13054","v":0},{"$f":"ASIN!F13054","v":0}]
[{"$f":"ASIN!A13087","v":0},{"$f":"ASIN!B13087","v":0},{"$f":"ASIN!C13087","v":0},{"$f":"ASIN!D13087","v":0},{"$f":"ASIN!E13087","v":0},{"$f":"ASIN!F13087","v":0}]
[{"$f":"ASIN!A13111","v":0},{"$f":"ASIN!B13111","v":0},{"$f":"ASIN!C13111","v":0},{"$f":"ASIN!D13111","v":0},{"$f":"ASIN!E13111","v":0},{"$f":"ASIN!F13111","v":0}]
[{"$f":"ASIN!A13120","v":0},{"$f":"ASIN!B13120","v":0},{"$f":"ASIN!C13120","v":0},{"$f":"ASIN!D13120","v":0},{"$f":"ASIN!E13120","v":0},{"$f":"ASIN!F13120","v":0}]
[{"$f":"ASIN!A13145","v":0},{"$f":"ASIN!B13145","v":0},{"$f":"ASIN!C13145","v":0},{"$f":"ASIN!D13145","v":0},{"$f":"ASIN!E13145","v":0},{"$f":"ASIN!F13145","v":0}]
[{"$f":"ASIN!A13178","v":0},{"$f":"ASIN!B13178","v":0},{"$f":"ASIN!C13178","v":0},{"$f":"ASIN!D13178","v":0},{"$f":"ASIN!E13178","v":0},{"$f":"ASIN!F13178","v":0}]
[{"$f":"ASIN!A13191","v":0},{"$f":"ASIN!B13191","v":0},{"$f":"ASIN!C13191","v":0},{"$f":"ASIN!D13191","v":0},{"$f":"ASIN!E13191","v":0},{"$f":"ASIN!F13191","v":0}]
[{"$f":"ASIN!A13211","v":0},{"$f":"ASIN!B13211","v":0},{"$f":"ASIN!C13211","v":0},{"$f":"ASIN!D13211","v":0},{"$f":"ASIN!E13211","v":0},{"$f":"ASIN!F13211","v":0}]
[{"$f":"ASIN!A13244","v":0},{"$f":"ASIN!B13244","v":0},{"$f":"ASIN!C13244","v":0},{"$f":"ASIN!D13244","v":0},{"$f":"ASIN!E13244","v":0},{"$f":"ASIN!F13244","v":0}]
[{"$f":"ASIN!A13269","v":0},{"$f":"ASIN!B13269","v":0},{"$f":"ASIN!C13269","v":0},{"$f":"ASIN!D13269","v":0},{"$f":"ASIN!E13269","v":0},{"$f":"ASIN!F13269","v":0}]
[{"$f":"ASIN!A13283","v":0},{"$f":"ASIN!B13283","v":0},{"$f":"ASIN!C13283","v":0},{"$f":"ASIN!D13283","v":0},{"$f":"ASIN!E13283","v":0},{"$f":"ASIN!F13283","v":0}]
[{"$f":"ASIN!A13310","v":0},{"$f":"ASIN!B13310","v":0},{"$f":"ASIN!C13310","v":0},{"$f":"ASIN!D13310","v":0},{"$f":"ASIN!E13310","v":0},{"$f":"ASIN!F13310","v":0}]
[{"$f":"ASIN!A13335","v":0},{"$f":"ASIN!B13335","v":0},{"$f":"ASIN!C13335","v":0},{"$f":"ASIN!D13335","v":0},{"$f":"ASIN!E13335","v":0},{"$f":"ASIN!F13335","v":0}]
[{"$f":"ASIN!A13368","v":0},{"$f":"ASIN!B13368","v":0},{"$f":"ASIN!C13368","v":0},{"$f":"ASIN!D13368","v":0},{"$f":"ASIN!E13368","v":0},{"$f":"ASIN!F13368","v":0}]
[{"$f":"ASIN!A13386","v":0},{"$f":"ASIN!B13386","v":0},{"$f":"ASIN!C13386","v":0},{"$f":"ASIN!D13386","v":0},{"$f":"ASIN!E13386","v":0},{"$f":"ASIN!F13386","v":0}]
[{"$f":"ASIN!A13401","v":0},{"$f":"ASIN!B13401","v":0},{"$f":"ASIN!C13401","v":0},{"$f":"ASIN!D13401","v":0},{"$f":"ASIN!E13401","v":0},{"$f":"ASIN!F13401","v":0}]
[{"$f":"ASIN!A13434","v":0},{"$f":"ASIN!B13434","v":0},{"$f":"ASIN!C13434","v":0},{"$f":"ASIN!D13434","v":0},{"$f":"ASIN!E13434","v":0},{"$f":"ASIN!F13434","v":0}]
[{"$f":"ASIN!A13459","v":0},{"$f":"ASIN!B13459","v":0},{"$f":"ASIN!C13459","v":0},{"$f":"ASIN!D13459","v":0},{"$f":"ASIN!E13459","v":0},{"$f":"ASIN!F13459","v":0}]
[{"$f":"ASIN!A13478","v":0},{"$f":"ASIN!B13478","v":0},{"$f":"ASIN!C13478","v":0},{"$f":"ASIN!D13478","v":0},{"$f":"ASIN!E13478","v":0},{"$f":"ASIN!F13478","v":0}]
[{"$f":"ASIN!A13500","v":0},{"$f":"ASIN!B13500","v":0},{"$f":"ASIN!C13500","v":0},{"$f":"ASIN!D13500","v":0},{"$f":"ASIN!E13500","v":0},{"$f":"ASIN!F13500","v":0}]
[{"$f":"ASIN!A13525","v":0},{"$f":"ASIN!B13525","v":0},{"$f":"ASIN!C13525","v":0},{"$f":"ASIN!D13525","v":0},{"$f":"ASIN!E13525","v":0},{"$f":"ASIN!F13525","v":0}]
[{"$f":"ASIN!A13558","v":0},{"$f":"ASIN!B13558","v":0},{"$f":"ASIN!C13558","v":0},{"$f":"ASIN!D13558","v":0},{"$f":"ASIN!E13558","v":0},{"$f":"ASIN!F13558","v":0}]
[{"$f":"ASIN!A13570","v":0},{"$f":"ASIN!B13570","v":0},{"$f":"ASIN!C13570","v":0},{"$f":"ASIN!D13570","v":0},{"$f":"ASIN!E13570","v":0},{"$f":"ASIN!F13570","v":0}]
[{"$f":"ASIN!A13591","v":0},{"$f":"ASIN!B13591","v":0},{"$f":"ASIN!C13591","v":0},{"$f":"ASIN!D13591","v":0},{"$f":"ASIN!E13591","v":0},{"$f":"ASIN!F13591","v":0}]
[{"$f":"ASIN!A13624","v":0},{"$f":"ASIN!B13624","v":0},{"$f":"ASIN!C13624","v":0},{"$f":"ASIN!D13624","v":0},{"$f":"ASIN!E13624","v":0},{"$f":"ASIN!F13624","v":0}]
[{"$f":"ASIN!A13649","v":0},{"$f":"ASIN!B13649","v":0},{"$f":"ASIN!C13649","v":0},{"$f":"ASIN!D13649","v":0},{"$f":"ASIN!E13649","v":0},{"$f":"ASIN!F13649","v":0}]
[{"$f":"ASIN!A13673","v":0},{"$f":"ASIN!B13673","v":0},{"$f":"ASIN!C13673","v":0},{"$f":"ASIN!D13673","v":0},{"$f":"ASIN!E13673","v":0},{"$f":"ASIN!F13673","v":0}]
[{"$f":"ASIN!A13690","v":0},{"$f":"ASIN!B13690","v":0},{"$f":"ASIN!C13690","v":0},{"$f":"ASIN!D13690","v":0},{"$f":"ASIN!E13690","v":0},{"$f":"ASIN!F13690","v":0}]
[{"$f":"ASIN!A13715","v":0},{"$f":"ASIN!B13715","v":0},{"$f":"ASIN!C13715","v":0},{"$f":"ASIN!D13715","v":0},{"$f":"ASIN!E13715","v":0},{"$f":"ASIN!F13715","v":0}]
[{"$f":"ASIN!A13748","v":0},{"$f":"ASIN!B13748","v":0},{"$f":"ASIN!C13748","v":0},{"$f":"ASIN!D13748","v":0},{"$f":"ASIN!E13748","v":0},{"$f":"ASIN!F13748","v":0}]
[{"$f":"ASIN!A13765","v":0},{"$f":"ASIN!B13765","v":0},{"$f":"ASIN!C13765","v":0},{"$f":"ASIN!D13765","v":0},{"$f":"ASIN!E13765","v":0},{"$f":"ASIN!F13765","v":0}]
[{"$f":"ASIN!A13781","v":0},{"$f":"ASIN!B13781","v":0},{"$f":"ASIN!C13781","v":0},{"$f":"ASIN!D13781","v":0},{"$f":"ASIN!E13781","v":0},{"$f":"ASIN!F13781","v":0}]
[{"$f":"ASIN!A13814","v":0},{"$f":"ASIN!B13814","v":0},{"$f":"ASIN!C13814","v":0},{"$f":"ASIN!D13814","v":0},{"$f":"ASIN!E13814","v":0},{"$f":"ASIN!F13814","v":0}]
[{"$f":"ASIN!A13839","v":0},{"$f":"ASIN!B13839","v":0},{"$f":"ASIN!C13839","v":0},{"$f":"ASIN!D13839","v":0},{"$f":"ASIN!E13839","v":0},{"$f":"ASIN!F13839","v":0}]
[{"$f":"ASIN!A13868","v":0},{"$f":"ASIN!B13868","v":0},{"$f":"ASIN!C13868","v":0},{"$f":"ASIN!D13868","v":0},{"$f":"ASIN!E13868","v":0},{"$f":"ASIN!F13868","v":0}]
[{"$f":"ASIN!A13880","v":0},{"$f":"ASIN!B13880","v":0},{"$f":"ASIN!C13880","v":0},{"$f":"ASIN!D13880","v":0},{"$f":"ASIN!E13880","v":0},{"$f":"ASIN!F13880","v":0}]
[{"$f":"ASIN!A13905","v":0},{"$f":"ASIN!B13905","v":0},{"$f":"ASIN!C13905","v":0},{"$f":"ASIN!D13905","v":0},{"$f":"ASIN!E13905","v":0},{"$f":"ASIN!F13905","v":0}]
[{"$f":"ASIN!A13925","v":0},{"$f":"ASIN!B13925","v":0},{"$f":"ASIN!C13925","v":0},{"$f":"ASIN!D13925","v":0},{"$f":"ASIN!E13925","v":0},{"$f":"ASIN!F13925","v":0}]
[{"$f":"ASIN!A13962","v":0},{"$f":"ASIN!B13962","v":0},{"$f":"ASIN!C13962","v":0},{"$f":"ASIN!D13962","v":0},{"$f":"ASIN!E13962","v":0},{"$f":"ASIN!F13962","v":0}]
[{"$f":"ASIN!A13971","v":0},{"$f":"ASIN!B13971","v":0},{"$f":"ASIN!C13971","v":0},{"$f":"ASIN!D13971","v":0},{"$f":"ASIN!E13971","v":0},{"$f":"ASIN!F13971","v":0}]
[{"$f":"ASIN!A14004","v":0},{"$f":"ASIN!B14004","v":0},{"$f":"ASIN!C14004","v":0},{"$f":"ASIN!D14004","v":0},{"$f":"ASIN!E14004","v":0},{"$f":"ASIN!F14004","v":0}]
[{"$f":"ASIN!A14040","v":0},{"$f":"ASIN!B14040","v":0},{"$f":"ASIN!C14040","v":0},{"$f":"ASIN!D14040","v":0},{"$f":"ASIN!E14040","v":0},{"$f":"ASIN!F14040","v":0}]
[{"$f":"ASIN!A14061","v":0},{"$f":"ASIN!B14061","v":0},{"$f":"ASIN!C14061","v":0},{"$f":"ASIN!D14061","v":0},{"$f":"ASIN!E14061","v":0},{"$f":"ASIN!F14061","v":0}]
[{"$f":"ASIN!A14086","v":0},{"$f":"ASIN!B14086","v":0},{"$f":"ASIN!C14086","v":0},{"$f":"ASIN!D14086","v":0},{"$f":"ASIN!E14086","v":0},{"$f":"ASIN!F14086","v":0}]
[{"$f":"ASIN!A14095","v":0},{"$f":"ASIN!B14095","v":0},{"$f":"ASIN!C14095","v":0},{"$f":"ASIN!D14095","v":0},{"$f":"ASIN!E14095","v":0},{"$f":"ASIN!F14095","v":0}]
[{"$f":"ASIN!A14120","v":0},{"$f":"ASIN!B14120","v":0},{"$f":"ASIN!C14120","v":0},{"$f":"ASIN!D14120","v":0},{"$f":"ASIN!E14120","v":0},{"$f":"ASIN!F14120","v":0}]
[{"$f":"ASIN!A14152","v":0},{"$f":"ASIN!B14152","v":0},{"$f":"ASIN!C14152","v":0},{"$f":"ASIN!D14152","v":0},{"$f":"ASIN!E14152","v":0},{"$f":"ASIN!F14152","v":0}]
[{"$f":"ASIN!A14161","v":0},{"$f":"ASIN!B14161","v":0},{"$f":"ASIN!C14161","v":0},{"$f":"ASIN!D14161","v":0},{"$f":"ASIN!E14161","v":0},{"$f":"ASIN!F14161","v":0}]
[{"$f":"ASIN!A14194","v":0},{"$f":"ASIN!B14194","v":0},{"$f":"ASIN!C14194","v":0},{"$f":"ASIN!D14194","v":0},{"$f":"ASIN!E14194","v":0},{"$f":"ASIN!F14194","v":0}]
[{"$f":"ASIN!A14212","v":0},{"$f":"ASIN!B14212","v":0},{"$f":"ASIN!C14212","v":0},{"$f":"ASIN!D14212","v":0},{"$f":"ASIN!E14212","v":0},{"$f":"ASIN!F14212","v":0}]
[{"$f":"ASIN!A14251","v":0},{"$f":"ASIN!B14251","v":0},{"$f":"ASIN!C14251","v":0},{"$f":"ASIN!D14251","v":0},{"$f":"ASIN!E14251","v":0},{"$f":"ASIN!F14251","v":0}]
[{"$f":"ASIN!A14276","v":0},{"$f":"ASIN!B14276","v":0},{"$f":"ASIN!C14276","v":0},{"$f":"ASIN!D14276","v":0},{"$f":"ASIN!E14276","v":0},{"$f":"ASIN!F14276","v":0}]
[{"$f":"ASIN!A14285","v":0},{"$f":"ASIN!B14285","v":0},{"$f":"ASIN!C14285","v":0},{"$f":"ASIN!D14285","v":0},{"$f":"ASIN!E14285","v":0},{"$f":"ASIN!F14285","v":0}]
[{"$f":"ASIN!A14315","v":0},{"$f":"ASIN!B14315","v":0},{"$f":"ASIN!C14315","v":0},{"$f":"ASIN!D14315","v":0},{"$f":"ASIN!E14315","v":0},{"$f":"ASIN!F14315","v":0}]
[{"$f":"ASIN!A14342","v":0},{"$f":"ASIN!B14342","v":0},{"$f":"ASIN!C14342","v":0},{"$f":"ASIN!D14342","v":0},{"$f":"ASIN!E14342","v":0},{"$f":"ASIN!F14342","v":0}]
[{"$f":"ASIN!A14351","v":0},{"$f":"ASIN!B14351","v":0},{"$f":"ASIN!C14351","v":0},{"$f":"ASIN!D14351","v":0},{"$f":"ASIN!E14351","v":0},{"$f":"ASIN!F14351","v":0}]
[{"$f":"ASIN!A14376","v":0},{"$f":"ASIN!B14376","v":0},{"$f":"ASIN!C14376","v":0},{"$f":"ASIN!D14376","v":0},{"$f":"ASIN!E14376","v":0},{"$f":"ASIN!F14376","v":0}]
[{"$f":"ASIN!A14407","v":0},{"$f":"ASIN!B14407","v":0},{"$f":"ASIN!C14407","v":0},{"$f":"ASIN!D14407","v":0},{"$f":"ASIN!E14407","v":0},{"$f":"ASIN!F14407","v":0}]
[{"$f":"ASIN!A14441","v":0},{"$f":"ASIN!B14441","v":0},{"$f":"ASIN!C14441","v":0},{"$f":"ASIN!D14441","v":0},{"$f":"ASIN!E14441","v":0},{"$f":"ASIN!F14441","v":0}]
[{"$f":"ASIN!A14466","v":0},{"$f":"ASIN!B14466","v":0},{"$f":"ASIN!C14466","v":0},{"$f":"ASIN!D14466","v":0},{"$f":"ASIN!E14466","v":0},{"$f":"ASIN!F14466","v":0}]
[{"$f":"ASIN!A14475","v":0},{"$f":"ASIN!B14475","v":0},{"$f":"ASIN!C14475","v":0},{"$f":"ASIN!D14475","v":0},{"$f":"ASIN!E14475","v":0},{"$f":"ASIN!F14475","v":0}]
[{"$f":"ASIN!A14510","v":0},{"$f":"ASIN!B14510","v":0},{"$f":"ASIN!C14510","v":0},{"$f":"ASIN!D14510","v":0},{"$f":"ASIN!E14510","v":0},{"$f":"ASIN!F14510","v":0}]
[{"$f":"ASIN!A14532","v":0},{"$f":"ASIN!B14532","v":0},{"$f":"ASIN!C14532","v":0},{"$f":"ASIN!D14532","v":0},{"$f":"ASIN!E14532","v":0},{"$f":"ASIN!F14532","v":0}]
[{"$f":"ASIN!A14541","v":0},{"$f":"ASIN!B14541","v":0},{"$f":"ASIN!C14541","v":0},{"$f":"ASIN!D14541","v":0},{"$f":"ASIN!E14541","v":0},{"$f":"ASIN!F14541","v":0}]
[{"$f":"ASIN!A14566","v":0},{"$f":"ASIN!B14566","v":0},{"$f":"ASIN!C14566","v":0},{"$f":"ASIN!D14566","v":0},{"$f":"ASIN!E14566","v":0},{"$f":"ASIN!F14566","v":0}]
[{"$f":"ASIN!A14602","v":0},{"$f":"ASIN!B14602","v":0},{"$f":"ASIN!C14602","v":0},{"$f":"ASIN!D14602","v":0},{"$f":"ASIN!E14602","v":0},{"$f":"ASIN!F14602","v":0}]
[{"$f":"ASIN!A14631","v":0},{"$f":"ASIN!B14631","v":0},{"$f":"ASIN!C14631","v":0},{"$f":"ASIN!D14631","v":0},{"$f":"ASIN!E14631","v":0},{"$f":"ASIN!F14631","v":0}]
[{"$f":"ASIN!A14656","v":0},{"$f":"ASIN!B14656","v":0},{"$f":"ASIN!C14656","v":0},{"$f":"ASIN!D14656","v":0},{"$f":"ASIN!E14656","v":0},{"$f":"ASIN!F14656","v":0}]
[{"$f":"ASIN!A14665","v":0},{"$f":"ASIN!B14665","v":0},{"$f":"ASIN!C14665","v":0},{"$f":"ASIN!D14665","v":0},{"$f":"ASIN!E14665","v":0},{"$f":"ASIN!F14665","v":0}]
[{"$f":"ASIN!A14705","v":0},{"$f":"ASIN!B14705","v":0},{"$f":"ASIN!C14705","v":0},{"$f":"ASIN!D14705","v":0},{"$f":"ASIN!E14705","v":0},{"$f":"ASIN!F14705","v":0}]
[{"$f":"ASIN!A14722","v":0},{"$f":"ASIN!B14722","v":0},{"$f":"ASIN!C14722","v":0},{"$f":"ASIN!D14722","v":0},{"$f":"ASIN!E14722","v":0},{"$f":"ASIN!F14722","v":0}]
[{"$f":"ASIN!A14731","v":0},{"$f":"ASIN!B14731","v":0},{"$f":"ASIN!C14731","v":0},{"$f":"ASIN!D14731","v":0},{"$f":"ASIN!E14731","v":0},{"$f":"ASIN!F14731","v":0}]
[{"$f":"ASIN!A14756","v":0},{"$f":"ASIN!B14756","v":0},{"$f":"ASIN!C14756","v":0},{"$f":"ASIN!D14756","v":0},{"$f":"ASIN!E14756","v":0},{"$f":"ASIN!F14756","v":0}]
[{"$f":"ASIN!A14797","v":0},{"$f":"ASIN!B14797","v":0},{"$f":"ASIN!C14797","v":0},{"$f":"ASIN!D14797","v":0},{"$f":"ASIN!E14797","v":0},{"$f":"ASIN!F14797","v":0}]
[{"$f":"ASIN!A14821","v":0},{"$f":"ASIN!B14821","v":0},{"$f":"ASIN!C14821","v":0},{"$f":"ASIN!D14821","v":0},{"$f":"ASIN!E14821","v":0},{"$f":"ASIN!F14821","v":0}]
[{"$f":"ASIN!A14846","v":0},{"$f":"ASIN!B14846","v":0},{"$f":"ASIN!C14846","v":0},{"$f":"ASIN!D14846","v":0},{"$f":"ASIN!E14846","v":0},{"$f":"ASIN!F14846","v":0}]
[{"$f":"ASIN!A14855","v":0},{"$f":"ASIN!B14855","v":0},{"$f":"ASIN!C14855","v":0},{"$f":"ASIN!D14855","v":0},{"$f":"ASIN!E14855","v":0},{"$f":"ASIN!F14855","v":0}]
[{"$f":"ASIN!A14889","v":0},{"$f":"ASIN!B14889","v":0},{"$f":"ASIN!C14889","v":0},{"$f":"ASIN!D14889","v":0},{"$f":"ASIN!E14889","v":0},{"$f":"ASIN!F14889","v":0}]
[{"$f":"ASIN!A14912","v":0},{"$f":"ASIN!B14912","v":0},{"$f":"ASIN!C14912","v":0},{"$f":"ASIN!D14912","v":0},{"$f":"ASIN!E14912","v":0},{"$f":"ASIN!F14912","v":0}]
[{"$f":"ASIN!A14921","v":0},{"$f":"ASIN!B14921","v":0},{"$f":"ASIN!C14921","v":0},{"$f":"ASIN!D14921","v":0},{"$f":"ASIN!E14921","v":0},{"$f":"ASIN!F14921","v":0}]
[{"$f":"ASIN!A14946","v":0},{"$f":"ASIN!B14946","v":0},{"$f":"ASIN!C14946","v":0},{"$f":"ASIN!D14946","v":0},{"$f":"ASIN!E14946","v":0},{"$f":"ASIN!F14946","v":0}]
[{"$f":"ASIN!A14969","v":0},{"$f":"ASIN!B14969","v":0},{"$f":"ASIN!C14969","v":0},{"$f":"ASIN!D14969","v":0},{"$f":"ASIN!E14969","v":0},{"$f":"ASIN!F14969","v":0}]
[{"$f":"ASIN!A15011","v":0},{"$f":"ASIN!B15011","v":0},{"$f":"ASIN!C15011","v":0},{"$f":"ASIN!D15011","v":0},{"$f":"ASIN!E15011","v":0},{"$f":"ASIN!F15011","v":0}]
[{"$f":"ASIN!A15036","v":0},{"$f":"ASIN!B15036","v":0},{"$f":"ASIN!C15036","v":0},{"$f":"ASIN!D15036","v":0},{"$f":"ASIN!E15036","v":0},{"$f":"ASIN!F15036","v":0}]
[{"$f":"ASIN!A15045","v":0},{"$f":"ASIN!B15045","v":0},{"$f":"ASIN!C15045","v":0},{"$f":"ASIN!D15045","v":0},{"$f":"ASIN!E15045","v":0},{"$f":"ASIN!F15045","v":0}]
[{"$f":"ASIN!A15084","v":0},{"$f":"ASIN!B15084","v":0},{"$f":"ASIN!C15084","v":0},{"$f":"ASIN!D15084","v":0},{"$f":"ASIN!E15084","v":0},{"$f":"ASIN!F15084","v":0}]
[{"$f":"ASIN!A15102","v":0},{"$f":"ASIN!B15102","v":0},{"$f":"ASIN!C15102","v":0},{"$f":"ASIN!D15102","v":0},{"$f":"ASIN!E15102","v":0},{"$f":"ASIN!F15102","v":0}]
[{"$f":"ASIN!A15111","v":0},{"$f":"ASIN!B15111","v":0},{"$f":"ASIN!C15111","v":0},{"$f":"ASIN!D15111","v":0},{"$f":"ASIN!E15111","v":0},{"$f":"ASIN!F15111","v":0}]
[{"$f":"ASIN!A15136","v":0},{"$f":"ASIN!B15136","v":0},{"$f":"ASIN!C15136","v":0},{"$f":"ASIN!D15136","v":0},{"$f":"ASIN!E15136","v":0},{"$f":"ASIN!F15136","v":0}]
[{"$f":"ASIN!A15164","v":0},{"$f":"ASIN!B15164","v":0},{"$f":"ASIN!C15164","v":0},{"$f":"ASIN!D15164","v":0},{"$f":"ASIN!E15164","v":0},{"$f":"ASIN!F15164","v":0}]
[{"$f":"ASIN!A15201","v":0},{"$f":"ASIN!B15201","v":0},{"$f":"ASIN!C15201","v":0},{"$f":"ASIN!D15201","v":0},{"$f":"ASIN!E15201","v":0},{"$f":"ASIN!F15201","v":0}]
[{"$f":"ASIN!A15226","v":0},{"$f":"ASIN!B15226","v":0},{"$f":"ASIN!C15226","v":0},{"$f":"ASIN!D15226","v":0},{"$f":"ASIN!E15226","v":0},{"$f":"ASIN!F15226","v":0}]
[{"$f":"ASIN!A15235","v":0},{"$f":"ASIN!B15235","v":0},{"$f":"ASIN!C15235","v":0},{"$f":"ASIN!D15235","v":0},{"$f":"ASIN!E15235","v":0},{"$f":"ASIN!F15235","v":0}]
[{"$f":"ASIN!A15256","v":0},{"$f":"ASIN!B15256","v":0},{"$f":"ASIN!C15256","v":0},{"$f":"ASIN!D15256","v":0},{"$f":"ASIN!E15256","v":0},{"$f":"ASIN!F15256","v":0}]
[{"$f":"ASIN!A15292","v":0},{"$f":"ASIN!B15292","v":0},{"$f":"ASIN!C15292","v":0},{"$f":"ASIN!D15292","v":0},{"$f":"ASIN!E15292","v":0},{"$f":"ASIN!F15292","v":0}]
[{"$f":"ASIN!A15301","v":0},{"$f":"ASIN!B15301","v":0},{"$f":"ASIN!C15301","v":0},{"$f":"ASIN!D15301","v":0},{"$f":"ASIN!E15301","v":0},{"$f":"ASIN!F15301","v":0}]
[{"$f":"ASIN!A15326","v":0},{"$f":"ASIN!B15326","v":0},{"$f":"ASIN!C15326","v":0},{"$f":"ASIN!D15326","v":0},{"$f":"ASIN!E15326","v":0},{"$f":"ASIN!F15326","v":0}]
[{"$f":"ASIN!A15359","v":0},{"$f":"ASIN!B15359","v":0},{"$f":"ASIN!C15359","v":0},{"$f":"ASIN!D15359","v":0},{"$f":"ASIN!E15359","v":0},{"$f":"ASIN!F15359","v":0}]
[{"$f":"ASIN!A15383","v":0},{"$f":"ASIN!B15383","v":0},{"$f":"ASIN!C15383","v":0},{"$f":"ASIN!D15383","v":0},{"$f":"ASIN!E15383","v":0},{"$f":"ASIN!F15383","v":0}]
[{"$f":"ASIN!A15416","v":0},{"$f":"ASIN!B15416","v":0},{"$f":"ASIN!C15416","v":0},{"$f":"ASIN!D15416","v":0},{"$f":"ASIN!E15416","v":0},{"$f":"ASIN!F15416","v":0}]
[{"$f":"ASIN!A15425","v":0},{"$f":"ASIN!B15425","v":0},{"$f":"ASIN!C15425","v":0},{"$f":"ASIN!D15425","v":0},{"$f":"ASIN!E15425","v":0},{"$f":"ASIN!F15425","v":0}]
[{"$f":"ASIN!A15451","v":0},{"$f":"ASIN!B15451","v":0},{"$f":"ASIN!C15451","v":0},{"$f":"ASIN!D15451","v":0},{"$f":"ASIN!E15451","v":0},{"$f":"ASIN!F15451","v":0}]
[{"$f":"ASIN!A15482","v":0},{"$f":"ASIN!B15482","v":0},{"$f":"ASIN!C15482","v":0},{"$f":"ASIN!D15482","v":0},{"$f":"ASIN!E15482","v":0},{"$f":"ASIN!F15482","v":0}]
[{"$f":"ASIN!A15491","v":0},{"$f":"ASIN!B15491","v":0},{"$f":"ASIN!C15491","v":0},{"$f":"ASIN!D15491","v":0},{"$f":"ASIN!E15491","v":0},{"$f":"ASIN!F15491","v":0}]
[{"$f":"ASIN!A15516","v":0},{"$f":"ASIN!B15516","v":0},{"$f":"ASIN!C15516","v":0},{"$f":"ASIN!D15516","v":0},{"$f":"ASIN!E15516","v":0},{"$f":"ASIN!F15516","v":0}]
[{"$f":"ASIN!A15554","v":0},{"$f":"ASIN!B15554","v":0},{"$f":"ASIN!C15554","v":0},{"$f":"ASIN!D15554","v":0},{"$f":"ASIN!E15554","v":0},{"$f":"ASIN!F15554","v":0}]
[{"$f":"ASIN!A15573","v":0},{"$f":"ASIN!B15573","v":0},{"$f":"ASIN!C15573","v":0},{"$f":"ASIN!D15573","v":0},{"$f":"ASIN!E15573","v":0},{"$f":"ASIN!F15573","v":0}]
[{"$f":"ASIN!A15606","v":0},{"$f":"ASIN!B15606","v":0},{"$f":"ASIN!C15606","v":0},{"$f":"ASIN!D15606","v":0},{"$f":"ASIN!E15606","v":0},{"$f":"ASIN!F15606","v":0}]
[{"$f":"ASIN!A15615","v":0},{"$f":"ASIN!B15615","v":0},{"$f":"ASIN!C15615","v":0},{"$f":"ASIN!D15615","v":0},{"$f":"ASIN!E15615","v":0},{"$f":"ASIN!F15615","v":0}]
[{"$f":"ASIN!A15646","v":0},{"$f":"ASIN!B15646","v":0},{"$f":"ASIN!C15646","v":0},{"$f":"ASIN!D15646","v":0},{"$f":"ASIN!E15646","v":0},{"$f":"ASIN!F15646","v":0}]
[{"$f":"ASIN!A15672","v":0},{"$f":"ASIN!B15672","v":0},{"$f":"ASIN!C15672","v":0},{"$f":"ASIN!D15672","v":0},{"$f":"ASIN!E15672","v":0},{"$f":"ASIN!F15672","v":0}]
[{"$f":"ASIN!A15697","v":0},{"$f":"ASIN!B15697","v":0},{"$f":"ASIN!C15697","v":0},{"$f":"ASIN!D15697","v":0},{"$f":"ASIN!E15697","v":0},{"$f":"ASIN!F15697","v":0}]
[{"$f":"ASIN!A15706","v":0},{"$f":"ASIN!B15706","v":0},{"$f":"ASIN!C15706","v":0},{"$f":"ASIN!D15706","v":0},{"$f":"ASIN!E15706","v":0},{"$f":"ASIN!F15706","v":0}]
[{"$f":"ASIN!A15749","v":0},{"$f":"ASIN!B15749","v":0},{"$f":"ASIN!C15749","v":0},{"$f":"ASIN!D15749","v":0},{"$f":"ASIN!E15749","v":0},{"$f":"ASIN!F15749","v":0}]
[{"$f":"ASIN!A15763","v":0},{"$f":"ASIN!B15763","v":0},{"$f":"ASIN!C15763","v":0},{"$f":"ASIN!D15763","v":0},{"$f":"ASIN!E15763","v":0},{"$f":"ASIN!F15763","v":0}]
[{"$f":"ASIN!A15796","v":0},{"$f":"ASIN!B15796","v":0},{"$f":"ASIN!C15796","v":0},{"$f":"ASIN!D15796","v":0},{"$f":"ASIN!E15796","v":0},{"$f":"ASIN!F15796","v":0}]
[{"$f":"ASIN!A15805","v":0},{"$f":"ASIN!B15805","v":0},{"$f":"ASIN!C15805","v":0},{"$f":"ASIN!D15805","v":0},{"$f":"ASIN!E15805","v":0},{"$f":"ASIN!F15805","v":0}]
[{"$f":"ASIN!A15841","v":0},{"$f":"ASIN!B15841","v":0},{"$f":"ASIN!C15841","v":0},{"$f":"ASIN!D15841","v":0},{"$f":"ASIN!E15841","v":0},{"$f":"ASIN!F15841","v":0}]
[{"$f":"ASIN!A15862","v":0},{"$f":"ASIN!B15862","v":0},{"$f":"ASIN!C15862","v":0},{"$f":"ASIN!D15862","v":0},{"$f":"ASIN!E15862","v":0},{"$f":"ASIN!F15862","v":0}]
[{"$f":"ASIN!A15887","v":0},{"$f":"ASIN!B15887","v":0},{"$f":"ASIN!C15887","v":0},{"$f":"ASIN!D15887","v":0},{"$f":"ASIN!E15887","v":0},{"$f":"ASIN!F15887","v":0}]
[{"$f":"ASIN!A15896","v":0},{"$f":"ASIN!B15896","v":0},{"$f":"ASIN!C15896","v":0},{"$f":"ASIN!D15896","v":0},{"$f":"ASIN!E15896","v":0},{"$f":"ASIN!F15896","v":0}]
[{"$f":"ASIN!A15921","v":0},{"$f":"ASIN!B15921","v":0},{"$f":"ASIN!C15921","v":0},{"$f":"ASIN!D15921","v":0},{"$f":"ASIN!E15921","v":0},{"$f":"ASIN!F15921","v":0}]
[{"$f":"ASIN!A15953","v":0},{"$f":"ASIN!B15953","v":0},{"$f":"ASIN!C15953","v":0},{"$f":"ASIN!D15953","v":0},{"$f":"ASIN!E15953","v":0},{"$f":"ASIN!F15953","v":0}]
[{"$f":"ASIN!A15986","v":0},{"$f":"ASIN!B15986","v":0},{"$f":"ASIN!C15986","v":0},{"$f":"ASIN!D15986","v":0},{"$f":"ASIN!E15986","v":0},{"$f":"ASIN!F15986","v":0}]
[{"$f":"ASIN!A15995","v":0},{"$f":"ASIN!B15995","v":0},{"$f":"ASIN!C15995","v":0},{"$f":"ASIN!D15995","v":0},{"$f":"ASIN!E15995","v":0},{"$f":"ASIN!F15995","v":0}]
[{"$f":"ASIN!A16013","v":0},{"$f":"ASIN!B16013","v":0},{"$f":"ASIN!C16013","v":0},{"$f":"ASIN!D16013","v":0},{"$f":"ASIN!E16013","v":0},{"$f":"ASIN!F16013","v":0}]
[{"$f":"ASIN!A16052","v":0},{"$f":"ASIN!B16052","v":0},{"$f":"ASIN!C16052","v":0},{"$f":"ASIN!D16052","v":0},{"$f":"ASIN!E16052","v":0},{"$f":"ASIN!F16052","v":0}]
[{"$f":"ASIN!A16077","v":0},{"$f":"ASIN!B16077","v":0},{"$f":"ASIN!C16077","v":0},{"$f":"ASIN!D16077","v":0},{"$f":"ASIN!E16077","v":0},{"$f":"ASIN!F16077","v":0}]
[{"$f":"ASIN!A16086","v":0},{"$f":"ASIN!B16086","v":0},{"$f":"ASIN!C16086","v":0},{"$f":"ASIN!D16086","v":0},{"$f":"ASIN!E16086","v":0},{"$f":"ASIN!F16086","v":0}]
[{"$f":"ASIN!A16116","v":0},{"$f":"ASIN!B16116","v":0},{"$f":"ASIN!C16116","v":0},{"$f":"ASIN!D16116","v":0},{"$f":"ASIN!E16116","v":0},{"$f":"ASIN!F16116","v":0}]
[{"$f":"ASIN!A16143","v":0},{"$f":"ASIN!B16143","v":0},{"$f":"ASIN!C16143","v":0},{"$f":"ASIN!D16143","v":0},{"$f":"ASIN!E16143","v":0},{"$f":"ASIN!F16143","v":0}]
[{"$f":"ASIN!A16176","v":0},{"$f":"ASIN!B16176","v":0},{"$f":"ASIN!C16176","v":0},{"$f":"ASIN!D16176","v":0},{"$f":"ASIN!E16176","v":0},{"$f":"ASIN!F16176","v":0}]
[{"$f":"ASIN!A16201","v":0},{"$f":"ASIN!B16201","v":0},{"$f":"ASIN!C16201","v":0},{"$f":"ASIN!D16201","v":0},{"$f":"ASIN!E16201","v":0},{"$f":"ASIN!F16201","v":0}]
[{"$f":"ASIN!A16208","v":0},{"$f":"ASIN!B16208","v":0},{"$f":"ASIN!C16208","v":0},{"$f":"ASIN!D16208","v":0},{"$f":"ASIN!E16208","v":0},{"$f":"ASIN!F16208","v":0}]
[{"$f":"ASIN!A16242","v":0},{"$f":"ASIN!B16242","v":0},{"$f":"ASIN!C16242","v":0},{"$f":"ASIN!D16242","v":0},{"$f":"ASIN!E16242","v":0},{"$f":"ASIN!F16242","v":0}]
[{"$f":"ASIN!A16267","v":0},{"$f":"ASIN!B16267","v":0},{"$f":"ASIN!C16267","v":0},{"$f":"ASIN!D16267","v":0},{"$f":"ASIN!E16267","v":0},{"$f":"ASIN!F16267","v":0}]
[{"$f":"ASIN!A16276","v":0},{"$f":"ASIN!B16276","v":0},{"$f":"ASIN!C16276","v":0},{"$f":"ASIN!D16276","v":0},{"$f":"ASIN!E16276","v":0},{"$f":"ASIN!F16276","v":0}]
[{"$f":"ASIN!A16311","v":0},{"$f":"ASIN!B16311","v":0},{"$f":"ASIN!C16311","v":0},{"$f":"ASIN!D16311","v":0},{"$f":"ASIN!E16311","v":0},{"$f":"ASIN!F16311","v":0}]
[{"$f":"ASIN!A16333","v":0},{"$f":"ASIN!B16333","v":0},{"$f":"ASIN!C16333","v":0},{"$f":"ASIN!D16333","v":0},{"$f":"ASIN!E16333","v":0},{"$f":"ASIN!F16333","v":0}]
[{"$f":"ASIN!A16366","v":0},{"$f":"ASIN!B16366","v":0},{"$f":"ASIN!C16366","v":0},{"$f":"ASIN!D16366","v":0},{"$f":"ASIN!E16366","v":0},{"$f":"ASIN!F16366","v":0}]
[{"$f":"ASIN!A16391","v":0},{"$f":"ASIN!B16391","v":0},{"$f":"ASIN!C16391","v":0},{"$f":"ASIN!D16391","v":0},{"$f":"ASIN!E16391","v":0},{"$f":"ASIN!F16391","v":0}]
[{"$f":"ASIN!A16403","v":0},{"$f":"ASIN!B16403","v":0},{"$f":"ASIN!C16403","v":0},{"$f":"ASIN!D16403","v":0},{"$f":"ASIN!E16403","v":0},{"$f":"ASIN!F16403","v":0}]
[{"$f":"ASIN!A16432","v":0},{"$f":"ASIN!B16432","v":0},{"$f":"ASIN!C16432","v":0},{"$f":"ASIN!D16432","v":0},{"$f":"ASIN!E16432","v":0},{"$f":"ASIN!F16432","v":0}]
[{"$f":"ASIN!A16457","v":0},{"$f":"ASIN!B16457","v":0},{"$f":"ASIN!C16457","v":0},{"$f":"ASIN!D16457","v":0},{"$f":"ASIN!E16457","v":0},{"$f":"ASIN!F16457","v":0}]
[{"$f":"ASIN!A16466","v":0},{"$f":"ASIN!B16466","v":0},{"$f":"ASIN!C16466","v":0},{"$f":"ASIN!D16466","v":0},{"$f":"ASIN!E16466","v":0},{"$f":"ASIN!F16466","v":0}]
[{"$f":"ASIN!A16506","v":0},{"$f":"ASIN!B16506","v":0},{"$f":"ASIN!C16506","v":0},{"$f":"ASIN!D16506","v":0},{"$f":"ASIN!E16506","v":0},{"$f":"ASIN!F16506","v":0}]
[{"$f":"ASIN!A16523","v":0},{"$f":"ASIN!B16523","v":0},{"$f":"ASIN!C16523","v":0},{"$f":"ASIN!D16523","v":0},{"$f":"ASIN!E16523","v":0},{"$f":"ASIN!F16523","v":0}]
[{"$f":"ASIN!A16556","v":0},{"$f":"ASIN!B16556","v":0},{"$f":"ASIN!C16556","v":0},{"$f":"ASIN!D16556","v":0},{"$f":"ASIN!E16556","v":0},{"$f":"ASIN!F16556","v":0}]
[{"$f":"ASIN!A16581","v":0},{"$f":"ASIN!B16581","v":0},{"$f":"ASIN!C16581","v":0},{"$f":"ASIN!D16581","v":0},{"$f":"ASIN!E16581","v":0},{"$f":"ASIN!F16581","v":0}]
[{"$f":"ASIN!A16598","v":0},{"$f":"ASIN!B16598","v":0},{"$f":"ASIN!C16598","v":0},{"$f":"ASIN!D16598","v":0},{"$f":"ASIN!E16598","v":0},{"$f":"ASIN!F16598","v":0}]
[{"$f":"ASIN!A16622","v":0},{"$f":"ASIN!B16622","v":0},{"$f":"ASIN!C16622","v":0},{"$f":"ASIN!D16622","v":0},{"$f":"ASIN!E16622","v":0},{"$f":"ASIN!F16622","v":0}]
[{"$f":"ASIN!A16647","v":0},{"$f":"ASIN!B16647","v":0},{"$f":"ASIN!C16647","v":0},{"$f":"ASIN!D16647","v":0},{"$f":"ASIN!E16647","v":0},{"$f":"ASIN!F16647","v":0}]
[{"$f":"ASIN!A16656","v":0},{"$f":"ASIN!B16656","v":0},{"$f":"ASIN!C16656","v":0},{"$f":"ASIN!D16656","v":0},{"$f":"ASIN!E16656","v":0},{"$f":"ASIN!F16656","v":0}]
[{"$f":"ASIN!A16690","v":0},{"$f":"ASIN!B16690","v":0},{"$f":"ASIN!C16690","v":0},{"$f":"ASIN!D16690","v":0},{"$f":"ASIN!E16690","v":0},{"$f":"ASIN!F16690","v":0}]
[{"$f":"ASIN!A16713","v":0},{"$f":"ASIN!B16713","v":0},{"$f":"ASIN!C16713","v":0},{"$f":"ASIN!D16713","v":0},{"$f":"ASIN!E16713","v":0},{"$f":"ASIN!F16713","v":0}]
[{"$f":"ASIN!A16746","v":0},{"$f":"ASIN!B16746","v":0},{"$f":"ASIN!C16746","v":0},{"$f":"ASIN!D16746","v":0},{"$f":"ASIN!E16746","v":0},{"$f":"ASIN!F16746","v":0}]
[{"$f":"ASIN!A16771","v":0},{"$f":"ASIN!B16771","v":0},{"$f":"ASIN!C16771","v":0},{"$f":"ASIN!D16771","v":0},{"$f":"ASIN!E16771","v":0},{"$f":"ASIN!F16771","v":0}]
[{"$f":"ASIN!A16793","v":0},{"$f":"ASIN!B16793","v":0},{"$f":"ASIN!C16793","v":0},{"$f":"ASIN!D16793","v":0},{"$f":"ASIN!E16793","v":0},{"$f":"ASIN!F16793","v":0}]
[{"$f":"ASIN!A16812","v":0},{"$f":"ASIN!B16812","v":0},{"$f":"ASIN!C16812","v":0},{"$f":"ASIN!D16812","v":0},{"$f":"ASIN!E16812","v":0},{"$f":"ASIN!F16812","v":0}]
[{"$f":"ASIN!A16837","v":0},{"$f":"ASIN!B16837","v":0},{"$f":"ASIN!C16837","v":0},{"$f":"ASIN!D16837","v":0},{"$f":"ASIN!E16837","v":0},{"$f":"ASIN!F16837","v":0}]
[{"$f":"ASIN!A16846","v":0},{"$f":"ASIN!B16846","v":0},{"$f":"ASIN!C16846","v":0},{"$f":"ASIN!D16846","v":0},{"$f":"ASIN!E16846","v":0},{"$f":"ASIN!F16846","v":0}]
[{"$f":"ASIN!A16885","v":0},{"$f":"ASIN!B16885","v":0},{"$f":"ASIN!C16885","v":0},{"$f":"ASIN!D16885","v":0},{"$f":"ASIN!E16885","v":0},{"$f":"ASIN!F16885","v":0}]
[{"$f":"ASIN!A16903","v":0},{"$f":"ASIN!B16903","v":0},{"$f":"ASIN!C16903","v":0},{"$f":"ASIN!D16903","v":0},{"$f":"ASIN!E16903","v":0},{"$f":"ASIN!F16903","v":0}]
[{"$f":"ASIN!A16936","v":0},{"$f":"ASIN!B16936","v":0},{"$f":"ASIN!C16936","v":0},{"$f":"ASIN!D16936","v":0},{"$f":"ASIN!E16936","v":0},{"$f":"ASIN!F16936","v":0}]
[{"$f":"ASIN!A16961","v":0},{"$f":"ASIN!B16961","v":0},{"$f":"ASIN!C16961","v":0},{"$f":"ASIN!D16961","v":0},{"$f":"ASIN!E16961","v":0},{"$f":"ASIN!F16961","v":0}]
[{"$f":"ASIN!A16965","v":0},{"$f":"ASIN!B16965","v":0},{"$f":"ASIN!C16965","v":0},{"$f":"ASIN!D16965","v":0},{"$f":"ASIN!E16965","v":0},{"$f":"ASIN!F16965","v":0}]
[{"$f":"ASIN!A16994","v":0},{"$f":"ASIN!B16994","v":0},{"$f":"ASIN!C16994","v":0},{"$f":"ASIN!D16994","v":0},{"$f":"ASIN!E16994","v":0},{"$f":"ASIN!F16994","v":0}]
[{"$f":"ASIN!A17027","v":0},{"$f":"ASIN!B17027","v":0},{"$f":"ASIN!C17027","v":0},{"$f":"ASIN!D17027","v":0},{"$f":"ASIN!E17027","v":0},{"$f":"ASIN!F17027","v":0}]
[{"$f":"ASIN!A17036","v":0},{"$f":"ASIN!B17036","v":0},{"$f":"ASIN!C17036","v":0},{"$f":"ASIN!D17036","v":0},{"$f":"ASIN!E17036","v":0},{"$f":"ASIN!F17036","v":0}]
[{"$f":"ASIN!A17080","v":0},{"$f":"ASIN!B17080","v":0},{"$f":"ASIN!C17080","v":0},{"$f":"ASIN!D17080","v":0},{"$f":"ASIN!E17080","v":0},{"$f":"ASIN!F17080","v":0}]
[{"$f":"ASIN!A17093","v":0},{"$f":"ASIN!B17093","v":0},{"$f":"ASIN!C17093","v":0},{"$f":"ASIN!D17093","v":0},{"$f":"ASIN!E17093","v":0},{"$f":"ASIN!F17093","v":0}]
[{"$f":"ASIN!A17126","v":0},{"$f":"ASIN!B17126","v":0},{"$f":"ASIN!C17126","v":0},{"$f":"ASIN!D17126","v":0},{"$f":"ASIN!E17126","v":0},{"$f":"ASIN!F17126","v":0}]
[{"$f":"ASIN!A17151","v":0},{"$f":"ASIN!B17151","v":0},{"$f":"ASIN!C17151","v":0},{"$f":"ASIN!D17151","v":0},{"$f":"ASIN!E17151","v":0},{"$f":"ASIN!F17151","v":0}]
[{"$f":"ASIN!A17160","v":0},{"$f":"ASIN!B17160","v":0},{"$f":"ASIN!C17160","v":0},{"$f":"ASIN!D17160","v":0},{"$f":"ASIN!E17160","v":0},{"$f":"ASIN!F17160","v":0}]
[{"$f":"ASIN!A17184","v":0},{"$f":"ASIN!B17184","v":0},{"$f":"ASIN!C17184","v":0},{"$f":"ASIN!D17184","v":0},{"$f":"ASIN!E17184","v":0},{"$f":"ASIN!F17184","v":0}]
[{"$f":"ASIN!A17217","v":0},{"$f":"ASIN!B17217","v":0},{"$f":"ASIN!C17217","v":0},{"$f":"ASIN!D17217","v":0},{"$f":"ASIN!E17217","v":0},{"$f":"ASIN!F17217","v":0}]
[{"$f":"ASIN!A17226","v":0},{"$f":"ASIN!B17226","v":0},{"$f":"ASIN!C17226","v":0},{"$f":"ASIN!D17226","v":0},{"$f":"ASIN!E17226","v":0},{"$f":"ASIN!F17226","v":0}]
[{"$f":"ASIN!A17252","v":0},{"$f":"ASIN!B17252","v":0},{"$f":"ASIN!C17252","v":0},{"$f":"ASIN!D17252","v":0},{"$f":"ASIN!E17252","v":0},{"$f":"ASIN!F17252","v":0}]
[{"$f":"ASIN!A17283","v":0},{"$f":"ASIN!B17283","v":0},{"$f":"ASIN!C17283","v":0},{"$f":"ASIN!D17283","v":0},{"$f":"ASIN!E17283","v":0},{"$f":"ASIN!F17283","v":0}]
[{"$f":"ASIN!A17316","v":0},{"$f":"ASIN!B17316","v":0},{"$f":"ASIN!C17316","v":0},{"$f":"ASIN!D17316","v":0},{"$f":"ASIN!E17316","v":0},{"$f":"ASIN!F17316","v":0}]
[{"$f":"ASIN!A17341","v":0},{"$f":"ASIN!B17341","v":0},{"$f":"ASIN!C17341","v":0},{"$f":"ASIN!D17341","v":0},{"$f":"ASIN!E17341","v":0},{"$f":"ASIN!F17341","v":0}]
[{"$f":"ASIN!A17355","v":0},{"$f":"ASIN!B17355","v":0},{"$f":"ASIN!C17355","v":0},{"$f":"ASIN!D17355","v":0},{"$f":"ASIN!E17355","v":0},{"$f":"ASIN!F17355","v":0}]
[{"$f":"ASIN!A17374","v":0},{"$f":"ASIN!B17374","v":0},{"$f":"ASIN!C17374","v":0},{"$f":"ASIN!D17374","v":0},{"$f":"ASIN!E17374","v":0},{"$f":"ASIN!F17374","v":0}]
[{"$f":"ASIN!A17407","v":0},{"$f":"ASIN!B17407","v":0},{"$f":"ASIN!C17407","v":0},{"$f":"ASIN!D17407","v":0},{"$f":"ASIN!E17407","v":0},{"$f":"ASIN!F17407","v":0}]
[{"$f":"ASIN!A17416","v":0},{"$f":"ASIN!B17416","v":0},{"$f":"ASIN!C17416","v":0},{"$f":"ASIN!D17416","v":0},{"$f":"ASIN!E17416","v":0},{"$f":"ASIN!F17416","v":0}]
[{"$f":"ASIN!A17447","v":0},{"$f":"ASIN!B17447","v":0},{"$f":"ASIN!C17447","v":0},{"$f":"ASIN!D17447","v":0},{"$f":"ASIN!E17447","v":0},{"$f":"ASIN!F17447","v":0}]
[{"$f":"ASIN!A17473","v":0},{"$f":"ASIN!B17473","v":0},{"$f":"ASIN!C17473","v":0},{"$f":"ASIN!D17473","v":0},{"$f":"ASIN!E17473","v":0},{"$f":"ASIN!F17473","v":0}]
[{"$f":"ASIN!A17498","v":0},{"$f":"ASIN!B17498","v":0},{"$f":"ASIN!C17498","v":0},{"$f":"ASIN!D17498","v":0},{"$f":"ASIN!E17498","v":0},{"$f":"ASIN!F17498","v":0}]
[{"$f":"ASIN!A17531","v":0},{"$f":"ASIN!B17531","v":0},{"$f":"ASIN!C17531","v":0},{"$f":"ASIN!D17531","v":0},{"$f":"ASIN!E17531","v":0},{"$f":"ASIN!F17531","v":0}]
[{"$f":"ASIN!A17550","v":0},{"$f":"ASIN!B17550","v":0},{"$f":"ASIN!C17550","v":0},{"$f":"ASIN!D17550","v":0},{"$f":"ASIN!E17550","v":0},{"$f":"ASIN!F17550","v":0}]
[{"$f":"ASIN!A17564","v":0},{"$f":"ASIN!B17564","v":0},{"$f":"ASIN!C17564","v":0},{"$f":"ASIN!D17564","v":0},{"$f":"ASIN!E17564","v":0},{"$f":"ASIN!F17564","v":0}]
[{"$f":"ASIN!A17597","v":0},{"$f":"ASIN!B17597","v":0},{"$f":"ASIN!C17597","v":0},{"$f":"ASIN!D17597","v":0},{"$f":"ASIN!E17597","v":0},{"$f":"ASIN!F17597","v":0}]
[{"$f":"ASIN!A17606","v":0},{"$f":"ASIN!B17606","v":0},{"$f":"ASIN!C17606","v":0},{"$f":"ASIN!D17606","v":0},{"$f":"ASIN!E17606","v":0},{"$f":"ASIN!F17606","v":0}]
[{"$f":"ASIN!A17642","v":0},{"$f":"ASIN!B17642","v":0},{"$f":"ASIN!C17642","v":0},{"$f":"ASIN!D17642","v":0},{"$f":"ASIN!E17642","v":0},{"$f":"ASIN!F17642","v":0}]
[{"$f":"ASIN!A17663","v":0},{"$f":"ASIN!B17663","v":0},{"$f":"ASIN!C17663","v":0},{"$f":"ASIN!D17663","v":0},{"$f":"ASIN!E17663","v":0},{"$f":"ASIN!F17663","v":0}]
[{"$f":"ASIN!A17688","v":0},{"$f":"ASIN!B17688","v":0},{"$f":"ASIN!C17688","v":0},{"$f":"ASIN!D17688","v":0},{"$f":"ASIN!E17688","v":0},{"$f":"ASIN!F17688","v":0}]
[{"$f":"ASIN!A17721","v":0},{"$f":"ASIN!B17721","v":0},{"$f":"ASIN!C17721","v":0},{"$f":"ASIN!D17721","v":0},{"$f":"ASIN!E17721","v":0},{"$f":"ASIN!F17721","v":0}]
[{"$f":"ASIN!A17745","v":0},{"$f":"ASIN!B17745","v":0},{"$f":"ASIN!C17745","v":0},{"$f":"ASIN!D17745","v":0},{"$f":"ASIN!E17745","v":0},{"$f":"ASIN!F17745","v":0}]
[{"$f":"ASIN!A17754","v":0},{"$f":"ASIN!B17754","v":0},{"$f":"ASIN!C17754","v":0},{"$f":"ASIN!D17754","v":0},{"$f":"ASIN!E17754","v":0},{"$f":"ASIN!F17754","v":0}]
[{"$f":"ASIN!A17787","v":0},{"$f":"ASIN!B17787","v":0},{"$f":"ASIN!C17787","v":0},{"$f":"ASIN!D17787","v":0},{"$f":"ASIN!E17787","v":0},{"$f":"ASIN!F17787","v":0}]
[{"$f":"ASIN!A17812","v":0},{"$f":"ASIN!B17812","v":0},{"$f":"ASIN!C17812","v":0},{"$f":"ASIN!D17812","v":0},{"$f":"ASIN!E17812","v":0},{"$f":"ASIN!F17812","v":0}]
[{"$f":"ASIN!A17837","v":0},{"$f":"ASIN!B17837","v":0},{"$f":"ASIN!C17837","v":0},{"$f":"ASIN!D17837","v":0},{"$f":"ASIN!E17837","v":0},{"$f":"ASIN!F17837","v":0}]
[{"$f":"ASIN!A17853","v":0},{"$f":"ASIN!B17853","v":0},{"$f":"ASIN!C17853","v":0},{"$f":"ASIN!D17853","v":0},{"$f":"ASIN!E17853","v":0},{"$f":"ASIN!F17853","v":0}]
[{"$f":"ASIN!A17878","v":0},{"$f":"ASIN!B17878","v":0},{"$f":"ASIN!C17878","v":0},{"$f":"ASIN!D17878","v":0},{"$f":"ASIN!E17878","v":0},{"$f":"ASIN!F17878","v":0}]
[{"$f":"ASIN!A17911","v":0},{"$f":"ASIN!B17911","v":0},{"$f":"ASIN!C17911","v":0},{"$f":"ASIN!D17911","v":0},{"$f":"ASIN!E17911","v":0},{"$f":"ASIN!F17911","v":0}]
[{"$f":"ASIN!A17917","v":0},{"$f":"ASIN!B17917","v":0},{"$f":"ASIN!C17917","v":0},{"$f":"ASIN!D17917","v":0},{"$f":"ASIN!E17917","v":0},{"$f":"ASIN!F17917","v":0}]
[{"$f":"ASIN!A17944","v":0},{"$f":"ASIN!B17944","v":0},{"$f":"ASIN!C17944","v":0},{"$f":"ASIN!D17944","v":0},{"$f":"ASIN!E17944","v":0},{"$f":"ASIN!F17944","v":0}]
[{"$f":"ASIN!A17977","v":0},{"$f":"ASIN!B17977","v":0},{"$f":"ASIN!C17977","v":0},{"$f":"ASIN!D17977","v":0},{"$f":"ASIN!E17977","v":0},{"$f":"ASIN!F17977","v":0}]
[{"$f":"ASIN!A18002","v":0},{"$f":"ASIN!B18002","v":0},{"$f":"ASIN!C18002","v":0},{"$f":"ASIN!D18002","v":0},{"$f":"ASIN!E18002","v":0},{"$f":"ASIN!F18002","v":0}]
[{"$f":"ASIN!A18009","v":0},{"$f":"ASIN!B18009","v":0},{"$f":"ASIN!C18009","v":0},{"$f":"ASIN!D18009","v":0},{"$f":"ASIN!E18009","v":0},{"$f":"ASIN!F18009","v":0}]
[{"$f":"ASIN!A18043","v":0},{"$f":"ASIN!B18043","v":0},{"$f":"ASIN!C18043","v":0},{"$f":"ASIN!D18043","v":0},{"$f":"ASIN!E18043","v":0},{"$f":"ASIN!F18043","v":0}]
[{"$f":"ASIN!A18068","v":0},{"$f":"ASIN!B18068","v":0},{"$f":"ASIN!C18068","v":0},{"$f":"ASIN!D18068","v":0},{"$f":"ASIN!E18068","v":0},{"$f":"ASIN!F18068","v":0}]
[{"$f":"ASIN!A18101","v":0},{"$f":"ASIN!B18101","v":0},{"$f":"ASIN!C18101","v":0},{"$f":"ASIN!D18101","v":0},{"$f":"ASIN!E18101","v":0},{"$f":"ASIN!F18101","v":0}]
[{"$f":"ASIN!A18112","v":0},{"$f":"ASIN!B18112","v":0},{"$f":"ASIN!C18112","v":0},{"$f":"ASIN!D18112","v":0},{"$f":"ASIN!E18112","v":0},{"$f":"ASIN!F18112","v":0}]
[{"$f":"ASIN!A18134","v":0},{"$f":"ASIN!B18134","v":0},{"$f":"ASIN!C18134","v":0},{"$f":"ASIN!D18134","v":0},{"$f":"ASIN!E18134","v":0},{"$f":"ASIN!F18134","v":0}]
[{"$f":"ASIN!A18167","v":0},{"$f":"ASIN!B18167","v":0},{"$f":"ASIN!C18167","v":0},{"$f":"ASIN!D18167","v":0},{"$f":"ASIN!E18167","v":0},{"$f":"ASIN!F18167","v":0}]
[{"$f":"ASIN!A18192","v":0},{"$f":"ASIN!B18192","v":0},{"$f":"ASIN!C18192","v":0},{"$f":"ASIN!D18192","v":0},{"$f":"ASIN!E18192","v":0},{"$f":"ASIN!F18192","v":0}]
[{"$f":"ASIN!A18204","v":0},{"$f":"ASIN!B18204","v":0},{"$f":"ASIN!C18204","v":0},{"$f":"ASIN!D18204","v":0},{"$f":"ASIN!E18204","v":0},{"$f":"ASIN!F18204","v":0}]
[{"$f":"ASIN!A18233","v":0},{"$f":"ASIN!B18233","v":0},{"$f":"ASIN!C18233","v":0},{"$f":"ASIN!D18233","v":0},{"$f":"ASIN!E18233","v":0},{"$f":"ASIN!F18233","v":0}]
[{"$f":"ASIN!A18258","v":0},{"$f":"ASIN!B18258","v":0},{"$f":"ASIN!C18258","v":0},{"$f":"ASIN!D18258","v":0},{"$f":"ASIN!E18258","v":0},{"$f":"ASIN!F18258","v":0}]
[{"$f":"ASIN!A18291","v":0},{"$f":"ASIN!B18291","v":0},{"$f":"ASIN!C18291","v":0},{"$f":"ASIN!D18291","v":0},{"$f":"ASIN!E18291","v":0},{"$f":"ASIN!F18291","v":0}]
[{"$f":"ASIN!A18296","v":0},{"$f":"ASIN!B18296","v":0},{"$f":"ASIN!C18296","v":0},{"$f":"ASIN!D18296","v":0},{"$f":"ASIN!E18296","v":0},{"$f":"ASIN!F18296","v":0}]
[{"$f":"ASIN!A18324","v":0},{"$f":"ASIN!B18324","v":0},{"$f":"ASIN!C18324","v":0},{"$f":"ASIN!D18324","v":0},{"$f":"ASIN!E18324","v":0},{"$f":"ASIN!F18324","v":0}]
[{"$f":"ASIN!A18357","v":0},{"$f":"ASIN!B18357","v":0},{"$f":"ASIN!C18357","v":0},{"$f":"ASIN!D18357","v":0},{"$f":"ASIN!E18357","v":0},{"$f":"ASIN!F18357","v":0}]
[{"$f":"ASIN!A18382","v":0},{"$f":"ASIN!B18382","v":0},{"$f":"ASIN!C18382","v":0},{"$f":"ASIN!D18382","v":0},{"$f":"ASIN!E18382","v":0},{"$f":"ASIN!F18382","v":0}]
[{"$f":"ASIN!A18399","v":0},{"$f":"ASIN!B18399","v":0},{"$f":"ASIN!C18399","v":0},{"$f":"ASIN!D18399","v":0},{"$f":"ASIN!E18399","v":0},{"$f":"ASIN!F18399","v":0}]
[{"$f":"ASIN!A18423","v":0},{"$f":"ASIN!B18423","v":0},{"$f":"ASIN!C18423","v":0},{"$f":"ASIN!D18423","v":0},{"$f":"ASIN!E18423","v":0},{"$f":"ASIN!F18423","v":0}]
[{"$f":"ASIN!A18448","v":0},{"$f":"ASIN!B18448","v":0},{"$f":"ASIN!C18448","v":0},{"$f":"ASIN!D18448","v":0},{"$f":"ASIN!E18448","v":0},{"$f":"ASIN!F18448","v":0}]
[{"$f":"ASIN!A18481","v":0},{"$f":"ASIN!B18481","v":0},{"$f":"ASIN!C18481","v":0},{"$f":"ASIN!D18481","v":0},{"$f":"ASIN!E18481","v":0},{"$f":"ASIN!F18481","v":0}]
[{"$f":"ASIN!A18491","v":0},{"$f":"ASIN!B18491","v":0},{"$f":"ASIN!C18491","v":0},{"$f":"ASIN!D18491","v":0},{"$f":"ASIN!E18491","v":0},{"$f":"ASIN!F18491","v":0}]
[{"$f":"ASIN!A18514","v":0},{"$f":"ASIN!B18514","v":0},{"$f":"ASIN!C18514","v":0},{"$f":"ASIN!D18514","v":0},{"$f":"ASIN!E18514","v":0},{"$f":"ASIN!F18514","v":0}]
[{"$f":"ASIN!A18547","v":0},{"$f":"ASIN!B18547","v":0},{"$f":"ASIN!C18547","v":0},{"$f":"ASIN!D18547","v":0},{"$f":"ASIN!E18547","v":0},{"$f":"ASIN!F18547","v":0}]
[{"$f":"ASIN!A18572","v":0},{"$f":"ASIN!B18572","v":0},{"$f":"ASIN!C18572","v":0},{"$f":"ASIN!D18572","v":0},{"$f":"ASIN!E18572","v":0},{"$f":"ASIN!F18572","v":0}]
[{"$f":"ASIN!A18594","v":0},{"$f":"ASIN!B18594","v":0},{"$f":"ASIN!C18594","v":0},{"$f":"ASIN!D18594","v":0},{"$f":"ASIN!E18594","v":0},{"$f":"ASIN!F18594","v":0}]
[{"$f":"ASIN!A18613","v":0},{"$f":"ASIN!B18613","v":0},{"$f":"ASIN!C18613","v":0},{"$f":"ASIN!D18613","v":0},{"$f":"ASIN!E18613","v":0},{"$f":"ASIN!F18613","v":0}]
[{"$f":"ASIN!A18638","v":0},{"$f":"ASIN!B18638","v":0},{"$f":"ASIN!C18638","v":0},{"$f":"ASIN!D18638","v":0},{"$f":"ASIN!E18638","v":0},{"$f":"ASIN!F18638","v":0}]
[{"$f":"ASIN!A18671","v":0},{"$f":"ASIN!B18671","v":0},{"$f":"ASIN!C18671","v":0},{"$f":"ASIN!D18671","v":0},{"$f":"ASIN!E18671","v":0},{"$f":"ASIN!F18671","v":0}]
[{"$f":"ASIN!A18686","v":0},{"$f":"ASIN!B18686","v":0},{"$f":"ASIN!C18686","v":0},{"$f":"ASIN!D18686","v":0},{"$f":"ASIN!E18686","v":0},{"$f":"ASIN!F18686","v":0}]
[{"$f":"ASIN!A18704","v":0},{"$f":"ASIN!B18704","v":0},{"$f":"ASIN!C18704","v":0},{"$f":"ASIN!D18704","v":0},{"$f":"ASIN!E18704","v":0},{"$f":"ASIN!F18704","v":0}]
[{"$f":"ASIN!A18737","v":0},{"$f":"ASIN!B18737","v":0},{"$f":"ASIN!C18737","v":0},{"$f":"ASIN!D18737","v":0},{"$f":"ASIN!E18737","v":0},{"$f":"ASIN!F18737","v":0}]
[{"$f":"ASIN!A18762","v":0},{"$f":"ASIN!B18762","v":0},{"$f":"ASIN!C18762","v":0},{"$f":"ASIN!D18762","v":0},{"$f":"ASIN!E18762","v":0},{"$f":"ASIN!F18762","v":0}]
[{"$f":"ASIN!A18789","v":0},{"$f":"ASIN!B18789","v":0},{"$f":"ASIN!C18789","v":0},{"$f":"ASIN!D18789","v":0},{"$f":"ASIN!E18789","v":0},{"$f":"ASIN!F18789","v":0}]
[{"$f":"ASIN!A18795","v":0},{"$f":"ASIN!B18795","v":0},{"$f":"ASIN!C18795","v":0},{"$f":"ASIN!D18795","v":0},{"$f":"ASIN!E18795","v":0},{"$f":"ASIN!F18795","v":0}]
[{"$f":"ASIN!A18828","v":0},{"$f":"ASIN!B18828","v":0},{"$f":"ASIN!C18828","v":0},{"$f":"ASIN!D18828","v":0},{"$f":"ASIN!E18828","v":0},{"$f":"ASIN!F18828","v":0}]
[{"$f":"ASIN!A18861","v":0},{"$f":"ASIN!B18861","v":0},{"$f":"ASIN!C18861","v":0},{"$f":"ASIN!D18861","v":0},{"$f":"ASIN!E18861","v":0},{"$f":"ASIN!F18861","v":0}]
[{"$f":"ASIN!A18881","v":0},{"$f":"ASIN!B18881","v":0},{"$f":"ASIN!C18881","v":0},{"$f":"ASIN!D18881","v":0},{"$f":"ASIN!E18881","v":0},{"$f":"ASIN!F18881","v":0}]
[{"$f":"ASIN!A18894","v":0},{"$f":"ASIN!B18894","v":0},{"$f":"ASIN!C18894","v":0},{"$f":"ASIN!D18894","v":0},{"$f":"ASIN!E18894","v":0},{"$f":"ASIN!F18894","v":0}]
[{"$f":"ASIN!A18927","v":0},{"$f":"ASIN!B18927","v":0},{"$f":"ASIN!C18927","v":0},{"$f":"ASIN!D18927","v":0},{"$f":"ASIN!E18927","v":0},{"$f":"ASIN!F18927","v":0}]
[{"$f":"ASIN!A18952","v":0},{"$f":"ASIN!B18952","v":0},{"$f":"ASIN!C18952","v":0},{"$f":"ASIN!D18952","v":0},{"$f":"ASIN!E18952","v":0},{"$f":"ASIN!F18952","v":0}]
[{"$f":"ASIN!A18961","v":0},{"$f":"ASIN!B18961","v":0},{"$f":"ASIN!C18961","v":0},{"$f":"ASIN!D18961","v":0},{"$f":"ASIN!E18961","v":0},{"$f":"ASIN!F18961","v":0}]
[{"$f":"ASIN!A18985","v":0},{"$f":"ASIN!B18985","v":0},{"$f":"ASIN!C18985","v":0},{"$f":"ASIN!D18985","v":0},{"$f":"ASIN!E18985","v":0},{"$f":"ASIN!F18985","v":0}]
[{"$f":"ASIN!A19018","v":0},{"$f":"ASIN!B19018","v":0},{"$f":"ASIN!C19018","v":0},{"$f":"ASIN!D19018","v":0},{"$f":"ASIN!E19018","v":0},{"$f":"ASIN!F19018","v":0}]
[{"$f":"ASIN!A19051","v":0},{"$f":"ASIN!B19051","v":0},{"$f":"ASIN!C19051","v":0},{"$f":"ASIN!D19051","v":0},{"$f":"ASIN!E19051","v":0},{"$f":"ASIN!F19051","v":0}]
[{"$f":"ASIN!A19053","v":0},{"$f":"ASIN!B19053","v":0},{"$f":"ASIN!C19053","v":0},{"$f":"ASIN!D19053","v":0},{"$f":"ASIN!E19053","v":0},{"$f":"ASIN!F19053","v":0}]
[{"$f":"ASIN!A19084","v":0},{"$f":"ASIN!B19084","v":0},{"$f":"ASIN!C19084","v":0},{"$f":"ASIN!D19084","v":0},{"$f":"ASIN!E19084","v":0},{"$f":"ASIN!F19084","v":0}]
[{"$f":"ASIN!A19109","v":0},{"$f":"ASIN!B19109","v":0},{"$f":"ASIN!C19109","v":0},{"$f":"ASIN!D19109","v":0},{"$f":"ASIN!E19109","v":0},{"$f":"ASIN!F19109","v":0}]
[{"$f":"ASIN!A19142","v":0},{"$f":"ASIN!B19142","v":0},{"$f":"ASIN!C19142","v":0},{"$f":"ASIN!D19142","v":0},{"$f":"ASIN!E19142","v":0},{"$f":"ASIN!F19142","v":0}]
[{"$f":"ASIN!A19156","v":0},{"$f":"ASIN!B19156","v":0},{"$f":"ASIN!C19156","v":0},{"$f":"ASIN!D19156","v":0},{"$f":"ASIN!E19156","v":0},{"$f":"ASIN!F19156","v":0}]
[{"$f":"ASIN!A19175","v":0},{"$f":"ASIN!B19175","v":0},{"$f":"ASIN!C19175","v":0},{"$f":"ASIN!D19175","v":0},{"$f":"ASIN!E19175","v":0},{"$f":"ASIN!F19175","v":0}]
[{"$f":"ASIN!A19208","v":0},{"$f":"ASIN!B19208","v":0},{"$f":"ASIN!C19208","v":0},{"$f":"ASIN!D19208","v":0},{"$f":"ASIN!E19208","v":0},{"$f":"ASIN!F19208","v":0}]
[{"$f":"ASIN!A19241","v":0},{"$f":"ASIN!B19241","v":0},{"$f":"ASIN!C19241","v":0},{"$f":"ASIN!D19241","v":0},{"$f":"ASIN!E19241","v":0},{"$f":"ASIN!F19241","v":0}]
[{"$f":"ASIN!A19248","v":0},{"$f":"ASIN!B19248","v":0},{"$f":"ASIN!C19248","v":0},{"$f":"ASIN!D19248","v":0},{"$f":"ASIN!E19248","v":0},{"$f":"ASIN!F19248","v":0}]
[{"$f":"ASIN!A19274","v":0},{"$f":"ASIN!B19274","v":0},{"$f":"ASIN!C19274","v":0},{"$f":"ASIN!D19274","v":0},{"$f":"ASIN!E19274","v":0},{"$f":"ASIN!F19274","v":0}]
[{"$f":"ASIN!A19299","v":0},{"$f":"ASIN!B19299","v":0},{"$f":"ASIN!C19299","v":0},{"$f":"ASIN!D19299","v":0},{"$f":"ASIN!E19299","v":0},{"$f":"ASIN!F19299","v":0}]
[{"$f":"ASIN!A19332","v":0},{"$f":"ASIN!B19332","v":0},{"$f":"ASIN!C19332","v":0},{"$f":"ASIN!D19332","v":0},{"$f":"ASIN!E19332","v":0},{"$f":"ASIN!F19332","v":0}]
[{"$f":"ASIN!A19351","v":0},{"$f":"ASIN!B19351","v":0},{"$f":"ASIN!C19351","v":0},{"$f":"ASIN!D19351","v":0},{"$f":"ASIN!E19351","v":0},{"$f":"ASIN!F19351","v":0}]
[{"$f":"ASIN!A19365","v":0},{"$f":"ASIN!B19365","v":0},{"$f":"ASIN!C19365","v":0},{"$f":"ASIN!D19365","v":0},{"$f":"ASIN!E19365","v":0},{"$f":"ASIN!F19365","v":0}]
[{"$f":"ASIN!A19398","v":0},{"$f":"ASIN!B19398","v":0},{"$f":"ASIN!C19398","v":0},{"$f":"ASIN!D19398","v":0},{"$f":"ASIN!E19398","v":0},{"$f":"ASIN!F19398","v":0}]
[{"$f":"ASIN!A19431","v":0},{"$f":"ASIN!B19431","v":0},{"$f":"ASIN!C19431","v":0},{"$f":"ASIN!D19431","v":0},{"$f":"ASIN!E19431","v":0},{"$f":"ASIN!F19431","v":0}]
[{"$f":"ASIN!A19443","v":0},{"$f":"ASIN!B19443","v":0},{"$f":"ASIN!C19443","v":0},{"$f":"ASIN!D19443","v":0},{"$f":"ASIN!E19443","v":0},{"$f":"ASIN!F19443","v":0}]
[{"$f":"ASIN!A19464","v":0},{"$f":"ASIN!B19464","v":0},{"$f":"ASIN!C19464","v":0},{"$f":"ASIN!D19464","v":0},{"$f":"ASIN!E19464","v":0},{"$f":"ASIN!F19464","v":0}]
[{"$f":"ASIN!A19489","v":0},{"$f":"ASIN!B19489","v":0},{"$f":"ASIN!C19489","v":0},{"$f":"ASIN!D19489","v":0},{"$f":"ASIN!E19489","v":0},{"$f":"ASIN!F19489","v":0}]
[{"$f":"ASIN!A19522","v":0},{"$f":"ASIN!B19522","v":0},{"$f":"ASIN!C19522","v":0},{"$f":"ASIN!D19522","v":0},{"$f":"ASIN!E19522","v":0},{"$f":"ASIN!F19522","v":0}]
[{"$f":"ASIN!A19546","v":0},{"$f":"ASIN!B19546","v":0},{"$f":"ASIN!C19546","v":0},{"$f":"ASIN!D19546","v":0},{"$f":"ASIN!E19546","v":0},{"$f":"ASIN!F19546","v":0}]
[{"$f":"ASIN!A19555","v":0},{"$f":"ASIN!B19555","v":0},{"$f":"ASIN!C19555","v":0},{"$f":"ASIN!D19555","v":0},{"$f":"ASIN!E19555","v":0},{"$f":"ASIN!F19555","v":0}]
[{"$f":"ASIN!A19588","v":0},{"$f":"ASIN!B19588","v":0},{"$f":"ASIN!C19588","v":0},{"$f":"ASIN!D19588","v":0},{"$f":"ASIN!E19588","v":0},{"$f":"ASIN!F19588","v":0}]
[{"$f":"ASIN!A19613","v":0},{"$f":"ASIN!B19613","v":0},{"$f":"ASIN!C19613","v":0},{"$f":"ASIN!D19613","v":0},{"$f":"ASIN!E19613","v":0},{"$f":"ASIN!F19613","v":0}]
[{"$f":"ASIN!A19638","v":0},{"$f":"ASIN!B19638","v":0},{"$f":"ASIN!C19638","v":0},{"$f":"ASIN!D19638","v":0},{"$f":"ASIN!E19638","v":0},{"$f":"ASIN!F19638","v":0}]
[{"$f":"ASIN!A19654","v":0},{"$f":"ASIN!B19654","v":0},{"$f":"ASIN!C19654","v":0},{"$f":"ASIN!D19654","v":0},{"$f":"ASIN!E19654","v":0},{"$f":"ASIN!F19654","v":0}]
[{"$f":"ASIN!A19679","v":0},{"$f":"ASIN!B19679","v":0},{"$f":"ASIN!C19679","v":0},{"$f":"ASIN!D19679","v":0},{"$f":"ASIN!E19679","v":0},{"$f":"ASIN!F19679","v":0}]
[{"$f":"ASIN!A19712","v":0},{"$f":"ASIN!B19712","v":0},{"$f":"ASIN!C19712","v":0},{"$f":"ASIN!D19712","v":0},{"$f":"ASIN!E19712","v":0},{"$f":"ASIN!F19712","v":0}]
[{"$f":"ASIN!A19718","v":0},{"$f":"ASIN!B19718","v":0},{"$f":"ASIN!C19718","v":0},{"$f":"ASIN!D19718","v":0},{"$f":"ASIN!E19718","v":0},{"$f":"ASIN!F19718","v":0}]
[{"$f":"ASIN!A19745","v":0},{"$f":"ASIN!B19745","v":0},{"$f":"ASIN!C19745","v":0},{"$f":"ASIN!D19745","v":0},{"$f":"ASIN!E19745","v":0},{"$f":"ASIN!F19745","v":0}]
[{"$f":"ASIN!A19778","v":0},{"$f":"ASIN!B19778","v":0},{"$f":"ASIN!C19778","v":0},{"$f":"ASIN!D19778","v":0},{"$f":"ASIN!E19778","v":0},{"$f":"ASIN!F19778","v":0}]
[{"$f":"ASIN!A19803","v":0},{"$f":"ASIN!B19803","v":0},{"$f":"ASIN!C19803","v":0},{"$f":"ASIN!D19803","v":0},{"$f":"ASIN!E19803","v":0},{"$f":"ASIN!F19803","v":0}]
[{"$f":"ASIN!A19833","v":0},{"$f":"ASIN!B19833","v":0},{"$f":"ASIN!C19833","v":0},{"$f":"ASIN!D19833","v":0},{"$f":"ASIN!E19833","v":0},{"$f":"ASIN!F19833","v":0}]
[{"$f":"ASIN!A19844","v":0},{"$f":"ASIN!B19844","v":0},{"$f":"ASIN!C19844","v":0},{"$f":"ASIN!D19844","v":0},{"$f":"ASIN!E19844","v":0},{"$f":"ASIN!F19844","v":0}]
[{"$f":"ASIN!A19869","v":0},{"$f":"ASIN!B19869","v":0},{"$f":"ASIN!C19869","v":0},{"$f":"ASIN!D19869","v":0},{"$f":"ASIN!E19869","v":0},{"$f":"ASIN!F19869","v":0}]
[{"$f":"ASIN!A19902","v":0},{"$f":"ASIN!B19902","v":0},{"$f":"ASIN!C19902","v":0},{"$f":"ASIN!D19902","v":0},{"$f":"ASIN!E19902","v":0},{"$f":"ASIN!F19902","v":0}]
[{"$f":"ASIN!A19925","v":0},{"$f":"ASIN!B19925","v":0},{"$f":"ASIN!C19925","v":0},{"$f":"ASIN!D19925","v":0},{"$f":"ASIN!E19925","v":0},{"$f":"ASIN!F19925","v":0}]
[{"$f":"ASIN!A19935","v":0},{"$f":"ASIN!B19935","v":0},{"$f":"ASIN!C19935","v":0},{"$f":"ASIN!D19935","v":0},{"$f":"ASIN!E19935","v":0},{"$f":"ASIN!F19935","v":0}]
[{"$f":"ASIN!A19968","v":0},{"$f":"ASIN!B19968","v":0},{"$f":"ASIN!C19968","v":0},{"$f":"ASIN!D19968","v":0},{"$f":"ASIN!E19968","v":0},{"$f":"ASIN!F19968","v":0}]
[{"$f":"ASIN!A19993","v":0},{"$f":"ASIN!B19993","v":0},{"$f":"ASIN!C19993","v":0},{"$f":"ASIN!D19993","v":0},{"$f":"ASIN!E19993","v":0},{"$f":"ASIN!F19993","v":0}]
[{"$f":"ASIN!A20005","v":0},{"$f":"ASIN!B20005","v":0},{"$f":"ASIN!C20005","v":0},{"$f":"ASIN!D20005","v":0},{"$f":"ASIN!E20005","v":0},{"$f":"ASIN!F20005","v":0}]
[{"$f":"ASIN!A20034","v":0},{"$f":"ASIN!B20034","v":0},{"$f":"ASIN!C20034","v":0},{"$f":"ASIN!D20034","v":0},{"$f":"ASIN!E20034","v":0},{"$f":"ASIN!F20034","v":0}]
[{"$f":"ASIN!A20059","v":0},{"$f":"ASIN!B20059","v":0},{"$f":"ASIN!C20059","v":0},{"$f":"ASIN!D20059","v":0},{"$f":"ASIN!E20059","v":0},{"$f":"ASIN!F20059","v":0}]
[{"$f":"ASIN!A20092","v":0},{"$f":"ASIN!B20092","v":0},{"$f":"ASIN!C20092","v":0},{"$f":"ASIN!D20092","v":0},{"$f":"ASIN!E20092","v":0},{"$f":"ASIN!F20092","v":0}]
[{"$f":"ASIN!A20120","v":0},{"$f":"ASIN!B20120","v":0},{"$f":"ASIN!C20120","v":0},{"$f":"ASIN!D20120","v":0},{"$f":"ASIN!E20120","v":0},{"$f":"ASIN!F20120","v":0}]
[{"$f":"ASIN!A20125","v":0},{"$f":"ASIN!B20125","v":0},{"$f":"ASIN!C20125","v":0},{"$f":"ASIN!D20125","v":0},{"$f":"ASIN!E20125","v":0},{"$f":"ASIN!F20125","v":0}]
[{"$f":"ASIN!A20158","v":0},{"$f":"ASIN!B20158","v":0},{"$f":"ASIN!C20158","v":0},{"$f":"ASIN!D20158","v":0},{"$f":"ASIN!E20158","v":0},{"$f":"ASIN!F20158","v":0}]
[{"$f":"ASIN!A20183","v":0},{"$f":"ASIN!B20183","v":0},{"$f":"ASIN!C20183","v":0},{"$f":"ASIN!D20183","v":0},{"$f":"ASIN!E20183","v":0},{"$f":"ASIN!F20183","v":0}]
[{"$f":"ASIN!A20200","v":0},{"$f":"ASIN!B20200","v":0},{"$f":"ASIN!C20200","v":0},{"$f":"ASIN!D20200","v":0},{"$f":"ASIN!E20200","v":0},{"$f":"ASIN!F20200","v":0}]
[{"$f":"ASIN!A20224","v":0},{"$f":"ASIN!B20224","v":0},{"$f":"ASIN!C20224","v":0},{"$f":"ASIN!D20224","v":0},{"$f":"ASIN!E20224","v":0},{"$f":"ASIN!F20224","v":0}]
[{"$f":"ASIN!A20249","v":0},{"$f":"ASIN!B20249","v":0},{"$f":"ASIN!C20249","v":0},{"$f":"ASIN!D20249","v":0},{"$f":"ASIN!E20249","v":0},{"$f":"ASIN!F20249","v":0}]
[{"$f":"ASIN!A20282","v":0},{"$f":"ASIN!B20282","v":0},{"$f":"ASIN!C20282","v":0},{"$f":"ASIN!D20282","v":0},{"$f":"ASIN!E20282","v":0},{"$f":"ASIN!F20282","v":0}]
[{"$f":"ASIN!A20292","v":0},{"$f":"ASIN!B20292","v":0},{"$f":"ASIN!C20292","v":0},{"$f":"ASIN!D20292","v":0},{"$f":"ASIN!E20292","v":0},{"$f":"ASIN!F20292","v":0}]
[{"$f":"ASIN!A20315","v":0},{"$f":"ASIN!B20315","v":0},{"$f":"ASIN!C20315","v":0},{"$f":"ASIN!D20315","v":0},{"$f":"ASIN!E20315","v":0},{"$f":"ASIN!F20315","v":0}]
[{"$f":"ASIN!A20348","v":0},{"$f":"ASIN!B20348","v":0},{"$f":"ASIN!C20348","v":0},{"$f":"ASIN!D20348","v":0},{"$f":"ASIN!E20348","v":0},{"$f":"ASIN!F20348","v":0}]
[{"$f":"ASIN!A20373","v":0},{"$f":"ASIN!B20373","v":0},{"$f":"ASIN!C20373","v":0},{"$f":"ASIN!D20373","v":0},{"$f":"ASIN!E20373","v":0},{"$f":"ASIN!F20373","v":0}]
[{"$f":"ASIN!A20395","v":0},{"$f":"ASIN!B20395","v":0},{"$f":"ASIN!C20395","v":0},{"$f":"ASIN!D20395","v":0},{"$f":"ASIN!E20395","v":0},{"$f":"ASIN!F20395","v":0}]
[{"$f":"ASIN!A20406","v":0},{"$f":"ASIN!B20406","v":0},{"$f":"ASIN!C20406","v":0},{"$f":"ASIN!D20406","v":0},{"$f":"ASIN!E20406","v":0},{"$f":"ASIN!F20406","v":0}]
[{"$f":"ASIN!A20439","v":0},{"$f":"ASIN!B20439","v":0},{"$f":"ASIN!C20439","v":0},{"$f":"ASIN!D20439","v":0},{"$f":"ASIN!E20439","v":0},{"$f":"ASIN!F20439","v":0}]
[{"$f":"ASIN!A20472","v":0},{"$f":"ASIN!B20472","v":0},{"$f":"ASIN!C20472","v":0},{"$f":"ASIN!D20472","v":0},{"$f":"ASIN!E20472","v":0},{"$f":"ASIN!F20472","v":0}]
[{"$f":"ASIN!A20487","v":0},{"$f":"ASIN!B20487","v":0},{"$f":"ASIN!C20487","v":0},{"$f":"ASIN!D20487","v":0},{"$f":"ASIN!E20487","v":0},{"$f":"ASIN!F20487","v":0}]
[{"$f":"ASIN!A20505","v":0},{"$f":"ASIN!B20505","v":0},{"$f":"ASIN!C20505","v":0},{"$f":"ASIN!D20505","v":0},{"$f":"ASIN!E20505","v":0},{"$f":"ASIN!F20505","v":0}]
[{"$f":"ASIN!A20538","v":0},{"$f":"ASIN!B20538","v":0},{"$f":"ASIN!C20538","v":0},{"$f":"ASIN!D20538","v":0},{"$f":"ASIN!E20538","v":0},{"$f":"ASIN!F20538","v":0}]
[{"$f":"ASIN!A20563","v":0},{"$f":"ASIN!B20563","v":0},{"$f":"ASIN!C20563","v":0},{"$f":"ASIN!D20563","v":0},{"$f":"ASIN!E20563","v":0},{"$f":"ASIN!F20563","v":0}]
[{"$f":"ASIN!A20590","v":0},{"$f":"ASIN!B20590","v":0},{"$f":"ASIN!C20590","v":0},{"$f":"ASIN!D20590","v":0},{"$f":"ASIN!E20590","v":0},{"$f":"ASIN!F20590","v":0}]
[{"$f":"ASIN!A20596","v":0},{"$f":"ASIN!B20596","v":0},{"$f":"ASIN!C20596","v":0},{"$f":"ASIN!D20596","v":0},{"$f":"ASIN!E20596","v":0},{"$f":"ASIN!F20596","v":0}]
[{"$f":"ASIN!A20629","v":0},{"$f":"ASIN!B20629","v":0},{"$f":"ASIN!C20629","v":0},{"$f":"ASIN!D20629","v":0},{"$f":"ASIN!E20629","v":0},{"$f":"ASIN!F20629","v":0}]
[{"$f":"ASIN!A20662","v":0},{"$f":"ASIN!B20662","v":0},{"$f":"ASIN!C20662","v":0},{"$f":"ASIN!D20662","v":0},{"$f":"ASIN!E20662","v":0},{"$f":"ASIN!F20662","v":0}]
[{"$f":"ASIN!A20682","v":0},{"$f":"ASIN!B20682","v":0},{"$f":"ASIN!C20682","v":0},{"$f":"ASIN!D20682","v":0},{"$f":"ASIN!E20682","v":0},{"$f":"ASIN!F20682","v":0}]
[{"$f":"ASIN!A20695","v":0},{"$f":"ASIN!B20695","v":0},{"$f":"ASIN!C20695","v":0},{"$f":"ASIN!D20695","v":0},{"$f":"ASIN!E20695","v":0},{"$f":"ASIN!F20695","v":0}]
[{"$f":"ASIN!A20728","v":0},{"$f":"ASIN!B20728","v":0},{"$f":"ASIN!C20728","v":0},{"$f":"ASIN!D20728","v":0},{"$f":"ASIN!E20728","v":0},{"$f":"ASIN!F20728","v":0}]
[{"$f":"ASIN!A20753","v":0},{"$f":"ASIN!B20753","v":0},{"$f":"ASIN!C20753","v":0},{"$f":"ASIN!D20753","v":0},{"$f":"ASIN!E20753","v":0},{"$f":"ASIN!F20753","v":0}]
[{"$f":"ASIN!A20785","v":0},{"$f":"ASIN!B20785","v":0},{"$f":"ASIN!C20785","v":0},{"$f":"ASIN!D20785","v":0},{"$f":"ASIN!E20785","v":0},{"$f":"ASIN!F20785","v":0}]
[{"$f":"ASIN!A20786","v":0},{"$f":"ASIN!B20786","v":0},{"$f":"ASIN!C20786","v":0},{"$f":"ASIN!D20786","v":0},{"$f":"ASIN!E20786","v":0},{"$f":"ASIN!F20786","v":0}]
[{"$f":"ASIN!A20819","v":0},{"$f":"ASIN!B20819","v":0},{"$f":"ASIN!C20819","v":0},{"$f":"ASIN!D20819","v":0},{"$f":"ASIN!E20819","v":0},{"$f":"ASIN!F20819","v":0}]
[{"$f":"ASIN!A20852","v":0},{"$f":"ASIN!B20852","v":0},{"$f":"ASIN!C20852","v":0},{"$f":"ASIN!D20852","v":0},{"$f":"ASIN!E20852","v":0},{"$f":"ASIN!F20852","v":0}]
[{"$f":"ASIN!A20877","v":0},{"$f":"ASIN!B20877","v":0},{"$f":"ASIN!C20877","v":0},{"$f":"ASIN!D20877","v":0},{"$f":"ASIN!E20877","v":0},{"$f":"ASIN!F20877","v":0}]
[{"$f":"ASIN!A20885","v":0},{"$f":"ASIN!B20885","v":0},{"$f":"ASIN!C20885","v":0},{"$f":"ASIN!D20885","v":0},{"$f":"ASIN!E20885","v":0},{"$f":"ASIN!F20885","v":0}]
[{"$f":"ASIN!A20910","v":0},{"$f":"ASIN!B20910","v":0},{"$f":"ASIN!C20910","v":0},{"$f":"ASIN!D20910","v":0},{"$f":"ASIN!E20910","v":0},{"$f":"ASIN!F20910","v":0}]
[{"$f":"ASIN!A20943","v":0},{"$f":"ASIN!B20943","v":0},{"$f":"ASIN!C20943","v":0},{"$f":"ASIN!D20943","v":0},{"$f":"ASIN!E20943","v":0},{"$f":"ASIN!F20943","v":0}]
[{"$f":"ASIN!A20957","v":0},{"$f":"ASIN!B20957","v":0},{"$f":"ASIN!C20957","v":0},{"$f":"ASIN!D20957","v":0},{"$f":"ASIN!E20957","v":0},{"$f":"ASIN!F20957","v":0}]
[{"$f":"ASIN!A20976","v":0},{"$f":"ASIN!B20976","v":0},{"$f":"ASIN!C20976","v":0},{"$f":"ASIN!D20976","v":0},{"$f":"ASIN!E20976","v":0},{"$f":"ASIN!F20976","v":0}]
[{"$f":"ASIN!A21009","v":0},{"$f":"ASIN!B21009","v":0},{"$f":"ASIN!C21009","v":0},{"$f":"ASIN!D21009","v":0},{"$f":"ASIN!E21009","v":0},{"$f":"ASIN!F21009","v":0}]
[{"$f":"ASIN!A21042","v":0},{"$f":"ASIN!B21042","v":0},{"$f":"ASIN!C21042","v":0},{"$f":"ASIN!D21042","v":0},{"$f":"ASIN!E21042","v":0},{"$f":"ASIN!F21042","v":0}]
[{"$f":"ASIN!A21049","v":0},{"$f":"ASIN!B21049","v":0},{"$f":"ASIN!C21049","v":0},{"$f":"ASIN!D21049","v":0},{"$f":"ASIN!E21049","v":0},{"$f":"ASIN!F21049","v":0}]
[{"$f":"ASIN!A21075","v":0},{"$f":"ASIN!B21075","v":0},{"$f":"ASIN!C21075","v":0},{"$f":"ASIN!D21075","v":0},{"$f":"ASIN!E21075","v":0},{"$f":"ASIN!F21075","v":0}]
[{"$f":"ASIN!A21100","v":0},{"$f":"ASIN!B21100","v":0},{"$f":"ASIN!C21100","v":0},{"$f":"ASIN!D21100","v":0},{"$f":"ASIN!E21100","v":0},{"$f":"ASIN!F21100","v":0}]
[{"$f":"ASIN!A21133","v":0},{"$f":"ASIN!B21133","v":0},{"$f":"ASIN!C21133","v":0},{"$f":"ASIN!D21133","v":0},{"$f":"ASIN!E21133","v":0},{"$f":"ASIN!F21133","v":0}]
[{"$f":"ASIN!A21152","v":0},{"$f":"ASIN!B21152","v":0},{"$f":"ASIN!C21152","v":0},{"$f":"ASIN!D21152","v":0},{"$f":"ASIN!E21152","v":0},{"$f":"ASIN!F21152","v":0}]
[{"$f":"ASIN!A21166","v":0},{"$f":"ASIN!B21166","v":0},{"$f":"ASIN!C21166","v":0},{"$f":"ASIN!D21166","v":0},{"$f":"ASIN!E21166","v":0},{"$f":"ASIN!F21166","v":0}]
[{"$f":"ASIN!A21199","v":0},{"$f":"ASIN!B21199","v":0},{"$f":"ASIN!C21199","v":0},{"$f":"ASIN!D21199","v":0},{"$f":"ASIN!E21199","v":0},{"$f":"ASIN!F21199","v":0}]
[{"$f":"ASIN!A21224","v":0},{"$f":"ASIN!B21224","v":0},{"$f":"ASIN!C21224","v":0},{"$f":"ASIN!D21224","v":0},{"$f":"ASIN!E21224","v":0},{"$f":"ASIN!F21224","v":0}]
[{"$f":"ASIN!A21244","v":0},{"$f":"ASIN!B21244","v":0},{"$f":"ASIN!C21244","v":0},{"$f":"ASIN!D21244","v":0},{"$f":"ASIN!E21244","v":0},{"$f":"ASIN!F21244","v":0}]
[{"$f":"ASIN!A21265","v":0},{"$f":"ASIN!B21265","v":0},{"$f":"ASIN!C21265","v":0},{"$f":"ASIN!D21265","v":0},{"$f":"ASIN!E21265","v":0},{"$f":"ASIN!F21265","v":0}]
[{"$f":"ASIN!A21290","v":0},{"$f":"ASIN!B21290","v":0},{"$f":"ASIN!C21290","v":0},{"$f":"ASIN!D21290","v":0},{"$f":"ASIN!E21290","v":0},{"$f":"ASIN!F21290","v":0}]
[{"$f":"ASIN!A21323","v":0},{"$f":"ASIN!B21323","v":0},{"$f":"ASIN!C21323","v":0},{"$f":"ASIN!D21323","v":0},{"$f":"ASIN!E21323","v":0},{"$f":"ASIN!F21323","v":0}]
[{"$f":"ASIN!A21347","v":0},{"$f":"ASIN!B21347","v":0},{"$f":"ASIN!C21347","v":0},{"$f":"ASIN!D21347","v":0},{"$f":"ASIN!E21347","v":0},{"$f":"ASIN!F21347","v":0}]
[{"$f":"ASIN!A21356","v":0},{"$f":"ASIN!B21356","v":0},{"$f":"ASIN!C21356","v":0},{"$f":"ASIN!D21356","v":0},{"$f":"ASIN!E21356","v":0},{"$f":"ASIN!F21356","v":0}]
[{"$f":"ASIN!A21389","v":0},{"$f":"ASIN!B21389","v":0},{"$f":"ASIN!C21389","v":0},{"$f":"ASIN!D21389","v":0},{"$f":"ASIN!E21389","v":0},{"$f":"ASIN!F21389","v":0}]
[{"$f":"ASIN!A21414","v":0},{"$f":"ASIN!B21414","v":0},{"$f":"ASIN!C21414","v":0},{"$f":"ASIN!D21414","v":0},{"$f":"ASIN!E21414","v":0},{"$f":"ASIN!F21414","v":0}]
[{"$f":"ASIN!A21439","v":0},{"$f":"ASIN!B21439","v":0},{"$f":"ASIN!C21439","v":0},{"$f":"ASIN!D21439","v":0},{"$f":"ASIN!E21439","v":0},{"$f":"ASIN!F21439","v":0}]
[{"$f":"ASIN!A21455","v":0},{"$f":"ASIN!B21455","v":0},{"$f":"ASIN!C21455","v":0},{"$f":"ASIN!D21455","v":0},{"$f":"ASIN!E21455","v":0},{"$f":"ASIN!F21455","v":0}]
[{"$f":"ASIN!A21480","v":0},{"$f":"ASIN!B21480","v":0},{"$f":"ASIN!C21480","v":0},{"$f":"ASIN!D21480","v":0},{"$f":"ASIN!E21480","v":0},{"$f":"ASIN!F21480","v":0}]
[{"$f":"ASIN!A21513","v":0},{"$f":"ASIN!B21513","v":0},{"$f":"ASIN!C21513","v":0},{"$f":"ASIN!D21513","v":0},{"$f":"ASIN!E21513","v":0},{"$f":"ASIN!F21513","v":0}]
[{"$f":"ASIN!A21542","v":0},{"$f":"ASIN!B21542","v":0},{"$f":"ASIN!C21542","v":0},{"$f":"ASIN!D21542","v":0},{"$f":"ASIN!E21542","v":0},{"$f":"ASIN!F21542","v":0}]
[{"$f":"ASIN!A21546","v":0},{"$f":"ASIN!B21546","v":0},{"$f":"ASIN!C21546","v":0},{"$f":"ASIN!D21546","v":0},{"$f":"ASIN!E21546","v":0},{"$f":"ASIN!F21546","v":0}]
[{"$f":"ASIN!A21579","v":0},{"$f":"ASIN!B21579","v":0},{"$f":"ASIN!C21579","v":0},{"$f":"ASIN!D21579","v":0},{"$f":"ASIN!E21579","v":0},{"$f":"ASIN!F21579","v":0}]
[{"$f":"ASIN!A21604","v":0},{"$f":"ASIN!B21604","v":0},{"$f":"ASIN!C21604","v":0},{"$f":"ASIN!D21604","v":0},{"$f":"ASIN!E21604","v":0},{"$f":"ASIN!F21604","v":0}]
[{"$f":"ASIN!A21634","v":0},{"$f":"ASIN!B21634","v":0},{"$f":"ASIN!C21634","v":0},{"$f":"ASIN!D21634","v":0},{"$f":"ASIN!E21634","v":0},{"$f":"ASIN!F21634","v":0}]
[{"$f":"ASIN!A21645","v":0},{"$f":"ASIN!B21645","v":0},{"$f":"ASIN!C21645","v":0},{"$f":"ASIN!D21645","v":0},{"$f":"ASIN!E21645","v":0},{"$f":"ASIN!F21645","v":0}]
[{"$f":"ASIN!A21670","v":0},{"$f":"ASIN!B21670","v":0},{"$f":"ASIN!C21670","v":0},{"$f":"ASIN!D21670","v":0},{"$f":"ASIN!E21670","v":0},{"$f":"ASIN!F21670","v":0}]
[{"$f":"ASIN!A21703","v":0},{"$f":"ASIN!B21703","v":0},{"$f":"ASIN!C21703","v":0},{"$f":"ASIN!D21703","v":0},{"$f":"ASIN!E21703","v":0},{"$f":"ASIN!F21703","v":0}]
[{"$f":"ASIN!A21726","v":0},{"$f":"ASIN!B21726","v":0},{"$f":"ASIN!C21726","v":0},{"$f":"ASIN!D21726","v":0},{"$f":"ASIN!E21726","v":0},{"$f":"ASIN!F21726","v":0}]
[{"$f":"ASIN!A21736","v":0},{"$f":"ASIN!B21736","v":0},{"$f":"ASIN!C21736","v":0},{"$f":"ASIN!D21736","v":0},{"$f":"ASIN!E21736","v":0},{"$f":"ASIN!F21736","v":0}]
[{"$f":"ASIN!A21769","v":0},{"$f":"ASIN!B21769","v":0},{"$f":"ASIN!C21769","v":0},{"$f":"ASIN!D21769","v":0},{"$f":"ASIN!E21769","v":0},{"$f":"ASIN!F21769","v":0}]
[{"$f":"ASIN!A21794","v":0},{"$f":"ASIN!B21794","v":0},{"$f":"ASIN!C21794","v":0},{"$f":"ASIN!D21794","v":0},{"$f":"ASIN!E21794","v":0},{"$f":"ASIN!F21794","v":0}]
[{"$f":"ASIN!A21829","v":0},{"$f":"ASIN!B21829","v":0},{"$f":"ASIN!C21829","v":0},{"$f":"ASIN!D21829","v":0},{"$f":"ASIN!E21829","v":0},{"$f":"ASIN!F21829","v":0}]
[{"$f":"ASIN!A21835","v":0},{"$f":"ASIN!B21835","v":0},{"$f":"ASIN!C21835","v":0},{"$f":"ASIN!D21835","v":0},{"$f":"ASIN!E21835","v":0},{"$f":"ASIN!F21835","v":0}]
[{"$f":"ASIN!A21860","v":0},{"$f":"ASIN!B21860","v":0},{"$f":"ASIN!C21860","v":0},{"$f":"ASIN!D21860","v":0},{"$f":"ASIN!E21860","v":0},{"$f":"ASIN!F21860","v":0}]
[{"$f":"ASIN!A21893","v":0},{"$f":"ASIN!B21893","v":0},{"$f":"ASIN!C21893","v":0},{"$f":"ASIN!D21893","v":0},{"$f":"ASIN!E21893","v":0},{"$f":"ASIN!F21893","v":0}]
[{"$f":"ASIN!A21921","v":0},{"$f":"ASIN!B21921","v":0},{"$f":"ASIN!C21921","v":0},{"$f":"ASIN!D21921","v":0},{"$f":"ASIN!E21921","v":0},{"$f":"ASIN!F21921","v":0}]
[{"$f":"ASIN!A21926","v":0},{"$f":"ASIN!B21926","v":0},{"$f":"ASIN!C21926","v":0},{"$f":"ASIN!D21926","v":0},{"$f":"ASIN!E21926","v":0},{"$f":"ASIN!F21926","v":0}]
[{"$f":"ASIN!A21959","v":0},{"$f":"ASIN!B21959","v":0},{"$f":"ASIN!C21959","v":0},{"$f":"ASIN!D21959","v":0},{"$f":"ASIN!E21959","v":0},{"$f":"ASIN!F21959","v":0}]
[{"$f":"ASIN!A21984","v":0},{"$f":"ASIN!B21984","v":0},{"$f":"ASIN!C21984","v":0},{"$f":"ASIN!D21984","v":0},{"$f":"ASIN!E21984","v":0},{"$f":"ASIN!F21984","v":0}]
[{"$f":"ASIN!A22001","v":0},{"$f":"ASIN!B22001","v":0},{"$f":"ASIN!C22001","v":0},{"$f":"ASIN!D22001","v":0},{"$f":"ASIN!E22001","v":0},{"$f":"ASIN!F22001","v":0}]
[{"$f":"ASIN!A22025","v":0},{"$f":"ASIN!B22025","v":0},{"$f":"ASIN!C22025","v":0},{"$f":"ASIN!D22025","v":0},{"$f":"ASIN!E22025","v":0},{"$f":"ASIN!F22025","v":0}]
[{"$f":"ASIN!A22050","v":0},{"$f":"ASIN!B22050","v":0},{"$f":"ASIN!C22050","v":0},{"$f":"ASIN!D22050","v":0},{"$f":"ASIN!E22050","v":0},{"$f":"ASIN!F22050","v":0}]
[{"$f":"ASIN!A22083","v":0},{"$f":"ASIN!B22083","v":0},{"$f":"ASIN!C22083","v":0},{"$f":"ASIN!D22083","v":0},{"$f":"ASIN!E22083","v":0},{"$f":"ASIN!F22083","v":0}]
[{"$f":"ASIN!A22093","v":0},{"$f":"ASIN!B22093","v":0},{"$f":"ASIN!C22093","v":0},{"$f":"ASIN!D22093","v":0},{"$f":"ASIN!E22093","v":0},{"$f":"ASIN!F22093","v":0}]
[{"$f":"ASIN!A22116","v":0},{"$f":"ASIN!B22116","v":0},{"$f":"ASIN!C22116","v":0},{"$f":"ASIN!D22116","v":0},{"$f":"ASIN!E22116","v":0},{"$f":"ASIN!F22116","v":0}]
[{"$f":"ASIN!A22149","v":0},{"$f":"ASIN!B22149","v":0},{"$f":"ASIN!C22149","v":0},{"$f":"ASIN!D22149","v":0},{"$f":"ASIN!E22149","v":0},{"$f":"ASIN!F22149","v":0}]
[{"$f":"ASIN!A22174","v":0},{"$f":"ASIN!B22174","v":0},{"$f":"ASIN!C22174","v":0},{"$f":"ASIN!D22174","v":0},{"$f":"ASIN!E22174","v":0},{"$f":"ASIN!F22174","v":0}]
[{"$f":"ASIN!A22196","v":0},{"$f":"ASIN!B22196","v":0},{"$f":"ASIN!C22196","v":0},{"$f":"ASIN!D22196","v":0},{"$f":"ASIN!E22196","v":0},{"$f":"ASIN!F22196","v":0}]
[{"$f":"ASIN!A22231","v":0},{"$f":"ASIN!B22231","v":0},{"$f":"ASIN!C22231","v":0},{"$f":"ASIN!D22231","v":0},{"$f":"ASIN!E22231","v":0},{"$f":"ASIN!F22231","v":0}]
[{"$f":"ASIN!A22240","v":0},{"$f":"ASIN!B22240","v":0},{"$f":"ASIN!C22240","v":0},{"$f":"ASIN!D22240","v":0},{"$f":"ASIN!E22240","v":0},{"$f":"ASIN!F22240","v":0}]
[{"$f":"ASIN!A22273","v":0},{"$f":"ASIN!B22273","v":0},{"$f":"ASIN!C22273","v":0},{"$f":"ASIN!D22273","v":0},{"$f":"ASIN!E22273","v":0},{"$f":"ASIN!F22273","v":0}]
[{"$f":"ASIN!A22288","v":0},{"$f":"ASIN!B22288","v":0},{"$f":"ASIN!C22288","v":0},{"$f":"ASIN!D22288","v":0},{"$f":"ASIN!E22288","v":0},{"$f":"ASIN!F22288","v":0}]
[{"$f":"ASIN!A22306","v":0},{"$f":"ASIN!B22306","v":0},{"$f":"ASIN!C22306","v":0},{"$f":"ASIN!D22306","v":0},{"$f":"ASIN!E22306","v":0},{"$f":"ASIN!F22306","v":0}]
[{"$f":"ASIN!A22339","v":0},{"$f":"ASIN!B22339","v":0},{"$f":"ASIN!C22339","v":0},{"$f":"ASIN!D22339","v":0},{"$f":"ASIN!E22339","v":0},{"$f":"ASIN!F22339","v":0}]
[{"$f":"ASIN!A22364","v":0},{"$f":"ASIN!B22364","v":0},{"$f":"ASIN!C22364","v":0},{"$f":"ASIN!D22364","v":0},{"$f":"ASIN!E22364","v":0},{"$f":"ASIN!F22364","v":0}]
[{"$f":"ASIN!A22391","v":0},{"$f":"ASIN!B22391","v":0},{"$f":"ASIN!C22391","v":0},{"$f":"ASIN!D22391","v":0},{"$f":"ASIN!E22391","v":0},{"$f":"ASIN!F22391","v":0}]
[{"$f":"ASIN!A22421","v":0},{"$f":"ASIN!B22421","v":0},{"$f":"ASIN!C22421","v":0},{"$f":"ASIN!D22421","v":0},{"$f":"ASIN!E22421","v":0},{"$f":"ASIN!F22421","v":0}]
[{"$f":"ASIN!A22430","v":0},{"$f":"ASIN!B22430","v":0},{"$f":"ASIN!C22430","v":0},{"$f":"ASIN!D22430","v":0},{"$f":"ASIN!E22430","v":0},{"$f":"ASIN!F22430","v":0}]
[{"$f":"ASIN!A22463","v":0},{"$f":"ASIN!B22463","v":0},{"$f":"ASIN!C22463","v":0},{"$f":"ASIN!D22463","v":0},{"$f":"ASIN!E22463","v":0},{"$f":"ASIN!F22463","v":0}]
[{"$f":"ASIN!A22483","v":0},{"$f":"ASIN!B22483","v":0},{"$f":"ASIN!C22483","v":0},{"$f":"ASIN!D22483","v":0},{"$f":"ASIN!E22483","v":0},{"$f":"ASIN!F22483","v":0}]
[{"$f":"ASIN!A22496","v":0},{"$f":"ASIN!B22496","v":0},{"$f":"ASIN!C22496","v":0},{"$f":"ASIN!D22496","v":0},{"$f":"ASIN!E22496","v":0},{"$f":"ASIN!F22496","v":0}]
[{"$f":"ASIN!A22521","v":0},{"$f":"ASIN!B22521","v":0},{"$f":"ASIN!C22521","v":0},{"$f":"ASIN!D22521","v":0},{"$f":"ASIN!E22521","v":0},{"$f":"ASIN!F22521","v":0}]
[{"$f":"ASIN!A22554","v":0},{"$f":"ASIN!B22554","v":0},{"$f":"ASIN!C22554","v":0},{"$f":"ASIN!D22554","v":0},{"$f":"ASIN!E22554","v":0},{"$f":"ASIN!F22554","v":0}]
[{"$f":"ASIN!A22586","v":0},{"$f":"ASIN!B22586","v":0},{"$f":"ASIN!C22586","v":0},{"$f":"ASIN!D22586","v":0},{"$f":"ASIN!E22586","v":0},{"$f":"ASIN!F22586","v":0}]
[{"$f":"ASIN!A22611","v":0},{"$f":"ASIN!B22611","v":0},{"$f":"ASIN!C22611","v":0},{"$f":"ASIN!D22611","v":0},{"$f":"ASIN!E22611","v":0},{"$f":"ASIN!F22611","v":0}]
[{"$f":"ASIN!A22620","v":0},{"$f":"ASIN!B22620","v":0},{"$f":"ASIN!C22620","v":0},{"$f":"ASIN!D22620","v":0},{"$f":"ASIN!E22620","v":0},{"$f":"ASIN!F22620","v":0}]
[{"$f":"ASIN!A22653","v":0},{"$f":"ASIN!B22653","v":0},{"$f":"ASIN!C22653","v":0},{"$f":"ASIN!D22653","v":0},{"$f":"ASIN!E22653","v":0},{"$f":"ASIN!F22653","v":0}]
[{"$f":"ASIN!A22678","v":0},{"$f":"ASIN!B22678","v":0},{"$f":"ASIN!C22678","v":0},{"$f":"ASIN!D22678","v":0},{"$f":"ASIN!E22678","v":0},{"$f":"ASIN!F22678","v":0}]
[{"$f":"ASIN!A22686","v":0},{"$f":"ASIN!B22686","v":0},{"$f":"ASIN!C22686","v":0},{"$f":"ASIN!D22686","v":0},{"$f":"ASIN!E22686","v":0},{"$f":"ASIN!F22686","v":0}]
[{"$f":"ASIN!A22711","v":0},{"$f":"ASIN!B22711","v":0},{"$f":"ASIN!C22711","v":0},{"$f":"ASIN!D22711","v":0},{"$f":"ASIN!E22711","v":0},{"$f":"ASIN!F22711","v":0}]
[{"$f":"ASIN!A22744","v":0},{"$f":"ASIN!B22744","v":0},{"$f":"ASIN!C22744","v":0},{"$f":"ASIN!D22744","v":0},{"$f":"ASIN!E22744","v":0},{"$f":"ASIN!F22744","v":0}]
[{"$f":"ASIN!A22758","v":0},{"$f":"ASIN!B22758","v":0},{"$f":"ASIN!C22758","v":0},{"$f":"ASIN!D22758","v":0},{"$f":"ASIN!E22758","v":0},{"$f":"ASIN!F22758","v":0}]
[{"$f":"ASIN!A22801","v":0},{"$f":"ASIN!B22801","v":0},{"$f":"ASIN!C22801","v":0},{"$f":"ASIN!D22801","v":0},{"$f":"ASIN!E22801","v":0},{"$f":"ASIN!F22801","v":0}]
[{"$f":"ASIN!A22810","v":0},{"$f":"ASIN!B22810","v":0},{"$f":"ASIN!C22810","v":0},{"$f":"ASIN!D22810","v":0},{"$f":"ASIN!E22810","v":0},{"$f":"ASIN!F22810","v":0}]
[{"$f":"ASIN!A22843","v":0},{"$f":"ASIN!B22843","v":0},{"$f":"ASIN!C22843","v":0},{"$f":"ASIN!D22843","v":0},{"$f":"ASIN!E22843","v":0},{"$f":"ASIN!F22843","v":0}]
[{"$f":"ASIN!A22873","v":0},{"$f":"ASIN!B22873","v":0},{"$f":"ASIN!C22873","v":0},{"$f":"ASIN!D22873","v":0},{"$f":"ASIN!E22873","v":0},{"$f":"ASIN!F22873","v":0}]
[{"$f":"ASIN!A22876","v":0},{"$f":"ASIN!B22876","v":0},{"$f":"ASIN!C22876","v":0},{"$f":"ASIN!D22876","v":0},{"$f":"ASIN!E22876","v":0},{"$f":"ASIN!F22876","v":0}]
[{"$f":"ASIN!A22901","v":0},{"$f":"ASIN!B22901","v":0},{"$f":"ASIN!C22901","v":0},{"$f":"ASIN!D22901","v":0},{"$f":"ASIN!E22901","v":0},{"$f":"ASIN!F22901","v":0}]
[{"$f":"ASIN!A22934","v":0},{"$f":"ASIN!B22934","v":0},{"$f":"ASIN!C22934","v":0},{"$f":"ASIN!D22934","v":0},{"$f":"ASIN!E22934","v":0},{"$f":"ASIN!F22934","v":0}]
[{"$f":"ASIN!A22953","v":0},{"$f":"ASIN!B22953","v":0},{"$f":"ASIN!C22953","v":0},{"$f":"ASIN!D22953","v":0},{"$f":"ASIN!E22953","v":0},{"$f":"ASIN!F22953","v":0}]
[{"$f":"ASIN!A22991","v":0},{"$f":"ASIN!B22991","v":0},{"$f":"ASIN!C22991","v":0},{"$f":"ASIN!D22991","v":0},{"$f":"ASIN!E22991","v":0},{"$f":"ASIN!F22991","v":0}]
[{"$f":"ASIN!A23000","v":0},{"$f":"ASIN!B23000","v":0},{"$f":"ASIN!C23000","v":0},{"$f":"ASIN!D23000","v":0},{"$f":"ASIN!E23000","v":0},{"$f":"ASIN!F23000","v":0}]
[{"$f":"ASIN!A23025","v":0},{"$f":"ASIN!B23025","v":0},{"$f":"ASIN!C23025","v":0},{"$f":"ASIN!D23025","v":0},{"$f":"ASIN!E23025","v":0},{"$f":"ASIN!F23025","v":0}]
[{"$f":"ASIN!A23045","v":0},{"$f":"ASIN!B23045","v":0},{"$f":"ASIN!C23045","v":0},{"$f":"ASIN!D23045","v":0},{"$f":"ASIN!E23045","v":0},{"$f":"ASIN!F23045","v":0}]
[{"$f":"ASIN!A23066","v":0},{"$f":"ASIN!B23066","v":0},{"$f":"ASIN!C23066","v":0},{"$f":"ASIN!D23066","v":0},{"$f":"ASIN!E23066","v":0},{"$f":"ASIN!F23066","v":0}]
[{"$f":"ASIN!A23091","v":0},{"$f":"ASIN!B23091","v":0},{"$f":"ASIN!C23091","v":0},{"$f":"ASIN!D23091","v":0},{"$f":"ASIN!E23091","v":0},{"$f":"ASIN!F23091","v":0}]
[{"$f":"ASIN!A23124","v":0},{"$f":"ASIN!B23124","v":0},{"$f":"ASIN!C23124","v":0},{"$f":"ASIN!D23124","v":0},{"$f":"ASIN!E23124","v":0},{"$f":"ASIN!F23124","v":0}]
[{"$f":"ASIN!A23148","v":0},{"$f":"ASIN!B23148","v":0},{"$f":"ASIN!C23148","v":0},{"$f":"ASIN!D23148","v":0},{"$f":"ASIN!E23148","v":0},{"$f":"ASIN!F23148","v":0}]
[{"$f":"ASIN!A23181","v":0},{"$f":"ASIN!B23181","v":0},{"$f":"ASIN!C23181","v":0},{"$f":"ASIN!D23181","v":0},{"$f":"ASIN!E23181","v":0},{"$f":"ASIN!F23181","v":0}]
[{"$f":"ASIN!A23190","v":0},{"$f":"ASIN!B23190","v":0},{"$f":"ASIN!C23190","v":0},{"$f":"ASIN!D23190","v":0},{"$f":"ASIN!E23190","v":0},{"$f":"ASIN!F23190","v":0}]
[{"$f":"ASIN!A23215","v":0},{"$f":"ASIN!B23215","v":0},{"$f":"ASIN!C23215","v":0},{"$f":"ASIN!D23215","v":0},{"$f":"ASIN!E23215","v":0},{"$f":"ASIN!F23215","v":0}]
[{"$f":"ASIN!A23240","v":0},{"$f":"ASIN!B23240","v":0},{"$f":"ASIN!C23240","v":0},{"$f":"ASIN!D23240","v":0},{"$f":"ASIN!E23240","v":0},{"$f":"ASIN!F23240","v":0}]
[{"$f":"ASIN!A23256","v":0},{"$f":"ASIN!B23256","v":0},{"$f":"ASIN!C23256","v":0},{"$f":"ASIN!D23256","v":0},{"$f":"ASIN!E23256","v":0},{"$f":"ASIN!F23256","v":0}]
[{"$f":"ASIN!A23281","v":0},{"$f":"ASIN!B23281","v":0},{"$f":"ASIN!C23281","v":0},{"$f":"ASIN!D23281","v":0},{"$f":"ASIN!E23281","v":0},{"$f":"ASIN!F23281","v":0}]
[{"$f":"ASIN!A23314","v":0},{"$f":"ASIN!B23314","v":0},{"$f":"ASIN!C23314","v":0},{"$f":"ASIN!D23314","v":0},{"$f":"ASIN!E23314","v":0},{"$f":"ASIN!F23314","v":0}]
[{"$f":"ASIN!A23332","v":0},{"$f":"ASIN!B23332","v":0},{"$f":"ASIN!C23332","v":0},{"$f":"ASIN!D23332","v":0},{"$f":"ASIN!E23332","v":0},{"$f":"ASIN!F23332","v":0}]
[{"$f":"ASIN!A23371","v":0},{"$f":"ASIN!B23371","v":0},{"$f":"ASIN!C23371","v":0},{"$f":"ASIN!D23371","v":0},{"$f":"ASIN!E23371","v":0},{"$f":"ASIN!F23371","v":0}]
[{"$f":"ASIN!A23380","v":0},{"$f":"ASIN!B23380","v":0},{"$f":"ASIN!C23380","v":0},{"$f":"ASIN!D23380","v":0},{"$f":"ASIN!E23380","v":0},{"$f":"ASIN!F23380","v":0}]
[{"$f":"ASIN!A23405","v":0},{"$f":"ASIN!B23405","v":0},{"$f":"ASIN!C23405","v":0},{"$f":"ASIN!D23405","v":0},{"$f":"ASIN!E23405","v":0},{"$f":"ASIN!F23405","v":0}]
[{"$f":"ASIN!A23435","v":0},{"$f":"ASIN!B23435","v":0},{"$f":"ASIN!C23435","v":0},{"$f":"ASIN!D23435","v":0},{"$f":"ASIN!E23435","v":0},{"$f":"ASIN!F23435","v":0}]
[{"$f":"ASIN!A23446","v":0},{"$f":"ASIN!B23446","v":0},{"$f":"ASIN!C23446","v":0},{"$f":"ASIN!D23446","v":0},{"$f":"ASIN!E23446","v":0},{"$f":"ASIN!F23446","v":0}]
[{"$f":"ASIN!A23471","v":0},{"$f":"ASIN!B23471","v":0},{"$f":"ASIN!C23471","v":0},{"$f":"ASIN!D23471","v":0},{"$f":"ASIN!E23471","v":0},{"$f":"ASIN!F23471","v":0}]
[{"$f":"ASIN!A23504","v":0},{"$f":"ASIN!B23504","v":0},{"$f":"ASIN!C23504","v":0},{"$f":"ASIN!D23504","v":0},{"$f":"ASIN!E23504","v":0},{"$f":"ASIN!F23504","v":0}]
[{"$f":"ASIN!A23527","v":0},{"$f":"ASIN!B23527","v":0},{"$f":"ASIN!C23527","v":0},{"$f":"ASIN!D23527","v":0},{"$f":"ASIN!E23527","v":0},{"$f":"ASIN!F23527","v":0}]
[{"$f":"ASIN!A23561","v":0},{"$f":"ASIN!B23561","v":0},{"$f":"ASIN!C23561","v":0},{"$f":"ASIN!D23561","v":0},{"$f":"ASIN!E23561","v":0},{"$f":"ASIN!F23561","v":0}]
[{"$f":"ASIN!A23570","v":0},{"$f":"ASIN!B23570","v":0},{"$f":"ASIN!C23570","v":0},{"$f":"ASIN!D23570","v":0},{"$f":"ASIN!E23570","v":0},{"$f":"ASIN!F23570","v":0}]
[{"$f":"ASIN!A23595","v":0},{"$f":"ASIN!B23595","v":0},{"$f":"ASIN!C23595","v":0},{"$f":"ASIN!D23595","v":0},{"$f":"ASIN!E23595","v":0},{"$f":"ASIN!F23595","v":0}]
[{"$f":"ASIN!A23630","v":0},{"$f":"ASIN!B23630","v":0},{"$f":"ASIN!C23630","v":0},{"$f":"ASIN!D23630","v":0},{"$f":"ASIN!E23630","v":0},{"$f":"ASIN!F23630","v":0}]
[{"$f":"ASIN!A23636","v":0},{"$f":"ASIN!B23636","v":0},{"$f":"ASIN!C23636","v":0},{"$f":"ASIN!D23636","v":0},{"$f":"ASIN!E23636","v":0},{"$f":"ASIN!F23636","v":0}]
[{"$f":"ASIN!A23661","v":0},{"$f":"ASIN!B23661","v":0},{"$f":"ASIN!C23661","v":0},{"$f":"ASIN!D23661","v":0},{"$f":"ASIN!E23661","v":0},{"$f":"ASIN!F23661","v":0}]
[{"$f":"ASIN!A23694","v":0},{"$f":"ASIN!B23694","v":0},{"$f":"ASIN!C23694","v":0},{"$f":"ASIN!D23694","v":0},{"$f":"ASIN!E23694","v":0},{"$f":"ASIN!F23694","v":0}]
[{"$f":"ASIN!A23722","v":0},{"$f":"ASIN!B23722","v":0},{"$f":"ASIN!C23722","v":0},{"$f":"ASIN!D23722","v":0},{"$f":"ASIN!E23722","v":0},{"$f":"ASIN!F23722","v":0}]
[{"$f":"ASIN!A23751","v":0},{"$f":"ASIN!B23751","v":0},{"$f":"ASIN!C23751","v":0},{"$f":"ASIN!D23751","v":0},{"$f":"ASIN!E23751","v":0},{"$f":"ASIN!F23751","v":0}]
[{"$f":"ASIN!A23760","v":0},{"$f":"ASIN!B23760","v":0},{"$f":"ASIN!C23760","v":0},{"$f":"ASIN!D23760","v":0},{"$f":"ASIN!E23760","v":0},{"$f":"ASIN!F23760","v":0}]
[{"$f":"ASIN!A23785","v":0},{"$f":"ASIN!B23785","v":0},{"$f":"ASIN!C23785","v":0},{"$f":"ASIN!D23785","v":0},{"$f":"ASIN!E23785","v":0},{"$f":"ASIN!F23785","v":0}]
[{"$f":"ASIN!A23825","v":0},{"$f":"ASIN!B23825","v":0},{"$f":"ASIN!C23825","v":0},{"$f":"ASIN!D23825","v":0},{"$f":"ASIN!E23825","v":0},{"$f":"ASIN!F23825","v":0}]
[{"$f":"ASIN!A23842","v":0},{"$f":"ASIN!B23842","v":0},{"$f":"ASIN!C23842","v":0},{"$f":"ASIN!D23842","v":0},{"$f":"ASIN!E23842","v":0},{"$f":"ASIN!F23842","v":0}]
[{"$f":"ASIN!A23851","v":0},{"$f":"ASIN!B23851","v":0},{"$f":"ASIN!C23851","v":0},{"$f":"ASIN!D23851","v":0},{"$f":"ASIN!E23851","v":0},{"$f":"ASIN!F23851","v":0}]
[{"$f":"ASIN!A23884","v":0},{"$f":"ASIN!B23884","v":0},{"$f":"ASIN!C23884","v":0},{"$f":"ASIN!D23884","v":0},{"$f":"ASIN!E23884","v":0},{"$f":"ASIN!F23884","v":0}]
[{"$f":"ASIN!A23917","v":0},{"$f":"ASIN!B23917","v":0},{"$f":"ASIN!C23917","v":0},{"$f":"ASIN!D23917","v":0},{"$f":"ASIN!E23917","v":0},{"$f":"ASIN!F23917","v":0}]
[{"$f":"ASIN!A23941","v":0},{"$f":"ASIN!B23941","v":0},{"$f":"ASIN!C23941","v":0},{"$f":"ASIN!D23941","v":0},{"$f":"ASIN!E23941","v":0},{"$f":"ASIN!F23941","v":0}]
[{"$f":"ASIN!A23950","v":0},{"$f":"ASIN!B23950","v":0},{"$f":"ASIN!C23950","v":0},{"$f":"ASIN!D23950","v":0},{"$f":"ASIN!E23950","v":0},{"$f":"ASIN!F23950","v":0}]
[{"$f":"ASIN!A23975","v":0},{"$f":"ASIN!B23975","v":0},{"$f":"ASIN!C23975","v":0},{"$f":"ASIN!D23975","v":0},{"$f":"ASIN!E23975","v":0},{"$f":"ASIN!F23975","v":0}]
[{"$f":"ASIN!A23997","v":0},{"$f":"ASIN!B23997","v":0},{"$f":"ASIN!C23997","v":0},{"$f":"ASIN!D23997","v":0},{"$f":"ASIN!E23997","v":0},{"$f":"ASIN!F23997","v":0}]
[{"$f":"ASIN!A24032","v":0},{"$f":"ASIN!B24032","v":0},{"$f":"ASIN!C24032","v":0},{"$f":"ASIN!D24032","v":0},{"$f":"ASIN!E24032","v":0},{"$f":"ASIN!F24032","v":0}]
[{"$f":"ASIN!A24041","v":0},{"$f":"ASIN!B24041","v":0},{"$f":"ASIN!C24041","v":0},{"$f":"ASIN!D24041","v":0},{"$f":"ASIN!E24041","v":0},{"$f":"ASIN!F24041","v":0}]
[{"$f":"ASIN!A24074","v":0},{"$f":"ASIN!B24074","v":0},{"$f":"ASIN!C24074","v":0},{"$f":"ASIN!D24074","v":0},{"$f":"ASIN!E24074","v":0},{"$f":"ASIN!F24074","v":0}]
[{"$f":"ASIN!A24089","v":0},{"$f":"ASIN!B24089","v":0},{"$f":"ASIN!C24089","v":0},{"$f":"ASIN!D24089","v":0},{"$f":"ASIN!E24089","v":0},{"$f":"ASIN!F24089","v":0}]
[{"$f":"ASIN!A24131","v":0},{"$f":"ASIN!B24131","v":0},{"$f":"ASIN!C24131","v":0},{"$f":"ASIN!D24131","v":0},{"$f":"ASIN!E24131","v":0},{"$f":"ASIN!F24131","v":0}]
[{"$f":"ASIN!A24140","v":0},{"$f":"ASIN!B24140","v":0},{"$f":"ASIN!C24140","v":0},{"$f":"ASIN!D24140","v":0},{"$f":"ASIN!E24140","v":0},{"$f":"ASIN!F24140","v":0}]
[{"$f":"ASIN!A24165","v":0},{"$f":"ASIN!B24165","v":0},{"$f":"ASIN!C24165","v":0},{"$f":"ASIN!D24165","v":0},{"$f":"ASIN!E24165","v":0},{"$f":"ASIN!F24165","v":0}]
[{"$f":"ASIN!A24192","v":0},{"$f":"ASIN!B24192","v":0},{"$f":"ASIN!C24192","v":0},{"$f":"ASIN!D24192","v":0},{"$f":"ASIN!E24192","v":0},{"$f":"ASIN!F24192","v":0}]
[{"$f":"ASIN!A24222","v":0},{"$f":"ASIN!B24222","v":0},{"$f":"ASIN!C24222","v":0},{"$f":"ASIN!D24222","v":0},{"$f":"ASIN!E24222","v":0},{"$f":"ASIN!F24222","v":0}]
[{"$f":"ASIN!A24231","v":0},{"$f":"ASIN!B24231","v":0},{"$f":"ASIN!C24231","v":0},{"$f":"ASIN!D24231","v":0},{"$f":"ASIN!E24231","v":0},{"$f":"ASIN!F24231","v":0}]
[{"$f":"ASIN!A24264","v":0},{"$f":"ASIN!B24264","v":0},{"$f":"ASIN!C24264","v":0},{"$f":"ASIN!D24264","v":0},{"$f":"ASIN!E24264","v":0},{"$f":"ASIN!F24264","v":0}]
[{"$f":"ASIN!A24284","v":0},{"$f":"ASIN!B24284","v":0},{"$f":"ASIN!C24284","v":0},{"$f":"ASIN!D24284","v":0},{"$f":"ASIN!E24284","v":0},{"$f":"ASIN!F24284","v":0}]
[{"$f":"ASIN!A24321","v":0},{"$f":"ASIN!B24321","v":0},{"$f":"ASIN!C24321","v":0},{"$f":"ASIN!D24321","v":0},{"$f":"ASIN!E24321","v":0},{"$f":"ASIN!F24321","v":0}]
[{"$f":"ASIN!A24346","v":0},{"$f":"ASIN!B24346","v":0},{"$f":"ASIN!C24346","v":0},{"$f":"ASIN!D24346","v":0},{"$f":"ASIN!E24346","v":0},{"$f":"ASIN!F24346","v":0}]
[{"$f":"ASIN!A24355","v":0},{"$f":"ASIN!B24355","v":0},{"$f":"ASIN!C24355","v":0},{"$f":"ASIN!D24355","v":0},{"$f":"ASIN!E24355","v":0},{"$f":"ASIN!F24355","v":0}]
[{"$f":"ASIN!A24387","v":0},{"$f":"ASIN!B24387","v":0},{"$f":"ASIN!C24387","v":0},{"$f":"ASIN!D24387","v":0},{"$f":"ASIN!E24387","v":0},{"$f":"ASIN!F24387","v":0}]
[{"$f":"ASIN!A24412","v":0},{"$f":"ASIN!B24412","v":0},{"$f":"ASIN!C24412","v":0},{"$f":"ASIN!D24412","v":0},{"$f":"ASIN!E24412","v":0},{"$f":"ASIN!F24412","v":0}]
[{"$f":"ASIN!A24421","v":0},{"$f":"ASIN!B24421","v":0},{"$f":"ASIN!C24421","v":0},{"$f":"ASIN!D24421","v":0},{"$f":"ASIN!E24421","v":0},{"$f":"ASIN!F24421","v":0}]
[{"$f":"ASIN!A24454","v":0},{"$f":"ASIN!B24454","v":0},{"$f":"ASIN!C24454","v":0},{"$f":"ASIN!D24454","v":0},{"$f":"ASIN!E24454","v":0},{"$f":"ASIN!F24454","v":0}]
[{"$f":"ASIN!A24479","v":0},{"$f":"ASIN!B24479","v":0},{"$f":"ASIN!C24479","v":0},{"$f":"ASIN!D24479","v":0},{"$f":"ASIN!E24479","v":0},{"$f":"ASIN!F24479","v":0}]
[{"$f":"ASIN!A24511","v":0},{"$f":"ASIN!B24511","v":0},{"$f":"ASIN!C24511","v":0},{"$f":"ASIN!D24511","v":0},{"$f":"ASIN!E24511","v":0},{"$f":"ASIN!F24511","v":0}]
[{"$f":"ASIN!A24536","v":0},{"$f":"ASIN!B24536","v":0},{"$f":"ASIN!C24536","v":0},{"$f":"ASIN!D24536","v":0},{"$f":"ASIN!E24536","v":0},{"$f":"ASIN!F24536","v":0}]
[{"$f":"ASIN!A24545","v":0},{"$f":"ASIN!B24545","v":0},{"$f":"ASIN!C24545","v":0},{"$f":"ASIN!D24545","v":0},{"$f":"ASIN!E24545","v":0},{"$f":"ASIN!F24545","v":0}]
[{"$f":"ASIN!A24582","v":0},{"$f":"ASIN!B24582","v":0},{"$f":"ASIN!C24582","v":0},{"$f":"ASIN!D24582","v":0},{"$f":"ASIN!E24582","v":0},{"$f":"ASIN!F24582","v":0}]
[{"$f":"ASIN!A24602","v":0},{"$f":"ASIN!B24602","v":0},{"$f":"ASIN!C24602","v":0},{"$f":"ASIN!D24602","v":0},{"$f":"ASIN!E24602","v":0},{"$f":"ASIN!F24602","v":0}]
[{"$f":"ASIN!A24611","v":0},{"$f":"ASIN!B24611","v":0},{"$f":"ASIN!C24611","v":0},{"$f":"ASIN!D24611","v":0},{"$f":"ASIN!E24611","v":0},{"$f":"ASIN!F24611","v":0}]
[{"$f":"ASIN!A24636","v":0},{"$f":"ASIN!B24636","v":0},{"$f":"ASIN!C24636","v":0},{"$f":"ASIN!D24636","v":0},{"$f":"ASIN!E24636","v":0},{"$f":"ASIN!F24636","v":0}]
[{"$f":"ASIN!A24674","v":0},{"$f":"ASIN!B24674","v":0},{"$f":"ASIN!C24674","v":0},{"$f":"ASIN!D24674","v":0},{"$f":"ASIN!E24674","v":0},{"$f":"ASIN!F24674","v":0}]
[{"$f":"ASIN!A24701","v":0},{"$f":"ASIN!B24701","v":0},{"$f":"ASIN!C24701","v":0},{"$f":"ASIN!D24701","v":0},{"$f":"ASIN!E24701","v":0},{"$f":"ASIN!F24701","v":0}]
[{"$f":"ASIN!A24726","v":0},{"$f":"ASIN!B24726","v":0},{"$f":"ASIN!C24726","v":0},{"$f":"ASIN!D24726","v":0},{"$f":"ASIN!E24726","v":0},{"$f":"ASIN!F24726","v":0}]
[{"$f":"ASIN!A24735","v":0},{"$f":"ASIN!B24735","v":0},{"$f":"ASIN!C24735","v":0},{"$f":"ASIN!D24735","v":0},{"$f":"ASIN!E24735","v":0},{"$f":"ASIN!F24735","v":0}]
[{"$f":"ASIN!A24754","v":0},{"$f":"ASIN!B24754","v":0},{"$f":"ASIN!C24754","v":0},{"$f":"ASIN!D24754","v":0},{"$f":"ASIN!E24754","v":0},{"$f":"ASIN!F24754","v":0}]
[{"$f":"ASIN!A24792","v":0},{"$f":"ASIN!B24792","v":0},{"$f":"ASIN!C24792","v":0},{"$f":"ASIN!D24792","v":0},{"$f":"ASIN!E24792","v":0},{"$f":"ASIN!F24792","v":0}]
[{"$f":"ASIN!A24801","v":0},{"$f":"ASIN!B24801","v":0},{"$f":"ASIN!C24801","v":0},{"$f":"ASIN!D24801","v":0},{"$f":"ASIN!E24801","v":0},{"$f":"ASIN!F24801","v":0}]
[{"$f":"ASIN!A24826","v":0},{"$f":"ASIN!B24826","v":0},{"$f":"ASIN!C24826","v":0},{"$f":"ASIN!D24826","v":0},{"$f":"ASIN!E24826","v":0},{"$f":"ASIN!F24826","v":0}]
[{"$f":"ASIN!A24869","v":0},{"$f":"ASIN!B24869","v":0},{"$f":"ASIN!C24869","v":0},{"$f":"ASIN!D24869","v":0},{"$f":"ASIN!E24869","v":0},{"$f":"ASIN!F24869","v":0}]
[{"$f":"ASIN!A24891","v":0},{"$f":"ASIN!B24891","v":0},{"$f":"ASIN!C24891","v":0},{"$f":"ASIN!D24891","v":0},{"$f":"ASIN!E24891","v":0},{"$f":"ASIN!F24891","v":0}]
[{"$f":"ASIN!A24916","v":0},{"$f":"ASIN!B24916","v":0},{"$f":"ASIN!C24916","v":0},{"$f":"ASIN!D24916","v":0},{"$f":"ASIN!E24916","v":0},{"$f":"ASIN!F24916","v":0}]
[{"$f":"ASIN!A24925","v":0},{"$f":"ASIN!B24925","v":0},{"$f":"ASIN!C24925","v":0},{"$f":"ASIN!D24925","v":0},{"$f":"ASIN!E24925","v":0},{"$f":"ASIN!F24925","v":0}]
[{"$f":"ASIN!A24949","v":0},{"$f":"ASIN!B24949","v":0},{"$f":"ASIN!C24949","v":0},{"$f":"ASIN!D24949","v":0},{"$f":"ASIN!E24949","v":0},{"$f":"ASIN!F24949","v":0}]
[{"$f":"ASIN!A24982","v":0},{"$f":"ASIN!B24982","v":0},{"$f":"ASIN!C24982","v":0},{"$f":"ASIN!D24982","v":0},{"$f":"ASIN!E24982","v":0},{"$f":"ASIN!F24982","v":0}]
[{"$f":"ASIN!A24991","v":0},{"$f":"ASIN!B24991","v":0},{"$f":"ASIN!C24991","v":0},{"$f":"ASIN!D24991","v":0},{"$f":"ASIN!E24991","v":0},{"$f":"ASIN!F24991","v":0}]
[{"$f":"ASIN!A25016","v":0},{"$f":"ASIN!B25016","v":0},{"$f":"ASIN!C25016","v":0},{"$f":"ASIN!D25016","v":0},{"$f":"ASIN!E25016","v":0},{"$f":"ASIN!F25016","v":0}]
[{"$f":"ASIN!A25041","v":0},{"$f":"ASIN!B25041","v":0},{"$f":"ASIN!C25041","v":0},{"$f":"ASIN!D25041","v":0},{"$f":"ASIN!E25041","v":0},{"$f":"ASIN!F25041","v":0}]
[{"$f":"ASIN!A25081","v":0},{"$f":"ASIN!B25081","v":0},{"$f":"ASIN!C25081","v":0},{"$f":"ASIN!D25081","v":0},{"$f":"ASIN!E25081","v":0},{"$f":"ASIN!F25081","v":0}]
[{"$f":"ASIN!A25106","v":0},{"$f":"ASIN!B25106","v":0},{"$f":"ASIN!C25106","v":0},{"$f":"ASIN!D25106","v":0},{"$f":"ASIN!E25106","v":0},{"$f":"ASIN!F25106","v":0}]
[{"$f":"ASIN!A25115","v":0},{"$f":"ASIN!B25115","v":0},{"$f":"ASIN!C25115","v":0},{"$f":"ASIN!D25115","v":0},{"$f":"ASIN!E25115","v":0},{"$f":"ASIN!F25115","v":0}]
[{"$f":"ASIN!A25133","v":0},{"$f":"ASIN!B25133","v":0},{"$f":"ASIN!C25133","v":0},{"$f":"ASIN!D25133","v":0},{"$f":"ASIN!E25133","v":0},{"$f":"ASIN!F25133","v":0}]
[{"$f":"ASIN!A25172","v":0},{"$f":"ASIN!B25172","v":0},{"$f":"ASIN!C25172","v":0},{"$f":"ASIN!D25172","v":0},{"$f":"ASIN!E25172","v":0},{"$f":"ASIN!F25172","v":0}]
[{"$f":"ASIN!A25181","v":0},{"$f":"ASIN!B25181","v":0},{"$f":"ASIN!C25181","v":0},{"$f":"ASIN!D25181","v":0},{"$f":"ASIN!E25181","v":0},{"$f":"ASIN!F25181","v":0}]
[{"$f":"ASIN!A25206","v":0},{"$f":"ASIN!B25206","v":0},{"$f":"ASIN!C25206","v":0},{"$f":"ASIN!D25206","v":0},{"$f":"ASIN!E25206","v":0},{"$f":"ASIN!F25206","v":0}]
[{"$f":"ASIN!A25236","v":0},{"$f":"ASIN!B25236","v":0},{"$f":"ASIN!C25236","v":0},{"$f":"ASIN!D25236","v":0},{"$f":"ASIN!E25236","v":0},{"$f":"ASIN!F25236","v":0}]
[{"$f":"ASIN!A25271","v":0},{"$f":"ASIN!B25271","v":0},{"$f":"ASIN!C25271","v":0},{"$f":"ASIN!D25271","v":0},{"$f":"ASIN!E25271","v":0},{"$f":"ASIN!F25271","v":0}]
[{"$f":"ASIN!A25296","v":0},{"$f":"ASIN!B25296","v":0},{"$f":"ASIN!C25296","v":0},{"$f":"ASIN!D25296","v":0},{"$f":"ASIN!E25296","v":0},{"$f":"ASIN!F25296","v":0}]
[{"$f":"ASIN!A25305","v":0},{"$f":"ASIN!B25305","v":0},{"$f":"ASIN!C25305","v":0},{"$f":"ASIN!D25305","v":0},{"$f":"ASIN!E25305","v":0},{"$f":"ASIN!F25305","v":0}]
[{"$f":"ASIN!A25328","v":0},{"$f":"ASIN!B25328","v":0},{"$f":"ASIN!C25328","v":0},{"$f":"ASIN!D25328","v":0},{"$f":"ASIN!E25328","v":0},{"$f":"ASIN!F25328","v":0}]
[{"$f":"ASIN!A25362","v":0},{"$f":"ASIN!B25362","v":0},{"$f":"ASIN!C25362","v":0},{"$f":"ASIN!D25362","v":0},{"$f":"ASIN!E25362","v":0},{"$f":"ASIN!F25362","v":0}]
[{"$f":"ASIN!A25371","v":0},{"$f":"ASIN!B25371","v":0},{"$f":"ASIN!C25371","v":0},{"$f":"ASIN!D25371","v":0},{"$f":"ASIN!E25371","v":0},{"$f":"ASIN!F25371","v":0}]
[{"$f":"ASIN!A25396","v":0},{"$f":"ASIN!B25396","v":0},{"$f":"ASIN!C25396","v":0},{"$f":"ASIN!D25396","v":0},{"$f":"ASIN!E25396","v":0},{"$f":"ASIN!F25396","v":0}]
[{"$f":"ASIN!A25431","v":0},{"$f":"ASIN!B25431","v":0},{"$f":"ASIN!C25431","v":0},{"$f":"ASIN!D25431","v":0},{"$f":"ASIN!E25431","v":0},{"$f":"ASIN!F25431","v":0}]
[{"$f":"ASIN!A25453","v":0},{"$f":"ASIN!B25453","v":0},{"$f":"ASIN!C25453","v":0},{"$f":"ASIN!D25453","v":0},{"$f":"ASIN!E25453","v":0},{"$f":"ASIN!F25453","v":0}]
[{"$f":"ASIN!A25486","v":0},{"$f":"ASIN!B25486","v":0},{"$f":"ASIN!C25486","v":0},{"$f":"ASIN!D25486","v":0},{"$f":"ASIN!E25486","v":0},{"$f":"ASIN!F25486","v":0}]
[{"$f":"ASIN!A25495","v":0},{"$f":"ASIN!B25495","v":0},{"$f":"ASIN!C25495","v":0},{"$f":"ASIN!D25495","v":0},{"$f":"ASIN!E25495","v":0},{"$f":"ASIN!F25495","v":0}]
[{"$f":"ASIN!A25523","v":0},{"$f":"ASIN!B25523","v":0},{"$f":"ASIN!C25523","v":0},{"$f":"ASIN!D25523","v":0},{"$f":"ASIN!E25523","v":0},{"$f":"ASIN!F25523","v":0}]
[{"$f":"ASIN!A25552","v":0},{"$f":"ASIN!B25552","v":0},{"$f":"ASIN!C25552","v":0},{"$f":"ASIN!D25552","v":0},{"$f":"ASIN!E25552","v":0},{"$f":"ASIN!F25552","v":0}]
[{"$f":"ASIN!A25561","v":0},{"$f":"ASIN!B25561","v":0},{"$f":"ASIN!C25561","v":0},{"$f":"ASIN!D25561","v":0},{"$f":"ASIN!E25561","v":0},{"$f":"ASIN!F25561","v":0}]
[{"$f":"ASIN!A25586","v":0},{"$f":"ASIN!B25586","v":0},{"$f":"ASIN!C25586","v":0},{"$f":"ASIN!D25586","v":0},{"$f":"ASIN!E25586","v":0},{"$f":"ASIN!F25586","v":0}]
[{"$f":"ASIN!A25626","v":0},{"$f":"ASIN!B25626","v":0},{"$f":"ASIN!C25626","v":0},{"$f":"ASIN!D25626","v":0},{"$f":"ASIN!E25626","v":0},{"$f":"ASIN!F25626","v":0}]
[{"$f":"ASIN!A25643","v":0},{"$f":"ASIN!B25643","v":0},{"$f":"ASIN!C25643","v":0},{"$f":"ASIN!D25643","v":0},{"$f":"ASIN!E25643","v":0},{"$f":"ASIN!F25643","v":0}]
[{"$f":"ASIN!A25676","v":0},{"$f":"ASIN!B25676","v":0},{"$f":"ASIN!C25676","v":0},{"$f":"ASIN!D25676","v":0},{"$f":"ASIN!E25676","v":0},{"$f":"ASIN!F25676","v":0}]
[{"$f":"ASIN!A25685","v":0},{"$f":"ASIN!B25685","v":0},{"$f":"ASIN!C25685","v":0},{"$f":"ASIN!D25685","v":0},{"$f":"ASIN!E25685","v":0},{"$f":"ASIN!F25685","v":0}]
[{"$f":"ASIN!A25718","v":0},{"$f":"ASIN!B25718","v":0},{"$f":"ASIN!C25718","v":0},{"$f":"ASIN!D25718","v":0},{"$f":"ASIN!E25718","v":0},{"$f":"ASIN!F25718","v":0}]
[{"$f":"ASIN!A25742","v":0},{"$f":"ASIN!B25742","v":0},{"$f":"ASIN!C25742","v":0},{"$f":"ASIN!D25742","v":0},{"$f":"ASIN!E25742","v":0},{"$f":"ASIN!F25742","v":0}]
[{"$f":"ASIN!A25751","v":0},{"$f":"ASIN!B25751","v":0},{"$f":"ASIN!C25751","v":0},{"$f":"ASIN!D25751","v":0},{"$f":"ASIN!E25751","v":0},{"$f":"ASIN!F25751","v":0}]
[{"$f":"ASIN!A25775","v":0},{"$f":"ASIN!B25775","v":0},{"$f":"ASIN!C25775","v":0},{"$f":"ASIN!D25775","v":0},{"$f":"ASIN!E25775","v":0},{"$f":"ASIN!F25775","v":0}]
[{"$f":"ASIN!A25808","v":0},{"$f":"ASIN!B25808","v":0},{"$f":"ASIN!C25808","v":0},{"$f":"ASIN!D25808","v":0},{"$f":"ASIN!E25808","v":0},{"$f":"ASIN!F25808","v":0}]
[{"$f":"ASIN!A25833","v":0},{"$f":"ASIN!B25833","v":0},{"$f":"ASIN!C25833","v":0},{"$f":"ASIN!D25833","v":0},{"$f":"ASIN!E25833","v":0},{"$f":"ASIN!F25833","v":0}]
[{"$f":"ASIN!A25866","v":0},{"$f":"ASIN!B25866","v":0},{"$f":"ASIN!C25866","v":0},{"$f":"ASIN!D25866","v":0},{"$f":"ASIN!E25866","v":0},{"$f":"ASIN!F25866","v":0}]
[{"$f":"ASIN!A25878","v":0},{"$f":"ASIN!B25878","v":0},{"$f":"ASIN!C25878","v":0},{"$f":"ASIN!D25878","v":0},{"$f":"ASIN!E25878","v":0},{"$f":"ASIN!F25878","v":0}]
[{"$f":"ASIN!A25899","v":0},{"$f":"ASIN!B25899","v":0},{"$f":"ASIN!C25899","v":0},{"$f":"ASIN!D25899","v":0},{"$f":"ASIN!E25899","v":0},{"$f":"ASIN!F25899","v":0}]
[{"$f":"ASIN!A25932","v":0},{"$f":"ASIN!B25932","v":0},{"$f":"ASIN!C25932","v":0},{"$f":"ASIN!D25932","v":0},{"$f":"ASIN!E25932","v":0},{"$f":"ASIN!F25932","v":0}]
[{"$f":"ASIN!A25957","v":0},{"$f":"ASIN!B25957","v":0},{"$f":"ASIN!C25957","v":0},{"$f":"ASIN!D25957","v":0},{"$f":"ASIN!E25957","v":0},{"$f":"ASIN!F25957","v":0}]
[{"$f":"ASIN!A25970","v":0},{"$f":"ASIN!B25970","v":0},{"$f":"ASIN!C25970","v":0},{"$f":"ASIN!D25970","v":0},{"$f":"ASIN!E25970","v":0},{"$f":"ASIN!F25970","v":0}]
[{"$f":"ASIN!A25998","v":0},{"$f":"ASIN!B25998","v":0},{"$f":"ASIN!C25998","v":0},{"$f":"ASIN!D25998","v":0},{"$f":"ASIN!E25998","v":0},{"$f":"ASIN!F25998","v":0}]
[{"$f":"ASIN!A26023","v":0},{"$f":"ASIN!B26023","v":0},{"$f":"ASIN!C26023","v":0},{"$f":"ASIN!D26023","v":0},{"$f":"ASIN!E26023","v":0},{"$f":"ASIN!F26023","v":0}]
[{"$f":"ASIN!A26056","v":0},{"$f":"ASIN!B26056","v":0},{"$f":"ASIN!C26056","v":0},{"$f":"ASIN!D26056","v":0},{"$f":"ASIN!E26056","v":0},{"$f":"ASIN!F26056","v":0}]
[{"$f":"ASIN!A26073","v":0},{"$f":"ASIN!B26073","v":0},{"$f":"ASIN!C26073","v":0},{"$f":"ASIN!D26073","v":0},{"$f":"ASIN!E26073","v":0},{"$f":"ASIN!F26073","v":0}]
[{"$f":"ASIN!A26089","v":0},{"$f":"ASIN!B26089","v":0},{"$f":"ASIN!C26089","v":0},{"$f":"ASIN!D26089","v":0},{"$f":"ASIN!E26089","v":0},{"$f":"ASIN!F26089","v":0}]
[{"$f":"ASIN!A26122","v":0},{"$f":"ASIN!B26122","v":0},{"$f":"ASIN!C26122","v":0},{"$f":"ASIN!D26122","v":0},{"$f":"ASIN!E26122","v":0},{"$f":"ASIN!F26122","v":0}]
[{"$f":"ASIN!A26147","v":0},{"$f":"ASIN!B26147","v":0},{"$f":"ASIN!C26147","v":0},{"$f":"ASIN!D26147","v":0},{"$f":"ASIN!E26147","v":0},{"$f":"ASIN!F26147","v":0}]
[{"$f":"ASIN!A26165","v":0},{"$f":"ASIN!B26165","v":0},{"$f":"ASIN!C26165","v":0},{"$f":"ASIN!D26165","v":0},{"$f":"ASIN!E26165","v":0},{"$f":"ASIN!F26165","v":0}]
[{"$f":"ASIN!A26188","v":0},{"$f":"ASIN!B26188","v":0},{"$f":"ASIN!C26188","v":0},{"$f":"ASIN!D26188","v":0},{"$f":"ASIN!E26188","v":0},{"$f":"ASIN!F26188","v":0}]
[{"$f":"ASIN!A26213","v":0},{"$f":"ASIN!B26213","v":0},{"$f":"ASIN!C26213","v":0},{"$f":"ASIN!D26213","v":0},{"$f":"ASIN!E26213","v":0},{"$f":"ASIN!F26213","v":0}]
[{"$f":"ASIN!A26246","v":0},{"$f":"ASIN!B26246","v":0},{"$f":"ASIN!C26246","v":0},{"$f":"ASIN!D26246","v":0},{"$f":"ASIN!E26246","v":0},{"$f":"ASIN!F26246","v":0}]
[{"$f":"ASIN!A26268","v":0},{"$f":"ASIN!B26268","v":0},{"$f":"ASIN!C26268","v":0},{"$f":"ASIN!D26268","v":0},{"$f":"ASIN!E26268","v":0},{"$f":"ASIN!F26268","v":0}]
[{"$f":"ASIN!A26279","v":0},{"$f":"ASIN!B26279","v":0},{"$f":"ASIN!C26279","v":0},{"$f":"ASIN!D26279","v":0},{"$f":"ASIN!E26279","v":0},{"$f":"ASIN!F26279","v":0}]
[{"$f":"ASIN!A26312","v":0},{"$f":"ASIN!B26312","v":0},{"$f":"ASIN!C26312","v":0},{"$f":"ASIN!D26312","v":0},{"$f":"ASIN!E26312","v":0},{"$f":"ASIN!F26312","v":0}]
[{"$f":"ASIN!A26337","v":0},{"$f":"ASIN!B26337","v":0},{"$f":"ASIN!C26337","v":0},{"$f":"ASIN!D26337","v":0},{"$f":"ASIN!E26337","v":0},{"$f":"ASIN!F26337","v":0}]
[{"$f":"ASIN!A26360","v":0},{"$f":"ASIN!B26360","v":0},{"$f":"ASIN!C26360","v":0},{"$f":"ASIN!D26360","v":0},{"$f":"ASIN!E26360","v":0},{"$f":"ASIN!F26360","v":0}]
[{"$f":"ASIN!A26378","v":0},{"$f":"ASIN!B26378","v":0},{"$f":"ASIN!C26378","v":0},{"$f":"ASIN!D26378","v":0},{"$f":"ASIN!E26378","v":0},{"$f":"ASIN!F26378","v":0}]
[{"$f":"ASIN!A26403","v":0},{"$f":"ASIN!B26403","v":0},{"$f":"ASIN!C26403","v":0},{"$f":"ASIN!D26403","v":0},{"$f":"ASIN!E26403","v":0},{"$f":"ASIN!F26403","v":0}]
[{"$f":"ASIN!A26436","v":0},{"$f":"ASIN!B26436","v":0},{"$f":"ASIN!C26436","v":0},{"$f":"ASIN!D26436","v":0},{"$f":"ASIN!E26436","v":0},{"$f":"ASIN!F26436","v":0}]
[{"$f":"ASIN!A26452","v":0},{"$f":"ASIN!B26452","v":0},{"$f":"ASIN!C26452","v":0},{"$f":"ASIN!D26452","v":0},{"$f":"ASIN!E26452","v":0},{"$f":"ASIN!F26452","v":0}]
[{"$f":"ASIN!A26469","v":0},{"$f":"ASIN!B26469","v":0},{"$f":"ASIN!C26469","v":0},{"$f":"ASIN!D26469","v":0},{"$f":"ASIN!E26469","v":0},{"$f":"ASIN!F26469","v":0}]
[{"$f":"ASIN!A26502","v":0},{"$f":"ASIN!B26502","v":0},{"$f":"ASIN!C26502","v":0},{"$f":"ASIN!D26502","v":0},{"$f":"ASIN!E26502","v":0},{"$f":"ASIN!F26502","v":0}]
[{"$f":"ASIN!A26527","v":0},{"$f":"ASIN!B26527","v":0},{"$f":"ASIN!C26527","v":0},{"$f":"ASIN!D26527","v":0},{"$f":"ASIN!E26527","v":0},{"$f":"ASIN!F26527","v":0}]
[{"$f":"ASIN!A26555","v":0},{"$f":"ASIN!B26555","v":0},{"$f":"ASIN!C26555","v":0},{"$f":"ASIN!D26555","v":0},{"$f":"ASIN!E26555","v":0},{"$f":"ASIN!F26555","v":0}]
[{"$f":"ASIN!A26568","v":0},{"$f":"ASIN!B26568","v":0},{"$f":"ASIN!C26568","v":0},{"$f":"ASIN!D26568","v":0},{"$f":"ASIN!E26568","v":0},{"$f":"ASIN!F26568","v":0}]
[{"$f":"ASIN!A26593","v":0},{"$f":"ASIN!B26593","v":0},{"$f":"ASIN!C26593","v":0},{"$f":"ASIN!D26593","v":0},{"$f":"ASIN!E26593","v":0},{"$f":"ASIN!F26593","v":0}]
[{"$f":"ASIN!A26626","v":0},{"$f":"ASIN!B26626","v":0},{"$f":"ASIN!C26626","v":0},{"$f":"ASIN!D26626","v":0},{"$f":"ASIN!E26626","v":0},{"$f":"ASIN!F26626","v":0}]
[{"$f":"ASIN!A26647","v":0},{"$f":"ASIN!B26647","v":0},{"$f":"ASIN!C26647","v":0},{"$f":"ASIN!D26647","v":0},{"$f":"ASIN!E26647","v":0},{"$f":"ASIN!F26647","v":0}]
[{"$f":"ASIN!A26659","v":0},{"$f":"ASIN!B26659","v":0},{"$f":"ASIN!C26659","v":0},{"$f":"ASIN!D26659","v":0},{"$f":"ASIN!E26659","v":0},{"$f":"ASIN!F26659","v":0}]
[{"$f":"ASIN!A26692","v":0},{"$f":"ASIN!B26692","v":0},{"$f":"ASIN!C26692","v":0},{"$f":"ASIN!D26692","v":0},{"$f":"ASIN!E26692","v":0},{"$f":"ASIN!F26692","v":0}]
[{"$f":"ASIN!A26717","v":0},{"$f":"ASIN!B26717","v":0},{"$f":"ASIN!C26717","v":0},{"$f":"ASIN!D26717","v":0},{"$f":"ASIN!E26717","v":0},{"$f":"ASIN!F26717","v":0}]
[{"$f":"ASIN!A26727","v":0},{"$f":"ASIN!B26727","v":0},{"$f":"ASIN!C26727","v":0},{"$f":"ASIN!D26727","v":0},{"$f":"ASIN!E26727","v":0},{"$f":"ASIN!F26727","v":0}]
[{"$f":"ASIN!A26750","v":0},{"$f":"ASIN!B26750","v":0},{"$f":"ASIN!C26750","v":0},{"$f":"ASIN!D26750","v":0},{"$f":"ASIN!E26750","v":0},{"$f":"ASIN!F26750","v":0}]
[{"$f":"ASIN!A26783","v":0},{"$f":"ASIN!B26783","v":0},{"$f":"ASIN!C26783","v":0},{"$f":"ASIN!D26783","v":0},{"$f":"ASIN!E26783","v":0},{"$f":"ASIN!F26783","v":0}]
[{"$f":"ASIN!A26816","v":0},{"$f":"ASIN!B26816","v":0},{"$f":"ASIN!C26816","v":0},{"$f":"ASIN!D26816","v":0},{"$f":"ASIN!E26816","v":0},{"$f":"ASIN!F26816","v":0}]
[{"$f":"ASIN!A26819","v":0},{"$f":"ASIN!B26819","v":0},{"$f":"ASIN!C26819","v":0},{"$f":"ASIN!D26819","v":0},{"$f":"ASIN!E26819","v":0},{"$f":"ASIN!F26819","v":0}]
[{"$f":"ASIN!A26849","v":0},{"$f":"ASIN!B26849","v":0},{"$f":"ASIN!C26849","v":0},{"$f":"ASIN!D26849","v":0},{"$f":"ASIN!E26849","v":0},{"$f":"ASIN!F26849","v":0}]
[{"$f":"ASIN!A26882","v":0},{"$f":"ASIN!B26882","v":0},{"$f":"ASIN!C26882","v":0},{"$f":"ASIN!D26882","v":0},{"$f":"ASIN!E26882","v":0},{"$f":"ASIN!F26882","v":0}]
[{"$f":"ASIN!A26907","v":0},{"$f":"ASIN!B26907","v":0},{"$f":"ASIN!C26907","v":0},{"$f":"ASIN!D26907","v":0},{"$f":"ASIN!E26907","v":0},{"$f":"ASIN!F26907","v":0}]
[{"$f":"ASIN!A26922","v":0},{"$f":"ASIN!B26922","v":0},{"$f":"ASIN!C26922","v":0},{"$f":"ASIN!D26922","v":0},{"$f":"ASIN!E26922","v":0},{"$f":"ASIN!F26922","v":0}]
[{"$f":"ASIN!A26940","v":0},{"$f":"ASIN!B26940","v":0},{"$f":"ASIN!C26940","v":0},{"$f":"ASIN!D26940","v":0},{"$f":"ASIN!E26940","v":0},{"$f":"ASIN!F26940","v":0}]
[{"$f":"ASIN!A26973","v":0},{"$f":"ASIN!B26973","v":0},{"$f":"ASIN!C26973","v":0},{"$f":"ASIN!D26973","v":0},{"$f":"ASIN!E26973","v":0},{"$f":"ASIN!F26973","v":0}]
[{"$f":"ASIN!A27006","v":0},{"$f":"ASIN!B27006","v":0},{"$f":"ASIN!C27006","v":0},{"$f":"ASIN!D27006","v":0},{"$f":"ASIN!E27006","v":0},{"$f":"ASIN!F27006","v":0}]
[{"$f":"ASIN!A27014","v":0},{"$f":"ASIN!B27014","v":0},{"$f":"ASIN!C27014","v":0},{"$f":"ASIN!D27014","v":0},{"$f":"ASIN!E27014","v":0},{"$f":"ASIN!F27014","v":0}]
[{"$f":"ASIN!A27039","v":0},{"$f":"ASIN!B27039","v":0},{"$f":"ASIN!C27039","v":0},{"$f":"ASIN!D27039","v":0},{"$f":"ASIN!E27039","v":0},{"$f":"ASIN!F27039","v":0}]
[{"$f":"ASIN!A27072","v":0},{"$f":"ASIN!B27072","v":0},{"$f":"ASIN!C27072","v":0},{"$f":"ASIN!D27072","v":0},{"$f":"ASIN!E27072","v":0},{"$f":"ASIN!F27072","v":0}]
[{"$f":"ASIN!A27097","v":0},{"$f":"ASIN!B27097","v":0},{"$f":"ASIN!C27097","v":0},{"$f":"ASIN!D27097","v":0},{"$f":"ASIN!E27097","v":0},{"$f":"ASIN!F27097","v":0}]
[{"$f":"ASIN!A27117","v":0},{"$f":"ASIN!B27117","v":0},{"$f":"ASIN!C27117","v":0},{"$f":"ASIN!D27117","v":0},{"$f":"ASIN!E27117","v":0},{"$f":"ASIN!F27117","v":0}]
[{"$f":"ASIN!A27130","v":0},{"$f":"ASIN!B27130","v":0},{"$f":"ASIN!C27130","v":0},{"$f":"ASIN!D27130","v":0},{"$f":"ASIN!E27130","v":0},{"$f":"ASIN!F27130","v":0}]
[{"$f":"ASIN!A27163","v":0},{"$f":"ASIN!B27163","v":0},{"$f":"ASIN!C27163","v":0},{"$f":"ASIN!D27163","v":0},{"$f":"ASIN!E27163","v":0},{"$f":"ASIN!F27163","v":0}]
[{"$f":"ASIN!A27196","v":0},{"$f":"ASIN!B27196","v":0},{"$f":"ASIN!C27196","v":0},{"$f":"ASIN!D27196","v":0},{"$f":"ASIN!E27196","v":0},{"$f":"ASIN!F27196","v":0}]
[{"$f":"ASIN!A27209","v":0},{"$f":"ASIN!B27209","v":0},{"$f":"ASIN!C27209","v":0},{"$f":"ASIN!D27209","v":0},{"$f":"ASIN!E27209","v":0},{"$f":"ASIN!F27209","v":0}]
[{"$f":"ASIN!A27229","v":0},{"$f":"ASIN!B27229","v":0},{"$f":"ASIN!C27229","v":0},{"$f":"ASIN!D27229","v":0},{"$f":"ASIN!E27229","v":0},{"$f":"ASIN!F27229","v":0}]
[{"$f":"ASIN!A27254","v":0},{"$f":"ASIN!B27254","v":0},{"$f":"ASIN!C27254","v":0},{"$f":"ASIN!D27254","v":0},{"$f":"ASIN!E27254","v":0},{"$f":"ASIN!F27254","v":0}]
[{"$f":"ASIN!A27287","v":0},{"$f":"ASIN!B27287","v":0},{"$f":"ASIN!C27287","v":0},{"$f":"ASIN!D27287","v":0},{"$f":"ASIN!E27287","v":0},{"$f":"ASIN!F27287","v":0}]
[{"$f":"ASIN!A27312","v":0},{"$f":"ASIN!B27312","v":0},{"$f":"ASIN!C27312","v":0},{"$f":"ASIN!D27312","v":0},{"$f":"ASIN!E27312","v":0},{"$f":"ASIN!F27312","v":0}]
[{"$f":"ASIN!A27320","v":0},{"$f":"ASIN!B27320","v":0},{"$f":"ASIN!C27320","v":0},{"$f":"ASIN!D27320","v":0},{"$f":"ASIN!E27320","v":0},{"$f":"ASIN!F27320","v":0}]
[{"$f":"ASIN!A27353","v":0},{"$f":"ASIN!B27353","v":0},{"$f":"ASIN!C27353","v":0},{"$f":"ASIN!D27353","v":0},{"$f":"ASIN!E27353","v":0},{"$f":"ASIN!F27353","v":0}]
[{"$f":"ASIN!A27386","v":0},{"$f":"ASIN!B27386","v":0},{"$f":"ASIN!C27386","v":0},{"$f":"ASIN!D27386","v":0},{"$f":"ASIN!E27386","v":0},{"$f":"ASIN!F27386","v":0}]
[{"$f":"ASIN!A27404","v":0},{"$f":"ASIN!B27404","v":0},{"$f":"ASIN!C27404","v":0},{"$f":"ASIN!D27404","v":0},{"$f":"ASIN!E27404","v":0},{"$f":"ASIN!F27404","v":0}]
[{"$f":"ASIN!A27419","v":0},{"$f":"ASIN!B27419","v":0},{"$f":"ASIN!C27419","v":0},{"$f":"ASIN!D27419","v":0},{"$f":"ASIN!E27419","v":0},{"$f":"ASIN!F27419","v":0}]
[{"$f":"ASIN!A27444","v":0},{"$f":"ASIN!B27444","v":0},{"$f":"ASIN!C27444","v":0},{"$f":"ASIN!D27444","v":0},{"$f":"ASIN!E27444","v":0},{"$f":"ASIN!F27444","v":0}]
[{"$f":"ASIN!A27477","v":0},{"$f":"ASIN!B27477","v":0},{"$f":"ASIN!C27477","v":0},{"$f":"ASIN!D27477","v":0},{"$f":"ASIN!E27477","v":0},{"$f":"ASIN!F27477","v":0}]
[{"$f":"ASIN!A27484","v":0},{"$f":"ASIN!B27484","v":0},{"$f":"ASIN!C27484","v":0},{"$f":"ASIN!D27484","v":0},{"$f":"ASIN!E27484","v":0},{"$f":"ASIN!F27484","v":0}]
[{"$f":"ASIN!A27510","v":0},{"$f":"ASIN!B27510","v":0},{"$f":"ASIN!C27510","v":0},{"$f":"ASIN!D27510","v":0},{"$f":"ASIN!E27510","v":0},{"$f":"ASIN!F27510","v":0}]
[{"$f":"ASIN!A27543","v":0},{"$f":"ASIN!B27543","v":0},{"$f":"ASIN!C27543","v":0},{"$f":"ASIN!D27543","v":0},{"$f":"ASIN!E27543","v":0},{"$f":"ASIN!F27543","v":0}]
[{"$f":"ASIN!A27576","v":0},{"$f":"ASIN!B27576","v":0},{"$f":"ASIN!C27576","v":0},{"$f":"ASIN!D27576","v":0},{"$f":"ASIN!E27576","v":0},{"$f":"ASIN!F27576","v":0}]
[{"$f":"ASIN!A27599","v":0},{"$f":"ASIN!B27599","v":0},{"$f":"ASIN!C27599","v":0},{"$f":"ASIN!D27599","v":0},{"$f":"ASIN!E27599","v":0},{"$f":"ASIN!F27599","v":0}]
[{"$f":"ASIN!A27609","v":0},{"$f":"ASIN!B27609","v":0},{"$f":"ASIN!C27609","v":0},{"$f":"ASIN!D27609","v":0},{"$f":"ASIN!E27609","v":0},{"$f":"ASIN!F27609","v":0}]
[{"$f":"ASIN!A27634","v":0},{"$f":"ASIN!B27634","v":0},{"$f":"ASIN!C27634","v":0},{"$f":"ASIN!D27634","v":0},{"$f":"ASIN!E27634","v":0},{"$f":"ASIN!F27634","v":0}]
[{"$f":"ASIN!A27667","v":0},{"$f":"ASIN!B27667","v":0},{"$f":"ASIN!C27667","v":0},{"$f":"ASIN!D27667","v":0},{"$f":"ASIN!E27667","v":0},{"$f":"ASIN!F27667","v":0}]
[{"$f":"ASIN!A27679","v":0},{"$f":"ASIN!B27679","v":0},{"$f":"ASIN!C27679","v":0},{"$f":"ASIN!D27679","v":0},{"$f":"ASIN!E27679","v":0},{"$f":"ASIN!F27679","v":0}]
[{"$f":"ASIN!A27700","v":0},{"$f":"ASIN!B27700","v":0},{"$f":"ASIN!C27700","v":0},{"$f":"ASIN!D27700","v":0},{"$f":"ASIN!E27700","v":0},{"$f":"ASIN!F27700","v":0}]
[{"$f":"ASIN!A27733","v":0},{"$f":"ASIN!B27733","v":0},{"$f":"ASIN!C27733","v":0},{"$f":"ASIN!D27733","v":0},{"$f":"ASIN!E27733","v":0},{"$f":"ASIN!F27733","v":0}]
[{"$f":"ASIN!A27758","v":0},{"$f":"ASIN!B27758","v":0},{"$f":"ASIN!C27758","v":0},{"$f":"ASIN!D27758","v":0},{"$f":"ASIN!E27758","v":0},{"$f":"ASIN!F27758","v":0}]
[{"$f":"ASIN!A27771","v":0},{"$f":"ASIN!B27771","v":0},{"$f":"ASIN!C27771","v":0},{"$f":"ASIN!D27771","v":0},{"$f":"ASIN!E27771","v":0},{"$f":"ASIN!F27771","v":0}]
[{"$f":"ASIN!A27799","v":0},{"$f":"ASIN!B27799","v":0},{"$f":"ASIN!C27799","v":0},{"$f":"ASIN!D27799","v":0},{"$f":"ASIN!E27799","v":0},{"$f":"ASIN!F27799","v":0}]
[{"$f":"ASIN!A27824","v":0},{"$f":"ASIN!B27824","v":0},{"$f":"ASIN!C27824","v":0},{"$f":"ASIN!D27824","v":0},{"$f":"ASIN!E27824","v":0},{"$f":"ASIN!F27824","v":0}]
[{"$f":"ASIN!A27857","v":0},{"$f":"ASIN!B27857","v":0},{"$f":"ASIN!C27857","v":0},{"$f":"ASIN!D27857","v":0},{"$f":"ASIN!E27857","v":0},{"$f":"ASIN!F27857","v":0}]
[{"$f":"ASIN!A27874","v":0},{"$f":"ASIN!B27874","v":0},{"$f":"ASIN!C27874","v":0},{"$f":"ASIN!D27874","v":0},{"$f":"ASIN!E27874","v":0},{"$f":"ASIN!F27874","v":0}]
[{"$f":"ASIN!A27890","v":0},{"$f":"ASIN!B27890","v":0},{"$f":"ASIN!C27890","v":0},{"$f":"ASIN!D27890","v":0},{"$f":"ASIN!E27890","v":0},{"$f":"ASIN!F27890","v":0}]
[{"$f":"ASIN!A27923","v":0},{"$f":"ASIN!B27923","v":0},{"$f":"ASIN!C27923","v":0},{"$f":"ASIN!D27923","v":0},{"$f":"ASIN!E27923","v":0},{"$f":"ASIN!F27923","v":0}]
[{"$f":"ASIN!A27948","v":0},{"$f":"ASIN!B27948","v":0},{"$f":"ASIN!C27948","v":0},{"$f":"ASIN!D27948","v":0},{"$f":"ASIN!E27948","v":0},{"$f":"ASIN!F27948","v":0}]
[{"$f":"ASIN!A27966","v":0},{"$f":"ASIN!B27966","v":0},{"$f":"ASIN!C27966","v":0},{"$f":"ASIN!D27966","v":0},{"$f":"ASIN!E27966","v":0},{"$f":"ASIN!F27966","v":0}]
[{"$f":"ASIN!A27989","v":0},{"$f":"ASIN!B27989","v":0},{"$f":"ASIN!C27989","v":0},{"$f":"ASIN!D27989","v":0},{"$f":"ASIN!E27989","v":0},{"$f":"ASIN!F27989","v":0}]
[{"$f":"ASIN!A28014","v":0},{"$f":"ASIN!B28014","v":0},{"$f":"ASIN!C28014","v":0},{"$f":"ASIN!D28014","v":0},{"$f":"ASIN!E28014","v":0},{"$f":"ASIN!F28014","v":0}]
[{"$f":"ASIN!A28047","v":0},{"$f":"ASIN!B28047","v":0},{"$f":"ASIN!C28047","v":0},{"$f":"ASIN!D28047","v":0},{"$f":"ASIN!E28047","v":0},{"$f":"ASIN!F28047","v":0}]
[{"$f":"ASIN!A28058","v":0},{"$f":"ASIN!B28058","v":0},{"$f":"ASIN!C28058","v":0},{"$f":"ASIN!D28058","v":0},{"$f":"ASIN!E28058","v":0},{"$f":"ASIN!F28058","v":0}]
[{"$f":"ASIN!A28080","v":0},{"$f":"ASIN!B28080","v":0},{"$f":"ASIN!C28080","v":0},{"$f":"ASIN!D28080","v":0},{"$f":"ASIN!E28080","v":0},{"$f":"ASIN!F28080","v":0}]
[{"$f":"ASIN!A28113","v":0},{"$f":"ASIN!B28113","v":0},{"$f":"ASIN!C28113","v":0},{"$f":"ASIN!D28113","v":0},{"$f":"ASIN!E28113","v":0},{"$f":"ASIN!F28113","v":0}]
[{"$f":"ASIN!A28138","v":0},{"$f":"ASIN!B28138","v":0},{"$f":"ASIN!C28138","v":0},{"$f":"ASIN!D28138","v":0},{"$f":"ASIN!E28138","v":0},{"$f":"ASIN!F28138","v":0}]
[{"$f":"ASIN!A28161","v":0},{"$f":"ASIN!B28161","v":0},{"$f":"ASIN!C28161","v":0},{"$f":"ASIN!D28161","v":0},{"$f":"ASIN!E28161","v":0},{"$f":"ASIN!F28161","v":0}]
[{"$f":"ASIN!A28179","v":0},{"$f":"ASIN!B28179","v":0},{"$f":"ASIN!C28179","v":0},{"$f":"ASIN!D28179","v":0},{"$f":"ASIN!E28179","v":0},{"$f":"ASIN!F28179","v":0}]
[{"$f":"ASIN!A28204","v":0},{"$f":"ASIN!B28204","v":0},{"$f":"ASIN!C28204","v":0},{"$f":"ASIN!D28204","v":0},{"$f":"ASIN!E28204","v":0},{"$f":"ASIN!F28204","v":0}]
[{"$f":"ASIN!A28237","v":0},{"$f":"ASIN!B28237","v":0},{"$f":"ASIN!C28237","v":0},{"$f":"ASIN!D28237","v":0},{"$f":"ASIN!E28237","v":0},{"$f":"ASIN!F28237","v":0}]
[{"$f":"ASIN!A28253","v":0},{"$f":"ASIN!B28253","v":0},{"$f":"ASIN!C28253","v":0},{"$f":"ASIN!D28253","v":0},{"$f":"ASIN!E28253","v":0},{"$f":"ASIN!F28253","v":0}]
[{"$f":"ASIN!A28270","v":0},{"$f":"ASIN!B28270","v":0},{"$f":"ASIN!C28270","v":0},{"$f":"ASIN!D28270","v":0},{"$f":"ASIN!E28270","v":0},{"$f":"ASIN!F28270","v":0}]
[{"$f":"ASIN!A28303","v":0},{"$f":"ASIN!B28303","v":0},{"$f":"ASIN!C28303","v":0},{"$f":"ASIN!D28303","v":0},{"$f":"ASIN!E28303","v":0},{"$f":"ASIN!F28303","v":0}]
[{"$f":"ASIN!A28328","v":0},{"$f":"ASIN!B28328","v":0},{"$f":"ASIN!C28328","v":0},{"$f":"ASIN!D28328","v":0},{"$f":"ASIN!E28328","v":0},{"$f":"ASIN!F28328","v":0}]
[{"$f":"ASIN!A28356","v":0},{"$f":"ASIN!B28356","v":0},{"$f":"ASIN!C28356","v":0},{"$f":"ASIN!D28356","v":0},{"$f":"ASIN!E28356","v":0},{"$f":"ASIN!F28356","v":0}]
[{"$f":"ASIN!A28369","v":0},{"$f":"ASIN!B28369","v":0},{"$f":"ASIN!C28369","v":0},{"$f":"ASIN!D28369","v":0},{"$f":"ASIN!E28369","v":0},{"$f":"ASIN!F28369","v":0}]
[{"$f":"ASIN!A28394","v":0},{"$f":"ASIN!B28394","v":0},{"$f":"ASIN!C28394","v":0},{"$f":"ASIN!D28394","v":0},{"$f":"ASIN!E28394","v":0},{"$f":"ASIN!F28394","v":0}]
[{"$f":"ASIN!A28427","v":0},{"$f":"ASIN!B28427","v":0},{"$f":"ASIN!C28427","v":0},{"$f":"ASIN!D28427","v":0},{"$f":"ASIN!E28427","v":0},{"$f":"ASIN!F28427","v":0}]
[{"$f":"ASIN!A28448","v":0},{"$f":"ASIN!B28448","v":0},{"$f":"ASIN!C28448","v":0},{"$f":"ASIN!D28448","v":0},{"$f":"ASIN!E28448","v":0},{"$f":"ASIN!F28448","v":0}]
[{"$f":"ASIN!A28460","v":0},{"$f":"ASIN!B28460","v":0},{"$f":"ASIN!C28460","v":0},{"$f":"ASIN!D28460","v":0},{"$f":"ASIN!E28460","v":0},{"$f":"ASIN!F28460","v":0}]
[{"$f":"ASIN!A28493","v":0},{"$f":"ASIN!B28493","v":0},{"$f":"ASIN!C28493","v":0},{"$f":"ASIN!D28493","v":0},{"$f":"ASIN!E28493","v":0},{"$f":"ASIN!F28493","v":0}]
[{"$f":"ASIN!A28518","v":0},{"$f":"ASIN!B28518","v":0},{"$f":"ASIN!C28518","v":0},{"$f":"ASIN!D28518","v":0},{"$f":"ASIN!E28518","v":0},{"$f":"ASIN!F28518","v":0}]
[{"$f":"ASIN!A28551","v":0},{"$f":"ASIN!B28551","v":0},{"$f":"ASIN!C28551","v":0},{"$f":"ASIN!D28551","v":0},{"$f":"ASIN!E28551","v":0},{"$f":"ASIN!F28551","v":0}]
[{"$f":"ASIN!A28575","v":0},{"$f":"ASIN!B28575","v":0},{"$f":"ASIN!C28575","v":0},{"$f":"ASIN!D28575","v":0},{"$f":"ASIN!E28575","v":0},{"$f":"ASIN!F28575","v":0}]
[{"$f":"ASIN!A28584","v":0},{"$f":"ASIN!B28584","v":0},{"$f":"ASIN!C28584","v":0},{"$f":"ASIN!D28584","v":0},{"$f":"ASIN!E28584","v":0},{"$f":"ASIN!F28584","v":0}]
[{"$f":"ASIN!A28617","v":0},{"$f":"ASIN!B28617","v":0},{"$f":"ASIN!C28617","v":0},{"$f":"ASIN!D28617","v":0},{"$f":"ASIN!E28617","v":0},{"$f":"ASIN!F28617","v":0}]
[{"$f":"ASIN!A28643","v":0},{"$f":"ASIN!B28643","v":0},{"$f":"ASIN!C28643","v":0},{"$f":"ASIN!D28643","v":0},{"$f":"ASIN!E28643","v":0},{"$f":"ASIN!F28643","v":0}]
[{"$f":"ASIN!A28650","v":0},{"$f":"ASIN!B28650","v":0},{"$f":"ASIN!C28650","v":0},{"$f":"ASIN!D28650","v":0},{"$f":"ASIN!E28650","v":0},{"$f":"ASIN!F28650","v":0}]
[{"$f":"ASIN!A28683","v":0},{"$f":"ASIN!B28683","v":0},{"$f":"ASIN!C28683","v":0},{"$f":"ASIN!D28683","v":0},{"$f":"ASIN!E28683","v":0},{"$f":"ASIN!F28683","v":0}]
[{"$f":"ASIN!A28708","v":0},{"$f":"ASIN!B28708","v":0},{"$f":"ASIN!C28708","v":0},{"$f":"ASIN!D28708","v":0},{"$f":"ASIN!E28708","v":0},{"$f":"ASIN!F28708","v":0}]
[{"$f":"ASIN!A28723","v":0},{"$f":"ASIN!B28723","v":0},{"$f":"ASIN!C28723","v":0},{"$f":"ASIN!D28723","v":0},{"$f":"ASIN!E28723","v":0},{"$f":"ASIN!F28723","v":0}]
[{"$f":"ASIN!A28765","v":0},{"$f":"ASIN!B28765","v":0},{"$f":"ASIN!C28765","v":0},{"$f":"ASIN!D28765","v":0},{"$f":"ASIN!E28765","v":0},{"$f":"ASIN!F28765","v":0}]
[{"$f":"ASIN!A28774","v":0},{"$f":"ASIN!B28774","v":0},{"$f":"ASIN!C28774","v":0},{"$f":"ASIN!D28774","v":0},{"$f":"ASIN!E28774","v":0},{"$f":"ASIN!F28774","v":0}]
[{"$f":"ASIN!A28807","v":0},{"$f":"ASIN!B28807","v":0},{"$f":"ASIN!C28807","v":0},{"$f":"ASIN!D28807","v":0},{"$f":"ASIN!E28807","v":0},{"$f":"ASIN!F28807","v":0}]
[{"$f":"ASIN!A28815","v":0},{"$f":"ASIN!B28815","v":0},{"$f":"ASIN!C28815","v":0},{"$f":"ASIN!D28815","v":0},{"$f":"ASIN!E28815","v":0},{"$f":"ASIN!F28815","v":0}]
[{"$f":"ASIN!A28840","v":0},{"$f":"ASIN!B28840","v":0},{"$f":"ASIN!C28840","v":0},{"$f":"ASIN!D28840","v":0},{"$f":"ASIN!E28840","v":0},{"$f":"ASIN!F28840","v":0}]
[{"$f":"ASIN!A28865","v":0},{"$f":"ASIN!B28865","v":0},{"$f":"ASIN!C28865","v":0},{"$f":"ASIN!D28865","v":0},{"$f":"ASIN!E28865","v":0},{"$f":"ASIN!F28865","v":0}]
[{"$f":"ASIN!A28898","v":0},{"$f":"ASIN!B28898","v":0},{"$f":"ASIN!C28898","v":0},{"$f":"ASIN!D28898","v":0},{"$f":"ASIN!E28898","v":0},{"$f":"ASIN!F28898","v":0}]
[{"$f":"ASIN!A28918","v":0},{"$f":"ASIN!B28918","v":0},{"$f":"ASIN!C28918","v":0},{"$f":"ASIN!D28918","v":0},{"$f":"ASIN!E28918","v":0},{"$f":"ASIN!F28918","v":0}]
[{"$f":"ASIN!A28955","v":0},{"$f":"ASIN!B28955","v":0},{"$f":"ASIN!C28955","v":0},{"$f":"ASIN!D28955","v":0},{"$f":"ASIN!E28955","v":0},{"$f":"ASIN!F28955","v":0}]
[{"$f":"ASIN!A28964","v":0},{"$f":"ASIN!B28964","v":0},{"$f":"ASIN!C28964","v":0},{"$f":"ASIN!D28964","v":0},{"$f":"ASIN!E28964","v":0},{"$f":"ASIN!F28964","v":0}]
[{"$f":"ASIN!A28997","v":0},{"$f":"ASIN!B28997","v":0},{"$f":"ASIN!C28997","v":0},{"$f":"ASIN!D28997","v":0},{"$f":"ASIN!E28997","v":0},{"$f":"ASIN!F28997","v":0}]
[{"$f":"ASIN!A29010","v":0},{"$f":"ASIN!B29010","v":0},{"$f":"ASIN!C29010","v":0},{"$f":"ASIN!D29010","v":0},{"$f":"ASIN!E29010","v":0},{"$f":"ASIN!F29010","v":0}]
[{"$f":"ASIN!A29030","v":0},{"$f":"ASIN!B29030","v":0},{"$f":"ASIN!C29030","v":0},{"$f":"ASIN!D29030","v":0},{"$f":"ASIN!E29030","v":0},{"$f":"ASIN!F29030","v":0}]
[{"$f":"ASIN!A29055","v":0},{"$f":"ASIN!B29055","v":0},{"$f":"ASIN!C29055","v":0},{"$f":"ASIN!D29055","v":0},{"$f":"ASIN!E29055","v":0},{"$f":"ASIN!F29055","v":0}]
[{"$f":"ASIN!A29088","v":0},{"$f":"ASIN!B29088","v":0},{"$f":"ASIN!C29088","v":0},{"$f":"ASIN!D29088","v":0},{"$f":"ASIN!E29088","v":0},{"$f":"ASIN!F29088","v":0}]
[{"$f":"ASIN!A29113","v":0},{"$f":"ASIN!B29113","v":0},{"$f":"ASIN!C29113","v":0},{"$f":"ASIN!D29113","v":0},{"$f":"ASIN!E29113","v":0},{"$f":"ASIN!F29113","v":0}]
[{"$f":"ASIN!A29145","v":0},{"$f":"ASIN!B29145","v":0},{"$f":"ASIN!C29145","v":0},{"$f":"ASIN!D29145","v":0},{"$f":"ASIN!E29145","v":0},{"$f":"ASIN!F29145","v":0}]
[{"$f":"ASIN!A29154","v":0},{"$f":"ASIN!B29154","v":0},{"$f":"ASIN!C29154","v":0},{"$f":"ASIN!D29154","v":0},{"$f":"ASIN!E29154","v":0},{"$f":"ASIN!F29154","v":0}]
[{"$f":"ASIN!A29187","v":0},{"$f":"ASIN!B29187","v":0},{"$f":"ASIN!C29187","v":0},{"$f":"ASIN!D29187","v":0},{"$f":"ASIN!E29187","v":0},{"$f":"ASIN!F29187","v":0}]
[{"$f":"ASIN!A29205","v":0},{"$f":"ASIN!B29205","v":0},{"$f":"ASIN!C29205","v":0},{"$f":"ASIN!D29205","v":0},{"$f":"ASIN!E29205","v":0},{"$f":"ASIN!F29205","v":0}]
[{"$f":"ASIN!A29220","v":0},{"$f":"ASIN!B29220","v":0},{"$f":"ASIN!C29220","v":0},{"$f":"ASIN!D29220","v":0},{"$f":"ASIN!E29220","v":0},{"$f":"ASIN!F29220","v":0}]
[{"$f":"ASIN!A29245","v":0},{"$f":"ASIN!B29245","v":0},{"$f":"ASIN!C29245","v":0},{"$f":"ASIN!D29245","v":0},{"$f":"ASIN!E29245","v":0},{"$f":"ASIN!F29245","v":0}]
[{"$f":"ASIN!A29278","v":0},{"$f":"ASIN!B29278","v":0},{"$f":"ASIN!C29278","v":0},{"$f":"ASIN!D29278","v":0},{"$f":"ASIN!E29278","v":0},{"$f":"ASIN!F29278","v":0}]
[{"$f":"ASIN!A29308","v":0},{"$f":"ASIN!B29308","v":0},{"$f":"ASIN!C29308","v":0},{"$f":"ASIN!D29308","v":0},{"$f":"ASIN!E29308","v":0},{"$f":"ASIN!F29308","v":0}]
[{"$f":"ASIN!A29335","v":0},{"$f":"ASIN!B29335","v":0},{"$f":"ASIN!C29335","v":0},{"$f":"ASIN!D29335","v":0},{"$f":"ASIN!E29335","v":0},{"$f":"ASIN!F29335","v":0}]
[{"$f":"ASIN!A29344","v":0},{"$f":"ASIN!B29344","v":0},{"$f":"ASIN!C29344","v":0},{"$f":"ASIN!D29344","v":0},{"$f":"ASIN!E29344","v":0},{"$f":"ASIN!F29344","v":0}]
[{"$f":"ASIN!A29369","v":0},{"$f":"ASIN!B29369","v":0},{"$f":"ASIN!C29369","v":0},{"$f":"ASIN!D29369","v":0},{"$f":"ASIN!E29369","v":0},{"$f":"ASIN!F29369","v":0}]
[{"$f":"ASIN!A29400","v":0},{"$f":"ASIN!B29400","v":0},{"$f":"ASIN!C29400","v":0},{"$f":"ASIN!D29400","v":0},{"$f":"ASIN!E29400","v":0},{"$f":"ASIN!F29400","v":0}]
[{"$f":"ASIN!A29410","v":0},{"$f":"ASIN!B29410","v":0},{"$f":"ASIN!C29410","v":0},{"$f":"ASIN!D29410","v":0},{"$f":"ASIN!E29410","v":0},{"$f":"ASIN!F29410","v":0}]
[{"$f":"ASIN!A29435","v":0},{"$f":"ASIN!B29435","v":0},{"$f":"ASIN!C29435","v":0},{"$f":"ASIN!D29435","v":0},{"$f":"ASIN!E29435","v":0},{"$f":"ASIN!F29435","v":0}]
[{"$f":"ASIN!A29468","v":0},{"$f":"ASIN!B29468","v":0},{"$f":"ASIN!C29468","v":0},{"$f":"ASIN!D29468","v":0},{"$f":"ASIN!E29468","v":0},{"$f":"ASIN!F29468","v":0}]
[{"$f":"ASIN!A29480","v":0},{"$f":"ASIN!B29480","v":0},{"$f":"ASIN!C29480","v":0},{"$f":"ASIN!D29480","v":0},{"$f":"ASIN!E29480","v":0},{"$f":"ASIN!F29480","v":0}]
[{"$f":"ASIN!A29525","v":0},{"$f":"ASIN!B29525","v":0},{"$f":"ASIN!C29525","v":0},{"$f":"ASIN!D29525","v":0},{"$f":"ASIN!E29525","v":0},{"$f":"ASIN!F29525","v":0}]
[{"$f":"ASIN!A29534","v":0},{"$f":"ASIN!B29534","v":0},{"$f":"ASIN!C29534","v":0},{"$f":"ASIN!D29534","v":0},{"$f":"ASIN!E29534","v":0},{"$f":"ASIN!F29534","v":0}]
[{"$f":"ASIN!A29559","v":0},{"$f":"ASIN!B29559","v":0},{"$f":"ASIN!C29559","v":0},{"$f":"ASIN!D29559","v":0},{"$f":"ASIN!E29559","v":0},{"$f":"ASIN!F29559","v":0}]
[{"$f":"ASIN!A29595","v":0},{"$f":"ASIN!B29595","v":0},{"$f":"ASIN!C29595","v":0},{"$f":"ASIN!D29595","v":0},{"$f":"ASIN!E29595","v":0},{"$f":"ASIN!F29595","v":0}]
[{"$f":"ASIN!A29600","v":0},{"$f":"ASIN!B29600","v":0},{"$f":"ASIN!C29600","v":0},{"$f":"ASIN!D29600","v":0},{"$f":"ASIN!E29600","v":0},{"$f":"ASIN!F29600","v":0}]
[{"$f":"ASIN!A29625","v":0},{"$f":"ASIN!B29625","v":0},{"$f":"ASIN!C29625","v":0},{"$f":"ASIN!D29625","v":0},{"$f":"ASIN!E29625","v":0},{"$f":"ASIN!F29625","v":0}]
[{"$f":"ASIN!A29658","v":0},{"$f":"ASIN!B29658","v":0},{"$f":"ASIN!C29658","v":0},{"$f":"ASIN!D29658","v":0},{"$f":"ASIN!E29658","v":0},{"$f":"ASIN!F29658","v":0}]
[{"$f":"ASIN!A29675","v":0},{"$f":"ASIN!B29675","v":0},{"$f":"ASIN!C29675","v":0},{"$f":"ASIN!D29675","v":0},{"$f":"ASIN!E29675","v":0},{"$f":"ASIN!F29675","v":0}]
[{"$f":"ASIN!A29715","v":0},{"$f":"ASIN!B29715","v":0},{"$f":"ASIN!C29715","v":0},{"$f":"ASIN!D29715","v":0},{"$f":"ASIN!E29715","v":0},{"$f":"ASIN!F29715","v":0}]
[{"$f":"ASIN!A29724","v":0},{"$f":"ASIN!B29724","v":0},{"$f":"ASIN!C29724","v":0},{"$f":"ASIN!D29724","v":0},{"$f":"ASIN!E29724","v":0},{"$f":"ASIN!F29724","v":0}]
[{"$f":"ASIN!A29749","v":0},{"$f":"ASIN!B29749","v":0},{"$f":"ASIN!C29749","v":0},{"$f":"ASIN!D29749","v":0},{"$f":"ASIN!E29749","v":0},{"$f":"ASIN!F29749","v":0}]
[{"$f":"ASIN!A29767","v":0},{"$f":"ASIN!B29767","v":0},{"$f":"ASIN!C29767","v":0},{"$f":"ASIN!D29767","v":0},{"$f":"ASIN!E29767","v":0},{"$f":"ASIN!F29767","v":0}]
[{"$f":"ASIN!A29790","v":0},{"$f":"ASIN!B29790","v":0},{"$f":"ASIN!C29790","v":0},{"$f":"ASIN!D29790","v":0},{"$f":"ASIN!E29790","v":0},{"$f":"ASIN!F29790","v":0}]
[{"$f":"ASIN!A29815","v":0},{"$f":"ASIN!B29815","v":0},{"$f":"ASIN!C29815","v":0},{"$f":"ASIN!D29815","v":0},{"$f":"ASIN!E29815","v":0},{"$f":"ASIN!F29815","v":0}]
[{"$f":"ASIN!A29848","v":0},{"$f":"ASIN!B29848","v":0},{"$f":"ASIN!C29848","v":0},{"$f":"ASIN!D29848","v":0},{"$f":"ASIN!E29848","v":0},{"$f":"ASIN!F29848","v":0}]
[{"$f":"ASIN!A29859","v":0},{"$f":"ASIN!B29859","v":0},{"$f":"ASIN!C29859","v":0},{"$f":"ASIN!D29859","v":0},{"$f":"ASIN!E29859","v":0},{"$f":"ASIN!F29859","v":0}]
[{"$f":"ASIN!A29905","v":0},{"$f":"ASIN!B29905","v":0},{"$f":"ASIN!C29905","v":0},{"$f":"ASIN!D29905","v":0},{"$f":"ASIN!E29905","v":0},{"$f":"ASIN!F29905","v":0}]
[{"$f":"ASIN!A29914","v":0},{"$f":"ASIN!B29914","v":0},{"$f":"ASIN!C29914","v":0},{"$f":"ASIN!D29914","v":0},{"$f":"ASIN!E29914","v":0},{"$f":"ASIN!F29914","v":0}]
[{"$f":"ASIN!A29939","v":0},{"$f":"ASIN!B29939","v":0},{"$f":"ASIN!C29939","v":0},{"$f":"ASIN!D29939","v":0},{"$f":"ASIN!E29939","v":0},{"$f":"ASIN!F29939","v":0}]
[{"$f":"ASIN!A29962","v":0},{"$f":"ASIN!B29962","v":0},{"$f":"ASIN!C29962","v":0},{"$f":"ASIN!D29962","v":0},{"$f":"ASIN!E29962","v":0},{"$f":"ASIN!F29962","v":0}]
[{"$f":"ASIN!A29980","v":0},{"$f":"ASIN!B29980","v":0},{"$f":"ASIN!C29980","v":0},{"$f":"ASIN!D29980","v":0},{"$f":"ASIN!E29980","v":0},{"$f":"ASIN!F29980","v":0}]
[{"$f":"ASIN!A30005","v":0},{"$f":"ASIN!B30005","v":0},{"$f":"ASIN!C30005","v":0},{"$f":"ASIN!D30005","v":0},{"$f":"ASIN!E30005","v":0},{"$f":"ASIN!F30005","v":0}]
[{"$f":"ASIN!A30038","v":0},{"$f":"ASIN!B30038","v":0},{"$f":"ASIN!C30038","v":0},{"$f":"ASIN!D30038","v":0},{"$f":"ASIN!E30038","v":0},{"$f":"ASIN!F30038","v":0}]
[{"$f":"ASIN!A30054","v":0},{"$f":"ASIN!B30054","v":0},{"$f":"ASIN!C30054","v":0},{"$f":"ASIN!D30054","v":0},{"$f":"ASIN!E30054","v":0},{"$f":"ASIN!F30054","v":0}]
[{"$f":"ASIN!A30095","v":0},{"$f":"ASIN!B30095","v":0},{"$f":"ASIN!C30095","v":0},{"$f":"ASIN!D30095","v":0},{"$f":"ASIN!E30095","v":0},{"$f":"ASIN!F30095","v":0}]
[{"$f":"ASIN!A30104","v":0},{"$f":"ASIN!B30104","v":0},{"$f":"ASIN!C30104","v":0},{"$f":"ASIN!D30104","v":0},{"$f":"ASIN!E30104","v":0},{"$f":"ASIN!F30104","v":0}]
[{"$f":"ASIN!A30129","v":0},{"$f":"ASIN!B30129","v":0},{"$f":"ASIN!C30129","v":0},{"$f":"ASIN!D30129","v":0},{"$f":"ASIN!E30129","v":0},{"$f":"ASIN!F30129","v":0}]
[{"$f":"ASIN!A30157","v":0},{"$f":"ASIN!B30157","v":0},{"$f":"ASIN!C30157","v":0},{"$f":"ASIN!D30157","v":0},{"$f":"ASIN!E30157","v":0},{"$f":"ASIN!F30157","v":0}]
[{"$f":"ASIN!A30186","v":0},{"$f":"ASIN!B30186","v":0},{"$f":"ASIN!C30186","v":0},{"$f":"ASIN!D30186","v":0},{"$f":"ASIN!E30186","v":0},{"$f":"ASIN!F30186","v":0}]
[{"$f":"ASIN!A30195","v":0},{"$f":"ASIN!B30195","v":0},{"$f":"ASIN!C30195","v":0},{"$f":"ASIN!D30195","v":0},{"$f":"ASIN!E30195","v":0},{"$f":"ASIN!F30195","v":0}]
[{"$f":"ASIN!A30228","v":0},{"$f":"ASIN!B30228","v":0},{"$f":"ASIN!C30228","v":0},{"$f":"ASIN!D30228","v":0},{"$f":"ASIN!E30228","v":0},{"$f":"ASIN!F30228","v":0}]
[{"$f":"ASIN!A30249","v":0},{"$f":"ASIN!B30249","v":0},{"$f":"ASIN!C30249","v":0},{"$f":"ASIN!D30249","v":0},{"$f":"ASIN!E30249","v":0},{"$f":"ASIN!F30249","v":0}]
[{"$f":"ASIN!A30285","v":0},{"$f":"ASIN!B30285","v":0},{"$f":"ASIN!C30285","v":0},{"$f":"ASIN!D30285","v":0},{"$f":"ASIN!E30285","v":0},{"$f":"ASIN!F30285","v":0}]
[{"$f":"ASIN!A30294","v":0},{"$f":"ASIN!B30294","v":0},{"$f":"ASIN!C30294","v":0},{"$f":"ASIN!D30294","v":0},{"$f":"ASIN!E30294","v":0},{"$f":"ASIN!F30294","v":0}]
[{"$f":"ASIN!A30319","v":0},{"$f":"ASIN!B30319","v":0},{"$f":"ASIN!C30319","v":0},{"$f":"ASIN!D30319","v":0},{"$f":"ASIN!E30319","v":0},{"$f":"ASIN!F30319","v":0}]
[{"$f":"ASIN!A30352","v":0},{"$f":"ASIN!B30352","v":0},{"$f":"ASIN!C30352","v":0},{"$f":"ASIN!D30352","v":0},{"$f":"ASIN!E30352","v":0},{"$f":"ASIN!F30352","v":0}]
[{"$f":"ASIN!A30376","v":0},{"$f":"ASIN!B30376","v":0},{"$f":"ASIN!C30376","v":0},{"$f":"ASIN!D30376","v":0},{"$f":"ASIN!E30376","v":0},{"$f":"ASIN!F30376","v":0}]
[{"$f":"ASIN!A30385","v":0},{"$f":"ASIN!B30385","v":0},{"$f":"ASIN!C30385","v":0},{"$f":"ASIN!D30385","v":0},{"$f":"ASIN!E30385","v":0},{"$f":"ASIN!F30385","v":0}]
[{"$f":"ASIN!A30418","v":0},{"$f":"ASIN!B30418","v":0},{"$f":"ASIN!C30418","v":0},{"$f":"ASIN!D30418","v":0},{"$f":"ASIN!E30418","v":0},{"$f":"ASIN!F30418","v":0}]
[{"$f":"ASIN!A30444","v":0},{"$f":"ASIN!B30444","v":0},{"$f":"ASIN!C30444","v":0},{"$f":"ASIN!D30444","v":0},{"$f":"ASIN!E30444","v":0},{"$f":"ASIN!F30444","v":0}]
[{"$f":"ASIN!A30475","v":0},{"$f":"ASIN!B30475","v":0},{"$f":"ASIN!C30475","v":0},{"$f":"ASIN!D30475","v":0},{"$f":"ASIN!E30475","v":0},{"$f":"ASIN!F30475","v":0}]
[{"$f":"ASIN!A30484","v":0},{"$f":"ASIN!B30484","v":0},{"$f":"ASIN!C30484","v":0},{"$f":"ASIN!D30484","v":0},{"$f":"ASIN!E30484","v":0},{"$f":"ASIN!F30484","v":0}]
[{"$f":"ASIN!A30509","v":0},{"$f":"ASIN!B30509","v":0},{"$f":"ASIN!C30509","v":0},{"$f":"ASIN!D30509","v":0},{"$f":"ASIN!E30509","v":0},{"$f":"ASIN!F30509","v":0}]
[{"$f":"ASIN!A30524","v":0},{"$f":"ASIN!B30524","v":0},{"$f":"ASIN!C30524","v":0},{"$f":"ASIN!D30524","v":0},{"$f":"ASIN!E30524","v":0},{"$f":"ASIN!F30524","v":0}]
[{"$f":"ASIN!A30566","v":0},{"$f":"ASIN!B30566","v":0},{"$f":"ASIN!C30566","v":0},{"$f":"ASIN!D30566","v":0},{"$f":"ASIN!E30566","v":0},{"$f":"ASIN!F30566","v":0}]
[{"$f":"ASIN!A30575","v":0},{"$f":"ASIN!B30575","v":0},{"$f":"ASIN!C30575","v":0},{"$f":"ASIN!D30575","v":0},{"$f":"ASIN!E30575","v":0},{"$f":"ASIN!F30575","v":0}]
[{"$f":"ASIN!A30608","v":0},{"$f":"ASIN!B30608","v":0},{"$f":"ASIN!C30608","v":0},{"$f":"ASIN!D30608","v":0},{"$f":"ASIN!E30608","v":0},{"$f":"ASIN!F30608","v":0}]
[{"$f":"ASIN!A30639","v":0},{"$f":"ASIN!B30639","v":0},{"$f":"ASIN!C30639","v":0},{"$f":"ASIN!D30639","v":0},{"$f":"ASIN!E30639","v":0},{"$f":"ASIN!F30639","v":0}]
[{"$f":"ASIN!A30665","v":0},{"$f":"ASIN!B30665","v":0},{"$f":"ASIN!C30665","v":0},{"$f":"ASIN!D30665","v":0},{"$f":"ASIN!E30665","v":0},{"$f":"ASIN!F30665","v":0}]
[{"$f":"ASIN!A30666","v":0},{"$f":"ASIN!B30666","v":0},{"$f":"ASIN!C30666","v":0},{"$f":"ASIN!D30666","v":0},{"$f":"ASIN!E30666","v":0},{"$f":"ASIN!F30666","v":0}]
[{"$f":"ASIN!A30699","v":0},{"$f":"ASIN!B30699","v":0},{"$f":"ASIN!C30699","v":0},{"$f":"ASIN!D30699","v":0},{"$f":"ASIN!E30699","v":0},{"$f":"ASIN!F30699","v":0}]
[{"$f":"ASIN!A30719","v":0},{"$f":"ASIN!B30719","v":0},{"$f":"ASIN!C30719","v":0},{"$f":"ASIN!D30719","v":0},{"$f":"ASIN!E30719","v":0},{"$f":"ASIN!F30719","v":0}]
[{"$f":"ASIN!A30756","v":0},{"$f":"ASIN!B30756","v":0},{"$f":"ASIN!C30756","v":0},{"$f":"ASIN!D30756","v":0},{"$f":"ASIN!E30756","v":0},{"$f":"ASIN!F30756","v":0}]
[{"$f":"ASIN!A30765","v":0},{"$f":"ASIN!B30765","v":0},{"$f":"ASIN!C30765","v":0},{"$f":"ASIN!D30765","v":0},{"$f":"ASIN!E30765","v":0},{"$f":"ASIN!F30765","v":0}]
[{"$f":"ASIN!A30798","v":0},{"$f":"ASIN!B30798","v":0},{"$f":"ASIN!C30798","v":0},{"$f":"ASIN!D30798","v":0},{"$f":"ASIN!E30798","v":0},{"$f":"ASIN!F30798","v":0}]
[{"$f":"ASIN!A30811","v":0},{"$f":"ASIN!B30811","v":0},{"$f":"ASIN!C30811","v":0},{"$f":"ASIN!D30811","v":0},{"$f":"ASIN!E30811","v":0},{"$f":"ASIN!F30811","v":0}]
[{"$f":"ASIN!A30855","v":0},{"$f":"ASIN!B30855","v":0},{"$f":"ASIN!C30855","v":0},{"$f":"ASIN!D30855","v":0},{"$f":"ASIN!E30855","v":0},{"$f":"ASIN!F30855","v":0}]
[{"$f":"ASIN!A30856","v":0},{"$f":"ASIN!B30856","v":0},{"$f":"ASIN!C30856","v":0},{"$f":"ASIN!D30856","v":0},{"$f":"ASIN!E30856","v":0},{"$f":"ASIN!F30856","v":0}]
[{"$f":"ASIN!A30889","v":0},{"$f":"ASIN!B30889","v":0},{"$f":"ASIN!C30889","v":0},{"$f":"ASIN!D30889","v":0},{"$f":"ASIN!E30889","v":0},{"$f":"ASIN!F30889","v":0}]
[{"$f":"ASIN!A30914","v":0},{"$f":"ASIN!B30914","v":0},{"$f":"ASIN!C30914","v":0},{"$f":"ASIN!D30914","v":0},{"$f":"ASIN!E30914","v":0},{"$f":"ASIN!F30914","v":0}]
[{"$f":"ASIN!A30946","v":0},{"$f":"ASIN!B30946","v":0},{"$f":"ASIN!C30946","v":0},{"$f":"ASIN!D30946","v":0},{"$f":"ASIN!E30946","v":0},{"$f":"ASIN!F30946","v":0}]
[{"$f":"ASIN!A30955","v":0},{"$f":"ASIN!B30955","v":0},{"$f":"ASIN!C30955","v":0},{"$f":"ASIN!D30955","v":0},{"$f":"ASIN!E30955","v":0},{"$f":"ASIN!F30955","v":0}]
[{"$f":"ASIN!A30988","v":0},{"$f":"ASIN!B30988","v":0},{"$f":"ASIN!C30988","v":0},{"$f":"ASIN!D30988","v":0},{"$f":"ASIN!E30988","v":0},{"$f":"ASIN!F30988","v":0}]
[{"$f":"ASIN!A31006","v":0},{"$f":"ASIN!B31006","v":0},{"$f":"ASIN!C31006","v":0},{"$f":"ASIN!D31006","v":0},{"$f":"ASIN!E31006","v":0},{"$f":"ASIN!F31006","v":0}]
[{"$f":"ASIN!A31045","v":0},{"$f":"ASIN!B31045","v":0},{"$f":"ASIN!C31045","v":0},{"$f":"ASIN!D31045","v":0},{"$f":"ASIN!E31045","v":0},{"$f":"ASIN!F31045","v":0}]
[{"$f":"ASIN!A31046","v":0},{"$f":"ASIN!B31046","v":0},{"$f":"ASIN!C31046","v":0},{"$f":"ASIN!D31046","v":0},{"$f":"ASIN!E31046","v":0},{"$f":"ASIN!F31046","v":0}]
[{"$f":"ASIN!A31079","v":0},{"$f":"ASIN!B31079","v":0},{"$f":"ASIN!C31079","v":0},{"$f":"ASIN!D31079","v":0},{"$f":"ASIN!E31079","v":0},{"$f":"ASIN!F31079","v":0}]
[{"$f":"ASIN!A31109","v":0},{"$f":"ASIN!B31109","v":0},{"$f":"ASIN!C31109","v":0},{"$f":"ASIN!D31109","v":0},{"$f":"ASIN!E31109","v":0},{"$f":"ASIN!F31109","v":0}]
[{"$f":"ASIN!A31136","v":0},{"$f":"ASIN!B31136","v":0},{"$f":"ASIN!C31136","v":0},{"$f":"ASIN!D31136","v":0},{"$f":"ASIN!E31136","v":0},{"$f":"ASIN!F31136","v":0}]
[{"$f":"ASIN!A31145","v":0},{"$f":"ASIN!B31145","v":0},{"$f":"ASIN!C31145","v":0},{"$f":"ASIN!D31145","v":0},{"$f":"ASIN!E31145","v":0},{"$f":"ASIN!F31145","v":0}]
[{"$f":"ASIN!A31170","v":0},{"$f":"ASIN!B31170","v":0},{"$f":"ASIN!C31170","v":0},{"$f":"ASIN!D31170","v":0},{"$f":"ASIN!E31170","v":0},{"$f":"ASIN!F31170","v":0}]
[{"$f":"ASIN!A31201","v":0},{"$f":"ASIN!B31201","v":0},{"$f":"ASIN!C31201","v":0},{"$f":"ASIN!D31201","v":0},{"$f":"ASIN!E31201","v":0},{"$f":"ASIN!F31201","v":0}]
[{"$f":"ASIN!A31235","v":0},{"$f":"ASIN!B31235","v":0},{"$f":"ASIN!C31235","v":0},{"$f":"ASIN!D31235","v":0},{"$f":"ASIN!E31235","v":0},{"$f":"ASIN!F31235","v":0}]
[{"$f":"ASIN!A31236","v":0},{"$f":"ASIN!B31236","v":0},{"$f":"ASIN!C31236","v":0},{"$f":"ASIN!D31236","v":0},{"$f":"ASIN!E31236","v":0},{"$f":"ASIN!F31236","v":0}]
[{"$f":"ASIN!A31269","v":0},{"$f":"ASIN!B31269","v":0},{"$f":"ASIN!C31269","v":0},{"$f":"ASIN!D31269","v":0},{"$f":"ASIN!E31269","v":0},{"$f":"ASIN!F31269","v":0}]
[{"$f":"ASIN!A31304","v":0},{"$f":"ASIN!B31304","v":0},{"$f":"ASIN!C31304","v":0},{"$f":"ASIN!D31304","v":0},{"$f":"ASIN!E31304","v":0},{"$f":"ASIN!F31304","v":0}]
[{"$f":"ASIN!A31326","v":0},{"$f":"ASIN!B31326","v":0},{"$f":"ASIN!C31326","v":0},{"$f":"ASIN!D31326","v":0},{"$f":"ASIN!E31326","v":0},{"$f":"ASIN!F31326","v":0}]
[{"$f":"ASIN!A31335","v":0},{"$f":"ASIN!B31335","v":0},{"$f":"ASIN!C31335","v":0},{"$f":"ASIN!D31335","v":0},{"$f":"ASIN!E31335","v":0},{"$f":"ASIN!F31335","v":0}]
[{"$f":"ASIN!A31360","v":0},{"$f":"ASIN!B31360","v":0},{"$f":"ASIN!C31360","v":0},{"$f":"ASIN!D31360","v":0},{"$f":"ASIN!E31360","v":0},{"$f":"ASIN!F31360","v":0}]
[{"$f":"ASIN!A31396","v":0},{"$f":"ASIN!B31396","v":0},{"$f":"ASIN!C31396","v":0},{"$f":"ASIN!D31396","v":0},{"$f":"ASIN!E31396","v":0},{"$f":"ASIN!F31396","v":0}]
[{"$f":"ASIN!A31425","v":0},{"$f":"ASIN!B31425","v":0},{"$f":"ASIN!C31425","v":0},{"$f":"ASIN!D31425","v":0},{"$f":"ASIN!E31425","v":0},{"$f":"ASIN!F31425","v":0}]
[{"$f":"ASIN!A31426","v":0},{"$f":"ASIN!B31426","v":0},{"$f":"ASIN!C31426","v":0},{"$f":"ASIN!D31426","v":0},{"$f":"ASIN!E31426","v":0},{"$f":"ASIN!F31426","v":0}]
[{"$f":"ASIN!A31459","v":0},{"$f":"ASIN!B31459","v":0},{"$f":"ASIN!C31459","v":0},{"$f":"ASIN!D31459","v":0},{"$f":"ASIN!E31459","v":0},{"$f":"ASIN!F31459","v":0}]
[{"$f":"ASIN!A31488","v":0},{"$f":"ASIN!B31488","v":0},{"$f":"ASIN!C31488","v":0},{"$f":"ASIN!D31488","v":0},{"$f":"ASIN!E31488","v":0},{"$f":"ASIN!F31488","v":0}]
[{"$f":"ASIN!A31516","v":0},{"$f":"ASIN!B31516","v":0},{"$f":"ASIN!C31516","v":0},{"$f":"ASIN!D31516","v":0},{"$f":"ASIN!E31516","v":0},{"$f":"ASIN!F31516","v":0}]
[{"$f":"ASIN!A31525","v":0},{"$f":"ASIN!B31525","v":0},{"$f":"ASIN!C31525","v":0},{"$f":"ASIN!D31525","v":0},{"$f":"ASIN!E31525","v":0},{"$f":"ASIN!F31525","v":0}]
[{"$f":"ASIN!A31550","v":0},{"$f":"ASIN!B31550","v":0},{"$f":"ASIN!C31550","v":0},{"$f":"ASIN!D31550","v":0},{"$f":"ASIN!E31550","v":0},{"$f":"ASIN!F31550","v":0}]
[{"$f":"ASIN!A31591","v":0},{"$f":"ASIN!B31591","v":0},{"$f":"ASIN!C31591","v":0},{"$f":"ASIN!D31591","v":0},{"$f":"ASIN!E31591","v":0},{"$f":"ASIN!F31591","v":0}]
[{"$f":"ASIN!A31615","v":0},{"$f":"ASIN!B31615","v":0},{"$f":"ASIN!C31615","v":0},{"$f":"ASIN!D31615","v":0},{"$f":"ASIN!E31615","v":0},{"$f":"ASIN!F31615","v":0}]
[{"$f":"ASIN!A31616","v":0},{"$f":"ASIN!B31616","v":0},{"$f":"ASIN!C31616","v":0},{"$f":"ASIN!D31616","v":0},{"$f":"ASIN!E31616","v":0},{"$f":"ASIN!F31616","v":0}]
[{"$f":"ASIN!A31649","v":0},{"$f":"ASIN!B31649","v":0},{"$f":"ASIN!C31649","v":0},{"$f":"ASIN!D31649","v":0},{"$f":"ASIN!E31649","v":0},{"$f":"ASIN!F31649","v":0}]
[{"$f":"ASIN!A31683","v":0},{"$f":"ASIN!B31683","v":0},{"$f":"ASIN!C31683","v":0},{"$f":"ASIN!D31683","v":0},{"$f":"ASIN!E31683","v":0},{"$f":"ASIN!F31683","v":0}]
[{"$f":"ASIN!A31706","v":0},{"$f":"ASIN!B31706","v":0},{"$f":"ASIN!C31706","v":0},{"$f":"ASIN!D31706","v":0},{"$f":"ASIN!E31706","v":0},{"$f":"ASIN!F31706","v":0}]
[{"$f":"ASIN!A31715","v":0},{"$f":"ASIN!B31715","v":0},{"$f":"ASIN!C31715","v":0},{"$f":"ASIN!D31715","v":0},{"$f":"ASIN!E31715","v":0},{"$f":"ASIN!F31715","v":0}]
[{"$f":"ASIN!A31740","v":0},{"$f":"ASIN!B31740","v":0},{"$f":"ASIN!C31740","v":0},{"$f":"ASIN!D31740","v":0},{"$f":"ASIN!E31740","v":0},{"$f":"ASIN!F31740","v":0}]
[{"$f":"ASIN!A31763","v":0},{"$f":"ASIN!B31763","v":0},{"$f":"ASIN!C31763","v":0},{"$f":"ASIN!D31763","v":0},{"$f":"ASIN!E31763","v":0},{"$f":"ASIN!F31763","v":0}]
[{"$f":"ASIN!A31805","v":0},{"$f":"ASIN!B31805","v":0},{"$f":"ASIN!C31805","v":0},{"$f":"ASIN!D31805","v":0},{"$f":"ASIN!E31805","v":0},{"$f":"ASIN!F31805","v":0}]
[{"$f":"ASIN!A31806","v":0},{"$f":"ASIN!B31806","v":0},{"$f":"ASIN!C31806","v":0},{"$f":"ASIN!D31806","v":0},{"$f":"ASIN!E31806","v":0},{"$f":"ASIN!F31806","v":0}]
[{"$f":"ASIN!A31839","v":0},{"$f":"ASIN!B31839","v":0},{"$f":"ASIN!C31839","v":0},{"$f":"ASIN!D31839","v":0},{"$f":"ASIN!E31839","v":0},{"$f":"ASIN!F31839","v":0}]
[{"$f":"ASIN!A31855","v":0},{"$f":"ASIN!B31855","v":0},{"$f":"ASIN!C31855","v":0},{"$f":"ASIN!D31855","v":0},{"$f":"ASIN!E31855","v":0},{"$f":"ASIN!F31855","v":0}]
[{"$f":"ASIN!A31896","v":0},{"$f":"ASIN!B31896","v":0},{"$f":"ASIN!C31896","v":0},{"$f":"ASIN!D31896","v":0},{"$f":"ASIN!E31896","v":0},{"$f":"ASIN!F31896","v":0}]
[{"$f":"ASIN!A31905","v":0},{"$f":"ASIN!B31905","v":0},{"$f":"ASIN!C31905","v":0},{"$f":"ASIN!D31905","v":0},{"$f":"ASIN!E31905","v":0},{"$f":"ASIN!F31905","v":0}]
[{"$f":"ASIN!A31930","v":0},{"$f":"ASIN!B31930","v":0},{"$f":"ASIN!C31930","v":0},{"$f":"ASIN!D31930","v":0},{"$f":"ASIN!E31930","v":0},{"$f":"ASIN!F31930","v":0}]
[{"$f":"ASIN!A31958","v":0},{"$f":"ASIN!B31958","v":0},{"$f":"ASIN!C31958","v":0},{"$f":"ASIN!D31958","v":0},{"$f":"ASIN!E31958","v":0},{"$f":"ASIN!F31958","v":0}]
[{"$f":"ASIN!A31987","v":0},{"$f":"ASIN!B31987","v":0},{"$f":"ASIN!C31987","v":0},{"$f":"ASIN!D31987","v":0},{"$f":"ASIN!E31987","v":0},{"$f":"ASIN!F31987","v":0}]
[{"$f":"ASIN!A31996","v":0},{"$f":"ASIN!B31996","v":0},{"$f":"ASIN!C31996","v":0},{"$f":"ASIN!D31996","v":0},{"$f":"ASIN!E31996","v":0},{"$f":"ASIN!F31996","v":0}]
[{"$f":"ASIN!A32029","v":0},{"$f":"ASIN!B32029","v":0},{"$f":"ASIN!C32029","v":0},{"$f":"ASIN!D32029","v":0},{"$f":"ASIN!E32029","v":0},{"$f":"ASIN!F32029","v":0}]
[{"$f":"ASIN!A32050","v":0},{"$f":"ASIN!B32050","v":0},{"$f":"ASIN!C32050","v":0},{"$f":"ASIN!D32050","v":0},{"$f":"ASIN!E32050","v":0},{"$f":"ASIN!F32050","v":0}]
[{"$f":"ASIN!A32086","v":0},{"$f":"ASIN!B32086","v":0},{"$f":"ASIN!C32086","v":0},{"$f":"ASIN!D32086","v":0},{"$f":"ASIN!E32086","v":0},{"$f":"ASIN!F32086","v":0}]
[{"$f":"ASIN!A32095","v":0},{"$f":"ASIN!B32095","v":0},{"$f":"ASIN!C32095","v":0},{"$f":"ASIN!D32095","v":0},{"$f":"ASIN!E32095","v":0},{"$f":"ASIN!F32095","v":0}]
[{"$f":"ASIN!A32120","v":0},{"$f":"ASIN!B32120","v":0},{"$f":"ASIN!C32120","v":0},{"$f":"ASIN!D32120","v":0},{"$f":"ASIN!E32120","v":0},{"$f":"ASIN!F32120","v":0}]
[{"$f":"ASIN!A32153","v":0},{"$f":"ASIN!B32153","v":0},{"$f":"ASIN!C32153","v":0},{"$f":"ASIN!D32153","v":0},{"$f":"ASIN!E32153","v":0},{"$f":"ASIN!F32153","v":0}]
[{"$f":"ASIN!A32177","v":0},{"$f":"ASIN!B32177","v":0},{"$f":"ASIN!C32177","v":0},{"$f":"ASIN!D32177","v":0},{"$f":"ASIN!E32177","v":0},{"$f":"ASIN!F32177","v":0}]
[{"$f":"ASIN!A32186","v":0},{"$f":"ASIN!B32186","v":0},{"$f":"ASIN!C32186","v":0},{"$f":"ASIN!D32186","v":0},{"$f":"ASIN!E32186","v":0},{"$f":"ASIN!F32186","v":0}]
[{"$f":"ASIN!A32219","v":0},{"$f":"ASIN!B32219","v":0},{"$f":"ASIN!C32219","v":0},{"$f":"ASIN!D32219","v":0},{"$f":"ASIN!E32219","v":0},{"$f":"ASIN!F32219","v":0}]
[{"$f":"ASIN!A32245","v":0},{"$f":"ASIN!B32245","v":0},{"$f":"ASIN!C32245","v":0},{"$f":"ASIN!D32245","v":0},{"$f":"ASIN!E32245","v":0},{"$f":"ASIN!F32245","v":0}]
[{"$f":"ASIN!A32276","v":0},{"$f":"ASIN!B32276","v":0},{"$f":"ASIN!C32276","v":0},{"$f":"ASIN!D32276","v":0},{"$f":"ASIN!E32276","v":0},{"$f":"ASIN!F32276","v":0}]
[{"$f":"ASIN!A32301","v":0},{"$f":"ASIN!B32301","v":0},{"$f":"ASIN!C32301","v":0},{"$f":"ASIN!D32301","v":0},{"$f":"ASIN!E32301","v":0},{"$f":"ASIN!F32301","v":0}]
[{"$f":"ASIN!A32310","v":0},{"$f":"ASIN!B32310","v":0},{"$f":"ASIN!C32310","v":0},{"$f":"ASIN!D32310","v":0},{"$f":"ASIN!E32310","v":0},{"$f":"ASIN!F32310","v":0}]
[{"$f":"ASIN!A32348","v":0},{"$f":"ASIN!B32348","v":0},{"$f":"ASIN!C32348","v":0},{"$f":"ASIN!D32348","v":0},{"$f":"ASIN!E32348","v":0},{"$f":"ASIN!F32348","v":0}]
[{"$f":"ASIN!A32367","v":0},{"$f":"ASIN!B32367","v":0},{"$f":"ASIN!C32367","v":0},{"$f":"ASIN!D32367","v":0},{"$f":"ASIN!E32367","v":0},{"$f":"ASIN!F32367","v":0}]
[{"$f":"ASIN!A32376","v":0},{"$f":"ASIN!B32376","v":0},{"$f":"ASIN!C32376","v":0},{"$f":"ASIN!D32376","v":0},{"$f":"ASIN!E32376","v":0},{"$f":"ASIN!F32376","v":0}]
[{"$f":"ASIN!A32409","v":0},{"$f":"ASIN!B32409","v":0},{"$f":"ASIN!C32409","v":0},{"$f":"ASIN!D32409","v":0},{"$f":"ASIN!E32409","v":0},{"$f":"ASIN!F32409","v":0}]
[{"$f":"ASIN!A32440","v":0},{"$f":"ASIN!B32440","v":0},{"$f":"ASIN!C32440","v":0},{"$f":"ASIN!D32440","v":0},{"$f":"ASIN!E32440","v":0},{"$f":"ASIN!F32440","v":0}]
[{"$f":"ASIN!A32466","v":0},{"$f":"ASIN!B32466","v":0},{"$f":"ASIN!C32466","v":0},{"$f":"ASIN!D32466","v":0},{"$f":"ASIN!E32466","v":0},{"$f":"ASIN!F32466","v":0}]
[{"$f":"ASIN!A32491","v":0},{"$f":"ASIN!B32491","v":0},{"$f":"ASIN!C32491","v":0},{"$f":"ASIN!D32491","v":0},{"$f":"ASIN!E32491","v":0},{"$f":"ASIN!F32491","v":0}]
[{"$f":"ASIN!A32500","v":0},{"$f":"ASIN!B32500","v":0},{"$f":"ASIN!C32500","v":0},{"$f":"ASIN!D32500","v":0},{"$f":"ASIN!E32500","v":0},{"$f":"ASIN!F32500","v":0}]
[{"$f":"ASIN!A32520","v":0},{"$f":"ASIN!B32520","v":0},{"$f":"ASIN!C32520","v":0},{"$f":"ASIN!D32520","v":0},{"$f":"ASIN!E32520","v":0},{"$f":"ASIN!F32520","v":0}]
[{"$f":"ASIN!A32557","v":0},{"$f":"ASIN!B32557","v":0},{"$f":"ASIN!C32557","v":0},{"$f":"ASIN!D32557","v":0},{"$f":"ASIN!E32557","v":0},{"$f":"ASIN!F32557","v":0}]
[{"$f":"ASIN!A32566","v":0},{"$f":"ASIN!B32566","v":0},{"$f":"ASIN!C32566","v":0},{"$f":"ASIN!D32566","v":0},{"$f":"ASIN!E32566","v":0},{"$f":"ASIN!F32566","v":0}]
[{"$f":"ASIN!A32599","v":0},{"$f":"ASIN!B32599","v":0},{"$f":"ASIN!C32599","v":0},{"$f":"ASIN!D32599","v":0},{"$f":"ASIN!E32599","v":0},{"$f":"ASIN!F32599","v":0}]
[{"$f":"ASIN!A32635","v":0},{"$f":"ASIN!B32635","v":0},{"$f":"ASIN!C32635","v":0},{"$f":"ASIN!D32635","v":0},{"$f":"ASIN!E32635","v":0},{"$f":"ASIN!F32635","v":0}]
[{"$f":"ASIN!A32656","v":0},{"$f":"ASIN!B32656","v":0},{"$f":"ASIN!C32656","v":0},{"$f":"ASIN!D32656","v":0},{"$f":"ASIN!E32656","v":0},{"$f":"ASIN!F32656","v":0}]
[{"$f":"ASIN!A32681","v":0},{"$f":"ASIN!B32681","v":0},{"$f":"ASIN!C32681","v":0},{"$f":"ASIN!D32681","v":0},{"$f":"ASIN!E32681","v":0},{"$f":"ASIN!F32681","v":0}]
[{"$f":"ASIN!A32690","v":0},{"$f":"ASIN!B32690","v":0},{"$f":"ASIN!C32690","v":0},{"$f":"ASIN!D32690","v":0},{"$f":"ASIN!E32690","v":0},{"$f":"ASIN!F32690","v":0}]
[{"$f":"ASIN!A32715","v":0},{"$f":"ASIN!B32715","v":0},{"$f":"ASIN!C32715","v":0},{"$f":"ASIN!D32715","v":0},{"$f":"ASIN!E32715","v":0},{"$f":"ASIN!F32715","v":0}]
[{"$f":"ASIN!A32747","v":0},{"$f":"ASIN!B32747","v":0},{"$f":"ASIN!C32747","v":0},{"$f":"ASIN!D32747","v":0},{"$f":"ASIN!E32747","v":0},{"$f":"ASIN!F32747","v":0}]
[{"$f":"ASIN!A32756","v":0},{"$f":"ASIN!B32756","v":0},{"$f":"ASIN!C32756","v":0},{"$f":"ASIN!D32756","v":0},{"$f":"ASIN!E32756","v":0},{"$f":"ASIN!F32756","v":0}]
[{"$f":"ASIN!A32781","v":0},{"$f":"ASIN!B32781","v":0},{"$f":"ASIN!C32781","v":0},{"$f":"ASIN!D32781","v":0},{"$f":"ASIN!E32781","v":0},{"$f":"ASIN!F32781","v":0}]
[{"$f":"ASIN!A32807","v":0},{"$f":"ASIN!B32807","v":0},{"$f":"ASIN!C32807","v":0},{"$f":"ASIN!D32807","v":0},{"$f":"ASIN!E32807","v":0},{"$f":"ASIN!F32807","v":0}]
[{"$f":"ASIN!A32846","v":0},{"$f":"ASIN!B32846","v":0},{"$f":"ASIN!C32846","v":0},{"$f":"ASIN!D32846","v":0},{"$f":"ASIN!E32846","v":0},{"$f":"ASIN!F32846","v":0}]
[{"$f":"ASIN!A32871","v":0},{"$f":"ASIN!B32871","v":0},{"$f":"ASIN!C32871","v":0},{"$f":"ASIN!D32871","v":0},{"$f":"ASIN!E32871","v":0},{"$f":"ASIN!F32871","v":0}]
[{"$f":"ASIN!A32880","v":0},{"$f":"ASIN!B32880","v":0},{"$f":"ASIN!C32880","v":0},{"$f":"ASIN!D32880","v":0},{"$f":"ASIN!E32880","v":0},{"$f":"ASIN!F32880","v":0}]
[{"$f":"ASIN!A32910","v":0},{"$f":"ASIN!B32910","v":0},{"$f":"ASIN!C32910","v":0},{"$f":"ASIN!D32910","v":0},{"$f":"ASIN!E32910","v":0},{"$f":"ASIN!F32910","v":0}]
[{"$f":"ASIN!A32937","v":0},{"$f":"ASIN!B32937","v":0},{"$f":"ASIN!C32937","v":0},{"$f":"ASIN!D32937","v":0},{"$f":"ASIN!E32937","v":0},{"$f":"ASIN!F32937","v":0}]
[{"$f":"ASIN!A32946","v":0},{"$f":"ASIN!B32946","v":0},{"$f":"ASIN!C32946","v":0},{"$f":"ASIN!D32946","v":0},{"$f":"ASIN!E32946","v":0},{"$f":"ASIN!F32946","v":0}]
[{"$f":"ASIN!A32971","v":0},{"$f":"ASIN!B32971","v":0},{"$f":"ASIN!C32971","v":0},{"$f":"ASIN!D32971","v":0},{"$f":"ASIN!E32971","v":0},{"$f":"ASIN!F32971","v":0}]
[{"$f":"ASIN!A33002","v":0},{"$f":"ASIN!B33002","v":0},{"$f":"ASIN!C33002","v":0},{"$f":"ASIN!D33002","v":0},{"$f":"ASIN!E33002","v":0},{"$f":"ASIN!F33002","v":0}]
[{"$f":"ASIN!A33036","v":0},{"$f":"ASIN!B33036","v":0},{"$f":"ASIN!C33036","v":0},{"$f":"ASIN!D33036","v":0},{"$f":"ASIN!E33036","v":0},{"$f":"ASIN!F33036","v":0}]
[{"$f":"ASIN!A33061","v":0},{"$f":"ASIN!B33061","v":0},{"$f":"ASIN!C33061","v":0},{"$f":"ASIN!D33061","v":0},{"$f":"ASIN!E33061","v":0},{"$f":"ASIN!F33061","v":0}]
[{"$f":"ASIN!A33070","v":0},{"$f":"ASIN!B33070","v":0},{"$f":"ASIN!C33070","v":0},{"$f":"ASIN!D33070","v":0},{"$f":"ASIN!E33070","v":0},{"$f":"ASIN!F33070","v":0}]
[{"$f":"ASIN!A33105","v":0},{"$f":"ASIN!B33105","v":0},{"$f":"ASIN!C33105","v":0},{"$f":"ASIN!D33105","v":0},{"$f":"ASIN!E33105","v":0},{"$f":"ASIN!F33105","v":0}]
[{"$f":"ASIN!A33127","v":0},{"$f":"ASIN!B33127","v":0},{"$f":"ASIN!C33127","v":0},{"$f":"ASIN!D33127","v":0},{"$f":"ASIN!E33127","v":0},{"$f":"ASIN!F33127","v":0}]
[{"$f":"ASIN!A33136","v":0},{"$f":"ASIN!B33136","v":0},{"$f":"ASIN!C33136","v":0},{"$f":"ASIN!D33136","v":0},{"$f":"ASIN!E33136","v":0},{"$f":"ASIN!F33136","v":0}]
[{"$f":"ASIN!A33161","v":0},{"$f":"ASIN!B33161","v":0},{"$f":"ASIN!C33161","v":0},{"$f":"ASIN!D33161","v":0},{"$f":"ASIN!E33161","v":0},{"$f":"ASIN!F33161","v":0}]
[{"$f":"ASIN!A33197","v":0},{"$f":"ASIN!B33197","v":0},{"$f":"ASIN!C33197","v":0},{"$f":"ASIN!D33197","v":0},{"$f":"ASIN!E33197","v":0},{"$f":"ASIN!F33197","v":0}]
[{"$f":"ASIN!A33226","v":0},{"$f":"ASIN!B33226","v":0},{"$f":"ASIN!C33226","v":0},{"$f":"ASIN!D33226","v":0},{"$f":"ASIN!E33226","v":0},{"$f":"ASIN!F33226","v":0}]
[{"$f":"ASIN!A33251","v":0},{"$f":"ASIN!B33251","v":0},{"$f":"ASIN!C33251","v":0},{"$f":"ASIN!D33251","v":0},{"$f":"ASIN!E33251","v":0},{"$f":"ASIN!F33251","v":0}]
[{"$f":"ASIN!A33260","v":0},{"$f":"ASIN!B33260","v":0},{"$f":"ASIN!C33260","v":0},{"$f":"ASIN!D33260","v":0},{"$f":"ASIN!E33260","v":0},{"$f":"ASIN!F33260","v":0}]
[{"$f":"ASIN!A33289","v":0},{"$f":"ASIN!B33289","v":0},{"$f":"ASIN!C33289","v":0},{"$f":"ASIN!D33289","v":0},{"$f":"ASIN!E33289","v":0},{"$f":"ASIN!F33289","v":0}]
[{"$f":"ASIN!A33317","v":0},{"$f":"ASIN!B33317","v":0},{"$f":"ASIN!C33317","v":0},{"$f":"ASIN!D33317","v":0},{"$f":"ASIN!E33317","v":0},{"$f":"ASIN!F33317","v":0}]
[{"$f":"ASIN!A33326","v":0},{"$f":"ASIN!B33326","v":0},{"$f":"ASIN!C33326","v":0},{"$f":"ASIN!D33326","v":0},{"$f":"ASIN!E33326","v":0},{"$f":"ASIN!F33326","v":0}]
[{"$f":"ASIN!A33351","v":0},{"$f":"ASIN!B33351","v":0},{"$f":"ASIN!C33351","v":0},{"$f":"ASIN!D33351","v":0},{"$f":"ASIN!E33351","v":0},{"$f":"ASIN!F33351","v":0}]
[{"$f":"ASIN!A33392","v":0},{"$f":"ASIN!B33392","v":0},{"$f":"ASIN!C33392","v":0},{"$f":"ASIN!D33392","v":0},{"$f":"ASIN!E33392","v":0},{"$f":"ASIN!F33392","v":0}]
[{"$f":"ASIN!A33416","v":0},{"$f":"ASIN!B33416","v":0},{"$f":"ASIN!C33416","v":0},{"$f":"ASIN!D33416","v":0},{"$f":"ASIN!E33416","v":0},{"$f":"ASIN!F33416","v":0}]
[{"$f":"ASIN!A33441","v":0},{"$f":"ASIN!B33441","v":0},{"$f":"ASIN!C33441","v":0},{"$f":"ASIN!D33441","v":0},{"$f":"ASIN!E33441","v":0},{"$f":"ASIN!F33441","v":0}]
[{"$f":"ASIN!A33450","v":0},{"$f":"ASIN!B33450","v":0},{"$f":"ASIN!C33450","v":0},{"$f":"ASIN!D33450","v":0},{"$f":"ASIN!E33450","v":0},{"$f":"ASIN!F33450","v":0}]
[{"$f":"ASIN!A33484","v":0},{"$f":"ASIN!B33484","v":0},{"$f":"ASIN!C33484","v":0},{"$f":"ASIN!D33484","v":0},{"$f":"ASIN!E33484","v":0},{"$f":"ASIN!F33484","v":0}]
[{"$f":"ASIN!A33507","v":0},{"$f":"ASIN!B33507","v":0},{"$f":"ASIN!C33507","v":0},{"$f":"ASIN!D33507","v":0},{"$f":"ASIN!E33507","v":0},{"$f":"ASIN!F33507","v":0}]
[{"$f":"ASIN!A33516","v":0},{"$f":"ASIN!B33516","v":0},{"$f":"ASIN!C33516","v":0},{"$f":"ASIN!D33516","v":0},{"$f":"ASIN!E33516","v":0},{"$f":"ASIN!F33516","v":0}]
[{"$f":"ASIN!A33541","v":0},{"$f":"ASIN!B33541","v":0},{"$f":"ASIN!C33541","v":0},{"$f":"ASIN!D33541","v":0},{"$f":"ASIN!E33541","v":0},{"$f":"ASIN!F33541","v":0}]
[{"$f":"ASIN!A33564","v":0},{"$f":"ASIN!B33564","v":0},{"$f":"ASIN!C33564","v":0},{"$f":"ASIN!D33564","v":0},{"$f":"ASIN!E33564","v":0},{"$f":"ASIN!F33564","v":0}]
[{"$f":"ASIN!A33598","v":0},{"$f":"ASIN!B33598","v":0},{"$f":"ASIN!C33598","v":0},{"$f":"ASIN!D33598","v":0},{"$f":"ASIN!E33598","v":0},{"$f":"ASIN!F33598","v":0}]
[{"$f":"ASIN!A33631","v":0},{"$f":"ASIN!B33631","v":0},{"$f":"ASIN!C33631","v":0},{"$f":"ASIN!D33631","v":0},{"$f":"ASIN!E33631","v":0},{"$f":"ASIN!F33631","v":0}]
[{"$f":"ASIN!A33640","v":0},{"$f":"ASIN!B33640","v":0},{"$f":"ASIN!C33640","v":0},{"$f":"ASIN!D33640","v":0},{"$f":"ASIN!E33640","v":0},{"$f":"ASIN!F33640","v":0}]
[{"$f":"ASIN!A33679","v":0},{"$f":"ASIN!B33679","v":0},{"$f":"ASIN!C33679","v":0},{"$f":"ASIN!D33679","v":0},{"$f":"ASIN!E33679","v":0},{"$f":"ASIN!F33679","v":0}]
[{"$f":"ASIN!A33697","v":0},{"$f":"ASIN!B33697","v":0},{"$f":"ASIN!C33697","v":0},{"$f":"ASIN!D33697","v":0},{"$f":"ASIN!E33697","v":0},{"$f":"ASIN!F33697","v":0}]
[{"$f":"ASIN!A33706","v":0},{"$f":"ASIN!B33706","v":0},{"$f":"ASIN!C33706","v":0},{"$f":"ASIN!D33706","v":0},{"$f":"ASIN!E33706","v":0},{"$f":"ASIN!F33706","v":0}]
[{"$f":"ASIN!A33731","v":0},{"$f":"ASIN!B33731","v":0},{"$f":"ASIN!C33731","v":0},{"$f":"ASIN!D33731","v":0},{"$f":"ASIN!E33731","v":0},{"$f":"ASIN!F33731","v":0}]
[{"$f":"ASIN!A33759","v":0},{"$f":"ASIN!B33759","v":0},{"$f":"ASIN!C33759","v":0},{"$f":"ASIN!D33759","v":0},{"$f":"ASIN!E33759","v":0},{"$f":"ASIN!F33759","v":0}]
[{"$f":"ASIN!A33788","v":0},{"$f":"ASIN!B33788","v":0},{"$f":"ASIN!C33788","v":0},{"$f":"ASIN!D33788","v":0},{"$f":"ASIN!E33788","v":0},{"$f":"ASIN!F33788","v":0}]
[{"$f":"ASIN!A33821","v":0},{"$f":"ASIN!B33821","v":0},{"$f":"ASIN!C33821","v":0},{"$f":"ASIN!D33821","v":0},{"$f":"ASIN!E33821","v":0},{"$f":"ASIN!F33821","v":0}]
[{"$f":"ASIN!A33830","v":0},{"$f":"ASIN!B33830","v":0},{"$f":"ASIN!C33830","v":0},{"$f":"ASIN!D33830","v":0},{"$f":"ASIN!E33830","v":0},{"$f":"ASIN!F33830","v":0}]
[{"$f":"ASIN!A33851","v":0},{"$f":"ASIN!B33851","v":0},{"$f":"ASIN!C33851","v":0},{"$f":"ASIN!D33851","v":0},{"$f":"ASIN!E33851","v":0},{"$f":"ASIN!F33851","v":0}]
[{"$f":"ASIN!A33887","v":0},{"$f":"ASIN!B33887","v":0},{"$f":"ASIN!C33887","v":0},{"$f":"ASIN!D33887","v":0},{"$f":"ASIN!E33887","v":0},{"$f":"ASIN!F33887","v":0}]
[{"$f":"ASIN!A33896","v":0},{"$f":"ASIN!B33896","v":0},{"$f":"ASIN!C33896","v":0},{"$f":"ASIN!D33896","v":0},{"$f":"ASIN!E33896","v":0},{"$f":"ASIN!F33896","v":0}]
[{"$f":"ASIN!A33921","v":0},{"$f":"ASIN!B33921","v":0},{"$f":"ASIN!C33921","v":0},{"$f":"ASIN!D33921","v":0},{"$f":"ASIN!E33921","v":0},{"$f":"ASIN!F33921","v":0}]
[{"$f":"ASIN!A33954","v":0},{"$f":"ASIN!B33954","v":0},{"$f":"ASIN!C33954","v":0},{"$f":"ASIN!D33954","v":0},{"$f":"ASIN!E33954","v":0},{"$f":"ASIN!F33954","v":0}]
[{"$f":"ASIN!A33978","v":0},{"$f":"ASIN!B33978","v":0},{"$f":"ASIN!C33978","v":0},{"$f":"ASIN!D33978","v":0},{"$f":"ASIN!E33978","v":0},{"$f":"ASIN!F33978","v":0}]
[{"$f":"ASIN!A34011","v":0},{"$f":"ASIN!B34011","v":0},{"$f":"ASIN!C34011","v":0},{"$f":"ASIN!D34011","v":0},{"$f":"ASIN!E34011","v":0},{"$f":"ASIN!F34011","v":0}]
[{"$f":"ASIN!A34020","v":0},{"$f":"ASIN!B34020","v":0},{"$f":"ASIN!C34020","v":0},{"$f":"ASIN!D34020","v":0},{"$f":"ASIN!E34020","v":0},{"$f":"ASIN!F34020","v":0}]
[{"$f":"ASIN!A34046","v":0},{"$f":"ASIN!B34046","v":0},{"$f":"ASIN!C34046","v":0},{"$f":"ASIN!D34046","v":0},{"$f":"ASIN!E34046","v":0},{"$f":"ASIN!F34046","v":0}]
[{"$f":"ASIN!A34077","v":0},{"$f":"ASIN!B34077","v":0},{"$f":"ASIN!C34077","v":0},{"$f":"ASIN!D34077","v":0},{"$f":"ASIN!E34077","v":0},{"$f":"ASIN!F34077","v":0}]
[{"$f":"ASIN!A34102","v":0},{"$f":"ASIN!B34102","v":0},{"$f":"ASIN!C34102","v":0},{"$f":"ASIN!D34102","v":0},{"$f":"ASIN!E34102","v":0},{"$f":"ASIN!F34102","v":0}]
[{"$f":"ASIN!A34111","v":0},{"$f":"ASIN!B34111","v":0},{"$f":"ASIN!C34111","v":0},{"$f":"ASIN!D34111","v":0},{"$f":"ASIN!E34111","v":0},{"$f":"ASIN!F34111","v":0}]
[{"$f":"ASIN!A34149","v":0},{"$f":"ASIN!B34149","v":0},{"$f":"ASIN!C34149","v":0},{"$f":"ASIN!D34149","v":0},{"$f":"ASIN!E34149","v":0},{"$f":"ASIN!F34149","v":0}]
[{"$f":"ASIN!A34168","v":0},{"$f":"ASIN!B34168","v":0},{"$f":"ASIN!C34168","v":0},{"$f":"ASIN!D34168","v":0},{"$f":"ASIN!E34168","v":0},{"$f":"ASIN!F34168","v":0}]
[{"$f":"ASIN!A34201","v":0},{"$f":"ASIN!B34201","v":0},{"$f":"ASIN!C34201","v":0},{"$f":"ASIN!D34201","v":0},{"$f":"ASIN!E34201","v":0},{"$f":"ASIN!F34201","v":0}]
[{"$f":"ASIN!A34210","v":0},{"$f":"ASIN!B34210","v":0},{"$f":"ASIN!C34210","v":0},{"$f":"ASIN!D34210","v":0},{"$f":"ASIN!E34210","v":0},{"$f":"ASIN!F34210","v":0}]
[{"$f":"ASIN!A34241","v":0},{"$f":"ASIN!B34241","v":0},{"$f":"ASIN!C34241","v":0},{"$f":"ASIN!D34241","v":0},{"$f":"ASIN!E34241","v":0},{"$f":"ASIN!F34241","v":0}]
[{"$f":"ASIN!A34267","v":0},{"$f":"ASIN!B34267","v":0},{"$f":"ASIN!C34267","v":0},{"$f":"ASIN!D34267","v":0},{"$f":"ASIN!E34267","v":0},{"$f":"ASIN!F34267","v":0}]
[{"$f":"ASIN!A34292","v":0},{"$f":"ASIN!B34292","v":0},{"$f":"ASIN!C34292","v":0},{"$f":"ASIN!D34292","v":0},{"$f":"ASIN!E34292","v":0},{"$f":"ASIN!F34292","v":0}]
[{"$f":"ASIN!A34301","v":0},{"$f":"ASIN!B34301","v":0},{"$f":"ASIN!C34301","v":0},{"$f":"ASIN!D34301","v":0},{"$f":"ASIN!E34301","v":0},{"$f":"ASIN!F34301","v":0}]
[{"$f":"ASIN!A34344","v":0},{"$f":"ASIN!B34344","v":0},{"$f":"ASIN!C34344","v":0},{"$f":"ASIN!D34344","v":0},{"$f":"ASIN!E34344","v":0},{"$f":"ASIN!F34344","v":0}]
[{"$f":"ASIN!A34358","v":0},{"$f":"ASIN!B34358","v":0},{"$f":"ASIN!C34358","v":0},{"$f":"ASIN!D34358","v":0},{"$f":"ASIN!E34358","v":0},{"$f":"ASIN!F34358","v":0}]
[{"$f":"ASIN!A34391","v":0},{"$f":"ASIN!B34391","v":0},{"$f":"ASIN!C34391","v":0},{"$f":"ASIN!D34391","v":0},{"$f":"ASIN!E34391","v":0},{"$f":"ASIN!F34391","v":0}]
[{"$f":"ASIN!A34416","v":0},{"$f":"ASIN!B34416","v":0},{"$f":"ASIN!C34416","v":0},{"$f":"ASIN!D34416","v":0},{"$f":"ASIN!E34416","v":0},{"$f":"ASIN!F34416","v":0}]
[{"$f":"ASIN!A34436","v":0},{"$f":"ASIN!B34436","v":0},{"$f":"ASIN!C34436","v":0},{"$f":"ASIN!D34436","v":0},{"$f":"ASIN!E34436","v":0},{"$f":"ASIN!F34436","v":0}]
[{"$f":"ASIN!A34457","v":0},{"$f":"ASIN!B34457","v":0},{"$f":"ASIN!C34457","v":0},{"$f":"ASIN!D34457","v":0},{"$f":"ASIN!E34457","v":0},{"$f":"ASIN!F34457","v":0}]
[{"$f":"ASIN!A34482","v":0},{"$f":"ASIN!B34482","v":0},{"$f":"ASIN!C34482","v":0},{"$f":"ASIN!D34482","v":0},{"$f":"ASIN!E34482","v":0},{"$f":"ASIN!F34482","v":0}]
[{"$f":"ASIN!A34491","v":0},{"$f":"ASIN!B34491","v":0},{"$f":"ASIN!C34491","v":0},{"$f":"ASIN!D34491","v":0},{"$f":"ASIN!E34491","v":0},{"$f":"ASIN!F34491","v":0}]
[{"$f":"ASIN!A34516","v":0},{"$f":"ASIN!B34516","v":0},{"$f":"ASIN!C34516","v":0},{"$f":"ASIN!D34516","v":0},{"$f":"ASIN!E34516","v":0},{"$f":"ASIN!F34516","v":0}]
[{"$f":"ASIN!A34548","v":0},{"$f":"ASIN!B34548","v":0},{"$f":"ASIN!C34548","v":0},{"$f":"ASIN!D34548","v":0},{"$f":"ASIN!E34548","v":0},{"$f":"ASIN!F34548","v":0}]
[{"$f":"ASIN!A34581","v":0},{"$f":"ASIN!B34581","v":0},{"$f":"ASIN!C34581","v":0},{"$f":"ASIN!D34581","v":0},{"$f":"ASIN!E34581","v":0},{"$f":"ASIN!F34581","v":0}]
[{"$f":"ASIN!A34606","v":0},{"$f":"ASIN!B34606","v":0},{"$f":"ASIN!C34606","v":0},{"$f":"ASIN!D34606","v":0},{"$f":"ASIN!E34606","v":0},{"$f":"ASIN!F34606","v":0}]
[{"$f":"ASIN!A34631","v":0},{"$f":"ASIN!B34631","v":0},{"$f":"ASIN!C34631","v":0},{"$f":"ASIN!D34631","v":0},{"$f":"ASIN!E34631","v":0},{"$f":"ASIN!F34631","v":0}]
[{"$f":"ASIN!A34647","v":0},{"$f":"ASIN!B34647","v":0},{"$f":"ASIN!C34647","v":0},{"$f":"ASIN!D34647","v":0},{"$f":"ASIN!E34647","v":0},{"$f":"ASIN!F34647","v":0}]
[{"$f":"ASIN!A34672","v":0},{"$f":"ASIN!B34672","v":0},{"$f":"ASIN!C34672","v":0},{"$f":"ASIN!D34672","v":0},{"$f":"ASIN!E34672","v":0},{"$f":"ASIN!F34672","v":0}]
[{"$f":"ASIN!A34681","v":0},{"$f":"ASIN!B34681","v":0},{"$f":"ASIN!C34681","v":0},{"$f":"ASIN!D34681","v":0},{"$f":"ASIN!E34681","v":0},{"$f":"ASIN!F34681","v":0}]
[{"$f":"ASIN!A34711","v":0},{"$f":"ASIN!B34711","v":0},{"$f":"ASIN!C34711","v":0},{"$f":"ASIN!D34711","v":0},{"$f":"ASIN!E34711","v":0},{"$f":"ASIN!F34711","v":0}]
[{"$f":"ASIN!A34738","v":0},{"$f":"ASIN!B34738","v":0},{"$f":"ASIN!C34738","v":0},{"$f":"ASIN!D34738","v":0},{"$f":"ASIN!E34738","v":0},{"$f":"ASIN!F34738","v":0}]
[{"$f":"ASIN!A34771","v":0},{"$f":"ASIN!B34771","v":0},{"$f":"ASIN!C34771","v":0},{"$f":"ASIN!D34771","v":0},{"$f":"ASIN!E34771","v":0},{"$f":"ASIN!F34771","v":0}]
[{"$f":"ASIN!A34796","v":0},{"$f":"ASIN!B34796","v":0},{"$f":"ASIN!C34796","v":0},{"$f":"ASIN!D34796","v":0},{"$f":"ASIN!E34796","v":0},{"$f":"ASIN!F34796","v":0}]
[{"$f":"ASIN!A34803","v":0},{"$f":"ASIN!B34803","v":0},{"$f":"ASIN!C34803","v":0},{"$f":"ASIN!D34803","v":0},{"$f":"ASIN!E34803","v":0},{"$f":"ASIN!F34803","v":0}]
[{"$f":"ASIN!A34837","v":0},{"$f":"ASIN!B34837","v":0},{"$f":"ASIN!C34837","v":0},{"$f":"ASIN!D34837","v":0},{"$f":"ASIN!E34837","v":0},{"$f":"ASIN!F34837","v":0}]
[{"$f":"ASIN!A34862","v":0},{"$f":"ASIN!B34862","v":0},{"$f":"ASIN!C34862","v":0},{"$f":"ASIN!D34862","v":0},{"$f":"ASIN!E34862","v":0},{"$f":"ASIN!F34862","v":0}]
[{"$f":"ASIN!A34871","v":0},{"$f":"ASIN!B34871","v":0},{"$f":"ASIN!C34871","v":0},{"$f":"ASIN!D34871","v":0},{"$f":"ASIN!E34871","v":0},{"$f":"ASIN!F34871","v":0}]
[{"$f":"ASIN!A34895","v":0},{"$f":"ASIN!B34895","v":0},{"$f":"ASIN!C34895","v":0},{"$f":"ASIN!D34895","v":0},{"$f":"ASIN!E34895","v":0},{"$f":"ASIN!F34895","v":0}]
[{"$f":"ASIN!A34928","v":0},{"$f":"ASIN!B34928","v":0},{"$f":"ASIN!C34928","v":0},{"$f":"ASIN!D34928","v":0},{"$f":"ASIN!E34928","v":0},{"$f":"ASIN!F34928","v":0}]
[{"$f":"ASIN!A34961","v":0},{"$f":"ASIN!B34961","v":0},{"$f":"ASIN!C34961","v":0},{"$f":"ASIN!D34961","v":0},{"$f":"ASIN!E34961","v":0},{"$f":"ASIN!F34961","v":0}]
[{"$f":"ASIN!A34986","v":0},{"$f":"ASIN!B34986","v":0},{"$f":"ASIN!C34986","v":0},{"$f":"ASIN!D34986","v":0},{"$f":"ASIN!E34986","v":0},{"$f":"ASIN!F34986","v":0}]
[{"$f":"ASIN!A34998","v":0},{"$f":"ASIN!B34998","v":0},{"$f":"ASIN!C34998","v":0},{"$f":"ASIN!D34998","v":0},{"$f":"ASIN!E34998","v":0},{"$f":"ASIN!F34998","v":0}]
[{"$f":"ASIN!A35027","v":0},{"$f":"ASIN!B35027","v":0},{"$f":"ASIN!C35027","v":0},{"$f":"ASIN!D35027","v":0},{"$f":"ASIN!E35027","v":0},{"$f":"ASIN!F35027","v":0}]
[{"$f":"ASIN!A35052","v":0},{"$f":"ASIN!B35052","v":0},{"$f":"ASIN!C35052","v":0},{"$f":"ASIN!D35052","v":0},{"$f":"ASIN!E35052","v":0},{"$f":"ASIN!F35052","v":0}]
[{"$f":"ASIN!A35061","v":0},{"$f":"ASIN!B35061","v":0},{"$f":"ASIN!C35061","v":0},{"$f":"ASIN!D35061","v":0},{"$f":"ASIN!E35061","v":0},{"$f":"ASIN!F35061","v":0}]
[{"$f":"ASIN!A35090","v":0},{"$f":"ASIN!B35090","v":0},{"$f":"ASIN!C35090","v":0},{"$f":"ASIN!D35090","v":0},{"$f":"ASIN!E35090","v":0},{"$f":"ASIN!F35090","v":0}]
[{"$f":"ASIN!A35118","v":0},{"$f":"ASIN!B35118","v":0},{"$f":"ASIN!C35118","v":0},{"$f":"ASIN!D35118","v":0},{"$f":"ASIN!E35118","v":0},{"$f":"ASIN!F35118","v":0}]
[{"$f":"ASIN!A35151","v":0},{"$f":"ASIN!B35151","v":0},{"$f":"ASIN!C35151","v":0},{"$f":"ASIN!D35151","v":0},{"$f":"ASIN!E35151","v":0},{"$f":"ASIN!F35151","v":0}]
[{"$f":"ASIN!A35176","v":0},{"$f":"ASIN!B35176","v":0},{"$f":"ASIN!C35176","v":0},{"$f":"ASIN!D35176","v":0},{"$f":"ASIN!E35176","v":0},{"$f":"ASIN!F35176","v":0}]
[{"$f":"ASIN!A35193","v":0},{"$f":"ASIN!B35193","v":0},{"$f":"ASIN!C35193","v":0},{"$f":"ASIN!D35193","v":0},{"$f":"ASIN!E35193","v":0},{"$f":"ASIN!F35193","v":0}]
[{"$f":"ASIN!A35217","v":0},{"$f":"ASIN!B35217","v":0},{"$f":"ASIN!C35217","v":0},{"$f":"ASIN!D35217","v":0},{"$f":"ASIN!E35217","v":0},{"$f":"ASIN!F35217","v":0}]
[{"$f":"ASIN!A35242","v":0},{"$f":"ASIN!B35242","v":0},{"$f":"ASIN!C35242","v":0},{"$f":"ASIN!D35242","v":0},{"$f":"ASIN!E35242","v":0},{"$f":"ASIN!F35242","v":0}]
[{"$f":"ASIN!A35251","v":0},{"$f":"ASIN!B35251","v":0},{"$f":"ASIN!C35251","v":0},{"$f":"ASIN!D35251","v":0},{"$f":"ASIN!E35251","v":0},{"$f":"ASIN!F35251","v":0}]
[{"$f":"ASIN!A35285","v":0},{"$f":"ASIN!B35285","v":0},{"$f":"ASIN!C35285","v":0},{"$f":"ASIN!D35285","v":0},{"$f":"ASIN!E35285","v":0},{"$f":"ASIN!F35285","v":0}]
[{"$f":"ASIN!A35308","v":0},{"$f":"ASIN!B35308","v":0},{"$f":"ASIN!C35308","v":0},{"$f":"ASIN!D35308","v":0},{"$f":"ASIN!E35308","v":0},{"$f":"ASIN!F35308","v":0}]
[{"$f":"ASIN!A35341","v":0},{"$f":"ASIN!B35341","v":0},{"$f":"ASIN!C35341","v":0},{"$f":"ASIN!D35341","v":0},{"$f":"ASIN!E35341","v":0},{"$f":"ASIN!F35341","v":0}]
[{"$f":"ASIN!A35366","v":0},{"$f":"ASIN!B35366","v":0},{"$f":"ASIN!C35366","v":0},{"$f":"ASIN!D35366","v":0},{"$f":"ASIN!E35366","v":0},{"$f":"ASIN!F35366","v":0}]
[{"$f":"ASIN!A35388","v":0},{"$f":"ASIN!B35388","v":0},{"$f":"ASIN!C35388","v":0},{"$f":"ASIN!D35388","v":0},{"$f":"ASIN!E35388","v":0},{"$f":"ASIN!F35388","v":0}]
[{"$f":"ASIN!A35399","v":0},{"$f":"ASIN!B35399","v":0},{"$f":"ASIN!C35399","v":0},{"$f":"ASIN!D35399","v":0},{"$f":"ASIN!E35399","v":0},{"$f":"ASIN!F35399","v":0}]
[{"$f":"ASIN!A35432","v":0},{"$f":"ASIN!B35432","v":0},{"$f":"ASIN!C35432","v":0},{"$f":"ASIN!D35432","v":0},{"$f":"ASIN!E35432","v":0},{"$f":"ASIN!F35432","v":0}]
[{"$f":"ASIN!A35441","v":0},{"$f":"ASIN!B35441","v":0},{"$f":"ASIN!C35441","v":0},{"$f":"ASIN!D35441","v":0},{"$f":"ASIN!E35441","v":0},{"$f":"ASIN!F35441","v":0}]
[{"$f":"ASIN!A35480","v":0},{"$f":"ASIN!B35480","v":0},{"$f":"ASIN!C35480","v":0},{"$f":"ASIN!D35480","v":0},{"$f":"ASIN!E35480","v":0},{"$f":"ASIN!F35480","v":0}]
[{"$f":"ASIN!A35498","v":0},{"$f":"ASIN!B35498","v":0},{"$f":"ASIN!C35498","v":0},{"$f":"ASIN!D35498","v":0},{"$f":"ASIN!E35498","v":0},{"$f":"ASIN!F35498","v":0}]
[{"$f":"ASIN!A35531","v":0},{"$f":"ASIN!B35531","v":0},{"$f":"ASIN!C35531","v":0},{"$f":"ASIN!D35531","v":0},{"$f":"ASIN!E35531","v":0},{"$f":"ASIN!F35531","v":0}]
[{"$f":"ASIN!A35556","v":0},{"$f":"ASIN!B35556","v":0},{"$f":"ASIN!C35556","v":0},{"$f":"ASIN!D35556","v":0},{"$f":"ASIN!E35556","v":0},{"$f":"ASIN!F35556","v":0}]
[{"$f":"ASIN!A35560","v":0},{"$f":"ASIN!B35560","v":0},{"$f":"ASIN!C35560","v":0},{"$f":"ASIN!D35560","v":0},{"$f":"ASIN!E35560","v":0},{"$f":"ASIN!F35560","v":0}]
[{"$f":"ASIN!A35589","v":0},{"$f":"ASIN!B35589","v":0},{"$f":"ASIN!C35589","v":0},{"$f":"ASIN!D35589","v":0},{"$f":"ASIN!E35589","v":0},{"$f":"ASIN!F35589","v":0}]
[{"$f":"ASIN!A35622","v":0},{"$f":"ASIN!B35622","v":0},{"$f":"ASIN!C35622","v":0},{"$f":"ASIN!D35622","v":0},{"$f":"ASIN!E35622","v":0},{"$f":"ASIN!F35622","v":0}]
[{"$f":"ASIN!A35631","v":0},{"$f":"ASIN!B35631","v":0},{"$f":"ASIN!C35631","v":0},{"$f":"ASIN!D35631","v":0},{"$f":"ASIN!E35631","v":0},{"$f":"ASIN!F35631","v":0}]
[{"$f":"ASIN!A35675","v":0},{"$f":"ASIN!B35675","v":0},{"$f":"ASIN!C35675","v":0},{"$f":"ASIN!D35675","v":0},{"$f":"ASIN!E35675","v":0},{"$f":"ASIN!F35675","v":0}]
[{"$f":"ASIN!A35688","v":0},{"$f":"ASIN!B35688","v":0},{"$f":"ASIN!C35688","v":0},{"$f":"ASIN!D35688","v":0},{"$f":"ASIN!E35688","v":0},{"$f":"ASIN!F35688","v":0}]
[{"$f":"ASIN!A35713","v":0},{"$f":"ASIN!B35713","v":0},{"$f":"ASIN!C35713","v":0},{"$f":"ASIN!D35713","v":0},{"$f":"ASIN!E35713","v":0},{"$f":"ASIN!F35713","v":0}]
[{"$f":"ASIN!A35746","v":0},{"$f":"ASIN!B35746","v":0},{"$f":"ASIN!C35746","v":0},{"$f":"ASIN!D35746","v":0},{"$f":"ASIN!E35746","v":0},{"$f":"ASIN!F35746","v":0}]
[{"$f":"ASIN!A35755","v":0},{"$f":"ASIN!B35755","v":0},{"$f":"ASIN!C35755","v":0},{"$f":"ASIN!D35755","v":0},{"$f":"ASIN!E35755","v":0},{"$f":"ASIN!F35755","v":0}]
[{"$f":"ASIN!A35779","v":0},{"$f":"ASIN!B35779","v":0},{"$f":"ASIN!C35779","v":0},{"$f":"ASIN!D35779","v":0},{"$f":"ASIN!E35779","v":0},{"$f":"ASIN!F35779","v":0}]
[{"$f":"ASIN!A35812","v":0},{"$f":"ASIN!B35812","v":0},{"$f":"ASIN!C35812","v":0},{"$f":"ASIN!D35812","v":0},{"$f":"ASIN!E35812","v":0},{"$f":"ASIN!F35812","v":0}]
[{"$f":"ASIN!A35821","v":0},{"$f":"ASIN!B35821","v":0},{"$f":"ASIN!C35821","v":0},{"$f":"ASIN!D35821","v":0},{"$f":"ASIN!E35821","v":0},{"$f":"ASIN!F35821","v":0}]
[{"$f":"ASIN!A35847","v":0},{"$f":"ASIN!B35847","v":0},{"$f":"ASIN!C35847","v":0},{"$f":"ASIN!D35847","v":0},{"$f":"ASIN!E35847","v":0},{"$f":"ASIN!F35847","v":0}]
[{"$f":"ASIN!A35878","v":0},{"$f":"ASIN!B35878","v":0},{"$f":"ASIN!C35878","v":0},{"$f":"ASIN!D35878","v":0},{"$f":"ASIN!E35878","v":0},{"$f":"ASIN!F35878","v":0}]
[{"$f":"ASIN!A35903","v":0},{"$f":"ASIN!B35903","v":0},{"$f":"ASIN!C35903","v":0},{"$f":"ASIN!D35903","v":0},{"$f":"ASIN!E35903","v":0},{"$f":"ASIN!F35903","v":0}]
[{"$f":"ASIN!A35936","v":0},{"$f":"ASIN!B35936","v":0},{"$f":"ASIN!C35936","v":0},{"$f":"ASIN!D35936","v":0},{"$f":"ASIN!E35936","v":0},{"$f":"ASIN!F35936","v":0}]
[{"$f":"ASIN!A35950","v":0},{"$f":"ASIN!B35950","v":0},{"$f":"ASIN!C35950","v":0},{"$f":"ASIN!D35950","v":0},{"$f":"ASIN!E35950","v":0},{"$f":"ASIN!F35950","v":0}]
[{"$f":"ASIN!A35969","v":0},{"$f":"ASIN!B35969","v":0},{"$f":"ASIN!C35969","v":0},{"$f":"ASIN!D35969","v":0},{"$f":"ASIN!E35969","v":0},{"$f":"ASIN!F35969","v":0}]
[{"$f":"ASIN!A36002","v":0},{"$f":"ASIN!B36002","v":0},{"$f":"ASIN!C36002","v":0},{"$f":"ASIN!D36002","v":0},{"$f":"ASIN!E36002","v":0},{"$f":"ASIN!F36002","v":0}]
[{"$f":"ASIN!A36011","v":0},{"$f":"ASIN!B36011","v":0},{"$f":"ASIN!C36011","v":0},{"$f":"ASIN!D36011","v":0},{"$f":"ASIN!E36011","v":0},{"$f":"ASIN!F36011","v":0}]
[{"$f":"ASIN!A36042","v":0},{"$f":"ASIN!B36042","v":0},{"$f":"ASIN!C36042","v":0},{"$f":"ASIN!D36042","v":0},{"$f":"ASIN!E36042","v":0},{"$f":"ASIN!F36042","v":0}]
[{"$f":"ASIN!A36068","v":0},{"$f":"ASIN!B36068","v":0},{"$f":"ASIN!C36068","v":0},{"$f":"ASIN!D36068","v":0},{"$f":"ASIN!E36068","v":0},{"$f":"ASIN!F36068","v":0}]
[{"$f":"ASIN!A36093","v":0},{"$f":"ASIN!B36093","v":0},{"$f":"ASIN!C36093","v":0},{"$f":"ASIN!D36093","v":0},{"$f":"ASIN!E36093","v":0},{"$f":"ASIN!F36093","v":0}]
[{"$f":"ASIN!A36126","v":0},{"$f":"ASIN!B36126","v":0},{"$f":"ASIN!C36126","v":0},{"$f":"ASIN!D36126","v":0},{"$f":"ASIN!E36126","v":0},{"$f":"ASIN!F36126","v":0}]
[{"$f":"ASIN!A36145","v":0},{"$f":"ASIN!B36145","v":0},{"$f":"ASIN!C36145","v":0},{"$f":"ASIN!D36145","v":0},{"$f":"ASIN!E36145","v":0},{"$f":"ASIN!F36145","v":0}]
[{"$f":"ASIN!A36159","v":0},{"$f":"ASIN!B36159","v":0},{"$f":"ASIN!C36159","v":0},{"$f":"ASIN!D36159","v":0},{"$f":"ASIN!E36159","v":0},{"$f":"ASIN!F36159","v":0}]
[{"$f":"ASIN!A36192","v":0},{"$f":"ASIN!B36192","v":0},{"$f":"ASIN!C36192","v":0},{"$f":"ASIN!D36192","v":0},{"$f":"ASIN!E36192","v":0},{"$f":"ASIN!F36192","v":0}]
[{"$f":"ASIN!A36217","v":0},{"$f":"ASIN!B36217","v":0},{"$f":"ASIN!C36217","v":0},{"$f":"ASIN!D36217","v":0},{"$f":"ASIN!E36217","v":0},{"$f":"ASIN!F36217","v":0}]
[{"$f":"ASIN!A36237","v":0},{"$f":"ASIN!B36237","v":0},{"$f":"ASIN!C36237","v":0},{"$f":"ASIN!D36237","v":0},{"$f":"ASIN!E36237","v":0},{"$f":"ASIN!F36237","v":0}]
[{"$f":"ASIN!A36258","v":0},{"$f":"ASIN!B36258","v":0},{"$f":"ASIN!C36258","v":0},{"$f":"ASIN!D36258","v":0},{"$f":"ASIN!E36258","v":0},{"$f":"ASIN!F36258","v":0}]
[{"$f":"ASIN!A36283","v":0},{"$f":"ASIN!B36283","v":0},{"$f":"ASIN!C36283","v":0},{"$f":"ASIN!D36283","v":0},{"$f":"ASIN!E36283","v":0},{"$f":"ASIN!F36283","v":0}]
[{"$f":"ASIN!A36316","v":0},{"$f":"ASIN!B36316","v":0},{"$f":"ASIN!C36316","v":0},{"$f":"ASIN!D36316","v":0},{"$f":"ASIN!E36316","v":0},{"$f":"ASIN!F36316","v":0}]
[{"$f":"ASIN!A36340","v":0},{"$f":"ASIN!B36340","v":0},{"$f":"ASIN!C36340","v":0},{"$f":"ASIN!D36340","v":0},{"$f":"ASIN!E36340","v":0},{"$f":"ASIN!F36340","v":0}]
[{"$f":"ASIN!A36349","v":0},{"$f":"ASIN!B36349","v":0},{"$f":"ASIN!C36349","v":0},{"$f":"ASIN!D36349","v":0},{"$f":"ASIN!E36349","v":0},{"$f":"ASIN!F36349","v":0}]
[{"$f":"ASIN!A36382","v":0},{"$f":"ASIN!B36382","v":0},{"$f":"ASIN!C36382","v":0},{"$f":"ASIN!D36382","v":0},{"$f":"ASIN!E36382","v":0},{"$f":"ASIN!F36382","v":0}]
[{"$f":"ASIN!A36407","v":0},{"$f":"ASIN!B36407","v":0},{"$f":"ASIN!C36407","v":0},{"$f":"ASIN!D36407","v":0},{"$f":"ASIN!E36407","v":0},{"$f":"ASIN!F36407","v":0}]
[{"$f":"ASIN!A36432","v":0},{"$f":"ASIN!B36432","v":0},{"$f":"ASIN!C36432","v":0},{"$f":"ASIN!D36432","v":0},{"$f":"ASIN!E36432","v":0},{"$f":"ASIN!F36432","v":0}]
[{"$f":"ASIN!A36448","v":0},{"$f":"ASIN!B36448","v":0},{"$f":"ASIN!C36448","v":0},{"$f":"ASIN!D36448","v":0},{"$f":"ASIN!E36448","v":0},{"$f":"ASIN!F36448","v":0}]
[{"$f":"ASIN!A36473","v":0},{"$f":"ASIN!B36473","v":0},{"$f":"ASIN!C36473","v":0},{"$f":"ASIN!D36473","v":0},{"$f":"ASIN!E36473","v":0},{"$f":"ASIN!F36473","v":0}]
[{"$f":"ASIN!A36506","v":0},{"$f":"ASIN!B36506","v":0},{"$f":"ASIN!C36506","v":0},{"$f":"ASIN!D36506","v":0},{"$f":"ASIN!E36506","v":0},{"$f":"ASIN!F36506","v":0}]
[{"$f":"ASIN!A36512","v":0},{"$f":"ASIN!B36512","v":0},{"$f":"ASIN!C36512","v":0},{"$f":"ASIN!D36512","v":0},{"$f":"ASIN!E36512","v":0},{"$f":"ASIN!F36512","v":0}]
[{"$f":"ASIN!A36539","v":0},{"$f":"ASIN!B36539","v":0},{"$f":"ASIN!C36539","v":0},{"$f":"ASIN!D36539","v":0},{"$f":"ASIN!E36539","v":0},{"$f":"ASIN!F36539","v":0}]
[{"$f":"ASIN!A36572","v":0},{"$f":"ASIN!B36572","v":0},{"$f":"ASIN!C36572","v":0},{"$f":"ASIN!D36572","v":0},{"$f":"ASIN!E36572","v":0},{"$f":"ASIN!F36572","v":0}]
[{"$f":"ASIN!A36597","v":0},{"$f":"ASIN!B36597","v":0},{"$f":"ASIN!C36597","v":0},{"$f":"ASIN!D36597","v":0},{"$f":"ASIN!E36597","v":0},{"$f":"ASIN!F36597","v":0}]
[{"$f":"ASIN!A36604","v":0},{"$f":"ASIN!B36604","v":0},{"$f":"ASIN!C36604","v":0},{"$f":"ASIN!D36604","v":0},{"$f":"ASIN!E36604","v":0},{"$f":"ASIN!F36604","v":0}]
[{"$f":"ASIN!A36638","v":0},{"$f":"ASIN!B36638","v":0},{"$f":"ASIN!C36638","v":0},{"$f":"ASIN!D36638","v":0},{"$f":"ASIN!E36638","v":0},{"$f":"ASIN!F36638","v":0}]
[{"$f":"ASIN!A36663","v":0},{"$f":"ASIN!B36663","v":0},{"$f":"ASIN!C36663","v":0},{"$f":"ASIN!D36663","v":0},{"$f":"ASIN!E36663","v":0},{"$f":"ASIN!F36663","v":0}]
[{"$f":"ASIN!A36696","v":0},{"$f":"ASIN!B36696","v":0},{"$f":"ASIN!C36696","v":0},{"$f":"ASIN!D36696","v":0},{"$f":"ASIN!E36696","v":0},{"$f":"ASIN!F36696","v":0}]
[{"$f":"ASIN!A36719","v":0},{"$f":"ASIN!B36719","v":0},{"$f":"ASIN!C36719","v":0},{"$f":"ASIN!D36719","v":0},{"$f":"ASIN!E36719","v":0},{"$f":"ASIN!F36719","v":0}]
[{"$f":"ASIN!A36729","v":0},{"$f":"ASIN!B36729","v":0},{"$f":"ASIN!C36729","v":0},{"$f":"ASIN!D36729","v":0},{"$f":"ASIN!E36729","v":0},{"$f":"ASIN!F36729","v":0}]
[{"$f":"ASIN!A36762","v":0},{"$f":"ASIN!B36762","v":0},{"$f":"ASIN!C36762","v":0},{"$f":"ASIN!D36762","v":0},{"$f":"ASIN!E36762","v":0},{"$f":"ASIN!F36762","v":0}]
[{"$f":"ASIN!A36787","v":0},{"$f":"ASIN!B36787","v":0},{"$f":"ASIN!C36787","v":0},{"$f":"ASIN!D36787","v":0},{"$f":"ASIN!E36787","v":0},{"$f":"ASIN!F36787","v":0}]
[{"$f":"ASIN!A36799","v":0},{"$f":"ASIN!B36799","v":0},{"$f":"ASIN!C36799","v":0},{"$f":"ASIN!D36799","v":0},{"$f":"ASIN!E36799","v":0},{"$f":"ASIN!F36799","v":0}]
[{"$f":"ASIN!A36828","v":0},{"$f":"ASIN!B36828","v":0},{"$f":"ASIN!C36828","v":0},{"$f":"ASIN!D36828","v":0},{"$f":"ASIN!E36828","v":0},{"$f":"ASIN!F36828","v":0}]
[{"$f":"ASIN!A36853","v":0},{"$f":"ASIN!B36853","v":0},{"$f":"ASIN!C36853","v":0},{"$f":"ASIN!D36853","v":0},{"$f":"ASIN!E36853","v":0},{"$f":"ASIN!F36853","v":0}]
[{"$f":"ASIN!A36886","v":0},{"$f":"ASIN!B36886","v":0},{"$f":"ASIN!C36886","v":0},{"$f":"ASIN!D36886","v":0},{"$f":"ASIN!E36886","v":0},{"$f":"ASIN!F36886","v":0}]
[{"$f":"ASIN!A36891","v":0},{"$f":"ASIN!B36891","v":0},{"$f":"ASIN!C36891","v":0},{"$f":"ASIN!D36891","v":0},{"$f":"ASIN!E36891","v":0},{"$f":"ASIN!F36891","v":0}]
[{"$f":"ASIN!A36919","v":0},{"$f":"ASIN!B36919","v":0},{"$f":"ASIN!C36919","v":0},{"$f":"ASIN!D36919","v":0},{"$f":"ASIN!E36919","v":0},{"$f":"ASIN!F36919","v":0}]
[{"$f":"ASIN!A36952","v":0},{"$f":"ASIN!B36952","v":0},{"$f":"ASIN!C36952","v":0},{"$f":"ASIN!D36952","v":0},{"$f":"ASIN!E36952","v":0},{"$f":"ASIN!F36952","v":0}]
[{"$f":"ASIN!A36977","v":0},{"$f":"ASIN!B36977","v":0},{"$f":"ASIN!C36977","v":0},{"$f":"ASIN!D36977","v":0},{"$f":"ASIN!E36977","v":0},{"$f":"ASIN!F36977","v":0}]
[{"$f":"ASIN!A36994","v":0},{"$f":"ASIN!B36994","v":0},{"$f":"ASIN!C36994","v":0},{"$f":"ASIN!D36994","v":0},{"$f":"ASIN!E36994","v":0},{"$f":"ASIN!F36994","v":0}]
[{"$f":"ASIN!A37010","v":0},{"$f":"ASIN!B37010","v":0},{"$f":"ASIN!C37010","v":0},{"$f":"ASIN!D37010","v":0},{"$f":"ASIN!E37010","v":0},{"$f":"ASIN!F37010","v":0}]
[{"$f":"ASIN!A37043","v":0},{"$f":"ASIN!B37043","v":0},{"$f":"ASIN!C37043","v":0},{"$f":"ASIN!D37043","v":0},{"$f":"ASIN!E37043","v":0},{"$f":"ASIN!F37043","v":0}]
[{"$f":"ASIN!A37076","v":0},{"$f":"ASIN!B37076","v":0},{"$f":"ASIN!C37076","v":0},{"$f":"ASIN!D37076","v":0},{"$f":"ASIN!E37076","v":0},{"$f":"ASIN!F37076","v":0}]
[{"$f":"ASIN!A37086","v":0},{"$f":"ASIN!B37086","v":0},{"$f":"ASIN!C37086","v":0},{"$f":"ASIN!D37086","v":0},{"$f":"ASIN!E37086","v":0},{"$f":"ASIN!F37086","v":0}]
[{"$f":"ASIN!A37109","v":0},{"$f":"ASIN!B37109","v":0},{"$f":"ASIN!C37109","v":0},{"$f":"ASIN!D37109","v":0},{"$f":"ASIN!E37109","v":0},{"$f":"ASIN!F37109","v":0}]
[{"$f":"ASIN!A37142","v":0},{"$f":"ASIN!B37142","v":0},{"$f":"ASIN!C37142","v":0},{"$f":"ASIN!D37142","v":0},{"$f":"ASIN!E37142","v":0},{"$f":"ASIN!F37142","v":0}]
[{"$f":"ASIN!A37167","v":0},{"$f":"ASIN!B37167","v":0},{"$f":"ASIN!C37167","v":0},{"$f":"ASIN!D37167","v":0},{"$f":"ASIN!E37167","v":0},{"$f":"ASIN!F37167","v":0}]
[{"$f":"ASIN!A37189","v":0},{"$f":"ASIN!B37189","v":0},{"$f":"ASIN!C37189","v":0},{"$f":"ASIN!D37189","v":0},{"$f":"ASIN!E37189","v":0},{"$f":"ASIN!F37189","v":0}]
[{"$f":"ASIN!A37200","v":0},{"$f":"ASIN!B37200","v":0},{"$f":"ASIN!C37200","v":0},{"$f":"ASIN!D37200","v":0},{"$f":"ASIN!E37200","v":0},{"$f":"ASIN!F37200","v":0}]
[{"$f":"ASIN!A37233","v":0},{"$f":"ASIN!B37233","v":0},{"$f":"ASIN!C37233","v":0},{"$f":"ASIN!D37233","v":0},{"$f":"ASIN!E37233","v":0},{"$f":"ASIN!F37233","v":0}]
[{"$f":"ASIN!A37266","v":0},{"$f":"ASIN!B37266","v":0},{"$f":"ASIN!C37266","v":0},{"$f":"ASIN!D37266","v":0},{"$f":"ASIN!E37266","v":0},{"$f":"ASIN!F37266","v":0}]
[{"$f":"ASIN!A37281","v":0},{"$f":"ASIN!B37281","v":0},{"$f":"ASIN!C37281","v":0},{"$f":"ASIN!D37281","v":0},{"$f":"ASIN!E37281","v":0},{"$f":"ASIN!F37281","v":0}]
[{"$f":"ASIN!A37299","v":0},{"$f":"ASIN!B37299","v":0},{"$f":"ASIN!C37299","v":0},{"$f":"ASIN!D37299","v":0},{"$f":"ASIN!E37299","v":0},{"$f":"ASIN!F37299","v":0}]
[{"$f":"ASIN!A37332","v":0},{"$f":"ASIN!B37332","v":0},{"$f":"ASIN!C37332","v":0},{"$f":"ASIN!D37332","v":0},{"$f":"ASIN!E37332","v":0},{"$f":"ASIN!F37332","v":0}]
[{"$f":"ASIN!A37357","v":0},{"$f":"ASIN!B37357","v":0},{"$f":"ASIN!C37357","v":0},{"$f":"ASIN!D37357","v":0},{"$f":"ASIN!E37357","v":0},{"$f":"ASIN!F37357","v":0}]
[{"$f":"ASIN!A37384","v":0},{"$f":"ASIN!B37384","v":0},{"$f":"ASIN!C37384","v":0},{"$f":"ASIN!D37384","v":0},{"$f":"ASIN!E37384","v":0},{"$f":"ASIN!F37384","v":0}]
[{"$f":"ASIN!A37390","v":0},{"$f":"ASIN!B37390","v":0},{"$f":"ASIN!C37390","v":0},{"$f":"ASIN!D37390","v":0},{"$f":"ASIN!E37390","v":0},{"$f":"ASIN!F37390","v":0}]
[{"$f":"ASIN!A37423","v":0},{"$f":"ASIN!B37423","v":0},{"$f":"ASIN!C37423","v":0},{"$f":"ASIN!D37423","v":0},{"$f":"ASIN!E37423","v":0},{"$f":"ASIN!F37423","v":0}]
[{"$f":"ASIN!A37456","v":0},{"$f":"ASIN!B37456","v":0},{"$f":"ASIN!C37456","v":0},{"$f":"ASIN!D37456","v":0},{"$f":"ASIN!E37456","v":0},{"$f":"ASIN!F37456","v":0}]
[{"$f":"ASIN!A37476","v":0},{"$f":"ASIN!B37476","v":0},{"$f":"ASIN!C37476","v":0},{"$f":"ASIN!D37476","v":0},{"$f":"ASIN!E37476","v":0},{"$f":"ASIN!F37476","v":0}]
[{"$f":"ASIN!A37489","v":0},{"$f":"ASIN!B37489","v":0},{"$f":"ASIN!C37489","v":0},{"$f":"ASIN!D37489","v":0},{"$f":"ASIN!E37489","v":0},{"$f":"ASIN!F37489","v":0}]
[{"$f":"ASIN!A37514","v":0},{"$f":"ASIN!B37514","v":0},{"$f":"ASIN!C37514","v":0},{"$f":"ASIN!D37514","v":0},{"$f":"ASIN!E37514","v":0},{"$f":"ASIN!F37514","v":0}]
[{"$f":"ASIN!A37547","v":0},{"$f":"ASIN!B37547","v":0},{"$f":"ASIN!C37547","v":0},{"$f":"ASIN!D37547","v":0},{"$f":"ASIN!E37547","v":0},{"$f":"ASIN!F37547","v":0}]
[{"$f":"ASIN!A37556","v":0},{"$f":"ASIN!B37556","v":0},{"$f":"ASIN!C37556","v":0},{"$f":"ASIN!D37556","v":0},{"$f":"ASIN!E37556","v":0},{"$f":"ASIN!F37556","v":0}]
[{"$f":"ASIN!A37580","v":0},{"$f":"ASIN!B37580","v":0},{"$f":"ASIN!C37580","v":0},{"$f":"ASIN!D37580","v":0},{"$f":"ASIN!E37580","v":0},{"$f":"ASIN!F37580","v":0}]
[{"$f":"ASIN!A37613","v":0},{"$f":"ASIN!B37613","v":0},{"$f":"ASIN!C37613","v":0},{"$f":"ASIN!D37613","v":0},{"$f":"ASIN!E37613","v":0},{"$f":"ASIN!F37613","v":0}]
[{"$f":"ASIN!A37636","v":0},{"$f":"ASIN!B37636","v":0},{"$f":"ASIN!C37636","v":0},{"$f":"ASIN!D37636","v":0},{"$f":"ASIN!E37636","v":0},{"$f":"ASIN!F37636","v":0}]
[{"$f":"ASIN!A37670","v":0},{"$f":"ASIN!B37670","v":0},{"$f":"ASIN!C37670","v":0},{"$f":"ASIN!D37670","v":0},{"$f":"ASIN!E37670","v":0},{"$f":"ASIN!F37670","v":0}]
[{"$f":"ASIN!A37679","v":0},{"$f":"ASIN!B37679","v":0},{"$f":"ASIN!C37679","v":0},{"$f":"ASIN!D37679","v":0},{"$f":"ASIN!E37679","v":0},{"$f":"ASIN!F37679","v":0}]
[{"$f":"ASIN!A37704","v":0},{"$f":"ASIN!B37704","v":0},{"$f":"ASIN!C37704","v":0},{"$f":"ASIN!D37704","v":0},{"$f":"ASIN!E37704","v":0},{"$f":"ASIN!F37704","v":0}]
[{"$f":"ASIN!A37728","v":0},{"$f":"ASIN!B37728","v":0},{"$f":"ASIN!C37728","v":0},{"$f":"ASIN!D37728","v":0},{"$f":"ASIN!E37728","v":0},{"$f":"ASIN!F37728","v":0}]
[{"$f":"ASIN!A37745","v":0},{"$f":"ASIN!B37745","v":0},{"$f":"ASIN!C37745","v":0},{"$f":"ASIN!D37745","v":0},{"$f":"ASIN!E37745","v":0},{"$f":"ASIN!F37745","v":0}]
[{"$f":"ASIN!A37770","v":0},{"$f":"ASIN!B37770","v":0},{"$f":"ASIN!C37770","v":0},{"$f":"ASIN!D37770","v":0},{"$f":"ASIN!E37770","v":0},{"$f":"ASIN!F37770","v":0}]
[{"$f":"ASIN!A37803","v":0},{"$f":"ASIN!B37803","v":0},{"$f":"ASIN!C37803","v":0},{"$f":"ASIN!D37803","v":0},{"$f":"ASIN!E37803","v":0},{"$f":"ASIN!F37803","v":0}]
[{"$f":"ASIN!A37820","v":0},{"$f":"ASIN!B37820","v":0},{"$f":"ASIN!C37820","v":0},{"$f":"ASIN!D37820","v":0},{"$f":"ASIN!E37820","v":0},{"$f":"ASIN!F37820","v":0}]
[{"$f":"ASIN!A37860","v":0},{"$f":"ASIN!B37860","v":0},{"$f":"ASIN!C37860","v":0},{"$f":"ASIN!D37860","v":0},{"$f":"ASIN!E37860","v":0},{"$f":"ASIN!F37860","v":0}]
[{"$f":"ASIN!A37869","v":0},{"$f":"ASIN!B37869","v":0},{"$f":"ASIN!C37869","v":0},{"$f":"ASIN!D37869","v":0},{"$f":"ASIN!E37869","v":0},{"$f":"ASIN!F37869","v":0}]
[{"$f":"ASIN!A37894","v":0},{"$f":"ASIN!B37894","v":0},{"$f":"ASIN!C37894","v":0},{"$f":"ASIN!D37894","v":0},{"$f":"ASIN!E37894","v":0},{"$f":"ASIN!F37894","v":0}]
[{"$f":"ASIN!A37923","v":0},{"$f":"ASIN!B37923","v":0},{"$f":"ASIN!C37923","v":0},{"$f":"ASIN!D37923","v":0},{"$f":"ASIN!E37923","v":0},{"$f":"ASIN!F37923","v":0}]
[{"$f":"ASIN!A37935","v":0},{"$f":"ASIN!B37935","v":0},{"$f":"ASIN!C37935","v":0},{"$f":"ASIN!D37935","v":0},{"$f":"ASIN!E37935","v":0},{"$f":"ASIN!F37935","v":0}]
[{"$f":"ASIN!A37960","v":0},{"$f":"ASIN!B37960","v":0},{"$f":"ASIN!C37960","v":0},{"$f":"ASIN!D37960","v":0},{"$f":"ASIN!E37960","v":0},{"$f":"ASIN!F37960","v":0}]
[{"$f":"ASIN!A37993","v":0},{"$f":"ASIN!B37993","v":0},{"$f":"ASIN!C37993","v":0},{"$f":"ASIN!D37993","v":0},{"$f":"ASIN!E37993","v":0},{"$f":"ASIN!F37993","v":0}]
[{"$f":"ASIN!A38015","v":0},{"$f":"ASIN!B38015","v":0},{"$f":"ASIN!C38015","v":0},{"$f":"ASIN!D38015","v":0},{"$f":"ASIN!E38015","v":0},{"$f":"ASIN!F38015","v":0}]
[{"$f":"ASIN!A38050","v":0},{"$f":"ASIN!B38050","v":0},{"$f":"ASIN!C38050","v":0},{"$f":"ASIN!D38050","v":0},{"$f":"ASIN!E38050","v":0},{"$f":"ASIN!F38050","v":0}]
[{"$f":"ASIN!A38059","v":0},{"$f":"ASIN!B38059","v":0},{"$f":"ASIN!C38059","v":0},{"$f":"ASIN!D38059","v":0},{"$f":"ASIN!E38059","v":0},{"$f":"ASIN!F38059","v":0}]
[{"$f":"ASIN!A38084","v":0},{"$f":"ASIN!B38084","v":0},{"$f":"ASIN!C38084","v":0},{"$f":"ASIN!D38084","v":0},{"$f":"ASIN!E38084","v":0},{"$f":"ASIN!F38084","v":0}]
[{"$f":"ASIN!A38118","v":0},{"$f":"ASIN!B38118","v":0},{"$f":"ASIN!C38118","v":0},{"$f":"ASIN!D38118","v":0},{"$f":"ASIN!E38118","v":0},{"$f":"ASIN!F38118","v":0}]
[{"$f":"ASIN!A38125","v":0},{"$f":"ASIN!B38125","v":0},{"$f":"ASIN!C38125","v":0},{"$f":"ASIN!D38125","v":0},{"$f":"ASIN!E38125","v":0},{"$f":"ASIN!F38125","v":0}]
[{"$f":"ASIN!A38150","v":0},{"$f":"ASIN!B38150","v":0},{"$f":"ASIN!C38150","v":0},{"$f":"ASIN!D38150","v":0},{"$f":"ASIN!E38150","v":0},{"$f":"ASIN!F38150","v":0}]
[{"$f":"ASIN!A38183","v":0},{"$f":"ASIN!B38183","v":0},{"$f":"ASIN!C38183","v":0},{"$f":"ASIN!D38183","v":0},{"$f":"ASIN!E38183","v":0},{"$f":"ASIN!F38183","v":0}]
[{"$f":"ASIN!A38210","v":0},{"$f":"ASIN!B38210","v":0},{"$f":"ASIN!C38210","v":0},{"$f":"ASIN!D38210","v":0},{"$f":"ASIN!E38210","v":0},{"$f":"ASIN!F38210","v":0}]
[{"$f":"ASIN!A38240","v":0},{"$f":"ASIN!B38240","v":0},{"$f":"ASIN!C38240","v":0},{"$f":"ASIN!D38240","v":0},{"$f":"ASIN!E38240","v":0},{"$f":"ASIN!F38240","v":0}]
[{"$f":"ASIN!A38249","v":0},{"$f":"ASIN!B38249","v":0},{"$f":"ASIN!C38249","v":0},{"$f":"ASIN!D38249","v":0},{"$f":"ASIN!E38249","v":0},{"$f":"ASIN!F38249","v":0}]
[{"$f":"ASIN!A38274","v":0},{"$f":"ASIN!B38274","v":0},{"$f":"ASIN!C38274","v":0},{"$f":"ASIN!D38274","v":0},{"$f":"ASIN!E38274","v":0},{"$f":"ASIN!F38274","v":0}]
[{"$f":"ASIN!A38290","v":0},{"$f":"ASIN!B38290","v":0},{"$f":"ASIN!C38290","v":0},{"$f":"ASIN!D38290","v":0},{"$f":"ASIN!E38290","v":0},{"$f":"ASIN!F38290","v":0}]
[{"$f":"ASIN!A38331","v":0},{"$f":"ASIN!B38331","v":0},{"$f":"ASIN!C38331","v":0},{"$f":"ASIN!D38331","v":0},{"$f":"ASIN!E38331","v":0},{"$f":"ASIN!F38331","v":0}]
[{"$f":"ASIN!A38340","v":0},{"$f":"ASIN!B38340","v":0},{"$f":"ASIN!C38340","v":0},{"$f":"ASIN!D38340","v":0},{"$f":"ASIN!E38340","v":0},{"$f":"ASIN!F38340","v":0}]
[{"$f":"ASIN!A38373","v":0},{"$f":"ASIN!B38373","v":0},{"$f":"ASIN!C38373","v":0},{"$f":"ASIN!D38373","v":0},{"$f":"ASIN!E38373","v":0},{"$f":"ASIN!F38373","v":0}]
[{"$f":"ASIN!A38405","v":0},{"$f":"ASIN!B38405","v":0},{"$f":"ASIN!C38405","v":0},{"$f":"ASIN!D38405","v":0},{"$f":"ASIN!E38405","v":0},{"$f":"ASIN!F38405","v":0}]
[{"$f":"ASIN!A38430","v":0},{"$f":"ASIN!B38430","v":0},{"$f":"ASIN!C38430","v":0},{"$f":"ASIN!D38430","v":0},{"$f":"ASIN!E38430","v":0},{"$f":"ASIN!F38430","v":0}]
[{"$f":"ASIN!A38439","v":0},{"$f":"ASIN!B38439","v":0},{"$f":"ASIN!C38439","v":0},{"$f":"ASIN!D38439","v":0},{"$f":"ASIN!E38439","v":0},{"$f":"ASIN!F38439","v":0}]
[{"$f":"ASIN!A38464","v":0},{"$f":"ASIN!B38464","v":0},{"$f":"ASIN!C38464","v":0},{"$f":"ASIN!D38464","v":0},{"$f":"ASIN!E38464","v":0},{"$f":"ASIN!F38464","v":0}]
[{"$f":"ASIN!A38485","v":0},{"$f":"ASIN!B38485","v":0},{"$f":"ASIN!C38485","v":0},{"$f":"ASIN!D38485","v":0},{"$f":"ASIN!E38485","v":0},{"$f":"ASIN!F38485","v":0}]
[{"$f":"ASIN!A38521","v":0},{"$f":"ASIN!B38521","v":0},{"$f":"ASIN!C38521","v":0},{"$f":"ASIN!D38521","v":0},{"$f":"ASIN!E38521","v":0},{"$f":"ASIN!F38521","v":0}]
[{"$f":"ASIN!A38530","v":0},{"$f":"ASIN!B38530","v":0},{"$f":"ASIN!C38530","v":0},{"$f":"ASIN!D38530","v":0},{"$f":"ASIN!E38530","v":0},{"$f":"ASIN!F38530","v":0}]
[{"$f":"ASIN!A38563","v":0},{"$f":"ASIN!B38563","v":0},{"$f":"ASIN!C38563","v":0},{"$f":"ASIN!D38563","v":0},{"$f":"ASIN!E38563","v":0},{"$f":"ASIN!F38563","v":0}]
[{"$f":"ASIN!A38577","v":0},{"$f":"ASIN!B38577","v":0},{"$f":"ASIN!C38577","v":0},{"$f":"ASIN!D38577","v":0},{"$f":"ASIN!E38577","v":0},{"$f":"ASIN!F38577","v":0}]
[{"$f":"ASIN!A38620","v":0},{"$f":"ASIN!B38620","v":0},{"$f":"ASIN!C38620","v":0},{"$f":"ASIN!D38620","v":0},{"$f":"ASIN!E38620","v":0},{"$f":"ASIN!F38620","v":0}]
[{"$f":"ASIN!A38629","v":0},{"$f":"ASIN!B38629","v":0},{"$f":"ASIN!C38629","v":0},{"$f":"ASIN!D38629","v":0},{"$f":"ASIN!E38629","v":0},{"$f":"ASIN!F38629","v":0}]
[{"$f":"ASIN!A38654","v":0},{"$f":"ASIN!B38654","v":0},{"$f":"ASIN!C38654","v":0},{"$f":"ASIN!D38654","v":0},{"$f":"ASIN!E38654","v":0},{"$f":"ASIN!F38654","v":0}]
[{"$f":"ASIN!A38680","v":0},{"$f":"ASIN!B38680","v":0},{"$f":"ASIN!C38680","v":0},{"$f":"ASIN!D38680","v":0},{"$f":"ASIN!E38680","v":0},{"$f":"ASIN!F38680","v":0}]
[{"$f":"ASIN!A38711","v":0},{"$f":"ASIN!B38711","v":0},{"$f":"ASIN!C38711","v":0},{"$f":"ASIN!D38711","v":0},{"$f":"ASIN!E38711","v":0},{"$f":"ASIN!F38711","v":0}]
[{"$f":"ASIN!A38720","v":0},{"$f":"ASIN!B38720","v":0},{"$f":"ASIN!C38720","v":0},{"$f":"ASIN!D38720","v":0},{"$f":"ASIN!E38720","v":0},{"$f":"ASIN!F38720","v":0}]
[{"$f":"ASIN!A38753","v":0},{"$f":"ASIN!B38753","v":0},{"$f":"ASIN!C38753","v":0},{"$f":"ASIN!D38753","v":0},{"$f":"ASIN!E38753","v":0},{"$f":"ASIN!F38753","v":0}]
[{"$f":"ASIN!A38772","v":0},{"$f":"ASIN!B38772","v":0},{"$f":"ASIN!C38772","v":0},{"$f":"ASIN!D38772","v":0},{"$f":"ASIN!E38772","v":0},{"$f":"ASIN!F38772","v":0}]
[{"$f":"ASIN!A38810","v":0},{"$f":"ASIN!B38810","v":0},{"$f":"ASIN!C38810","v":0},{"$f":"ASIN!D38810","v":0},{"$f":"ASIN!E38810","v":0},{"$f":"ASIN!F38810","v":0}]
[{"$f":"ASIN!A38835","v":0},{"$f":"ASIN!B38835","v":0},{"$f":"ASIN!C38835","v":0},{"$f":"ASIN!D38835","v":0},{"$f":"ASIN!E38835","v":0},{"$f":"ASIN!F38835","v":0}]
[{"$f":"ASIN!A38844","v":0},{"$f":"ASIN!B38844","v":0},{"$f":"ASIN!C38844","v":0},{"$f":"ASIN!D38844","v":0},{"$f":"ASIN!E38844","v":0},{"$f":"ASIN!F38844","v":0}]
[{"$f":"ASIN!A38875","v":0},{"$f":"ASIN!B38875","v":0},{"$f":"ASIN!C38875","v":0},{"$f":"ASIN!D38875","v":0},{"$f":"ASIN!E38875","v":0},{"$f":"ASIN!F38875","v":0}]
[{"$f":"ASIN!A38901","v":0},{"$f":"ASIN!B38901","v":0},{"$f":"ASIN!C38901","v":0},{"$f":"ASIN!D38901","v":0},{"$f":"ASIN!E38901","v":0},{"$f":"ASIN!F38901","v":0}]
[{"$f":"ASIN!A38910","v":0},{"$f":"ASIN!B38910","v":0},{"$f":"ASIN!C38910","v":0},{"$f":"ASIN!D38910","v":0},{"$f":"ASIN!E38910","v":0},{"$f":"ASIN!F38910","v":0}]
[{"$f":"ASIN!A38943","v":0},{"$f":"ASIN!B38943","v":0},{"$f":"ASIN!C38943","v":0},{"$f":"ASIN!D38943","v":0},{"$f":"ASIN!E38943","v":0},{"$f":"ASIN!F38943","v":0}]
[{"$f":"ASIN!A38967","v":0},{"$f":"ASIN!B38967","v":0},{"$f":"ASIN!C38967","v":0},{"$f":"ASIN!D38967","v":0},{"$f":"ASIN!E38967","v":0},{"$f":"ASIN!F38967","v":0}]
[{"$f":"ASIN!A39000","v":0},{"$f":"ASIN!B39000","v":0},{"$f":"ASIN!C39000","v":0},{"$f":"ASIN!D39000","v":0},{"$f":"ASIN!E39000","v":0},{"$f":"ASIN!F39000","v":0}]
[{"$f":"ASIN!A39025","v":0},{"$f":"ASIN!B39025","v":0},{"$f":"ASIN!C39025","v":0},{"$f":"ASIN!D39025","v":0},{"$f":"ASIN!E39025","v":0},{"$f":"ASIN!F39025","v":0}]
[{"$f":"ASIN!A39034","v":0},{"$f":"ASIN!B39034","v":0},{"$f":"ASIN!C39034","v":0},{"$f":"ASIN!D39034","v":0},{"$f":"ASIN!E39034","v":0},{"$f":"ASIN!F39034","v":0}]
[{"$f":"ASIN!A39070","v":0},{"$f":"ASIN!B39070","v":0},{"$f":"ASIN!C39070","v":0},{"$f":"ASIN!D39070","v":0},{"$f":"ASIN!E39070","v":0},{"$f":"ASIN!F39070","v":0}]
[{"$f":"ASIN!A39091","v":0},{"$f":"ASIN!B39091","v":0},{"$f":"ASIN!C39091","v":0},{"$f":"ASIN!D39091","v":0},{"$f":"ASIN!E39091","v":0},{"$f":"ASIN!F39091","v":0}]
[{"$f":"ASIN!A39100","v":0},{"$f":"ASIN!B39100","v":0},{"$f":"ASIN!C39100","v":0},{"$f":"ASIN!D39100","v":0},{"$f":"ASIN!E39100","v":0},{"$f":"ASIN!F39100","v":0}]
[{"$f":"ASIN!A39125","v":0},{"$f":"ASIN!B39125","v":0},{"$f":"ASIN!C39125","v":0},{"$f":"ASIN!D39125","v":0},{"$f":"ASIN!E39125","v":0},{"$f":"ASIN!F39125","v":0}]
[{"$f":"ASIN!A39162","v":0},{"$f":"ASIN!B39162","v":0},{"$f":"ASIN!C39162","v":0},{"$f":"ASIN!D39162","v":0},{"$f":"ASIN!E39162","v":0},{"$f":"ASIN!F39162","v":0}]
[{"$f":"ASIN!A39190","v":0},{"$f":"ASIN!B39190","v":0},{"$f":"ASIN!C39190","v":0},{"$f":"ASIN!D39190","v":0},{"$f":"ASIN!E39190","v":0},{"$f":"ASIN!F39190","v":0}]
[{"$f":"ASIN!A39215","v":0},{"$f":"ASIN!B39215","v":0},{"$f":"ASIN!C39215","v":0},{"$f":"ASIN!D39215","v":0},{"$f":"ASIN!E39215","v":0},{"$f":"ASIN!F39215","v":0}]
[{"$f":"ASIN!A39224","v":0},{"$f":"ASIN!B39224","v":0},{"$f":"ASIN!C39224","v":0},{"$f":"ASIN!D39224","v":0},{"$f":"ASIN!E39224","v":0},{"$f":"ASIN!F39224","v":0}]
[{"$f":"ASIN!A39242","v":0},{"$f":"ASIN!B39242","v":0},{"$f":"ASIN!C39242","v":0},{"$f":"ASIN!D39242","v":0},{"$f":"ASIN!E39242","v":0},{"$f":"ASIN!F39242","v":0}]
[{"$f":"ASIN!A39281","v":0},{"$f":"ASIN!B39281","v":0},{"$f":"ASIN!C39281","v":0},{"$f":"ASIN!D39281","v":0},{"$f":"ASIN!E39281","v":0},{"$f":"ASIN!F39281","v":0}]
[{"$f":"ASIN!A39290","v":0},{"$f":"ASIN!B39290","v":0},{"$f":"ASIN!C39290","v":0},{"$f":"ASIN!D39290","v":0},{"$f":"ASIN!E39290","v":0},{"$f":"ASIN!F39290","v":0}]
[{"$f":"ASIN!A39315","v":0},{"$f":"ASIN!B39315","v":0},{"$f":"ASIN!C39315","v":0},{"$f":"ASIN!D39315","v":0},{"$f":"ASIN!E39315","v":0},{"$f":"ASIN!F39315","v":0}]
[{"$f":"ASIN!A39357","v":0},{"$f":"ASIN!B39357","v":0},{"$f":"ASIN!C39357","v":0},{"$f":"ASIN!D39357","v":0},{"$f":"ASIN!E39357","v":0},{"$f":"ASIN!F39357","v":0}]
[{"$f":"ASIN!A39380","v":0},{"$f":"ASIN!B39380","v":0},{"$f":"ASIN!C39380","v":0},{"$f":"ASIN!D39380","v":0},{"$f":"ASIN!E39380","v":0},{"$f":"ASIN!F39380","v":0}]
[{"$f":"ASIN!A39405","v":0},{"$f":"ASIN!B39405","v":0},{"$f":"ASIN!C39405","v":0},{"$f":"ASIN!D39405","v":0},{"$f":"ASIN!E39405","v":0},{"$f":"ASIN!F39405","v":0}]
[{"$f":"ASIN!A39414","v":0},{"$f":"ASIN!B39414","v":0},{"$f":"ASIN!C39414","v":0},{"$f":"ASIN!D39414","v":0},{"$f":"ASIN!E39414","v":0},{"$f":"ASIN!F39414","v":0}]
[{"$f":"ASIN!A39437","v":0},{"$f":"ASIN!B39437","v":0},{"$f":"ASIN!C39437","v":0},{"$f":"ASIN!D39437","v":0},{"$f":"ASIN!E39437","v":0},{"$f":"ASIN!F39437","v":0}]
[{"$f":"ASIN!A39471","v":0},{"$f":"ASIN!B39471","v":0},{"$f":"ASIN!C39471","v":0},{"$f":"ASIN!D39471","v":0},{"$f":"ASIN!E39471","v":0},{"$f":"ASIN!F39471","v":0}]
[{"$f":"ASIN!A39480","v":0},{"$f":"ASIN!B39480","v":0},{"$f":"ASIN!C39480","v":0},{"$f":"ASIN!D39480","v":0},{"$f":"ASIN!E39480","v":0},{"$f":"ASIN!F39480","v":0}]
[{"$f":"ASIN!A39505","v":0},{"$f":"ASIN!B39505","v":0},{"$f":"ASIN!C39505","v":0},{"$f":"ASIN!D39505","v":0},{"$f":"ASIN!E39505","v":0},{"$f":"ASIN!F39505","v":0}]
[{"$f":"ASIN!A39529","v":0},{"$f":"ASIN!B39529","v":0},{"$f":"ASIN!C39529","v":0},{"$f":"ASIN!D39529","v":0},{"$f":"ASIN!E39529","v":0},{"$f":"ASIN!F39529","v":0}]
[{"$f":"ASIN!A39570","v":0},{"$f":"ASIN!B39570","v":0},{"$f":"ASIN!C39570","v":0},{"$f":"ASIN!D39570","v":0},{"$f":"ASIN!E39570","v":0},{"$f":"ASIN!F39570","v":0}]
[{"$f":"ASIN!A39595","v":0},{"$f":"ASIN!B39595","v":0},{"$f":"ASIN!C39595","v":0},{"$f":"ASIN!D39595","v":0},{"$f":"ASIN!E39595","v":0},{"$f":"ASIN!F39595","v":0}]
[{"$f":"ASIN!A39604","v":0},{"$f":"ASIN!B39604","v":0},{"$f":"ASIN!C39604","v":0},{"$f":"ASIN!D39604","v":0},{"$f":"ASIN!E39604","v":0},{"$f":"ASIN!F39604","v":0}]
[{"$f":"ASIN!A39621","v":0},{"$f":"ASIN!B39621","v":0},{"$f":"ASIN!C39621","v":0},{"$f":"ASIN!D39621","v":0},{"$f":"ASIN!E39621","v":0},{"$f":"ASIN!F39621","v":0}]
[{"$f":"ASIN!A39661","v":0},{"$f":"ASIN!B39661","v":0},{"$f":"ASIN!C39661","v":0},{"$f":"ASIN!D39661","v":0},{"$f":"ASIN!E39661","v":0},{"$f":"ASIN!F39661","v":0}]
[{"$f":"ASIN!A39670","v":0},{"$f":"ASIN!B39670","v":0},{"$f":"ASIN!C39670","v":0},{"$f":"ASIN!D39670","v":0},{"$f":"ASIN!E39670","v":0},{"$f":"ASIN!F39670","v":0}]
[{"$f":"ASIN!A39695","v":0},{"$f":"ASIN!B39695","v":0},{"$f":"ASIN!C39695","v":0},{"$f":"ASIN!D39695","v":0},{"$f":"ASIN!E39695","v":0},{"$f":"ASIN!F39695","v":0}]
[{"$f":"ASIN!A39724","v":0},{"$f":"ASIN!B39724","v":0},{"$f":"ASIN!C39724","v":0},{"$f":"ASIN!D39724","v":0},{"$f":"ASIN!E39724","v":0},{"$f":"ASIN!F39724","v":0}]
[{"$f":"ASIN!A39760","v":0},{"$f":"ASIN!B39760","v":0},{"$f":"ASIN!C39760","v":0},{"$f":"ASIN!D39760","v":0},{"$f":"ASIN!E39760","v":0},{"$f":"ASIN!F39760","v":0}]
[{"$f":"ASIN!A39785","v":0},{"$f":"ASIN!B39785","v":0},{"$f":"ASIN!C39785","v":0},{"$f":"ASIN!D39785","v":0},{"$f":"ASIN!E39785","v":0},{"$f":"ASIN!F39785","v":0}]
[{"$f":"ASIN!A39794","v":0},{"$f":"ASIN!B39794","v":0},{"$f":"ASIN!C39794","v":0},{"$f":"ASIN!D39794","v":0},{"$f":"ASIN!E39794","v":0},{"$f":"ASIN!F39794","v":0}]
[{"$f":"ASIN!A39816","v":0},{"$f":"ASIN!B39816","v":0},{"$f":"ASIN!C39816","v":0},{"$f":"ASIN!D39816","v":0},{"$f":"ASIN!E39816","v":0},{"$f":"ASIN!F39816","v":0}]
[{"$f":"ASIN!A39851","v":0},{"$f":"ASIN!B39851","v":0},{"$f":"ASIN!C39851","v":0},{"$f":"ASIN!D39851","v":0},{"$f":"ASIN!E39851","v":0},{"$f":"ASIN!F39851","v":0}]
[{"$f":"ASIN!A39860","v":0},{"$f":"ASIN!B39860","v":0},{"$f":"ASIN!C39860","v":0},{"$f":"ASIN!D39860","v":0},{"$f":"ASIN!E39860","v":0},{"$f":"ASIN!F39860","v":0}]
[{"$f":"ASIN!A39885","v":0},{"$f":"ASIN!B39885","v":0},{"$f":"ASIN!C39885","v":0},{"$f":"ASIN!D39885","v":0},{"$f":"ASIN!E39885","v":0},{"$f":"ASIN!F39885","v":0}]
[{"$f":"ASIN!A39919","v":0},{"$f":"ASIN!B39919","v":0},{"$f":"ASIN!C39919","v":0},{"$f":"ASIN!D39919","v":0},{"$f":"ASIN!E39919","v":0},{"$f":"ASIN!F39919","v":0}]
[{"$f":"ASIN!A39950","v":0},{"$f":"ASIN!B39950","v":0},{"$f":"ASIN!C39950","v":0},{"$f":"ASIN!D39950","v":0},{"$f":"ASIN!E39950","v":0},{"$f":"ASIN!F39950","v":0}]
[{"$f":"ASIN!A39975","v":0},{"$f":"ASIN!B39975","v":0},{"$f":"ASIN!C39975","v":0},{"$f":"ASIN!D39975","v":0},{"$f":"ASIN!E39975","v":0},{"$f":"ASIN!F39975","v":0}]
[{"$f":"ASIN!A39984","v":0},{"$f":"ASIN!B39984","v":0},{"$f":"ASIN!C39984","v":0},{"$f":"ASIN!D39984","v":0},{"$f":"ASIN!E39984","v":0},{"$f":"ASIN!F39984","v":0}]
[{"$f":"ASIN!A40011","v":0},{"$f":"ASIN!B40011","v":0},{"$f":"ASIN!C40011","v":0},{"$f":"ASIN!D40011","v":0},{"$f":"ASIN!E40011","v":0},{"$f":"ASIN!F40011","v":0}]
[{"$f":"ASIN!A40041","v":0},{"$f":"ASIN!B40041","v":0},{"$f":"ASIN!C40041","v":0},{"$f":"ASIN!D40041","v":0},{"$f":"ASIN!E40041","v":0},{"$f":"ASIN!F40041","v":0}]
[{"$f":"ASIN!A40050","v":0},{"$f":"ASIN!B40050","v":0},{"$f":"ASIN!C40050","v":0},{"$f":"ASIN!D40050","v":0},{"$f":"ASIN!E40050","v":0},{"$f":"ASIN!F40050","v":0}]
[{"$f":"ASIN!A40075","v":0},{"$f":"ASIN!B40075","v":0},{"$f":"ASIN!C40075","v":0},{"$f":"ASIN!D40075","v":0},{"$f":"ASIN!E40075","v":0},{"$f":"ASIN!F40075","v":0}]
[{"$f":"ASIN!A40114","v":0},{"$f":"ASIN!B40114","v":0},{"$f":"ASIN!C40114","v":0},{"$f":"ASIN!D40114","v":0},{"$f":"ASIN!E40114","v":0},{"$f":"ASIN!F40114","v":0}]
[{"$f":"ASIN!A40132","v":0},{"$f":"ASIN!B40132","v":0},{"$f":"ASIN!C40132","v":0},{"$f":"ASIN!D40132","v":0},{"$f":"ASIN!E40132","v":0},{"$f":"ASIN!F40132","v":0}]
[{"$f":"ASIN!A40165","v":0},{"$f":"ASIN!B40165","v":0},{"$f":"ASIN!C40165","v":0},{"$f":"ASIN!D40165","v":0},{"$f":"ASIN!E40165","v":0},{"$f":"ASIN!F40165","v":0}]
[{"$f":"ASIN!A40174","v":0},{"$f":"ASIN!B40174","v":0},{"$f":"ASIN!C40174","v":0},{"$f":"ASIN!D40174","v":0},{"$f":"ASIN!E40174","v":0},{"$f":"ASIN!F40174","v":0}]
[{"$f":"ASIN!A40206","v":0},{"$f":"ASIN!B40206","v":0},{"$f":"ASIN!C40206","v":0},{"$f":"ASIN!D40206","v":0},{"$f":"ASIN!E40206","v":0},{"$f":"ASIN!F40206","v":0}]
[{"$f":"ASIN!A40231","v":0},{"$f":"ASIN!B40231","v":0},{"$f":"ASIN!C40231","v":0},{"$f":"ASIN!D40231","v":0},{"$f":"ASIN!E40231","v":0},{"$f":"ASIN!F40231","v":0}]
[{"$f":"ASIN!A40240","v":0},{"$f":"ASIN!B40240","v":0},{"$f":"ASIN!C40240","v":0},{"$f":"ASIN!D40240","v":0},{"$f":"ASIN!E40240","v":0},{"$f":"ASIN!F40240","v":0}]
[{"$f":"ASIN!A40265","v":0},{"$f":"ASIN!B40265","v":0},{"$f":"ASIN!C40265","v":0},{"$f":"ASIN!D40265","v":0},{"$f":"ASIN!E40265","v":0},{"$f":"ASIN!F40265","v":0}]
[{"$f":"ASIN!A40286","v":0},{"$f":"ASIN!B40286","v":0},{"$f":"ASIN!C40286","v":0},{"$f":"ASIN!D40286","v":0},{"$f":"ASIN!E40286","v":0},{"$f":"ASIN!F40286","v":0}]
[{"$f":"ASIN!A40322","v":0},{"$f":"ASIN!B40322","v":0},{"$f":"ASIN!C40322","v":0},{"$f":"ASIN!D40322","v":0},{"$f":"ASIN!E40322","v":0},{"$f":"ASIN!F40322","v":0}]
[{"$f":"ASIN!A40355","v":0},{"$f":"ASIN!B40355","v":0},{"$f":"ASIN!C40355","v":0},{"$f":"ASIN!D40355","v":0},{"$f":"ASIN!E40355","v":0},{"$f":"ASIN!F40355","v":0}]
[{"$f":"ASIN!A40364","v":0},{"$f":"ASIN!B40364","v":0},{"$f":"ASIN!C40364","v":0},{"$f":"ASIN!D40364","v":0},{"$f":"ASIN!E40364","v":0},{"$f":"ASIN!F40364","v":0}]
[{"$f":"ASIN!A40401","v":0},{"$f":"ASIN!B40401","v":0},{"$f":"ASIN!C40401","v":0},{"$f":"ASIN!D40401","v":0},{"$f":"ASIN!E40401","v":0},{"$f":"ASIN!F40401","v":0}]
[{"$f":"ASIN!A40421","v":0},{"$f":"ASIN!B40421","v":0},{"$f":"ASIN!C40421","v":0},{"$f":"ASIN!D40421","v":0},{"$f":"ASIN!E40421","v":0},{"$f":"ASIN!F40421","v":0}]
[{"$f":"ASIN!A40446","v":0},{"$f":"ASIN!B40446","v":0},{"$f":"ASIN!C40446","v":0},{"$f":"ASIN!D40446","v":0},{"$f":"ASIN!E40446","v":0},{"$f":"ASIN!F40446","v":0}]
[{"$f":"ASIN!A40455","v":0},{"$f":"ASIN!B40455","v":0},{"$f":"ASIN!C40455","v":0},{"$f":"ASIN!D40455","v":0},{"$f":"ASIN!E40455","v":0},{"$f":"ASIN!F40455","v":0}]
[{"$f":"ASIN!A40481","v":0},{"$f":"ASIN!B40481","v":0},{"$f":"ASIN!C40481","v":0},{"$f":"ASIN!D40481","v":0},{"$f":"ASIN!E40481","v":0},{"$f":"ASIN!F40481","v":0}]
[{"$f":"ASIN!A40512","v":0},{"$f":"ASIN!B40512","v":0},{"$f":"ASIN!C40512","v":0},{"$f":"ASIN!D40512","v":0},{"$f":"ASIN!E40512","v":0},{"$f":"ASIN!F40512","v":0}]
[{"$f":"ASIN!A40545","v":0},{"$f":"ASIN!B40545","v":0},{"$f":"ASIN!C40545","v":0},{"$f":"ASIN!D40545","v":0},{"$f":"ASIN!E40545","v":0},{"$f":"ASIN!F40545","v":0}]
[{"$f":"ASIN!A40554","v":0},{"$f":"ASIN!B40554","v":0},{"$f":"ASIN!C40554","v":0},{"$f":"ASIN!D40554","v":0},{"$f":"ASIN!E40554","v":0},{"$f":"ASIN!F40554","v":0}]
[{"$f":"ASIN!A40573","v":0},{"$f":"ASIN!B40573","v":0},{"$f":"ASIN!C40573","v":0},{"$f":"ASIN!D40573","v":0},{"$f":"ASIN!E40573","v":0},{"$f":"ASIN!F40573","v":0}]
[{"$f":"ASIN!A40611","v":0},{"$f":"ASIN!B40611","v":0},{"$f":"ASIN!C40611","v":0},{"$f":"ASIN!D40611","v":0},{"$f":"ASIN!E40611","v":0},{"$f":"ASIN!F40611","v":0}]
[{"$f":"ASIN!A40636","v":0},{"$f":"ASIN!B40636","v":0},{"$f":"ASIN!C40636","v":0},{"$f":"ASIN!D40636","v":0},{"$f":"ASIN!E40636","v":0},{"$f":"ASIN!F40636","v":0}]
[{"$f":"ASIN!A40645","v":0},{"$f":"ASIN!B40645","v":0},{"$f":"ASIN!C40645","v":0},{"$f":"ASIN!D40645","v":0},{"$f":"ASIN!E40645","v":0},{"$f":"ASIN!F40645","v":0}]
[{"$f":"ASIN!A40676","v":0},{"$f":"ASIN!B40676","v":0},{"$f":"ASIN!C40676","v":0},{"$f":"ASIN!D40676","v":0},{"$f":"ASIN!E40676","v":0},{"$f":"ASIN!F40676","v":0}]
[{"$f":"ASIN!A40702","v":0},{"$f":"ASIN!B40702","v":0},{"$f":"ASIN!C40702","v":0},{"$f":"ASIN!D40702","v":0},{"$f":"ASIN!E40702","v":0},{"$f":"ASIN!F40702","v":0}]
[{"$f":"ASIN!A40735","v":0},{"$f":"ASIN!B40735","v":0},{"$f":"ASIN!C40735","v":0},{"$f":"ASIN!D40735","v":0},{"$f":"ASIN!E40735","v":0},{"$f":"ASIN!F40735","v":0}]
[{"$f":"ASIN!A40744","v":0},{"$f":"ASIN!B40744","v":0},{"$f":"ASIN!C40744","v":0},{"$f":"ASIN!D40744","v":0},{"$f":"ASIN!E40744","v":0},{"$f":"ASIN!F40744","v":0}]
[{"$f":"ASIN!A40768","v":0},{"$f":"ASIN!B40768","v":0},{"$f":"ASIN!C40768","v":0},{"$f":"ASIN!D40768","v":0},{"$f":"ASIN!E40768","v":0},{"$f":"ASIN!F40768","v":0}]
[{"$f":"ASIN!A40801","v":0},{"$f":"ASIN!B40801","v":0},{"$f":"ASIN!C40801","v":0},{"$f":"ASIN!D40801","v":0},{"$f":"ASIN!E40801","v":0},{"$f":"ASIN!F40801","v":0}]
[{"$f":"ASIN!A40826","v":0},{"$f":"ASIN!B40826","v":0},{"$f":"ASIN!C40826","v":0},{"$f":"ASIN!D40826","v":0},{"$f":"ASIN!E40826","v":0},{"$f":"ASIN!F40826","v":0}]
[{"$f":"ASIN!A40835","v":0},{"$f":"ASIN!B40835","v":0},{"$f":"ASIN!C40835","v":0},{"$f":"ASIN!D40835","v":0},{"$f":"ASIN!E40835","v":0},{"$f":"ASIN!F40835","v":0}]
[{"$f":"ASIN!A40871","v":0},{"$f":"ASIN!B40871","v":0},{"$f":"ASIN!C40871","v":0},{"$f":"ASIN!D40871","v":0},{"$f":"ASIN!E40871","v":0},{"$f":"ASIN!F40871","v":0}]
[{"$f":"ASIN!A40892","v":0},{"$f":"ASIN!B40892","v":0},{"$f":"ASIN!C40892","v":0},{"$f":"ASIN!D40892","v":0},{"$f":"ASIN!E40892","v":0},{"$f":"ASIN!F40892","v":0}]
[{"$f":"ASIN!A40925","v":0},{"$f":"ASIN!B40925","v":0},{"$f":"ASIN!C40925","v":0},{"$f":"ASIN!D40925","v":0},{"$f":"ASIN!E40925","v":0},{"$f":"ASIN!F40925","v":0}]
[{"$f":"ASIN!A40926","v":0},{"$f":"ASIN!B40926","v":0},{"$f":"ASIN!C40926","v":0},{"$f":"ASIN!D40926","v":0},{"$f":"ASIN!E40926","v":0},{"$f":"ASIN!F40926","v":0}]
[{"$f":"ASIN!A40963","v":0},{"$f":"ASIN!B40963","v":0},{"$f":"ASIN!C40963","v":0},{"$f":"ASIN!D40963","v":0},{"$f":"ASIN!E40963","v":0},{"$f":"ASIN!F40963","v":0}]
[{"$f":"ASIN!A40991","v":0},{"$f":"ASIN!B40991","v":0},{"$f":"ASIN!C40991","v":0},{"$f":"ASIN!D40991","v":0},{"$f":"ASIN!E40991","v":0},{"$f":"ASIN!F40991","v":0}]
[{"$f":"ASIN!A41016","v":0},{"$f":"ASIN!B41016","v":0},{"$f":"ASIN!C41016","v":0},{"$f":"ASIN!D41016","v":0},{"$f":"ASIN!E41016","v":0},{"$f":"ASIN!F41016","v":0}]
[{"$f":"ASIN!A41025","v":0},{"$f":"ASIN!B41025","v":0},{"$f":"ASIN!C41025","v":0},{"$f":"ASIN!D41025","v":0},{"$f":"ASIN!E41025","v":0},{"$f":"ASIN!F41025","v":0}]
[{"$f":"ASIN!A41066","v":0},{"$f":"ASIN!B41066","v":0},{"$f":"ASIN!C41066","v":0},{"$f":"ASIN!D41066","v":0},{"$f":"ASIN!E41066","v":0},{"$f":"ASIN!F41066","v":0}]
[{"$f":"ASIN!A41082","v":0},{"$f":"ASIN!B41082","v":0},{"$f":"ASIN!C41082","v":0},{"$f":"ASIN!D41082","v":0},{"$f":"ASIN!E41082","v":0},{"$f":"ASIN!F41082","v":0}]
[{"$f":"ASIN!A41115","v":0},{"$f":"ASIN!B41115","v":0},{"$f":"ASIN!C41115","v":0},{"$f":"ASIN!D41115","v":0},{"$f":"ASIN!E41115","v":0},{"$f":"ASIN!F41115","v":0}]
[{"$f":"ASIN!A41116","v":0},{"$f":"ASIN!B41116","v":0},{"$f":"ASIN!C41116","v":0},{"$f":"ASIN!D41116","v":0},{"$f":"ASIN!E41116","v":0},{"$f":"ASIN!F41116","v":0}]
[{"$f":"ASIN!A41158","v":0},{"$f":"ASIN!B41158","v":0},{"$f":"ASIN!C41158","v":0},{"$f":"ASIN!D41158","v":0},{"$f":"ASIN!E41158","v":0},{"$f":"ASIN!F41158","v":0}]
[{"$f":"ASIN!A41181","v":0},{"$f":"ASIN!B41181","v":0},{"$f":"ASIN!C41181","v":0},{"$f":"ASIN!D41181","v":0},{"$f":"ASIN!E41181","v":0},{"$f":"ASIN!F41181","v":0}]
[{"$f":"ASIN!A41206","v":0},{"$f":"ASIN!B41206","v":0},{"$f":"ASIN!C41206","v":0},{"$f":"ASIN!D41206","v":0},{"$f":"ASIN!E41206","v":0},{"$f":"ASIN!F41206","v":0}]
[{"$f":"ASIN!A41215","v":0},{"$f":"ASIN!B41215","v":0},{"$f":"ASIN!C41215","v":0},{"$f":"ASIN!D41215","v":0},{"$f":"ASIN!E41215","v":0},{"$f":"ASIN!F41215","v":0}]
[{"$f":"ASIN!A41250","v":0},{"$f":"ASIN!B41250","v":0},{"$f":"ASIN!C41250","v":0},{"$f":"ASIN!D41250","v":0},{"$f":"ASIN!E41250","v":0},{"$f":"ASIN!F41250","v":0}]
[{"$f":"ASIN!A41272","v":0},{"$f":"ASIN!B41272","v":0},{"$f":"ASIN!C41272","v":0},{"$f":"ASIN!D41272","v":0},{"$f":"ASIN!E41272","v":0},{"$f":"ASIN!F41272","v":0}]
[{"$f":"ASIN!A41305","v":0},{"$f":"ASIN!B41305","v":0},{"$f":"ASIN!C41305","v":0},{"$f":"ASIN!D41305","v":0},{"$f":"ASIN!E41305","v":0},{"$f":"ASIN!F41305","v":0}]
[{"$f":"ASIN!A41306","v":0},{"$f":"ASIN!B41306","v":0},{"$f":"ASIN!C41306","v":0},{"$f":"ASIN!D41306","v":0},{"$f":"ASIN!E41306","v":0},{"$f":"ASIN!F41306","v":0}]
[{"$f":"ASIN!A41330","v":0},{"$f":"ASIN!B41330","v":0},{"$f":"ASIN!C41330","v":0},{"$f":"ASIN!D41330","v":0},{"$f":"ASIN!E41330","v":0},{"$f":"ASIN!F41330","v":0}]
[{"$f":"ASIN!A41371","v":0},{"$f":"ASIN!B41371","v":0},{"$f":"ASIN!C41371","v":0},{"$f":"ASIN!D41371","v":0},{"$f":"ASIN!E41371","v":0},{"$f":"ASIN!F41371","v":0}]
[{"$f":"ASIN!A41396","v":0},{"$f":"ASIN!B41396","v":0},{"$f":"ASIN!C41396","v":0},{"$f":"ASIN!D41396","v":0},{"$f":"ASIN!E41396","v":0},{"$f":"ASIN!F41396","v":0}]
[{"$f":"ASIN!A41405","v":0},{"$f":"ASIN!B41405","v":0},{"$f":"ASIN!C41405","v":0},{"$f":"ASIN!D41405","v":0},{"$f":"ASIN!E41405","v":0},{"$f":"ASIN!F41405","v":0}]
[{"$f":"ASIN!A41445","v":0},{"$f":"ASIN!B41445","v":0},{"$f":"ASIN!C41445","v":0},{"$f":"ASIN!D41445","v":0},{"$f":"ASIN!E41445","v":0},{"$f":"ASIN!F41445","v":0}]
[{"$f":"ASIN!A41462","v":0},{"$f":"ASIN!B41462","v":0},{"$f":"ASIN!C41462","v":0},{"$f":"ASIN!D41462","v":0},{"$f":"ASIN!E41462","v":0},{"$f":"ASIN!F41462","v":0}]
[{"$f":"ASIN!A41495","v":0},{"$f":"ASIN!B41495","v":0},{"$f":"ASIN!C41495","v":0},{"$f":"ASIN!D41495","v":0},{"$f":"ASIN!E41495","v":0},{"$f":"ASIN!F41495","v":0}]
[{"$f":"ASIN!A41496","v":0},{"$f":"ASIN!B41496","v":0},{"$f":"ASIN!C41496","v":0},{"$f":"ASIN!D41496","v":0},{"$f":"ASIN!E41496","v":0},{"$f":"ASIN!F41496","v":0}]
[{"$f":"ASIN!A41525","v":0},{"$f":"ASIN!B41525","v":0},{"$f":"ASIN!C41525","v":0},{"$f":"ASIN!D41525","v":0},{"$f":"ASIN!E41525","v":0},{"$f":"ASIN!F41525","v":0}]
[{"$f":"ASIN!A41561","v":0},{"$f":"ASIN!B41561","v":0},{"$f":"ASIN!C41561","v":0},{"$f":"ASIN!D41561","v":0},{"$f":"ASIN!E41561","v":0},{"$f":"ASIN!F41561","v":0}]
[{"$f":"ASIN!A41586","v":0},{"$f":"ASIN!B41586","v":0},{"$f":"ASIN!C41586","v":0},{"$f":"ASIN!D41586","v":0},{"$f":"ASIN!E41586","v":0},{"$f":"ASIN!F41586","v":0}]
[{"$f":"ASIN!A41595","v":0},{"$f":"ASIN!B41595","v":0},{"$f":"ASIN!C41595","v":0},{"$f":"ASIN!D41595","v":0},{"$f":"ASIN!E41595","v":0},{"$f":"ASIN!F41595","v":0}]
[{"$f":"ASIN!A41617","v":0},{"$f":"ASIN!B41617","v":0},{"$f":"ASIN!C41617","v":0},{"$f":"ASIN!D41617","v":0},{"$f":"ASIN!E41617","v":0},{"$f":"ASIN!F41617","v":0}]
[{"$f":"ASIN!A41652","v":0},{"$f":"ASIN!B41652","v":0},{"$f":"ASIN!C41652","v":0},{"$f":"ASIN!D41652","v":0},{"$f":"ASIN!E41652","v":0},{"$f":"ASIN!F41652","v":0}]
[{"$f":"ASIN!A41685","v":0},{"$f":"ASIN!B41685","v":0},{"$f":"ASIN!C41685","v":0},{"$f":"ASIN!D41685","v":0},{"$f":"ASIN!E41685","v":0},{"$f":"ASIN!F41685","v":0}]
[{"$f":"ASIN!A41686","v":0},{"$f":"ASIN!B41686","v":0},{"$f":"ASIN!C41686","v":0},{"$f":"ASIN!D41686","v":0},{"$f":"ASIN!E41686","v":0},{"$f":"ASIN!F41686","v":0}]
[{"$f":"ASIN!A41720","v":0},{"$f":"ASIN!B41720","v":0},{"$f":"ASIN!C41720","v":0},{"$f":"ASIN!D41720","v":0},{"$f":"ASIN!E41720","v":0},{"$f":"ASIN!F41720","v":0}]
[{"$f":"ASIN!A41743","v":0},{"$f":"ASIN!B41743","v":0},{"$f":"ASIN!C41743","v":0},{"$f":"ASIN!D41743","v":0},{"$f":"ASIN!E41743","v":0},{"$f":"ASIN!F41743","v":0}]
[{"$f":"ASIN!A41776","v":0},{"$f":"ASIN!B41776","v":0},{"$f":"ASIN!C41776","v":0},{"$f":"ASIN!D41776","v":0},{"$f":"ASIN!E41776","v":0},{"$f":"ASIN!F41776","v":0}]
[{"$f":"ASIN!A41785","v":0},{"$f":"ASIN!B41785","v":0},{"$f":"ASIN!C41785","v":0},{"$f":"ASIN!D41785","v":0},{"$f":"ASIN!E41785","v":0},{"$f":"ASIN!F41785","v":0}]
[{"$f":"ASIN!A41812","v":0},{"$f":"ASIN!B41812","v":0},{"$f":"ASIN!C41812","v":0},{"$f":"ASIN!D41812","v":0},{"$f":"ASIN!E41812","v":0},{"$f":"ASIN!F41812","v":0}]
[{"$f":"ASIN!A41842","v":0},{"$f":"ASIN!B41842","v":0},{"$f":"ASIN!C41842","v":0},{"$f":"ASIN!D41842","v":0},{"$f":"ASIN!E41842","v":0},{"$f":"ASIN!F41842","v":0}]
[{"$f":"ASIN!A41875","v":0},{"$f":"ASIN!B41875","v":0},{"$f":"ASIN!C41875","v":0},{"$f":"ASIN!D41875","v":0},{"$f":"ASIN!E41875","v":0},{"$f":"ASIN!F41875","v":0}]
[{"$f":"ASIN!A41876","v":0},{"$f":"ASIN!B41876","v":0},{"$f":"ASIN!C41876","v":0},{"$f":"ASIN!D41876","v":0},{"$f":"ASIN!E41876","v":0},{"$f":"ASIN!F41876","v":0}]
[{"$f":"ASIN!A41915","v":0},{"$f":"ASIN!B41915","v":0},{"$f":"ASIN!C41915","v":0},{"$f":"ASIN!D41915","v":0},{"$f":"ASIN!E41915","v":0},{"$f":"ASIN!F41915","v":0}]
[{"$f":"ASIN!A41933","v":0},{"$f":"ASIN!B41933","v":0},{"$f":"ASIN!C41933","v":0},{"$f":"ASIN!D41933","v":0},{"$f":"ASIN!E41933","v":0},{"$f":"ASIN!F41933","v":0}]
[{"$f":"ASIN!A41966","v":0},{"$f":"ASIN!B41966","v":0},{"$f":"ASIN!C41966","v":0},{"$f":"ASIN!D41966","v":0},{"$f":"ASIN!E41966","v":0},{"$f":"ASIN!F41966","v":0}]
[{"$f":"ASIN!A41975","v":0},{"$f":"ASIN!B41975","v":0},{"$f":"ASIN!C41975","v":0},{"$f":"ASIN!D41975","v":0},{"$f":"ASIN!E41975","v":0},{"$f":"ASIN!F41975","v":0}]
[{"$f":"ASIN!A42007","v":0},{"$f":"ASIN!B42007","v":0},{"$f":"ASIN!C42007","v":0},{"$f":"ASIN!D42007","v":0},{"$f":"ASIN!E42007","v":0},{"$f":"ASIN!F42007","v":0}]
[{"$f":"ASIN!A42032","v":0},{"$f":"ASIN!B42032","v":0},{"$f":"ASIN!C42032","v":0},{"$f":"ASIN!D42032","v":0},{"$f":"ASIN!E42032","v":0},{"$f":"ASIN!F42032","v":0}]
[{"$f":"ASIN!A42065","v":0},{"$f":"ASIN!B42065","v":0},{"$f":"ASIN!C42065","v":0},{"$f":"ASIN!D42065","v":0},{"$f":"ASIN!E42065","v":0},{"$f":"ASIN!F42065","v":0}]
[{"$f":"ASIN!A42066","v":0},{"$f":"ASIN!B42066","v":0},{"$f":"ASIN!C42066","v":0},{"$f":"ASIN!D42066","v":0},{"$f":"ASIN!E42066","v":0},{"$f":"ASIN!F42066","v":0}]
[{"$f":"ASIN!A42110","v":0},{"$f":"ASIN!B42110","v":0},{"$f":"ASIN!C42110","v":0},{"$f":"ASIN!D42110","v":0},{"$f":"ASIN!E42110","v":0},{"$f":"ASIN!F42110","v":0}]
[{"$f":"ASIN!A42123","v":0},{"$f":"ASIN!B42123","v":0},{"$f":"ASIN!C42123","v":0},{"$f":"ASIN!D42123","v":0},{"$f":"ASIN!E42123","v":0},{"$f":"ASIN!F42123","v":0}]
[{"$f":"ASIN!A42156","v":0},{"$f":"ASIN!B42156","v":0},{"$f":"ASIN!C42156","v":0},{"$f":"ASIN!D42156","v":0},{"$f":"ASIN!E42156","v":0},{"$f":"ASIN!F42156","v":0}]
[{"$f":"ASIN!A42165","v":0},{"$f":"ASIN!B42165","v":0},{"$f":"ASIN!C42165","v":0},{"$f":"ASIN!D42165","v":0},{"$f":"ASIN!E42165","v":0},{"$f":"ASIN!F42165","v":0}]
[{"$f":"ASIN!A42202","v":0},{"$f":"ASIN!B42202","v":0},{"$f":"ASIN!C42202","v":0},{"$f":"ASIN!D42202","v":0},{"$f":"ASIN!E42202","v":0},{"$f":"ASIN!F42202","v":0}]
[{"$f":"ASIN!A42222","v":0},{"$f":"ASIN!B42222","v":0},{"$f":"ASIN!C42222","v":0},{"$f":"ASIN!D42222","v":0},{"$f":"ASIN!E42222","v":0},{"$f":"ASIN!F42222","v":0}]
[{"$f":"ASIN!A42247","v":0},{"$f":"ASIN!B42247","v":0},{"$f":"ASIN!C42247","v":0},{"$f":"ASIN!D42247","v":0},{"$f":"ASIN!E42247","v":0},{"$f":"ASIN!F42247","v":0}]
[{"$f":"ASIN!A42256","v":0},{"$f":"ASIN!B42256","v":0},{"$f":"ASIN!C42256","v":0},{"$f":"ASIN!D42256","v":0},{"$f":"ASIN!E42256","v":0},{"$f":"ASIN!F42256","v":0}]
[{"$f":"ASIN!A42282","v":0},{"$f":"ASIN!B42282","v":0},{"$f":"ASIN!C42282","v":0},{"$f":"ASIN!D42282","v":0},{"$f":"ASIN!E42282","v":0},{"$f":"ASIN!F42282","v":0}]
[{"$f":"ASIN!A42313","v":0},{"$f":"ASIN!B42313","v":0},{"$f":"ASIN!C42313","v":0},{"$f":"ASIN!D42313","v":0},{"$f":"ASIN!E42313","v":0},{"$f":"ASIN!F42313","v":0}]
[{"$f":"ASIN!A42346","v":0},{"$f":"ASIN!B42346","v":0},{"$f":"ASIN!C42346","v":0},{"$f":"ASIN!D42346","v":0},{"$f":"ASIN!E42346","v":0},{"$f":"ASIN!F42346","v":0}]
[{"$f":"ASIN!A42355","v":0},{"$f":"ASIN!B42355","v":0},{"$f":"ASIN!C42355","v":0},{"$f":"ASIN!D42355","v":0},{"$f":"ASIN!E42355","v":0},{"$f":"ASIN!F42355","v":0}]
[{"$f":"ASIN!A42397","v":0},{"$f":"ASIN!B42397","v":0},{"$f":"ASIN!C42397","v":0},{"$f":"ASIN!D42397","v":0},{"$f":"ASIN!E42397","v":0},{"$f":"ASIN!F42397","v":0}]
[{"$f":"ASIN!A42412","v":0},{"$f":"ASIN!B42412","v":0},{"$f":"ASIN!C42412","v":0},{"$f":"ASIN!D42412","v":0},{"$f":"ASIN!E42412","v":0},{"$f":"ASIN!F42412","v":0}]
[{"$f":"ASIN!A42437","v":0},{"$f":"ASIN!B42437","v":0},{"$f":"ASIN!C42437","v":0},{"$f":"ASIN!D42437","v":0},{"$f":"ASIN!E42437","v":0},{"$f":"ASIN!F42437","v":0}]
[{"$f":"ASIN!A42446","v":0},{"$f":"ASIN!B42446","v":0},{"$f":"ASIN!C42446","v":0},{"$f":"ASIN!D42446","v":0},{"$f":"ASIN!E42446","v":0},{"$f":"ASIN!F42446","v":0}]
[{"$f":"ASIN!A42477","v":0},{"$f":"ASIN!B42477","v":0},{"$f":"ASIN!C42477","v":0},{"$f":"ASIN!D42477","v":0},{"$f":"ASIN!E42477","v":0},{"$f":"ASIN!F42477","v":0}]
[{"$f":"ASIN!A42503","v":0},{"$f":"ASIN!B42503","v":0},{"$f":"ASIN!C42503","v":0},{"$f":"ASIN!D42503","v":0},{"$f":"ASIN!E42503","v":0},{"$f":"ASIN!F42503","v":0}]
[{"$f":"ASIN!A42536","v":0},{"$f":"ASIN!B42536","v":0},{"$f":"ASIN!C42536","v":0},{"$f":"ASIN!D42536","v":0},{"$f":"ASIN!E42536","v":0},{"$f":"ASIN!F42536","v":0}]
[{"$f":"ASIN!A42561","v":0},{"$f":"ASIN!B42561","v":0},{"$f":"ASIN!C42561","v":0},{"$f":"ASIN!D42561","v":0},{"$f":"ASIN!E42561","v":0},{"$f":"ASIN!F42561","v":0}]
[{"$f":"ASIN!A42569","v":0},{"$f":"ASIN!B42569","v":0},{"$f":"ASIN!C42569","v":0},{"$f":"ASIN!D42569","v":0},{"$f":"ASIN!E42569","v":0},{"$f":"ASIN!F42569","v":0}]
[{"$f":"ASIN!A42602","v":0},{"$f":"ASIN!B42602","v":0},{"$f":"ASIN!C42602","v":0},{"$f":"ASIN!D42602","v":0},{"$f":"ASIN!E42602","v":0},{"$f":"ASIN!F42602","v":0}]
[{"$f":"ASIN!A42627","v":0},{"$f":"ASIN!B42627","v":0},{"$f":"ASIN!C42627","v":0},{"$f":"ASIN!D42627","v":0},{"$f":"ASIN!E42627","v":0},{"$f":"ASIN!F42627","v":0}]
[{"$f":"ASIN!A42636","v":0},{"$f":"ASIN!B42636","v":0},{"$f":"ASIN!C42636","v":0},{"$f":"ASIN!D42636","v":0},{"$f":"ASIN!E42636","v":0},{"$f":"ASIN!F42636","v":0}]
[{"$f":"ASIN!A42672","v":0},{"$f":"ASIN!B42672","v":0},{"$f":"ASIN!C42672","v":0},{"$f":"ASIN!D42672","v":0},{"$f":"ASIN!E42672","v":0},{"$f":"ASIN!F42672","v":0}]
[{"$f":"ASIN!A42693","v":0},{"$f":"ASIN!B42693","v":0},{"$f":"ASIN!C42693","v":0},{"$f":"ASIN!D42693","v":0},{"$f":"ASIN!E42693","v":0},{"$f":"ASIN!F42693","v":0}]
[{"$f":"ASIN!A42726","v":0},{"$f":"ASIN!B42726","v":0},{"$f":"ASIN!C42726","v":0},{"$f":"ASIN!D42726","v":0},{"$f":"ASIN!E42726","v":0},{"$f":"ASIN!F42726","v":0}]
[{"$f":"ASIN!A42751","v":0},{"$f":"ASIN!B42751","v":0},{"$f":"ASIN!C42751","v":0},{"$f":"ASIN!D42751","v":0},{"$f":"ASIN!E42751","v":0},{"$f":"ASIN!F42751","v":0}]
[{"$f":"ASIN!A42764","v":0},{"$f":"ASIN!B42764","v":0},{"$f":"ASIN!C42764","v":0},{"$f":"ASIN!D42764","v":0},{"$f":"ASIN!E42764","v":0},{"$f":"ASIN!F42764","v":0}]
[{"$f":"ASIN!A42792","v":0},{"$f":"ASIN!B42792","v":0},{"$f":"ASIN!C42792","v":0},{"$f":"ASIN!D42792","v":0},{"$f":"ASIN!E42792","v":0},{"$f":"ASIN!F42792","v":0}]
[{"$f":"ASIN!A42817","v":0},{"$f":"ASIN!B42817","v":0},{"$f":"ASIN!C42817","v":0},{"$f":"ASIN!D42817","v":0},{"$f":"ASIN!E42817","v":0},{"$f":"ASIN!F42817","v":0}]
[{"$f":"ASIN!A42826","v":0},{"$f":"ASIN!B42826","v":0},{"$f":"ASIN!C42826","v":0},{"$f":"ASIN!D42826","v":0},{"$f":"ASIN!E42826","v":0},{"$f":"ASIN!F42826","v":0}]
[{"$f":"ASIN!A42867","v":0},{"$f":"ASIN!B42867","v":0},{"$f":"ASIN!C42867","v":0},{"$f":"ASIN!D42867","v":0},{"$f":"ASIN!E42867","v":0},{"$f":"ASIN!F42867","v":0}]
[{"$f":"ASIN!A42883","v":0},{"$f":"ASIN!B42883","v":0},{"$f":"ASIN!C42883","v":0},{"$f":"ASIN!D42883","v":0},{"$f":"ASIN!E42883","v":0},{"$f":"ASIN!F42883","v":0}]
[{"$f":"ASIN!A42916","v":0},{"$f":"ASIN!B42916","v":0},{"$f":"ASIN!C42916","v":0},{"$f":"ASIN!D42916","v":0},{"$f":"ASIN!E42916","v":0},{"$f":"ASIN!F42916","v":0}]
[{"$f":"ASIN!A42941","v":0},{"$f":"ASIN!B42941","v":0},{"$f":"ASIN!C42941","v":0},{"$f":"ASIN!D42941","v":0},{"$f":"ASIN!E42941","v":0},{"$f":"ASIN!F42941","v":0}]
[{"$f":"ASIN!A42959","v":0},{"$f":"ASIN!B42959","v":0},{"$f":"ASIN!C42959","v":0},{"$f":"ASIN!D42959","v":0},{"$f":"ASIN!E42959","v":0},{"$f":"ASIN!F42959","v":0}]
[{"$f":"ASIN!A42982","v":0},{"$f":"ASIN!B42982","v":0},{"$f":"ASIN!C42982","v":0},{"$f":"ASIN!D42982","v":0},{"$f":"ASIN!E42982","v":0},{"$f":"ASIN!F42982","v":0}]
[{"$f":"ASIN!A43007","v":0},{"$f":"ASIN!B43007","v":0},{"$f":"ASIN!C43007","v":0},{"$f":"ASIN!D43007","v":0},{"$f":"ASIN!E43007","v":0},{"$f":"ASIN!F43007","v":0}]
[{"$f":"ASIN!A43016","v":0},{"$f":"ASIN!B43016","v":0},{"$f":"ASIN!C43016","v":0},{"$f":"ASIN!D43016","v":0},{"$f":"ASIN!E43016","v":0},{"$f":"ASIN!F43016","v":0}]
[{"$f":"ASIN!A43051","v":0},{"$f":"ASIN!B43051","v":0},{"$f":"ASIN!C43051","v":0},{"$f":"ASIN!D43051","v":0},{"$f":"ASIN!E43051","v":0},{"$f":"ASIN!F43051","v":0}]
[{"$f":"ASIN!A43073","v":0},{"$f":"ASIN!B43073","v":0},{"$f":"ASIN!C43073","v":0},{"$f":"ASIN!D43073","v":0},{"$f":"ASIN!E43073","v":0},{"$f":"ASIN!F43073","v":0}]
[{"$f":"ASIN!A43106","v":0},{"$f":"ASIN!B43106","v":0},{"$f":"ASIN!C43106","v":0},{"$f":"ASIN!D43106","v":0},{"$f":"ASIN!E43106","v":0},{"$f":"ASIN!F43106","v":0}]
[{"$f":"ASIN!A43131","v":0},{"$f":"ASIN!B43131","v":0},{"$f":"ASIN!C43131","v":0},{"$f":"ASIN!D43131","v":0},{"$f":"ASIN!E43131","v":0},{"$f":"ASIN!F43131","v":0}]
[{"$f":"ASIN!A43154","v":0},{"$f":"ASIN!B43154","v":0},{"$f":"ASIN!C43154","v":0},{"$f":"ASIN!D43154","v":0},{"$f":"ASIN!E43154","v":0},{"$f":"ASIN!F43154","v":0}]
[{"$f":"ASIN!A43172","v":0},{"$f":"ASIN!B43172","v":0},{"$f":"ASIN!C43172","v":0},{"$f":"ASIN!D43172","v":0},{"$f":"ASIN!E43172","v":0},{"$f":"ASIN!F43172","v":0}]
[{"$f":"ASIN!A43197","v":0},{"$f":"ASIN!B43197","v":0},{"$f":"ASIN!C43197","v":0},{"$f":"ASIN!D43197","v":0},{"$f":"ASIN!E43197","v":0},{"$f":"ASIN!F43197","v":0}]
[{"$f":"ASIN!A43206","v":0},{"$f":"ASIN!B43206","v":0},{"$f":"ASIN!C43206","v":0},{"$f":"ASIN!D43206","v":0},{"$f":"ASIN!E43206","v":0},{"$f":"ASIN!F43206","v":0}]
[{"$f":"ASIN!A43246","v":0},{"$f":"ASIN!B43246","v":0},{"$f":"ASIN!C43246","v":0},{"$f":"ASIN!D43246","v":0},{"$f":"ASIN!E43246","v":0},{"$f":"ASIN!F43246","v":0}]
[{"$f":"ASIN!A43263","v":0},{"$f":"ASIN!B43263","v":0},{"$f":"ASIN!C43263","v":0},{"$f":"ASIN!D43263","v":0},{"$f":"ASIN!E43263","v":0},{"$f":"ASIN!F43263","v":0}]
[{"$f":"ASIN!A43296","v":0},{"$f":"ASIN!B43296","v":0},{"$f":"ASIN!C43296","v":0},{"$f":"ASIN!D43296","v":0},{"$f":"ASIN!E43296","v":0},{"$f":"ASIN!F43296","v":0}]
[{"$f":"ASIN!A43321","v":0},{"$f":"ASIN!B43321","v":0},{"$f":"ASIN!C43321","v":0},{"$f":"ASIN!D43321","v":0},{"$f":"ASIN!E43321","v":0},{"$f":"ASIN!F43321","v":0}]
[{"$f":"ASIN!A43326","v":0},{"$f":"ASIN!B43326","v":0},{"$f":"ASIN!C43326","v":0},{"$f":"ASIN!D43326","v":0},{"$f":"ASIN!E43326","v":0},{"$f":"ASIN!F43326","v":0}]
[{"$f":"ASIN!A43354","v":0},{"$f":"ASIN!B43354","v":0},{"$f":"ASIN!C43354","v":0},{"$f":"ASIN!D43354","v":0},{"$f":"ASIN!E43354","v":0},{"$f":"ASIN!F43354","v":0}]
[{"$f":"ASIN!A43387","v":0},{"$f":"ASIN!B43387","v":0},{"$f":"ASIN!C43387","v":0},{"$f":"ASIN!D43387","v":0},{"$f":"ASIN!E43387","v":0},{"$f":"ASIN!F43387","v":0}]
[{"$f":"ASIN!A43396","v":0},{"$f":"ASIN!B43396","v":0},{"$f":"ASIN!C43396","v":0},{"$f":"ASIN!D43396","v":0},{"$f":"ASIN!E43396","v":0},{"$f":"ASIN!F43396","v":0}]
[{"$f":"ASIN!A43441","v":0},{"$f":"ASIN!B43441","v":0},{"$f":"ASIN!C43441","v":0},{"$f":"ASIN!D43441","v":0},{"$f":"ASIN!E43441","v":0},{"$f":"ASIN!F43441","v":0}]
[{"$f":"ASIN!A43453","v":0},{"$f":"ASIN!B43453","v":0},{"$f":"ASIN!C43453","v":0},{"$f":"ASIN!D43453","v":0},{"$f":"ASIN!E43453","v":0},{"$f":"ASIN!F43453","v":0}]
[{"$f":"ASIN!A43486","v":0},{"$f":"ASIN!B43486","v":0},{"$f":"ASIN!C43486","v":0},{"$f":"ASIN!D43486","v":0},{"$f":"ASIN!E43486","v":0},{"$f":"ASIN!F43486","v":0}]
[{"$f":"ASIN!A43511","v":0},{"$f":"ASIN!B43511","v":0},{"$f":"ASIN!C43511","v":0},{"$f":"ASIN!D43511","v":0},{"$f":"ASIN!E43511","v":0},{"$f":"ASIN!F43511","v":0}]
[{"$f":"ASIN!A43521","v":0},{"$f":"ASIN!B43521","v":0},{"$f":"ASIN!C43521","v":0},{"$f":"ASIN!D43521","v":0},{"$f":"ASIN!E43521","v":0},{"$f":"ASIN!F43521","v":0}]
[{"$f":"ASIN!A43544","v":0},{"$f":"ASIN!B43544","v":0},{"$f":"ASIN!C43544","v":0},{"$f":"ASIN!D43544","v":0},{"$f":"ASIN!E43544","v":0},{"$f":"ASIN!F43544","v":0}]
[{"$f":"ASIN!A43577","v":0},{"$f":"ASIN!B43577","v":0},{"$f":"ASIN!C43577","v":0},{"$f":"ASIN!D43577","v":0},{"$f":"ASIN!E43577","v":0},{"$f":"ASIN!F43577","v":0}]
[{"$f":"ASIN!A43586","v":0},{"$f":"ASIN!B43586","v":0},{"$f":"ASIN!C43586","v":0},{"$f":"ASIN!D43586","v":0},{"$f":"ASIN!E43586","v":0},{"$f":"ASIN!F43586","v":0}]
[{"$f":"ASIN!A43613","v":0},{"$f":"ASIN!B43613","v":0},{"$f":"ASIN!C43613","v":0},{"$f":"ASIN!D43613","v":0},{"$f":"ASIN!E43613","v":0},{"$f":"ASIN!F43613","v":0}]
[{"$f":"ASIN!A43643","v":0},{"$f":"ASIN!B43643","v":0},{"$f":"ASIN!C43643","v":0},{"$f":"ASIN!D43643","v":0},{"$f":"ASIN!E43643","v":0},{"$f":"ASIN!F43643","v":0}]
[{"$f":"ASIN!A43676","v":0},{"$f":"ASIN!B43676","v":0},{"$f":"ASIN!C43676","v":0},{"$f":"ASIN!D43676","v":0},{"$f":"ASIN!E43676","v":0},{"$f":"ASIN!F43676","v":0}]
[{"$f":"ASIN!A43701","v":0},{"$f":"ASIN!B43701","v":0},{"$f":"ASIN!C43701","v":0},{"$f":"ASIN!D43701","v":0},{"$f":"ASIN!E43701","v":0},{"$f":"ASIN!F43701","v":0}]
[{"$f":"ASIN!A43716","v":0},{"$f":"ASIN!B43716","v":0},{"$f":"ASIN!C43716","v":0},{"$f":"ASIN!D43716","v":0},{"$f":"ASIN!E43716","v":0},{"$f":"ASIN!F43716","v":0}]
[{"$f":"ASIN!A43734","v":0},{"$f":"ASIN!B43734","v":0},{"$f":"ASIN!C43734","v":0},{"$f":"ASIN!D43734","v":0},{"$f":"ASIN!E43734","v":0},{"$f":"ASIN!F43734","v":0}]
[{"$f":"ASIN!A43767","v":0},{"$f":"ASIN!B43767","v":0},{"$f":"ASIN!C43767","v":0},{"$f":"ASIN!D43767","v":0},{"$f":"ASIN!E43767","v":0},{"$f":"ASIN!F43767","v":0}]
[{"$f":"ASIN!A43776","v":0},{"$f":"ASIN!B43776","v":0},{"$f":"ASIN!C43776","v":0},{"$f":"ASIN!D43776","v":0},{"$f":"ASIN!E43776","v":0},{"$f":"ASIN!F43776","v":0}]
[{"$f":"ASIN!A43808","v":0},{"$f":"ASIN!B43808","v":0},{"$f":"ASIN!C43808","v":0},{"$f":"ASIN!D43808","v":0},{"$f":"ASIN!E43808","v":0},{"$f":"ASIN!F43808","v":0}]
[{"$f":"ASIN!A43833","v":0},{"$f":"ASIN!B43833","v":0},{"$f":"ASIN!C43833","v":0},{"$f":"ASIN!D43833","v":0},{"$f":"ASIN!E43833","v":0},{"$f":"ASIN!F43833","v":0}]
[{"$f":"ASIN!A43858","v":0},{"$f":"ASIN!B43858","v":0},{"$f":"ASIN!C43858","v":0},{"$f":"ASIN!D43858","v":0},{"$f":"ASIN!E43858","v":0},{"$f":"ASIN!F43858","v":0}]
[{"$f":"ASIN!A43891","v":0},{"$f":"ASIN!B43891","v":0},{"$f":"ASIN!C43891","v":0},{"$f":"ASIN!D43891","v":0},{"$f":"ASIN!E43891","v":0},{"$f":"ASIN!F43891","v":0}]
[{"$f":"ASIN!A43911","v":0},{"$f":"ASIN!B43911","v":0},{"$f":"ASIN!C43911","v":0},{"$f":"ASIN!D43911","v":0},{"$f":"ASIN!E43911","v":0},{"$f":"ASIN!F43911","v":0}]
[{"$f":"ASIN!A43924","v":0},{"$f":"ASIN!B43924","v":0},{"$f":"ASIN!C43924","v":0},{"$f":"ASIN!D43924","v":0},{"$f":"ASIN!E43924","v":0},{"$f":"ASIN!F43924","v":0}]
[{"$f":"ASIN!A43957","v":0},{"$f":"ASIN!B43957","v":0},{"$f":"ASIN!C43957","v":0},{"$f":"ASIN!D43957","v":0},{"$f":"ASIN!E43957","v":0},{"$f":"ASIN!F43957","v":0}]
[{"$f":"ASIN!A43966","v":0},{"$f":"ASIN!B43966","v":0},{"$f":"ASIN!C43966","v":0},{"$f":"ASIN!D43966","v":0},{"$f":"ASIN!E43966","v":0},{"$f":"ASIN!F43966","v":0}]
[{"$f":"ASIN!A44003","v":0},{"$f":"ASIN!B44003","v":0},{"$f":"ASIN!C44003","v":0},{"$f":"ASIN!D44003","v":0},{"$f":"ASIN!E44003","v":0},{"$f":"ASIN!F44003","v":0}]
[{"$f":"ASIN!A44023","v":0},{"$f":"ASIN!B44023","v":0},{"$f":"ASIN!C44023","v":0},{"$f":"ASIN!D44023","v":0},{"$f":"ASIN!E44023","v":0},{"$f":"ASIN!F44023","v":0}]
[{"$f":"ASIN!A44048","v":0},{"$f":"ASIN!B44048","v":0},{"$f":"ASIN!C44048","v":0},{"$f":"ASIN!D44048","v":0},{"$f":"ASIN!E44048","v":0},{"$f":"ASIN!F44048","v":0}]
[{"$f":"ASIN!A44081","v":0},{"$f":"ASIN!B44081","v":0},{"$f":"ASIN!C44081","v":0},{"$f":"ASIN!D44081","v":0},{"$f":"ASIN!E44081","v":0},{"$f":"ASIN!F44081","v":0}]
[{"$f":"ASIN!A44106","v":0},{"$f":"ASIN!B44106","v":0},{"$f":"ASIN!C44106","v":0},{"$f":"ASIN!D44106","v":0},{"$f":"ASIN!E44106","v":0},{"$f":"ASIN!F44106","v":0}]
[{"$f":"ASIN!A44114","v":0},{"$f":"ASIN!B44114","v":0},{"$f":"ASIN!C44114","v":0},{"$f":"ASIN!D44114","v":0},{"$f":"ASIN!E44114","v":0},{"$f":"ASIN!F44114","v":0}]
[{"$f":"ASIN!A44147","v":0},{"$f":"ASIN!B44147","v":0},{"$f":"ASIN!C44147","v":0},{"$f":"ASIN!D44147","v":0},{"$f":"ASIN!E44147","v":0},{"$f":"ASIN!F44147","v":0}]
[{"$f":"ASIN!A44156","v":0},{"$f":"ASIN!B44156","v":0},{"$f":"ASIN!C44156","v":0},{"$f":"ASIN!D44156","v":0},{"$f":"ASIN!E44156","v":0},{"$f":"ASIN!F44156","v":0}]
[{"$f":"ASIN!A44198","v":0},{"$f":"ASIN!B44198","v":0},{"$f":"ASIN!C44198","v":0},{"$f":"ASIN!D44198","v":0},{"$f":"ASIN!E44198","v":0},{"$f":"ASIN!F44198","v":0}]
[{"$f":"ASIN!A44213","v":0},{"$f":"ASIN!B44213","v":0},{"$f":"ASIN!C44213","v":0},{"$f":"ASIN!D44213","v":0},{"$f":"ASIN!E44213","v":0},{"$f":"ASIN!F44213","v":0}]
[{"$f":"ASIN!A44238","v":0},{"$f":"ASIN!B44238","v":0},{"$f":"ASIN!C44238","v":0},{"$f":"ASIN!D44238","v":0},{"$f":"ASIN!E44238","v":0},{"$f":"ASIN!F44238","v":0}]
[{"$f":"ASIN!A44271","v":0},{"$f":"ASIN!B44271","v":0},{"$f":"ASIN!C44271","v":0},{"$f":"ASIN!D44271","v":0},{"$f":"ASIN!E44271","v":0},{"$f":"ASIN!F44271","v":0}]
[{"$f":"ASIN!A44278","v":0},{"$f":"ASIN!B44278","v":0},{"$f":"ASIN!C44278","v":0},{"$f":"ASIN!D44278","v":0},{"$f":"ASIN!E44278","v":0},{"$f":"ASIN!F44278","v":0}]
[{"$f":"ASIN!A44304","v":0},{"$f":"ASIN!B44304","v":0},{"$f":"ASIN!C44304","v":0},{"$f":"ASIN!D44304","v":0},{"$f":"ASIN!E44304","v":0},{"$f":"ASIN!F44304","v":0}]
[{"$f":"ASIN!A44337","v":0},{"$f":"ASIN!B44337","v":0},{"$f":"ASIN!C44337","v":0},{"$f":"ASIN!D44337","v":0},{"$f":"ASIN!E44337","v":0},{"$f":"ASIN!F44337","v":0}]
[{"$f":"ASIN!A44362","v":0},{"$f":"ASIN!B44362","v":0},{"$f":"ASIN!C44362","v":0},{"$f":"ASIN!D44362","v":0},{"$f":"ASIN!E44362","v":0},{"$f":"ASIN!F44362","v":0}]
[{"$f":"ASIN!A44370","v":0},{"$f":"ASIN!B44370","v":0},{"$f":"ASIN!C44370","v":0},{"$f":"ASIN!D44370","v":0},{"$f":"ASIN!E44370","v":0},{"$f":"ASIN!F44370","v":0}]
[{"$f":"ASIN!A44403","v":0},{"$f":"ASIN!B44403","v":0},{"$f":"ASIN!C44403","v":0},{"$f":"ASIN!D44403","v":0},{"$f":"ASIN!E44403","v":0},{"$f":"ASIN!F44403","v":0}]
[{"$f":"ASIN!A44428","v":0},{"$f":"ASIN!B44428","v":0},{"$f":"ASIN!C44428","v":0},{"$f":"ASIN!D44428","v":0},{"$f":"ASIN!E44428","v":0},{"$f":"ASIN!F44428","v":0}]
[{"$f":"ASIN!A44461","v":0},{"$f":"ASIN!B44461","v":0},{"$f":"ASIN!C44461","v":0},{"$f":"ASIN!D44461","v":0},{"$f":"ASIN!E44461","v":0},{"$f":"ASIN!F44461","v":0}]
[{"$f":"ASIN!A44473","v":0},{"$f":"ASIN!B44473","v":0},{"$f":"ASIN!C44473","v":0},{"$f":"ASIN!D44473","v":0},{"$f":"ASIN!E44473","v":0},{"$f":"ASIN!F44473","v":0}]
[{"$f":"ASIN!A44494","v":0},{"$f":"ASIN!B44494","v":0},{"$f":"ASIN!C44494","v":0},{"$f":"ASIN!D44494","v":0},{"$f":"ASIN!E44494","v":0},{"$f":"ASIN!F44494","v":0}]
[{"$f":"ASIN!A44527","v":0},{"$f":"ASIN!B44527","v":0},{"$f":"ASIN!C44527","v":0},{"$f":"ASIN!D44527","v":0},{"$f":"ASIN!E44527","v":0},{"$f":"ASIN!F44527","v":0}]
[{"$f":"ASIN!A44552","v":0},{"$f":"ASIN!B44552","v":0},{"$f":"ASIN!C44552","v":0},{"$f":"ASIN!D44552","v":0},{"$f":"ASIN!E44552","v":0},{"$f":"ASIN!F44552","v":0}]
[{"$f":"ASIN!A44565","v":0},{"$f":"ASIN!B44565","v":0},{"$f":"ASIN!C44565","v":0},{"$f":"ASIN!D44565","v":0},{"$f":"ASIN!E44565","v":0},{"$f":"ASIN!F44565","v":0}]
[{"$f":"ASIN!A44593","v":0},{"$f":"ASIN!B44593","v":0},{"$f":"ASIN!C44593","v":0},{"$f":"ASIN!D44593","v":0},{"$f":"ASIN!E44593","v":0},{"$f":"ASIN!F44593","v":0}]
[{"$f":"ASIN!A44618","v":0},{"$f":"ASIN!B44618","v":0},{"$f":"ASIN!C44618","v":0},{"$f":"ASIN!D44618","v":0},{"$f":"ASIN!E44618","v":0},{"$f":"ASIN!F44618","v":0}]
[{"$f":"ASIN!A44651","v":0},{"$f":"ASIN!B44651","v":0},{"$f":"ASIN!C44651","v":0},{"$f":"ASIN!D44651","v":0},{"$f":"ASIN!E44651","v":0},{"$f":"ASIN!F44651","v":0}]
[{"$f":"ASIN!A44657","v":0},{"$f":"ASIN!B44657","v":0},{"$f":"ASIN!C44657","v":0},{"$f":"ASIN!D44657","v":0},{"$f":"ASIN!E44657","v":0},{"$f":"ASIN!F44657","v":0}]
[{"$f":"ASIN!A44684","v":0},{"$f":"ASIN!B44684","v":0},{"$f":"ASIN!C44684","v":0},{"$f":"ASIN!D44684","v":0},{"$f":"ASIN!E44684","v":0},{"$f":"ASIN!F44684","v":0}]
[{"$f":"ASIN!A44717","v":0},{"$f":"ASIN!B44717","v":0},{"$f":"ASIN!C44717","v":0},{"$f":"ASIN!D44717","v":0},{"$f":"ASIN!E44717","v":0},{"$f":"ASIN!F44717","v":0}]
[{"$f":"ASIN!A44742","v":0},{"$f":"ASIN!B44742","v":0},{"$f":"ASIN!C44742","v":0},{"$f":"ASIN!D44742","v":0},{"$f":"ASIN!E44742","v":0},{"$f":"ASIN!F44742","v":0}]
[{"$f":"ASIN!A44760","v":0},{"$f":"ASIN!B44760","v":0},{"$f":"ASIN!C44760","v":0},{"$f":"ASIN!D44760","v":0},{"$f":"ASIN!E44760","v":0},{"$f":"ASIN!F44760","v":0}]
[{"$f":"ASIN!A44783","v":0},{"$f":"ASIN!B44783","v":0},{"$f":"ASIN!C44783","v":0},{"$f":"ASIN!D44783","v":0},{"$f":"ASIN!E44783","v":0},{"$f":"ASIN!F44783","v":0}]
[{"$f":"ASIN!A44808","v":0},{"$f":"ASIN!B44808","v":0},{"$f":"ASIN!C44808","v":0},{"$f":"ASIN!D44808","v":0},{"$f":"ASIN!E44808","v":0},{"$f":"ASIN!F44808","v":0}]
[{"$f":"ASIN!A44841","v":0},{"$f":"ASIN!B44841","v":0},{"$f":"ASIN!C44841","v":0},{"$f":"ASIN!D44841","v":0},{"$f":"ASIN!E44841","v":0},{"$f":"ASIN!F44841","v":0}]
[{"$f":"ASIN!A44852","v":0},{"$f":"ASIN!B44852","v":0},{"$f":"ASIN!C44852","v":0},{"$f":"ASIN!D44852","v":0},{"$f":"ASIN!E44852","v":0},{"$f":"ASIN!F44852","v":0}]
[{"$f":"ASIN!A44874","v":0},{"$f":"ASIN!B44874","v":0},{"$f":"ASIN!C44874","v":0},{"$f":"ASIN!D44874","v":0},{"$f":"ASIN!E44874","v":0},{"$f":"ASIN!F44874","v":0}]
[{"$f":"ASIN!A44907","v":0},{"$f":"ASIN!B44907","v":0},{"$f":"ASIN!C44907","v":0},{"$f":"ASIN!D44907","v":0},{"$f":"ASIN!E44907","v":0},{"$f":"ASIN!F44907","v":0}]
[{"$f":"ASIN!A44932","v":0},{"$f":"ASIN!B44932","v":0},{"$f":"ASIN!C44932","v":0},{"$f":"ASIN!D44932","v":0},{"$f":"ASIN!E44932","v":0},{"$f":"ASIN!F44932","v":0}]
[{"$f":"ASIN!A44955","v":0},{"$f":"ASIN!B44955","v":0},{"$f":"ASIN!C44955","v":0},{"$f":"ASIN!D44955","v":0},{"$f":"ASIN!E44955","v":0},{"$f":"ASIN!F44955","v":0}]
[{"$f":"ASIN!A44973","v":0},{"$f":"ASIN!B44973","v":0},{"$f":"ASIN!C44973","v":0},{"$f":"ASIN!D44973","v":0},{"$f":"ASIN!E44973","v":0},{"$f":"ASIN!F44973","v":0}]
[{"$f":"ASIN!A44998","v":0},{"$f":"ASIN!B44998","v":0},{"$f":"ASIN!C44998","v":0},{"$f":"ASIN!D44998","v":0},{"$f":"ASIN!E44998","v":0},{"$f":"ASIN!F44998","v":0}]
[{"$f":"ASIN!A45031","v":0},{"$f":"ASIN!B45031","v":0},{"$f":"ASIN!C45031","v":0},{"$f":"ASIN!D45031","v":0},{"$f":"ASIN!E45031","v":0},{"$f":"ASIN!F45031","v":0}]
[{"$f":"ASIN!A45047","v":0},{"$f":"ASIN!B45047","v":0},{"$f":"ASIN!C45047","v":0},{"$f":"ASIN!D45047","v":0},{"$f":"ASIN!E45047","v":0},{"$f":"ASIN!F45047","v":0}]
[{"$f":"ASIN!A45064","v":0},{"$f":"ASIN!B45064","v":0},{"$f":"ASIN!C45064","v":0},{"$f":"ASIN!D45064","v":0},{"$f":"ASIN!E45064","v":0},{"$f":"ASIN!F45064","v":0}]
[{"$f":"ASIN!A45097","v":0},{"$f":"ASIN!B45097","v":0},{"$f":"ASIN!C45097","v":0},{"$f":"ASIN!D45097","v":0},{"$f":"ASIN!E45097","v":0},{"$f":"ASIN!F45097","v":0}]
[{"$f":"ASIN!A45122","v":0},{"$f":"ASIN!B45122","v":0},{"$f":"ASIN!C45122","v":0},{"$f":"ASIN!D45122","v":0},{"$f":"ASIN!E45122","v":0},{"$f":"ASIN!F45122","v":0}]
[{"$f":"ASIN!A45150","v":0},{"$f":"ASIN!B45150","v":0},{"$f":"ASIN!C45150","v":0},{"$f":"ASIN!D45150","v":0},{"$f":"ASIN!E45150","v":0},{"$f":"ASIN!F45150","v":0}]
[{"$f":"ASIN!A45155","v":0},{"$f":"ASIN!B45155","v":0},{"$f":"ASIN!C45155","v":0},{"$f":"ASIN!D45155","v":0},{"$f":"ASIN!E45155","v":0},{"$f":"ASIN!F45155","v":0}]
[{"$f":"ASIN!A45188","v":0},{"$f":"ASIN!B45188","v":0},{"$f":"ASIN!C45188","v":0},{"$f":"ASIN!D45188","v":0},{"$f":"ASIN!E45188","v":0},{"$f":"ASIN!F45188","v":0}]
[{"$f":"ASIN!A45221","v":0},{"$f":"ASIN!B45221","v":0},{"$f":"ASIN!C45221","v":0},{"$f":"ASIN!D45221","v":0},{"$f":"ASIN!E45221","v":0},{"$f":"ASIN!F45221","v":0}]
[{"$f":"ASIN!A45242","v":0},{"$f":"ASIN!B45242","v":0},{"$f":"ASIN!C45242","v":0},{"$f":"ASIN!D45242","v":0},{"$f":"ASIN!E45242","v":0},{"$f":"ASIN!F45242","v":0}]
[{"$f":"ASIN!A45254","v":0},{"$f":"ASIN!B45254","v":0},{"$f":"ASIN!C45254","v":0},{"$f":"ASIN!D45254","v":0},{"$f":"ASIN!E45254","v":0},{"$f":"ASIN!F45254","v":0}]
[{"$f":"ASIN!A45287","v":0},{"$f":"ASIN!B45287","v":0},{"$f":"ASIN!C45287","v":0},{"$f":"ASIN!D45287","v":0},{"$f":"ASIN!E45287","v":0},{"$f":"ASIN!F45287","v":0}]
[{"$f":"ASIN!A45312","v":0},{"$f":"ASIN!B45312","v":0},{"$f":"ASIN!C45312","v":0},{"$f":"ASIN!D45312","v":0},{"$f":"ASIN!E45312","v":0},{"$f":"ASIN!F45312","v":0}]
[{"$f":"ASIN!A45322","v":0},{"$f":"ASIN!B45322","v":0},{"$f":"ASIN!C45322","v":0},{"$f":"ASIN!D45322","v":0},{"$f":"ASIN!E45322","v":0},{"$f":"ASIN!F45322","v":0}]
[{"$f":"ASIN!A45345","v":0},{"$f":"ASIN!B45345","v":0},{"$f":"ASIN!C45345","v":0},{"$f":"ASIN!D45345","v":0},{"$f":"ASIN!E45345","v":0},{"$f":"ASIN!F45345","v":0}]
[{"$f":"ASIN!A45378","v":0},{"$f":"ASIN!B45378","v":0},{"$f":"ASIN!C45378","v":0},{"$f":"ASIN!D45378","v":0},{"$f":"ASIN!E45378","v":0},{"$f":"ASIN!F45378","v":0}]
[{"$f":"ASIN!A45411","v":0},{"$f":"ASIN!B45411","v":0},{"$f":"ASIN!C45411","v":0},{"$f":"ASIN!D45411","v":0},{"$f":"ASIN!E45411","v":0},{"$f":"ASIN!F45411","v":0}]
[{"$f":"ASIN!A45437","v":0},{"$f":"ASIN!B45437","v":0},{"$f":"ASIN!C45437","v":0},{"$f":"ASIN!D45437","v":0},{"$f":"ASIN!E45437","v":0},{"$f":"ASIN!F45437","v":0}]
[{"$f":"ASIN!A45444","v":0},{"$f":"ASIN!B45444","v":0},{"$f":"ASIN!C45444","v":0},{"$f":"ASIN!D45444","v":0},{"$f":"ASIN!E45444","v":0},{"$f":"ASIN!F45444","v":0}]
[{"$f":"ASIN!A45477","v":0},{"$f":"ASIN!B45477","v":0},{"$f":"ASIN!C45477","v":0},{"$f":"ASIN!D45477","v":0},{"$f":"ASIN!E45477","v":0},{"$f":"ASIN!F45477","v":0}]
[{"$f":"ASIN!A45502","v":0},{"$f":"ASIN!B45502","v":0},{"$f":"ASIN!C45502","v":0},{"$f":"ASIN!D45502","v":0},{"$f":"ASIN!E45502","v":0},{"$f":"ASIN!F45502","v":0}]
[{"$f":"ASIN!A45517","v":0},{"$f":"ASIN!B45517","v":0},{"$f":"ASIN!C45517","v":0},{"$f":"ASIN!D45517","v":0},{"$f":"ASIN!E45517","v":0},{"$f":"ASIN!F45517","v":0}]
[{"$f":"ASIN!A45535","v":0},{"$f":"ASIN!B45535","v":0},{"$f":"ASIN!C45535","v":0},{"$f":"ASIN!D45535","v":0},{"$f":"ASIN!E45535","v":0},{"$f":"ASIN!F45535","v":0}]
[{"$f":"ASIN!A45568","v":0},{"$f":"ASIN!B45568","v":0},{"$f":"ASIN!C45568","v":0},{"$f":"ASIN!D45568","v":0},{"$f":"ASIN!E45568","v":0},{"$f":"ASIN!F45568","v":0}]
[{"$f":"ASIN!A45601","v":0},{"$f":"ASIN!B45601","v":0},{"$f":"ASIN!C45601","v":0},{"$f":"ASIN!D45601","v":0},{"$f":"ASIN!E45601","v":0},{"$f":"ASIN!F45601","v":0}]
[{"$f":"ASIN!A45609","v":0},{"$f":"ASIN!B45609","v":0},{"$f":"ASIN!C45609","v":0},{"$f":"ASIN!D45609","v":0},{"$f":"ASIN!E45609","v":0},{"$f":"ASIN!F45609","v":0}]
[{"$f":"ASIN!A45634","v":0},{"$f":"ASIN!B45634","v":0},{"$f":"ASIN!C45634","v":0},{"$f":"ASIN!D45634","v":0},{"$f":"ASIN!E45634","v":0},{"$f":"ASIN!F45634","v":0}]
[{"$f":"ASIN!A45659","v":0},{"$f":"ASIN!B45659","v":0},{"$f":"ASIN!C45659","v":0},{"$f":"ASIN!D45659","v":0},{"$f":"ASIN!E45659","v":0},{"$f":"ASIN!F45659","v":0}]
[{"$f":"ASIN!A45692","v":0},{"$f":"ASIN!B45692","v":0},{"$f":"ASIN!C45692","v":0},{"$f":"ASIN!D45692","v":0},{"$f":"ASIN!E45692","v":0},{"$f":"ASIN!F45692","v":0}]
[{"$f":"ASIN!A45712","v":0},{"$f":"ASIN!B45712","v":0},{"$f":"ASIN!C45712","v":0},{"$f":"ASIN!D45712","v":0},{"$f":"ASIN!E45712","v":0},{"$f":"ASIN!F45712","v":0}]
[{"$f":"ASIN!A45725","v":0},{"$f":"ASIN!B45725","v":0},{"$f":"ASIN!C45725","v":0},{"$f":"ASIN!D45725","v":0},{"$f":"ASIN!E45725","v":0},{"$f":"ASIN!F45725","v":0}]
[{"$f":"ASIN!A45758","v":0},{"$f":"ASIN!B45758","v":0},{"$f":"ASIN!C45758","v":0},{"$f":"ASIN!D45758","v":0},{"$f":"ASIN!E45758","v":0},{"$f":"ASIN!F45758","v":0}]
[{"$f":"ASIN!A45791","v":0},{"$f":"ASIN!B45791","v":0},{"$f":"ASIN!C45791","v":0},{"$f":"ASIN!D45791","v":0},{"$f":"ASIN!E45791","v":0},{"$f":"ASIN!F45791","v":0}]
[{"$f":"ASIN!A45804","v":0},{"$f":"ASIN!B45804","v":0},{"$f":"ASIN!C45804","v":0},{"$f":"ASIN!D45804","v":0},{"$f":"ASIN!E45804","v":0},{"$f":"ASIN!F45804","v":0}]
[{"$f":"ASIN!A45824","v":0},{"$f":"ASIN!B45824","v":0},{"$f":"ASIN!C45824","v":0},{"$f":"ASIN!D45824","v":0},{"$f":"ASIN!E45824","v":0},{"$f":"ASIN!F45824","v":0}]
[{"$f":"ASIN!A45849","v":0},{"$f":"ASIN!B45849","v":0},{"$f":"ASIN!C45849","v":0},{"$f":"ASIN!D45849","v":0},{"$f":"ASIN!E45849","v":0},{"$f":"ASIN!F45849","v":0}]
[{"$f":"ASIN!A45882","v":0},{"$f":"ASIN!B45882","v":0},{"$f":"ASIN!C45882","v":0},{"$f":"ASIN!D45882","v":0},{"$f":"ASIN!E45882","v":0},{"$f":"ASIN!F45882","v":0}]
[{"$f":"ASIN!A45907","v":0},{"$f":"ASIN!B45907","v":0},{"$f":"ASIN!C45907","v":0},{"$f":"ASIN!D45907","v":0},{"$f":"ASIN!E45907","v":0},{"$f":"ASIN!F45907","v":0}]
[{"$f":"ASIN!A45915","v":0},{"$f":"ASIN!B45915","v":0},{"$f":"ASIN!C45915","v":0},{"$f":"ASIN!D45915","v":0},{"$f":"ASIN!E45915","v":0},{"$f":"ASIN!F45915","v":0}]
[{"$f":"ASIN!A45948","v":0},{"$f":"ASIN!B45948","v":0},{"$f":"ASIN!C45948","v":0},{"$f":"ASIN!D45948","v":0},{"$f":"ASIN!E45948","v":0},{"$f":"ASIN!F45948","v":0}]
[{"$f":"ASIN!A45973","v":0},{"$f":"ASIN!B45973","v":0},{"$f":"ASIN!C45973","v":0},{"$f":"ASIN!D45973","v":0},{"$f":"ASIN!E45973","v":0},{"$f":"ASIN!F45973","v":0}]
[{"$f":"ASIN!A45999","v":0},{"$f":"ASIN!B45999","v":0},{"$f":"ASIN!C45999","v":0},{"$f":"ASIN!D45999","v":0},{"$f":"ASIN!E45999","v":0},{"$f":"ASIN!F45999","v":0}]
[{"$f":"ASIN!A46014","v":0},{"$f":"ASIN!B46014","v":0},{"$f":"ASIN!C46014","v":0},{"$f":"ASIN!D46014","v":0},{"$f":"ASIN!E46014","v":0},{"$f":"ASIN!F46014","v":0}]
[{"$f":"ASIN!A46039","v":0},{"$f":"ASIN!B46039","v":0},{"$f":"ASIN!C46039","v":0},{"$f":"ASIN!D46039","v":0},{"$f":"ASIN!E46039","v":0},{"$f":"ASIN!F46039","v":0}]
[{"$f":"ASIN!A46072","v":0},{"$f":"ASIN!B46072","v":0},{"$f":"ASIN!C46072","v":0},{"$f":"ASIN!D46072","v":0},{"$f":"ASIN!E46072","v":0},{"$f":"ASIN!F46072","v":0}]
[{"$f":"ASIN!A46102","v":0},{"$f":"ASIN!B46102","v":0},{"$f":"ASIN!C46102","v":0},{"$f":"ASIN!D46102","v":0},{"$f":"ASIN!E46102","v":0},{"$f":"ASIN!F46102","v":0}]
[{"$f":"ASIN!A46105","v":0},{"$f":"ASIN!B46105","v":0},{"$f":"ASIN!C46105","v":0},{"$f":"ASIN!D46105","v":0},{"$f":"ASIN!E46105","v":0},{"$f":"ASIN!F46105","v":0}]
[{"$f":"ASIN!A46138","v":0},{"$f":"ASIN!B46138","v":0},{"$f":"ASIN!C46138","v":0},{"$f":"ASIN!D46138","v":0},{"$f":"ASIN!E46138","v":0},{"$f":"ASIN!F46138","v":0}]
[{"$f":"ASIN!A46163","v":0},{"$f":"ASIN!B46163","v":0},{"$f":"ASIN!C46163","v":0},{"$f":"ASIN!D46163","v":0},{"$f":"ASIN!E46163","v":0},{"$f":"ASIN!F46163","v":0}]
[{"$f":"ASIN!A46194","v":0},{"$f":"ASIN!B46194","v":0},{"$f":"ASIN!C46194","v":0},{"$f":"ASIN!D46194","v":0},{"$f":"ASIN!E46194","v":0},{"$f":"ASIN!F46194","v":0}]
[{"$f":"ASIN!A46204","v":0},{"$f":"ASIN!B46204","v":0},{"$f":"ASIN!C46204","v":0},{"$f":"ASIN!D46204","v":0},{"$f":"ASIN!E46204","v":0},{"$f":"ASIN!F46204","v":0}]
[{"$f":"ASIN!A46229","v":0},{"$f":"ASIN!B46229","v":0},{"$f":"ASIN!C46229","v":0},{"$f":"ASIN!D46229","v":0},{"$f":"ASIN!E46229","v":0},{"$f":"ASIN!F46229","v":0}]
[{"$f":"ASIN!A46262","v":0},{"$f":"ASIN!B46262","v":0},{"$f":"ASIN!C46262","v":0},{"$f":"ASIN!D46262","v":0},{"$f":"ASIN!E46262","v":0},{"$f":"ASIN!F46262","v":0}]
[{"$f":"ASIN!A46274","v":0},{"$f":"ASIN!B46274","v":0},{"$f":"ASIN!C46274","v":0},{"$f":"ASIN!D46274","v":0},{"$f":"ASIN!E46274","v":0},{"$f":"ASIN!F46274","v":0}]
[{"$f":"ASIN!A46295","v":0},{"$f":"ASIN!B46295","v":0},{"$f":"ASIN!C46295","v":0},{"$f":"ASIN!D46295","v":0},{"$f":"ASIN!E46295","v":0},{"$f":"ASIN!F46295","v":0}]
[{"$f":"ASIN!A46328","v":0},{"$f":"ASIN!B46328","v":0},{"$f":"ASIN!C46328","v":0},{"$f":"ASIN!D46328","v":0},{"$f":"ASIN!E46328","v":0},{"$f":"ASIN!F46328","v":0}]
[{"$f":"ASIN!A46353","v":0},{"$f":"ASIN!B46353","v":0},{"$f":"ASIN!C46353","v":0},{"$f":"ASIN!D46353","v":0},{"$f":"ASIN!E46353","v":0},{"$f":"ASIN!F46353","v":0}]
[{"$f":"ASIN!A46366","v":0},{"$f":"ASIN!B46366","v":0},{"$f":"ASIN!C46366","v":0},{"$f":"ASIN!D46366","v":0},{"$f":"ASIN!E46366","v":0},{"$f":"ASIN!F46366","v":0}]
[{"$f":"ASIN!A46394","v":0},{"$f":"ASIN!B46394","v":0},{"$f":"ASIN!C46394","v":0},{"$f":"ASIN!D46394","v":0},{"$f":"ASIN!E46394","v":0},{"$f":"ASIN!F46394","v":0}]
[{"$f":"ASIN!A46419","v":0},{"$f":"ASIN!B46419","v":0},{"$f":"ASIN!C46419","v":0},{"$f":"ASIN!D46419","v":0},{"$f":"ASIN!E46419","v":0},{"$f":"ASIN!F46419","v":0}]
[{"$f":"ASIN!A46452","v":0},{"$f":"ASIN!B46452","v":0},{"$f":"ASIN!C46452","v":0},{"$f":"ASIN!D46452","v":0},{"$f":"ASIN!E46452","v":0},{"$f":"ASIN!F46452","v":0}]
[{"$f":"ASIN!A46481","v":0},{"$f":"ASIN!B46481","v":0},{"$f":"ASIN!C46481","v":0},{"$f":"ASIN!D46481","v":0},{"$f":"ASIN!E46481","v":0},{"$f":"ASIN!F46481","v":0}]
[{"$f":"ASIN!A46485","v":0},{"$f":"ASIN!B46485","v":0},{"$f":"ASIN!C46485","v":0},{"$f":"ASIN!D46485","v":0},{"$f":"ASIN!E46485","v":0},{"$f":"ASIN!F46485","v":0}]
[{"$f":"ASIN!A46518","v":0},{"$f":"ASIN!B46518","v":0},{"$f":"ASIN!C46518","v":0},{"$f":"ASIN!D46518","v":0},{"$f":"ASIN!E46518","v":0},{"$f":"ASIN!F46518","v":0}]
[{"$f":"ASIN!A46543","v":0},{"$f":"ASIN!B46543","v":0},{"$f":"ASIN!C46543","v":0},{"$f":"ASIN!D46543","v":0},{"$f":"ASIN!E46543","v":0},{"$f":"ASIN!F46543","v":0}]
[{"$f":"ASIN!A46561","v":0},{"$f":"ASIN!B46561","v":0},{"$f":"ASIN!C46561","v":0},{"$f":"ASIN!D46561","v":0},{"$f":"ASIN!E46561","v":0},{"$f":"ASIN!F46561","v":0}]
[{"$f":"ASIN!A46584","v":0},{"$f":"ASIN!B46584","v":0},{"$f":"ASIN!C46584","v":0},{"$f":"ASIN!D46584","v":0},{"$f":"ASIN!E46584","v":0},{"$f":"ASIN!F46584","v":0}]
[{"$f":"ASIN!A46609","v":0},{"$f":"ASIN!B46609","v":0},{"$f":"ASIN!C46609","v":0},{"$f":"ASIN!D46609","v":0},{"$f":"ASIN!E46609","v":0},{"$f":"ASIN!F46609","v":0}]
[{"$f":"ASIN!A46642","v":0},{"$f":"ASIN!B46642","v":0},{"$f":"ASIN!C46642","v":0},{"$f":"ASIN!D46642","v":0},{"$f":"ASIN!E46642","v":0},{"$f":"ASIN!F46642","v":0}]
[{"$f":"ASIN!A46653","v":0},{"$f":"ASIN!B46653","v":0},{"$f":"ASIN!C46653","v":0},{"$f":"ASIN!D46653","v":0},{"$f":"ASIN!E46653","v":0},{"$f":"ASIN!F46653","v":0}]
[{"$f":"ASIN!A46675","v":0},{"$f":"ASIN!B46675","v":0},{"$f":"ASIN!C46675","v":0},{"$f":"ASIN!D46675","v":0},{"$f":"ASIN!E46675","v":0},{"$f":"ASIN!F46675","v":0}]
[{"$f":"ASIN!A46708","v":0},{"$f":"ASIN!B46708","v":0},{"$f":"ASIN!C46708","v":0},{"$f":"ASIN!D46708","v":0},{"$f":"ASIN!E46708","v":0},{"$f":"ASIN!F46708","v":0}]
[{"$f":"ASIN!A46733","v":0},{"$f":"ASIN!B46733","v":0},{"$f":"ASIN!C46733","v":0},{"$f":"ASIN!D46733","v":0},{"$f":"ASIN!E46733","v":0},{"$f":"ASIN!F46733","v":0}]
[{"$f":"ASIN!A46756","v":0},{"$f":"ASIN!B46756","v":0},{"$f":"ASIN!C46756","v":0},{"$f":"ASIN!D46756","v":0},{"$f":"ASIN!E46756","v":0},{"$f":"ASIN!F46756","v":0}]
[{"$f":"ASIN!A46790","v":0},{"$f":"ASIN!B46790","v":0},{"$f":"ASIN!C46790","v":0},{"$f":"ASIN!D46790","v":0},{"$f":"ASIN!E46790","v":0},{"$f":"ASIN!F46790","v":0}]
[{"$f":"ASIN!A46799","v":0},{"$f":"ASIN!B46799","v":0},{"$f":"ASIN!C46799","v":0},{"$f":"ASIN!D46799","v":0},{"$f":"ASIN!E46799","v":0},{"$f":"ASIN!F46799","v":0}]
[{"$f":"ASIN!A46832","v":0},{"$f":"ASIN!B46832","v":0},{"$f":"ASIN!C46832","v":0},{"$f":"ASIN!D46832","v":0},{"$f":"ASIN!E46832","v":0},{"$f":"ASIN!F46832","v":0}]
[{"$f":"ASIN!A46848","v":0},{"$f":"ASIN!B46848","v":0},{"$f":"ASIN!C46848","v":0},{"$f":"ASIN!D46848","v":0},{"$f":"ASIN!E46848","v":0},{"$f":"ASIN!F46848","v":0}]
[{"$f":"ASIN!A46865","v":0},{"$f":"ASIN!B46865","v":0},{"$f":"ASIN!C46865","v":0},{"$f":"ASIN!D46865","v":0},{"$f":"ASIN!E46865","v":0},{"$f":"ASIN!F46865","v":0}]
[{"$f":"ASIN!A46898","v":0},{"$f":"ASIN!B46898","v":0},{"$f":"ASIN!C46898","v":0},{"$f":"ASIN!D46898","v":0},{"$f":"ASIN!E46898","v":0},{"$f":"ASIN!F46898","v":0}]
[{"$f":"ASIN!A46923","v":0},{"$f":"ASIN!B46923","v":0},{"$f":"ASIN!C46923","v":0},{"$f":"ASIN!D46923","v":0},{"$f":"ASIN!E46923","v":0},{"$f":"ASIN!F46923","v":0}]
[{"$f":"ASIN!A46951","v":0},{"$f":"ASIN!B46951","v":0},{"$f":"ASIN!C46951","v":0},{"$f":"ASIN!D46951","v":0},{"$f":"ASIN!E46951","v":0},{"$f":"ASIN!F46951","v":0}]
[{"$f":"ASIN!A46980","v":0},{"$f":"ASIN!B46980","v":0},{"$f":"ASIN!C46980","v":0},{"$f":"ASIN!D46980","v":0},{"$f":"ASIN!E46980","v":0},{"$f":"ASIN!F46980","v":0}]
[{"$f":"ASIN!A46989","v":0},{"$f":"ASIN!B46989","v":0},{"$f":"ASIN!C46989","v":0},{"$f":"ASIN!D46989","v":0},{"$f":"ASIN!E46989","v":0},{"$f":"ASIN!F46989","v":0}]
[{"$f":"ASIN!A47022","v":0},{"$f":"ASIN!B47022","v":0},{"$f":"ASIN!C47022","v":0},{"$f":"ASIN!D47022","v":0},{"$f":"ASIN!E47022","v":0},{"$f":"ASIN!F47022","v":0}]
[{"$f":"ASIN!A47043","v":0},{"$f":"ASIN!B47043","v":0},{"$f":"ASIN!C47043","v":0},{"$f":"ASIN!D47043","v":0},{"$f":"ASIN!E47043","v":0},{"$f":"ASIN!F47043","v":0}]
[{"$f":"ASIN!A47055","v":0},{"$f":"ASIN!B47055","v":0},{"$f":"ASIN!C47055","v":0},{"$f":"ASIN!D47055","v":0},{"$f":"ASIN!E47055","v":0},{"$f":"ASIN!F47055","v":0}]
[{"$f":"ASIN!A47088","v":0},{"$f":"ASIN!B47088","v":0},{"$f":"ASIN!C47088","v":0},{"$f":"ASIN!D47088","v":0},{"$f":"ASIN!E47088","v":0},{"$f":"ASIN!F47088","v":0}]
[{"$f":"ASIN!A47113","v":0},{"$f":"ASIN!B47113","v":0},{"$f":"ASIN!C47113","v":0},{"$f":"ASIN!D47113","v":0},{"$f":"ASIN!E47113","v":0},{"$f":"ASIN!F47113","v":0}]
[{"$f":"ASIN!A47146","v":0},{"$f":"ASIN!B47146","v":0},{"$f":"ASIN!C47146","v":0},{"$f":"ASIN!D47146","v":0},{"$f":"ASIN!E47146","v":0},{"$f":"ASIN!F47146","v":0}]
[{"$f":"ASIN!A47170","v":0},{"$f":"ASIN!B47170","v":0},{"$f":"ASIN!C47170","v":0},{"$f":"ASIN!D47170","v":0},{"$f":"ASIN!E47170","v":0},{"$f":"ASIN!F47170","v":0}]
[{"$f":"ASIN!A47179","v":0},{"$f":"ASIN!B47179","v":0},{"$f":"ASIN!C47179","v":0},{"$f":"ASIN!D47179","v":0},{"$f":"ASIN!E47179","v":0},{"$f":"ASIN!F47179","v":0}]
[{"$f":"ASIN!A47212","v":0},{"$f":"ASIN!B47212","v":0},{"$f":"ASIN!C47212","v":0},{"$f":"ASIN!D47212","v":0},{"$f":"ASIN!E47212","v":0},{"$f":"ASIN!F47212","v":0}]
[{"$f":"ASIN!A47238","v":0},{"$f":"ASIN!B47238","v":0},{"$f":"ASIN!C47238","v":0},{"$f":"ASIN!D47238","v":0},{"$f":"ASIN!E47238","v":0},{"$f":"ASIN!F47238","v":0}]
[{"$f":"ASIN!A47245","v":0},{"$f":"ASIN!B47245","v":0},{"$f":"ASIN!C47245","v":0},{"$f":"ASIN!D47245","v":0},{"$f":"ASIN!E47245","v":0},{"$f":"ASIN!F47245","v":0}]
[{"$f":"ASIN!A47270","v":0},{"$f":"ASIN!B47270","v":0},{"$f":"ASIN!C47270","v":0},{"$f":"ASIN!D47270","v":0},{"$f":"ASIN!E47270","v":0},{"$f":"ASIN!F47270","v":0}]
[{"$f":"ASIN!A47303","v":0},{"$f":"ASIN!B47303","v":0},{"$f":"ASIN!C47303","v":0},{"$f":"ASIN!D47303","v":0},{"$f":"ASIN!E47303","v":0},{"$f":"ASIN!F47303","v":0}]
[{"$f":"ASIN!A47318","v":0},{"$f":"ASIN!B47318","v":0},{"$f":"ASIN!C47318","v":0},{"$f":"ASIN!D47318","v":0},{"$f":"ASIN!E47318","v":0},{"$f":"ASIN!F47318","v":0}]
[{"$f":"ASIN!A47360","v":0},{"$f":"ASIN!B47360","v":0},{"$f":"ASIN!C47360","v":0},{"$f":"ASIN!D47360","v":0},{"$f":"ASIN!E47360","v":0},{"$f":"ASIN!F47360","v":0}]
[{"$f":"ASIN!A47369","v":0},{"$f":"ASIN!B47369","v":0},{"$f":"ASIN!C47369","v":0},{"$f":"ASIN!D47369","v":0},{"$f":"ASIN!E47369","v":0},{"$f":"ASIN!F47369","v":0}]
[{"$f":"ASIN!A47402","v":0},{"$f":"ASIN!B47402","v":0},{"$f":"ASIN!C47402","v":0},{"$f":"ASIN!D47402","v":0},{"$f":"ASIN!E47402","v":0},{"$f":"ASIN!F47402","v":0}]
[{"$f":"ASIN!A47410","v":0},{"$f":"ASIN!B47410","v":0},{"$f":"ASIN!C47410","v":0},{"$f":"ASIN!D47410","v":0},{"$f":"ASIN!E47410","v":0},{"$f":"ASIN!F47410","v":0}]
[{"$f":"ASIN!A47435","v":0},{"$f":"ASIN!B47435","v":0},{"$f":"ASIN!C47435","v":0},{"$f":"ASIN!D47435","v":0},{"$f":"ASIN!E47435","v":0},{"$f":"ASIN!F47435","v":0}]
[{"$f":"ASIN!A47460","v":0},{"$f":"ASIN!B47460","v":0},{"$f":"ASIN!C47460","v":0},{"$f":"ASIN!D47460","v":0},{"$f":"ASIN!E47460","v":0},{"$f":"ASIN!F47460","v":0}]
[{"$f":"ASIN!A47493","v":0},{"$f":"ASIN!B47493","v":0},{"$f":"ASIN!C47493","v":0},{"$f":"ASIN!D47493","v":0},{"$f":"ASIN!E47493","v":0},{"$f":"ASIN!F47493","v":0}]
[{"$f":"ASIN!A47513","v":0},{"$f":"ASIN!B47513","v":0},{"$f":"ASIN!C47513","v":0},{"$f":"ASIN!D47513","v":0},{"$f":"ASIN!E47513","v":0},{"$f":"ASIN!F47513","v":0}]
[{"$f":"ASIN!A47550","v":0},{"$f":"ASIN!B47550","v":0},{"$f":"ASIN!C47550","v":0},{"$f":"ASIN!D47550","v":0},{"$f":"ASIN!E47550","v":0},{"$f":"ASIN!F47550","v":0}]
[{"$f":"ASIN!A47559","v":0},{"$f":"ASIN!B47559","v":0},{"$f":"ASIN!C47559","v":0},{"$f":"ASIN!D47559","v":0},{"$f":"ASIN!E47559","v":0},{"$f":"ASIN!F47559","v":0}]
[{"$f":"ASIN!A47592","v":0},{"$f":"ASIN!B47592","v":0},{"$f":"ASIN!C47592","v":0},{"$f":"ASIN!D47592","v":0},{"$f":"ASIN!E47592","v":0},{"$f":"ASIN!F47592","v":0}]
[{"$f":"ASIN!A47605","v":0},{"$f":"ASIN!B47605","v":0},{"$f":"ASIN!C47605","v":0},{"$f":"ASIN!D47605","v":0},{"$f":"ASIN!E47605","v":0},{"$f":"ASIN!F47605","v":0}]
[{"$f":"ASIN!A47625","v":0},{"$f":"ASIN!B47625","v":0},{"$f":"ASIN!C47625","v":0},{"$f":"ASIN!D47625","v":0},{"$f":"ASIN!E47625","v":0},{"$f":"ASIN!F47625","v":0}]
[{"$f":"ASIN!A47650","v":0},{"$f":"ASIN!B47650","v":0},{"$f":"ASIN!C47650","v":0},{"$f":"ASIN!D47650","v":0},{"$f":"ASIN!E47650","v":0},{"$f":"ASIN!F47650","v":0}]
[{"$f":"ASIN!A47683","v":0},{"$f":"ASIN!B47683","v":0},{"$f":"ASIN!C47683","v":0},{"$f":"ASIN!D47683","v":0},{"$f":"ASIN!E47683","v":0},{"$f":"ASIN!F47683","v":0}]
[{"$f":"ASIN!A47708","v":0},{"$f":"ASIN!B47708","v":0},{"$f":"ASIN!C47708","v":0},{"$f":"ASIN!D47708","v":0},{"$f":"ASIN!E47708","v":0},{"$f":"ASIN!F47708","v":0}]
[{"$f":"ASIN!A47740","v":0},{"$f":"ASIN!B47740","v":0},{"$f":"ASIN!C47740","v":0},{"$f":"ASIN!D47740","v":0},{"$f":"ASIN!E47740","v":0},{"$f":"ASIN!F47740","v":0}]
[{"$f":"ASIN!A47749","v":0},{"$f":"ASIN!B47749","v":0},{"$f":"ASIN!C47749","v":0},{"$f":"ASIN!D47749","v":0},{"$f":"ASIN!E47749","v":0},{"$f":"ASIN!F47749","v":0}]
[{"$f":"ASIN!A47774","v":0},{"$f":"ASIN!B47774","v":0},{"$f":"ASIN!C47774","v":0},{"$f":"ASIN!D47774","v":0},{"$f":"ASIN!E47774","v":0},{"$f":"ASIN!F47774","v":0}]
[{"$f":"ASIN!A47800","v":0},{"$f":"ASIN!B47800","v":0},{"$f":"ASIN!C47800","v":0},{"$f":"ASIN!D47800","v":0},{"$f":"ASIN!E47800","v":0},{"$f":"ASIN!F47800","v":0}]
[{"$f":"ASIN!A47815","v":0},{"$f":"ASIN!B47815","v":0},{"$f":"ASIN!C47815","v":0},{"$f":"ASIN!D47815","v":0},{"$f":"ASIN!E47815","v":0},{"$f":"ASIN!F47815","v":0}]
[{"$f":"ASIN!A47840","v":0},{"$f":"ASIN!B47840","v":0},{"$f":"ASIN!C47840","v":0},{"$f":"ASIN!D47840","v":0},{"$f":"ASIN!E47840","v":0},{"$f":"ASIN!F47840","v":0}]
[{"$f":"ASIN!A47873","v":0},{"$f":"ASIN!B47873","v":0},{"$f":"ASIN!C47873","v":0},{"$f":"ASIN!D47873","v":0},{"$f":"ASIN!E47873","v":0},{"$f":"ASIN!F47873","v":0}]
[{"$f":"ASIN!A47903","v":0},{"$f":"ASIN!B47903","v":0},{"$f":"ASIN!C47903","v":0},{"$f":"ASIN!D47903","v":0},{"$f":"ASIN!E47903","v":0},{"$f":"ASIN!F47903","v":0}]
[{"$f":"ASIN!A47930","v":0},{"$f":"ASIN!B47930","v":0},{"$f":"ASIN!C47930","v":0},{"$f":"ASIN!D47930","v":0},{"$f":"ASIN!E47930","v":0},{"$f":"ASIN!F47930","v":0}]
[{"$f":"ASIN!A47939","v":0},{"$f":"ASIN!B47939","v":0},{"$f":"ASIN!C47939","v":0},{"$f":"ASIN!D47939","v":0},{"$f":"ASIN!E47939","v":0},{"$f":"ASIN!F47939","v":0}]
[{"$f":"ASIN!A47964","v":0},{"$f":"ASIN!B47964","v":0},{"$f":"ASIN!C47964","v":0},{"$f":"ASIN!D47964","v":0},{"$f":"ASIN!E47964","v":0},{"$f":"ASIN!F47964","v":0}]
[{"$f":"ASIN!A47995","v":0},{"$f":"ASIN!B47995","v":0},{"$f":"ASIN!C47995","v":0},{"$f":"ASIN!D47995","v":0},{"$f":"ASIN!E47995","v":0},{"$f":"ASIN!F47995","v":0}]
[{"$f":"ASIN!A48005","v":0},{"$f":"ASIN!B48005","v":0},{"$f":"ASIN!C48005","v":0},{"$f":"ASIN!D48005","v":0},{"$f":"ASIN!E48005","v":0},{"$f":"ASIN!F48005","v":0}]
[{"$f":"ASIN!A48030","v":0},{"$f":"ASIN!B48030","v":0},{"$f":"ASIN!C48030","v":0},{"$f":"ASIN!D48030","v":0},{"$f":"ASIN!E48030","v":0},{"$f":"ASIN!F48030","v":0}]
[{"$f":"ASIN!A48063","v":0},{"$f":"ASIN!B48063","v":0},{"$f":"ASIN!C48063","v":0},{"$f":"ASIN!D48063","v":0},{"$f":"ASIN!E48063","v":0},{"$f":"ASIN!F48063","v":0}]
[{"$f":"ASIN!A48087","v":0},{"$f":"ASIN!B48087","v":0},{"$f":"ASIN!C48087","v":0},{"$f":"ASIN!D48087","v":0},{"$f":"ASIN!E48087","v":0},{"$f":"ASIN!F48087","v":0}]
[{"$f":"ASIN!A48120","v":0},{"$f":"ASIN!B48120","v":0},{"$f":"ASIN!C48120","v":0},{"$f":"ASIN!D48120","v":0},{"$f":"ASIN!E48120","v":0},{"$f":"ASIN!F48120","v":0}]
[{"$f":"ASIN!A48129","v":0},{"$f":"ASIN!B48129","v":0},{"$f":"ASIN!C48129","v":0},{"$f":"ASIN!D48129","v":0},{"$f":"ASIN!E48129","v":0},{"$f":"ASIN!F48129","v":0}]
[{"$f":"ASIN!A48154","v":0},{"$f":"ASIN!B48154","v":0},{"$f":"ASIN!C48154","v":0},{"$f":"ASIN!D48154","v":0},{"$f":"ASIN!E48154","v":0},{"$f":"ASIN!F48154","v":0}]
[{"$f":"ASIN!A48190","v":0},{"$f":"ASIN!B48190","v":0},{"$f":"ASIN!C48190","v":0},{"$f":"ASIN!D48190","v":0},{"$f":"ASIN!E48190","v":0},{"$f":"ASIN!F48190","v":0}]
[{"$f":"ASIN!A48195","v":0},{"$f":"ASIN!B48195","v":0},{"$f":"ASIN!C48195","v":0},{"$f":"ASIN!D48195","v":0},{"$f":"ASIN!E48195","v":0},{"$f":"ASIN!F48195","v":0}]
[{"$f":"ASIN!A48220","v":0},{"$f":"ASIN!B48220","v":0},{"$f":"ASIN!C48220","v":0},{"$f":"ASIN!D48220","v":0},{"$f":"ASIN!E48220","v":0},{"$f":"ASIN!F48220","v":0}]
[{"$f":"ASIN!A48253","v":0},{"$f":"ASIN!B48253","v":0},{"$f":"ASIN!C48253","v":0},{"$f":"ASIN!D48253","v":0},{"$f":"ASIN!E48253","v":0},{"$f":"ASIN!F48253","v":0}]
[{"$f":"ASIN!A48282","v":0},{"$f":"ASIN!B48282","v":0},{"$f":"ASIN!C48282","v":0},{"$f":"ASIN!D48282","v":0},{"$f":"ASIN!E48282","v":0},{"$f":"ASIN!F48282","v":0}]
[{"$f":"ASIN!A48310","v":0},{"$f":"ASIN!B48310","v":0},{"$f":"ASIN!C48310","v":0},{"$f":"ASIN!D48310","v":0},{"$f":"ASIN!E48310","v":0},{"$f":"ASIN!F48310","v":0}]
[{"$f":"ASIN!A48319","v":0},{"$f":"ASIN!B48319","v":0},{"$f":"ASIN!C48319","v":0},{"$f":"ASIN!D48319","v":0},{"$f":"ASIN!E48319","v":0},{"$f":"ASIN!F48319","v":0}]
[{"$f":"ASIN!A48344","v":0},{"$f":"ASIN!B48344","v":0},{"$f":"ASIN!C48344","v":0},{"$f":"ASIN!D48344","v":0},{"$f":"ASIN!E48344","v":0},{"$f":"ASIN!F48344","v":0}]
[{"$f":"ASIN!A48362","v":0},{"$f":"ASIN!B48362","v":0},{"$f":"ASIN!C48362","v":0},{"$f":"ASIN!D48362","v":0},{"$f":"ASIN!E48362","v":0},{"$f":"ASIN!F48362","v":0}]
[{"$f":"ASIN!A48385","v":0},{"$f":"ASIN!B48385","v":0},{"$f":"ASIN!C48385","v":0},{"$f":"ASIN!D48385","v":0},{"$f":"ASIN!E48385","v":0},{"$f":"ASIN!F48385","v":0}]
[{"$f":"ASIN!A48410","v":0},{"$f":"ASIN!B48410","v":0},{"$f":"ASIN!C48410","v":0},{"$f":"ASIN!D48410","v":0},{"$f":"ASIN!E48410","v":0},{"$f":"ASIN!F48410","v":0}]
[{"$f":"ASIN!A48443","v":0},{"$f":"ASIN!B48443","v":0},{"$f":"ASIN!C48443","v":0},{"$f":"ASIN!D48443","v":0},{"$f":"ASIN!E48443","v":0},{"$f":"ASIN!F48443","v":0}]
[{"$f":"ASIN!A48477","v":0},{"$f":"ASIN!B48477","v":0},{"$f":"ASIN!C48477","v":0},{"$f":"ASIN!D48477","v":0},{"$f":"ASIN!E48477","v":0},{"$f":"ASIN!F48477","v":0}]
[{"$f":"ASIN!A48500","v":0},{"$f":"ASIN!B48500","v":0},{"$f":"ASIN!C48500","v":0},{"$f":"ASIN!D48500","v":0},{"$f":"ASIN!E48500","v":0},{"$f":"ASIN!F48500","v":0}]
[{"$f":"ASIN!A48509","v":0},{"$f":"ASIN!B48509","v":0},{"$f":"ASIN!C48509","v":0},{"$f":"ASIN!D48509","v":0},{"$f":"ASIN!E48509","v":0},{"$f":"ASIN!F48509","v":0}]
[{"$f":"ASIN!A48534","v":0},{"$f":"ASIN!B48534","v":0},{"$f":"ASIN!C48534","v":0},{"$f":"ASIN!D48534","v":0},{"$f":"ASIN!E48534","v":0},{"$f":"ASIN!F48534","v":0}]
[{"$f":"ASIN!A48557","v":0},{"$f":"ASIN!B48557","v":0},{"$f":"ASIN!C48557","v":0},{"$f":"ASIN!D48557","v":0},{"$f":"ASIN!E48557","v":0},{"$f":"ASIN!F48557","v":0}]
[{"$f":"ASIN!A48591","v":0},{"$f":"ASIN!B48591","v":0},{"$f":"ASIN!C48591","v":0},{"$f":"ASIN!D48591","v":0},{"$f":"ASIN!E48591","v":0},{"$f":"ASIN!F48591","v":0}]
[{"$f":"ASIN!A48600","v":0},{"$f":"ASIN!B48600","v":0},{"$f":"ASIN!C48600","v":0},{"$f":"ASIN!D48600","v":0},{"$f":"ASIN!E48600","v":0},{"$f":"ASIN!F48600","v":0}]
[{"$f":"ASIN!A48633","v":0},{"$f":"ASIN!B48633","v":0},{"$f":"ASIN!C48633","v":0},{"$f":"ASIN!D48633","v":0},{"$f":"ASIN!E48633","v":0},{"$f":"ASIN!F48633","v":0}]
[{"$f":"ASIN!A48649","v":0},{"$f":"ASIN!B48649","v":0},{"$f":"ASIN!C48649","v":0},{"$f":"ASIN!D48649","v":0},{"$f":"ASIN!E48649","v":0},{"$f":"ASIN!F48649","v":0}]
[{"$f":"ASIN!A48690","v":0},{"$f":"ASIN!B48690","v":0},{"$f":"ASIN!C48690","v":0},{"$f":"ASIN!D48690","v":0},{"$f":"ASIN!E48690","v":0},{"$f":"ASIN!F48690","v":0}]
[{"$f":"ASIN!A48699","v":0},{"$f":"ASIN!B48699","v":0},{"$f":"ASIN!C48699","v":0},{"$f":"ASIN!D48699","v":0},{"$f":"ASIN!E48699","v":0},{"$f":"ASIN!F48699","v":0}]
[{"$f":"ASIN!A48724","v":0},{"$f":"ASIN!B48724","v":0},{"$f":"ASIN!C48724","v":0},{"$f":"ASIN!D48724","v":0},{"$f":"ASIN!E48724","v":0},{"$f":"ASIN!F48724","v":0}]
[{"$f":"ASIN!A48752","v":0},{"$f":"ASIN!B48752","v":0},{"$f":"ASIN!C48752","v":0},{"$f":"ASIN!D48752","v":0},{"$f":"ASIN!E48752","v":0},{"$f":"ASIN!F48752","v":0}]
[{"$f":"ASIN!A48781","v":0},{"$f":"ASIN!B48781","v":0},{"$f":"ASIN!C48781","v":0},{"$f":"ASIN!D48781","v":0},{"$f":"ASIN!E48781","v":0},{"$f":"ASIN!F48781","v":0}]
[{"$f":"ASIN!A48790","v":0},{"$f":"ASIN!B48790","v":0},{"$f":"ASIN!C48790","v":0},{"$f":"ASIN!D48790","v":0},{"$f":"ASIN!E48790","v":0},{"$f":"ASIN!F48790","v":0}]
[{"$f":"ASIN!A48823","v":0},{"$f":"ASIN!B48823","v":0},{"$f":"ASIN!C48823","v":0},{"$f":"ASIN!D48823","v":0},{"$f":"ASIN!E48823","v":0},{"$f":"ASIN!F48823","v":0}]
[{"$f":"ASIN!A48844","v":0},{"$f":"ASIN!B48844","v":0},{"$f":"ASIN!C48844","v":0},{"$f":"ASIN!D48844","v":0},{"$f":"ASIN!E48844","v":0},{"$f":"ASIN!F48844","v":0}]
[{"$f":"ASIN!A48880","v":0},{"$f":"ASIN!B48880","v":0},{"$f":"ASIN!C48880","v":0},{"$f":"ASIN!D48880","v":0},{"$f":"ASIN!E48880","v":0},{"$f":"ASIN!F48880","v":0}]
[{"$f":"ASIN!A48905","v":0},{"$f":"ASIN!B48905","v":0},{"$f":"ASIN!C48905","v":0},{"$f":"ASIN!D48905","v":0},{"$f":"ASIN!E48905","v":0},{"$f":"ASIN!F48905","v":0}]
[{"$f":"ASIN!A48914","v":0},{"$f":"ASIN!B48914","v":0},{"$f":"ASIN!C48914","v":0},{"$f":"ASIN!D48914","v":0},{"$f":"ASIN!E48914","v":0},{"$f":"ASIN!F48914","v":0}]
[{"$f":"ASIN!A48947","v":0},{"$f":"ASIN!B48947","v":0},{"$f":"ASIN!C48947","v":0},{"$f":"ASIN!D48947","v":0},{"$f":"ASIN!E48947","v":0},{"$f":"ASIN!F48947","v":0}]
[{"$f":"ASIN!A48971","v":0},{"$f":"ASIN!B48971","v":0},{"$f":"ASIN!C48971","v":0},{"$f":"ASIN!D48971","v":0},{"$f":"ASIN!E48971","v":0},{"$f":"ASIN!F48971","v":0}]
[{"$f":"ASIN!A48980","v":0},{"$f":"ASIN!B48980","v":0},{"$f":"ASIN!C48980","v":0},{"$f":"ASIN!D48980","v":0},{"$f":"ASIN!E48980","v":0},{"$f":"ASIN!F48980","v":0}]
[{"$f":"ASIN!A49013","v":0},{"$f":"ASIN!B49013","v":0},{"$f":"ASIN!C49013","v":0},{"$f":"ASIN!D49013","v":0},{"$f":"ASIN!E49013","v":0},{"$f":"ASIN!F49013","v":0}]
[{"$f":"ASIN!A49039","v":0},{"$f":"ASIN!B49039","v":0},{"$f":"ASIN!C49039","v":0},{"$f":"ASIN!D49039","v":0},{"$f":"ASIN!E49039","v":0},{"$f":"ASIN!F49039","v":0}]
[{"$f":"ASIN!A49070","v":0},{"$f":"ASIN!B49070","v":0},{"$f":"ASIN!C49070","v":0},{"$f":"ASIN!D49070","v":0},{"$f":"ASIN!E49070","v":0},{"$f":"ASIN!F49070","v":0}]
[{"$f":"ASIN!A49095","v":0},{"$f":"ASIN!B49095","v":0},{"$f":"ASIN!C49095","v":0},{"$f":"ASIN!D49095","v":0},{"$f":"ASIN!E49095","v":0},{"$f":"ASIN!F49095","v":0}]
[{"$f":"ASIN!A49104","v":0},{"$f":"ASIN!B49104","v":0},{"$f":"ASIN!C49104","v":0},{"$f":"ASIN!D49104","v":0},{"$f":"ASIN!E49104","v":0},{"$f":"ASIN!F49104","v":0}]
[{"$f":"ASIN!A49142","v":0},{"$f":"ASIN!B49142","v":0},{"$f":"ASIN!C49142","v":0},{"$f":"ASIN!D49142","v":0},{"$f":"ASIN!E49142","v":0},{"$f":"ASIN!F49142","v":0}]
[{"$f":"ASIN!A49161","v":0},{"$f":"ASIN!B49161","v":0},{"$f":"ASIN!C49161","v":0},{"$f":"ASIN!D49161","v":0},{"$f":"ASIN!E49161","v":0},{"$f":"ASIN!F49161","v":0}]
[{"$f":"ASIN!A49170","v":0},{"$f":"ASIN!B49170","v":0},{"$f":"ASIN!C49170","v":0},{"$f":"ASIN!D49170","v":0},{"$f":"ASIN!E49170","v":0},{"$f":"ASIN!F49170","v":0}]
[{"$f":"ASIN!A49203","v":0},{"$f":"ASIN!B49203","v":0},{"$f":"ASIN!C49203","v":0},{"$f":"ASIN!D49203","v":0},{"$f":"ASIN!E49203","v":0},{"$f":"ASIN!F49203","v":0}]
[{"$f":"ASIN!A49234","v":0},{"$f":"ASIN!B49234","v":0},{"$f":"ASIN!C49234","v":0},{"$f":"ASIN!D49234","v":0},{"$f":"ASIN!E49234","v":0},{"$f":"ASIN!F49234","v":0}]
[{"$f":"ASIN!A49260","v":0},{"$f":"ASIN!B49260","v":0},{"$f":"ASIN!C49260","v":0},{"$f":"ASIN!D49260","v":0},{"$f":"ASIN!E49260","v":0},{"$f":"ASIN!F49260","v":0}]
[{"$f":"ASIN!A49285","v":0},{"$f":"ASIN!B49285","v":0},{"$f":"ASIN!C49285","v":0},{"$f":"ASIN!D49285","v":0},{"$f":"ASIN!E49285","v":0},{"$f":"ASIN!F49285","v":0}]
[{"$f":"ASIN!A49294","v":0},{"$f":"ASIN!B49294","v":0},{"$f":"ASIN!C49294","v":0},{"$f":"ASIN!D49294","v":0},{"$f":"ASIN!E49294","v":0},{"$f":"ASIN!F49294","v":0}]
[{"$f":"ASIN!A49314","v":0},{"$f":"ASIN!B49314","v":0},{"$f":"ASIN!C49314","v":0},{"$f":"ASIN!D49314","v":0},{"$f":"ASIN!E49314","v":0},{"$f":"ASIN!F49314","v":0}]
[{"$f":"ASIN!A49351","v":0},{"$f":"ASIN!B49351","v":0},{"$f":"ASIN!C49351","v":0},{"$f":"ASIN!D49351","v":0},{"$f":"ASIN!E49351","v":0},{"$f":"ASIN!F49351","v":0}]
[{"$f":"ASIN!A49360","v":0},{"$f":"ASIN!B49360","v":0},{"$f":"ASIN!C49360","v":0},{"$f":"ASIN!D49360","v":0},{"$f":"ASIN!E49360","v":0},{"$f":"ASIN!F49360","v":0}]
[{"$f":"ASIN!A49385","v":0},{"$f":"ASIN!B49385","v":0},{"$f":"ASIN!C49385","v":0},{"$f":"ASIN!D49385","v":0},{"$f":"ASIN!E49385","v":0},{"$f":"ASIN!F49385","v":0}]
[{"$f":"ASIN!A49406","v":0},{"$f":"ASIN!B49406","v":0},{"$f":"ASIN!C49406","v":0},{"$f":"ASIN!D49406","v":0},{"$f":"ASIN!E49406","v":0},{"$f":"ASIN!F49406","v":0}]
[{"$f":"ASIN!A49450","v":0},{"$f":"ASIN!B49450","v":0},{"$f":"ASIN!C49450","v":0},{"$f":"ASIN!D49450","v":0},{"$f":"ASIN!E49450","v":0},{"$f":"ASIN!F49450","v":0}]
[{"$f":"ASIN!A49475","v":0},{"$f":"ASIN!B49475","v":0},{"$f":"ASIN!C49475","v":0},{"$f":"ASIN!D49475","v":0},{"$f":"ASIN!E49475","v":0},{"$f":"ASIN!F49475","v":0}]
[{"$f":"ASIN!A49484","v":0},{"$f":"ASIN!B49484","v":0},{"$f":"ASIN!C49484","v":0},{"$f":"ASIN!D49484","v":0},{"$f":"ASIN!E49484","v":0},{"$f":"ASIN!F49484","v":0}]
[{"$f":"ASIN!A49500","v":0},{"$f":"ASIN!B49500","v":0},{"$f":"ASIN!C49500","v":0},{"$f":"ASIN!D49500","v":0},{"$f":"ASIN!E49500","v":0},{"$f":"ASIN!F49500","v":0}]
[{"$f":"ASIN!A49501","v":0},{"$f":"ASIN!B49501","v":0},{"$f":"ASIN!C49501","v":0},{"$f":"ASIN!D49501","v":0},{"$f":"ASIN!E49501","v":0},{"$f":"ASIN!F49501","v":0}]
[{"$f":"ASIN!A49502","v":0},{"$f":"ASIN!B49502","v":0},{"$f":"ASIN!C49502","v":0},{"$f":"ASIN!D49502","v":0},{"$f":"ASIN!E49502","v":0},{"$f":"ASIN!F49502","v":0}]
[{"$f":"ASIN!A49503","v":0},{"$f":"ASIN!B49503","v":0},{"$f":"ASIN!C49503","v":0},{"$f":"ASIN!D49503","v":0},{"$f":"ASIN!E49503","v":0},{"$f":"ASIN!F49503","v":0}]
[{"$f":"ASIN!A49504","v":0},{"$f":"ASIN!B49504","v":0},{"$f":"ASIN!C49504","v":0},{"$f":"ASIN!D49504","v":0},{"$f":"ASIN!E49504","v":0},{"$f":"ASIN!F49504","v":0}]
[{"$f":"ASIN!A49505","v":0},{"$f":"ASIN!B49505","v":0},{"$f":"ASIN!C49505","v":0},{"$f":"ASIN!D49505","v":0},{"$f":"ASIN!E49505","v":0},{"$f":"ASIN!F49505","v":0}]
[{"$f":"ASIN!A49506","v":0},{"$f":"ASIN!B49506","v":0},{"$f":"ASIN!C49506","v":0},{"$f":"ASIN!D49506","v":0},{"$f":"ASIN!E49506","v":0},{"$f":"ASIN!F49506","v":0}]
[{"$f":"ASIN!A49507","v":0},{"$f":"ASIN!B49507","v":0},{"$f":"ASIN!C49507","v":0},{"$f":"ASIN!D49507","v":0},{"$f":"ASIN!E49507","v":0},{"$f":"ASIN!F49507","v":0}]
[{"$f":"ASIN!A49508","v":0},{"$f":"ASIN!B49508","v":0},{"$f":"ASIN!C49508","v":0},{"$f":"ASIN!D49508","v":0},{"$f":"ASIN!E49508","v":0},{"$f":"ASIN!F49508","v":0}]
[{"$f":"ASIN!A49509","v":0},{"$f":"ASIN!B49509","v":0},{"$f":"ASIN!C49509","v":0},{"$f":"ASIN!D49509","v":0},{"$f":"ASIN!E49509","v":0},{"$f":"ASIN!F49509","v":0}]
[{"$f":"ASIN!A49510","v":0},{"$f":"ASIN!B49510","v":0},{"$f":"ASIN!C49510","v":0},{"$f":"ASIN!D49510","v":0},{"$f":"ASIN!E49510","v":0},{"$f":"ASIN!F49510","v":0}]
[{"$f":"ASIN!A49511","v":0},{"$f":"ASIN!B49511","v":0},{"$f":"ASIN!C49511","v":0},{"$f":"ASIN!D49511","v":0},{"$f":"ASIN!E49511","v":0},{"$f":"ASIN!F49511","v":0}]
[{"$f":"ASIN!A49512","v":0},{"$f":"ASIN!B49512","v":0},{"$f":"ASIN!C49512","v":0},{"$f":"ASIN!D49512","v":0},{"$f":"ASIN!E49512","v":0},{"$f":"ASIN!F49512","v":0}]
[{"$f":"ASIN!A49513","v":0},{"$f":"ASIN!B49513","v":0},{"$f":"ASIN!C49513","v":0},{"$f":"ASIN!D49513","v":0},{"$f":"ASIN!E49513","v":0},{"$f":"ASIN!F49513","v":0}]
[{"$f":"ASIN!A49514","v":0},{"$f":"ASIN!B49514","v":0},{"$f":"ASIN!C49514","v":0},{"$f":"ASIN!D49514","v":0},{"$f":"ASIN!E49514","v":0},{"$f":"ASIN!F49514","v":0}]
[{"$f":"ASIN!A49515","v":0},{"$f":"ASIN!B49515","v":0},{"$f":"ASIN!C49515","v":0},{"$f":"ASIN!D49515","v":0},{"$f":"ASIN!E49515","v":0},{"$f":"ASIN!F49515","v":0}]
[{"$f":"ASIN!A49516","v":0},{"$f":"ASIN!B49516","v":0},{"$f":"ASIN!C49516","v":0},{"$f":"ASIN!D49516","v":0},{"$f":"ASIN!E49516","v":0},{"$f":"ASIN!F49516","v":0}]
[{"$f":"ASIN!A49517","v":0},{"$f":"ASIN!B49517","v":0},{"$f":"ASIN!C49517","v":0},{"$f":"ASIN!D49517","v":0},{"$f":"ASIN!E49517","v":0},{"$f":"ASIN!F49517","v":0}]
[{"$f":"ASIN!A49518","v":0},{"$f":"ASIN!B49518","v":0},{"$f":"ASIN!C49518","v":0},{"$f":"ASIN!D49518","v":0},{"$f":"ASIN!E49518","v":0},{"$f":"ASIN!F49518","v":0}]
[{"$f":"ASIN!A49519","v":0},{"$f":"ASIN!B49519","v":0},{"$f":"ASIN!C49519","v":0},{"$f":"ASIN!D49519","v":0},{"$f":"ASIN!E49519","v":0},{"$f":"ASIN!F49519","v":0}]
[{"$f":"ASIN!A49520","v":0},{"$f":"ASIN!B49520","v":0},{"$f":"ASIN!C49520","v":0},{"$f":"ASIN!D49520","v":0},{"$f":"ASIN!E49520","v":0},{"$f":"ASIN!F49520","v":0}]
[{"$f":"ASIN!A49521","v":0},{"$f":"ASIN!B49521","v":0},{"$f":"ASIN!C49521","v":0},{"$f":"ASIN!D49521","v":0},{"$f":"ASIN!E49521","v":0},{"$f":"ASIN!F49521","v":0}]
[{"$f":"ASIN!A49522","v":0},{"$f":"ASIN!B49522","v":0},{"$f":"ASIN!C49522","v":0},{"$f":"ASIN!D49522","v":0},{"$f":"ASIN!E49522","v":0},{"$f":"ASIN!F49522","v":0}]
[{"$f":"ASIN!A49523","v":0},{"$f":"ASIN!B49523","v":0},{"$f":"ASIN!C49523","v":0},{"$f":"ASIN!D49523","v":0},{"$f":"ASIN!E49523","v":0},{"$f":"ASIN!F49523","v":0}]
[{"$f":"ASIN!A49524","v":0},{"$f":"ASIN!B49524","v":0},{"$f":"ASIN!C49524","v":0},{"$f":"ASIN!D49524","v":0},{"$f":"ASIN!E49524","v":0},{"$f":"ASIN!F49524","v":0}]
[{"$f":"ASIN!A49525","v":0},{"$f":"ASIN!B49525","v":0},{"$f":"ASIN!C49525","v":0},{"$f":"ASIN!D49525","v":0},{"$f":"ASIN!E49525","v":0},{"$f":"ASIN!F49525","v":0}]
[{"$f":"ASIN!A49526","v":0},{"$f":"ASIN!B49526","v":0},{"$f":"ASIN!C49526","v":0},{"$f":"ASIN!D49526","v":0},{"$f":"ASIN!E49526","v":0},{"$f":"ASIN!F49526","v":0}]
[{"$f":"ASIN!A49527","v":0},{"$f":"ASIN!B49527","v":0},{"$f":"ASIN!C49527","v":0},{"$f":"ASIN!D49527","v":0},{"$f":"ASIN!E49527","v":0},{"$f":"ASIN!F49527","v":0}]
[{"$f":"ASIN!A49528","v":0},{"$f":"ASIN!B49528","v":0},{"$f":"ASIN!C49528","v":0},{"$f":"ASIN!D49528","v":0},{"$f":"ASIN!E49528","v":0},{"$f":"ASIN!F49528","v":0}]
[{"$f":"ASIN!A49529","v":0},{"$f":"ASIN!B49529","v":0},{"$f":"ASIN!C49529","v":0},{"$f":"ASIN!D49529","v":0},{"$f":"ASIN!E49529","v":0},{"$f":"ASIN!F49529","v":0}]
[{"$f":"ASIN!A49530","v":0},{"$f":"ASIN!B49530","v":0},{"$f":"ASIN!C49530","v":0},{"$f":"ASIN!D49530","v":0},{"$f":"ASIN!E49530","v":0},{"$f":"ASIN!F49530","v":0}]
[{"$f":"ASIN!A49531","v":0},{"$f":"ASIN!B49531","v":0},{"$f":"ASIN!C49531","v":0},{"$f":"ASIN!D49531","v":0},{"$f":"ASIN!E49531","v":0},{"$f":"ASIN!F49531","v":0}]
[{"$f":"ASIN!A49532","v":0},{"$f":"ASIN!B49532","v":0},{"$f":"ASIN!C49532","v":0},{"$f":"ASIN!D49532","v":0},{"$f":"ASIN!E49532","v":0},{"$f":"ASIN!F49532","v":0}]
[{"$f":"ASIN!A49533","v":0},{"$f":"ASIN!B49533","v":0},{"$f":"ASIN!C49533","v":0},{"$f":"ASIN!D49533","v":0},{"$f":"ASIN!E49533","v":0},{"$f":"ASIN!F49533","v":0}]
[{"$f":"ASIN!A49534","v":0},{"$f":"ASIN!B49534","v":0},{"$f":"ASIN!C49534","v":0},{"$f":"ASIN!D49534","v":0},{"$f":"ASIN!E49534","v":0},{"$f":"ASIN!F49534","v":0}]
[{"$f":"ASIN!A49535","v":0},{"$f":"ASIN!B49535","v":0},{"$f":"ASIN!C49535","v":0},{"$f":"ASIN!D49535","v":0},{"$f":"ASIN!E49535","v":0},{"$f":"ASIN!F49535","v":0}]
[{"$f":"ASIN!A49536","v":0},{"$f":"ASIN!B49536","v":0},{"$f":"ASIN!C49536","v":0},{"$f":"ASIN!D49536","v":0},{"$f":"ASIN!E49536","v":0},{"$f":"ASIN!F49536","v":0}]
[{"$f":"ASIN!A49537","v":0},{"$f":"ASIN!B49537","v":0},{"$f":"ASIN!C49537","v":0},{"$f":"ASIN!D49537","v":0},{"$f":"ASIN!E49537","v":0},{"$f":"ASIN!F49537","v":0}]
[{"$f":"ASIN!A49538","v":0},{"$f":"ASIN!B49538","v":0},{"$f":"ASIN!C49538","v":0},{"$f":"ASIN!D49538","v":0},{"$f":"ASIN!E49538","v":0},{"$f":"ASIN!F49538","v":0}]
[{"$f":"ASIN!A49539","v":0},{"$f":"ASIN!B49539","v":0},{"$f":"ASIN!C49539","v":0},{"$f":"ASIN!D49539","v":0},{"$f":"ASIN!E49539","v":0},{"$f":"ASIN!F49539","v":0}]
[{"$f":"ASIN!A49540","v":0},{"$f":"ASIN!B49540","v":0},{"$f":"ASIN!C49540","v":0},{"$f":"ASIN!D49540","v":0},{"$f":"ASIN!E49540","v":0},{"$f":"ASIN!F49540","v":0}]
[{"$f":"ASIN!A49541","v":0},{"$f":"ASIN!B49541","v":0},{"$f":"ASIN!C49541","v":0},{"$f":"ASIN!D49541","v":0},{"$f":"ASIN!E49541","v":0},{"$f":"ASIN!F49541","v":0}]
[{"$f":"ASIN!A49542","v":0},{"$f":"ASIN!B49542","v":0},{"$f":"ASIN!C49542","v":0},{"$f":"ASIN!D49542","v":0},{"$f":"ASIN!E49542","v":0},{"$f":"ASIN!F49542","v":0}]
[{"$f":"ASIN!A49543","v":0},{"$f":"ASIN!B49543","v":0},{"$f":"ASIN!C49543","v":0},{"$f":"ASIN!D49543","v":0},{"$f":"ASIN!E49543","v":0},{"$f":"ASIN!F49543","v":0}]
[{"$f":"ASIN!A49544","v":0},{"$f":"ASIN!B49544","v":0},{"$f":"ASIN!C49544","v":0},{"$f":"ASIN!D49544","v":0},{"$f":"ASIN!E49544","v":0},{"$f":"ASIN!F49544","v":0}]
[{"$f":"ASIN!A49545","v":0},{"$f":"ASIN!B49545","v":0},{"$f":"ASIN!C49545","v":0},{"$f":"ASIN!D49545","v":0},{"$f":"ASIN!E49545","v":0},{"$f":"ASIN!F49545","v":0}]
[{"$f":"ASIN!A49546","v":0},{"$f":"ASIN!B49546","v":0},{"$f":"ASIN!C49546","v":0},{"$f":"ASIN!D49546","v":0},{"$f":"ASIN!E49546","v":0},{"$f":"ASIN!F49546","v":0}]
[{"$f":"ASIN!A49547","v":0},{"$f":"ASIN!B49547","v":0},{"$f":"ASIN!C49547","v":0},{"$f":"ASIN!D49547","v":0},{"$f":"ASIN!E49547","v":0},{"$f":"ASIN!F49547","v":0}]
[{"$f":"ASIN!A49548","v":0},{"$f":"ASIN!B49548","v":0},{"$f":"ASIN!C49548","v":0},{"$f":"ASIN!D49548","v":0},{"$f":"ASIN!E49548","v":0},{"$f":"ASIN!F49548","v":0}]
[{"$f":"ASIN!A49549","v":0},{"$f":"ASIN!B49549","v":0},{"$f":"ASIN!C49549","v":0},{"$f":"ASIN!D49549","v":0},{"$f":"ASIN!E49549","v":0},{"$f":"ASIN!F49549","v":0}]
[{"$f":"ASIN!A49550","v":0},{"$f":"ASIN!B49550","v":0},{"$f":"ASIN!C49550","v":0},{"$f":"ASIN!D49550","v":0},{"$f":"ASIN!E49550","v":0},{"$f":"ASIN!F49550","v":0}]
[{"$f":"ASIN!A49551","v":0},{"$f":"ASIN!B49551","v":0},{"$f":"ASIN!C49551","v":0},{"$f":"ASIN!D49551","v":0},{"$f":"ASIN!E49551","v":0},{"$f":"ASIN!F49551","v":0}]
[{"$f":"ASIN!A49552","v":0},{"$f":"ASIN!B49552","v":0},{"$f":"ASIN!C49552","v":0},{"$f":"ASIN!D49552","v":0},{"$f":"ASIN!E49552","v":0},{"$f":"ASIN!F49552","v":0}]
[{"$f":"ASIN!A49553","v":0},{"$f":"ASIN!B49553","v":0},{"$f":"ASIN!C49553","v":0},{"$f":"ASIN!D49553","v":0},{"$f":"ASIN!E49553","v":0},{"$f":"ASIN!F49553","v":0}]
[{"$f":"ASIN!A49554","v":0},{"$f":"ASIN!B49554","v":0},{"$f":"ASIN!C49554","v":0},{"$f":"ASIN!D49554","v":0},{"$f":"ASIN!E49554","v":0},{"$f":"ASIN!F49554","v":0}]
[{"$f":"ASIN!A49555","v":0},{"$f":"ASIN!B49555","v":0},{"$f":"ASIN!C49555","v":0},{"$f":"ASIN!D49555","v":0},{"$f":"ASIN!E49555","v":0},{"$f":"ASIN!F49555","v":0}]
[{"$f":"ASIN!A49556","v":0},{"$f":"ASIN!B49556","v":0},{"$f":"ASIN!C49556","v":0},{"$f":"ASIN!D49556","v":0},{"$f":"ASIN!E49556","v":0},{"$f":"ASIN!F49556","v":0}]
[{"$f":"ASIN!A49557","v":0},{"$f":"ASIN!B49557","v":0},{"$f":"ASIN!C49557","v":0},{"$f":"ASIN!D49557","v":0},{"$f":"ASIN!E49557","v":0},{"$f":"ASIN!F49557","v":0}]
[{"$f":"ASIN!A49558","v":0},{"$f":"ASIN!B49558","v":0},{"$f":"ASIN!C49558","v":0},{"$f":"ASIN!D49558","v":0},{"$f":"ASIN!E49558","v":0},{"$f":"ASIN!F49558","v":0}]
[{"$f":"ASIN!A49559","v":0},{"$f":"ASIN!B49559","v":0},{"$f":"ASIN!C49559","v":0},{"$f":"ASIN!D49559","v":0},{"$f":"ASIN!E49559","v":0},{"$f":"ASIN!F49559","v":0}]
[{"$f":"ASIN!A49560","v":0},{"$f":"ASIN!B49560","v":0},{"$f":"ASIN!C49560","v":0},{"$f":"ASIN!D49560","v":0},{"$f":"ASIN!E49560","v":0},{"$f":"ASIN!F49560","v":0}]
[{"$f":"ASIN!A49561","v":0},{"$f":"ASIN!B49561","v":0},{"$f":"ASIN!C49561","v":0},{"$f":"ASIN!D49561","v":0},{"$f":"ASIN!E49561","v":0},{"$f":"ASIN!F49561","v":0}]
[{"$f":"ASIN!A49562","v":0},{"$f":"ASIN!B49562","v":0},{"$f":"ASIN!C49562","v":0},{"$f":"ASIN!D49562","v":0},{"$f":"ASIN!E49562","v":0},{"$f":"ASIN!F49562","v":0}]
[{"$f":"ASIN!A49563","v":0},{"$f":"ASIN!B49563","v":0},{"$f":"ASIN!C49563","v":0},{"$f":"ASIN!D49563","v":0},{"$f":"ASIN!E49563","v":0},{"$f":"ASIN!F49563","v":0}]
[{"$f":"ASIN!A49564","v":0},{"$f":"ASIN!B49564","v":0},{"$f":"ASIN!C49564","v":0},{"$f":"ASIN!D49564","v":0},{"$f":"ASIN!E49564","v":0},{"$f":"ASIN!F49564","v":0}]
[{"$f":"ASIN!A49565","v":0},{"$f":"ASIN!B49565","v":0},{"$f":"ASIN!C49565","v":0},{"$f":"ASIN!D49565","v":0},{"$f":"ASIN!E49565","v":0},{"$f":"ASIN!F49565","v":0}]
[{"$f":"ASIN!A49566","v":0},{"$f":"ASIN!B49566","v":0},{"$f":"ASIN!C49566","v":0},{"$f":"ASIN!D49566","v":0},{"$f":"ASIN!E49566","v":0},{"$f":"ASIN!F49566","v":0}]
[{"$f":"ASIN!A49567","v":0},{"$f":"ASIN!B49567","v":0},{"$f":"ASIN!C49567","v":0},{"$f":"ASIN!D49567","v":0},{"$f":"ASIN!E49567","v":0},{"$f":"ASIN!F49567","v":0}]
[{"$f":"ASIN!A49568","v":0},{"$f":"ASIN!B49568","v":0},{"$f":"ASIN!C49568","v":0},{"$f":"ASIN!D49568","v":0},{"$f":"ASIN!E49568","v":0},{"$f":"ASIN!F49568","v":0}]
[{"$f":"ASIN!A49569","v":0},{"$f":"ASIN!B49569","v":0},{"$f":"ASIN!C49569","v":0},{"$f":"ASIN!D49569","v":0},{"$f":"ASIN!E49569","v":0},{"$f":"ASIN!F49569","v":0}]
[{"$f":"ASIN!A49570","v":0},{"$f":"ASIN!B49570","v":0},{"$f":"ASIN!C49570","v":0},{"$f":"ASIN!D49570","v":0},{"$f":"ASIN!E49570","v":0},{"$f":"ASIN!F49570","v":0}]
[{"$f":"ASIN!A49571","v":0},{"$f":"ASIN!B49571","v":0},{"$f":"ASIN!C49571","v":0},{"$f":"ASIN!D49571","v":0},{"$f":"ASIN!E49571","v":0},{"$f":"ASIN!F49571","v":0}]
[{"$f":"ASIN!A49572","v":0},{"$f":"ASIN!B49572","v":0},{"$f":"ASIN!C49572","v":0},{"$f":"ASIN!D49572","v":0},{"$f":"ASIN!E49572","v":0},{"$f":"ASIN!F49572","v":0}]
[{"$f":"ASIN!A49573","v":0},{"$f":"ASIN!B49573","v":0},{"$f":"ASIN!C49573","v":0},{"$f":"ASIN!D49573","v":0},{"$f":"ASIN!E49573","v":0},{"$f":"ASIN!F49573","v":0}]
[{"$f":"ASIN!A49574","v":0},{"$f":"ASIN!B49574","v":0},{"$f":"ASIN!C49574","v":0},{"$f":"ASIN!D49574","v":0},{"$f":"ASIN!E49574","v":0},{"$f":"ASIN!F49574","v":0}]
[{"$f":"ASIN!A49575","v":0},{"$f":"ASIN!B49575","v":0},{"$f":"ASIN!C49575","v":0},{"$f":"ASIN!D49575","v":0},{"$f":"ASIN!E49575","v":0},{"$f":"ASIN!F49575","v":0}]
[{"$f":"ASIN!A49576","v":0},{"$f":"ASIN!B49576","v":0},{"$f":"ASIN!C49576","v":0},{"$f":"ASIN!D49576","v":0},{"$f":"ASIN!E49576","v":0},{"$f":"ASIN!F49576","v":0}]
[{"$f":"ASIN!A49577","v":0},{"$f":"ASIN!B49577","v":0},{"$f":"ASIN!C49577","v":0},{"$f":"ASIN!D49577","v":0},{"$f":"ASIN!E49577","v":0},{"$f":"ASIN!F49577","v":0}]
[{"$f":"ASIN!A49578","v":0},{"$f":"ASIN!B49578","v":0},{"$f":"ASIN!C49578","v":0},{"$f":"ASIN!D49578","v":0},{"$f":"ASIN!E49578","v":0},{"$f":"ASIN!F49578","v":0}]
[{"$f":"ASIN!A49579","v":0},{"$f":"ASIN!B49579","v":0},{"$f":"ASIN!C49579","v":0},{"$f":"ASIN!D49579","v":0},{"$f":"ASIN!E49579","v":0},{"$f":"ASIN!F49579","v":0}]
[{"$f":"ASIN!A49580","v":0},{"$f":"ASIN!B49580","v":0},{"$f":"ASIN!C49580","v":0},{"$f":"ASIN!D49580","v":0},{"$f":"ASIN!E49580","v":0},{"$f":"ASIN!F49580","v":0}]
[{"$f":"ASIN!A49581","v":0},{"$f":"ASIN!B49581","v":0},{"$f":"ASIN!C49581","v":0},{"$f":"ASIN!D49581","v":0},{"$f":"ASIN!E49581","v":0},{"$f":"ASIN!F49581","v":0}]
[{"$f":"ASIN!A49582","v":0},{"$f":"ASIN!B49582","v":0},{"$f":"ASIN!C49582","v":0},{"$f":"ASIN!D49582","v":0},{"$f":"ASIN!E49582","v":0},{"$f":"ASIN!F49582","v":0}]
[{"$f":"ASIN!A49583","v":0},{"$f":"ASIN!B49583","v":0},{"$f":"ASIN!C49583","v":0},{"$f":"ASIN!D49583","v":0},{"$f":"ASIN!E49583","v":0},{"$f":"ASIN!F49583","v":0}]
[{"$f":"ASIN!A49584","v":0},{"$f":"ASIN!B49584","v":0},{"$f":"ASIN!C49584","v":0},{"$f":"ASIN!D49584","v":0},{"$f":"ASIN!E49584","v":0},{"$f":"ASIN!F49584","v":0}]
[{"$f":"ASIN!A49585","v":0},{"$f":"ASIN!B49585","v":0},{"$f":"ASIN!C49585","v":0},{"$f":"ASIN!D49585","v":0},{"$f":"ASIN!E49585","v":0},{"$f":"ASIN!F49585","v":0}]
[{"$f":"ASIN!A49586","v":0},{"$f":"ASIN!B49586","v":0},{"$f":"ASIN!C49586","v":0},{"$f":"ASIN!D49586","v":0},{"$f":"ASIN!E49586","v":0},{"$f":"ASIN!F49586","v":0}]
[{"$f":"ASIN!A49587","v":0},{"$f":"ASIN!B49587","v":0},{"$f":"ASIN!C49587","v":0},{"$f":"ASIN!D49587","v":0},{"$f":"ASIN!E49587","v":0},{"$f":"ASIN!F49587","v":0}]
[{"$f":"ASIN!A49588","v":0},{"$f":"ASIN!B49588","v":0},{"$f":"ASIN!C49588","v":0},{"$f":"ASIN!D49588","v":0},{"$f":"ASIN!E49588","v":0},{"$f":"ASIN!F49588","v":0}]
[{"$f":"ASIN!A49589","v":0},{"$f":"ASIN!B49589","v":0},{"$f":"ASIN!C49589","v":0},{"$f":"ASIN!D49589","v":0},{"$f":"ASIN!E49589","v":0},{"$f":"ASIN!F49589","v":0}]
[{"$f":"ASIN!A49590","v":0},{"$f":"ASIN!B49590","v":0},{"$f":"ASIN!C49590","v":0},{"$f":"ASIN!D49590","v":0},{"$f":"ASIN!E49590","v":0},{"$f":"ASIN!F49590","v":0}]
[{"$f":"ASIN!A49591","v":0},{"$f":"ASIN!B49591","v":0},{"$f":"ASIN!C49591","v":0},{"$f":"ASIN!D49591","v":0},{"$f":"ASIN!E49591","v":0},{"$f":"ASIN!F49591","v":0}]
[{"$f":"ASIN!A49592","v":0},{"$f":"ASIN!B49592","v":0},{"$f":"ASIN!C49592","v":0},{"$f":"ASIN!D49592","v":0},{"$f":"ASIN!E49592","v":0},{"$f":"ASIN!F49592","v":0}]
[{"$f":"ASIN!A49593","v":0},{"$f":"ASIN!B49593","v":0},{"$f":"ASIN!C49593","v":0},{"$f":"ASIN!D49593","v":0},{"$f":"ASIN!E49593","v":0},{"$f":"ASIN!F49593","v":0}]
[{"$f":"ASIN!A49594","v":0},{"$f":"ASIN!B49594","v":0},{"$f":"ASIN!C49594","v":0},{"$f":"ASIN!D49594","v":0},{"$f":"ASIN!E49594","v":0},{"$f":"ASIN!F49594","v":0}]
[{"$f":"ASIN!A49595","v":0},{"$f":"ASIN!B49595","v":0},{"$f":"ASIN!C49595","v":0},{"$f":"ASIN!D49595","v":0},{"$f":"ASIN!E49595","v":0},{"$f":"ASIN!F49595","v":0}]
[{"$f":"ASIN!A49596","v":0},{"$f":"ASIN!B49596","v":0},{"$f":"ASIN!C49596","v":0},{"$f":"ASIN!D49596","v":0},{"$f":"ASIN!E49596","v":0},{"$f":"ASIN!F49596","v":0}]
[{"$f":"ASIN!A49597","v":0},{"$f":"ASIN!B49597","v":0},{"$f":"ASIN!C49597","v":0},{"$f":"ASIN!D49597","v":0},{"$f":"ASIN!E49597","v":0},{"$f":"ASIN!F49597","v":0}]
[{"$f":"ASIN!A49598","v":0},{"$f":"ASIN!B49598","v":0},{"$f":"ASIN!C49598","v":0},{"$f":"ASIN!D49598","v":0},{"$f":"ASIN!E49598","v":0},{"$f":"ASIN!F49598","v":0}]
[{"$f":"ASIN!A49599","v":0},{"$f":"ASIN!B49599","v":0},{"$f":"ASIN!C49599","v":0},{"$f":"ASIN!D49599","v":0},{"$f":"ASIN!E49599","v":0},{"$f":"ASIN!F49599","v":0}]
[{"$f":"ASIN!A49600","v":0},{"$f":"ASIN!B49600","v":0},{"$f":"ASIN!C49600","v":0},{"$f":"ASIN!D49600","v":0},{"$f":"ASIN!E49600","v":0},{"$f":"ASIN!F49600","v":0}]
[{"$f":"ASIN!A49601","v":0},{"$f":"ASIN!B49601","v":0},{"$f":"ASIN!C49601","v":0},{"$f":"ASIN!D49601","v":0},{"$f":"ASIN!E49601","v":0},{"$f":"ASIN!F49601","v":0}]
[{"$f":"ASIN!A49602","v":0},{"$f":"ASIN!B49602","v":0},{"$f":"ASIN!C49602","v":0},{"$f":"ASIN!D49602","v":0},{"$f":"ASIN!E49602","v":0},{"$f":"ASIN!F49602","v":0}]
[{"$f":"ASIN!A49603","v":0},{"$f":"ASIN!B49603","v":0},{"$f":"ASIN!C49603","v":0},{"$f":"ASIN!D49603","v":0},{"$f":"ASIN!E49603","v":0},{"$f":"ASIN!F49603","v":0}]
[{"$f":"ASIN!A49604","v":0},{"$f":"ASIN!B49604","v":0},{"$f":"ASIN!C49604","v":0},{"$f":"ASIN!D49604","v":0},{"$f":"ASIN!E49604","v":0},{"$f":"ASIN!F49604","v":0}]
[{"$f":"ASIN!A49605","v":0},{"$f":"ASIN!B49605","v":0},{"$f":"ASIN!C49605","v":0},{"$f":"ASIN!D49605","v":0},{"$f":"ASIN!E49605","v":0},{"$f":"ASIN!F49605","v":0}]
[{"$f":"ASIN!A49606","v":0},{"$f":"ASIN!B49606","v":0},{"$f":"ASIN!C49606","v":0},{"$f":"ASIN!D49606","v":0},{"$f":"ASIN!E49606","v":0},{"$f":"ASIN!F49606","v":0}]
[{"$f":"ASIN!A49607","v":0},{"$f":"ASIN!B49607","v":0},{"$f":"ASIN!C49607","v":0},{"$f":"ASIN!D49607","v":0},{"$f":"ASIN!E49607","v":0},{"$f":"ASIN!F49607","v":0}]
[{"$f":"ASIN!A49608","v":0},{"$f":"ASIN!B49608","v":0},{"$f":"ASIN!C49608","v":0},{"$f":"ASIN!D49608","v":0},{"$f":"ASIN!E49608","v":0},{"$f":"ASIN!F49608","v":0}]
[{"$f":"ASIN!A49609","v":0},{"$f":"ASIN!B49609","v":0},{"$f":"ASIN!C49609","v":0},{"$f":"ASIN!D49609","v":0},{"$f":"ASIN!E49609","v":0},{"$f":"ASIN!F49609","v":0}]
[{"$f":"ASIN!A49610","v":0},{"$f":"ASIN!B49610","v":0},{"$f":"ASIN!C49610","v":0},{"$f":"ASIN!D49610","v":0},{"$f":"ASIN!E49610","v":0},{"$f":"ASIN!F49610","v":0}]
[{"$f":"ASIN!A49611","v":0},{"$f":"ASIN!B49611","v":0},{"$f":"ASIN!C49611","v":0},{"$f":"ASIN!D49611","v":0},{"$f":"ASIN!E49611","v":0},{"$f":"ASIN!F49611","v":0}]
[{"$f":"ASIN!A49612","v":0},{"$f":"ASIN!B49612","v":0},{"$f":"ASIN!C49612","v":0},{"$f":"ASIN!D49612","v":0},{"$f":"ASIN!E49612","v":0},{"$f":"ASIN!F49612","v":0}]
[{"$f":"ASIN!A49613","v":0},{"$f":"ASIN!B49613","v":0},{"$f":"ASIN!C49613","v":0},{"$f":"ASIN!D49613","v":0},{"$f":"ASIN!E49613","v":0},{"$f":"ASIN!F49613","v":0}]
[{"$f":"ASIN!A49614","v":0},{"$f":"ASIN!B49614","v":0},{"$f":"ASIN!C49614","v":0},{"$f":"ASIN!D49614","v":0},{"$f":"ASIN!E49614","v":0},{"$f":"ASIN!F49614","v":0}]
[{"$f":"ASIN!A49615","v":0},{"$f":"ASIN!B49615","v":0},{"$f":"ASIN!C49615","v":0},{"$f":"ASIN!D49615","v":0},{"$f":"ASIN!E49615","v":0},{"$f":"ASIN!F49615","v":0}]
[{"$f":"ASIN!A49616","v":0},{"$f":"ASIN!B49616","v":0},{"$f":"ASIN!C49616","v":0},{"$f":"ASIN!D49616","v":0},{"$f":"ASIN!E49616","v":0},{"$f":"ASIN!F49616","v":0}]
[{"$f":"ASIN!A49617","v":0},{"$f":"ASIN!B49617","v":0},{"$f":"ASIN!C49617","v":0},{"$f":"ASIN!D49617","v":0},{"$f":"ASIN!E49617","v":0},{"$f":"ASIN!F49617","v":0}]
[{"$f":"ASIN!A49618","v":0},{"$f":"ASIN!B49618","v":0},{"$f":"ASIN!C49618","v":0},{"$f":"ASIN!D49618","v":0},{"$f":"ASIN!E49618","v":0},{"$f":"ASIN!F49618","v":0}]
[{"$f":"ASIN!A49619","v":0},{"$f":"ASIN!B49619","v":0},{"$f":"ASIN!C49619","v":0},{"$f":"ASIN!D49619","v":0},{"$f":"ASIN!E49619","v":0},{"$f":"ASIN!F49619","v":0}]
[{"$f":"ASIN!A49620","v":0},{"$f":"ASIN!B49620","v":0},{"$f":"ASIN!C49620","v":0},{"$f":"ASIN!D49620","v":0},{"$f":"ASIN!E49620","v":0},{"$f":"ASIN!F49620","v":0}]
[{"$f":"ASIN!A49621","v":0},{"$f":"ASIN!B49621","v":0},{"$f":"ASIN!C49621","v":0},{"$f":"ASIN!D49621","v":0},{"$f":"ASIN!E49621","v":0},{"$f":"ASIN!F49621","v":0}]
[{"$f":"ASIN!A49622","v":0},{"$f":"ASIN!B49622","v":0},{"$f":"ASIN!C49622","v":0},{"$f":"ASIN!D49622","v":0},{"$f":"ASIN!E49622","v":0},{"$f":"ASIN!F49622","v":0}]
[{"$f":"ASIN!A49623","v":0},{"$f":"ASIN!B49623","v":0},{"$f":"ASIN!C49623","v":0},{"$f":"ASIN!D49623","v":0},{"$f":"ASIN!E49623","v":0},{"$f":"ASIN!F49623","v":0}]
[{"$f":"ASIN!A49624","v":0},{"$f":"ASIN!B49624","v":0},{"$f":"ASIN!C49624","v":0},{"$f":"ASIN!D49624","v":0},{"$f":"ASIN!E49624","v":0},{"$f":"ASIN!F49624","v":0}]
[{"$f":"ASIN!A49625","v":0},{"$f":"ASIN!B49625","v":0},{"$f":"ASIN!C49625","v":0},{"$f":"ASIN!D49625","v":0},{"$f":"ASIN!E49625","v":0},{"$f":"ASIN!F49625","v":0}]
[{"$f":"ASIN!A49626","v":0},{"$f":"ASIN!B49626","v":0},{"$f":"ASIN!C49626","v":0},{"$f":"ASIN!D49626","v":0},{"$f":"ASIN!E49626","v":0},{"$f":"ASIN!F49626","v":0}]
[{"$f":"ASIN!A49627","v":0},{"$f":"ASIN!B49627","v":0},{"$f":"ASIN!C49627","v":0},{"$f":"ASIN!D49627","v":0},{"$f":"ASIN!E49627","v":0},{"$f":"ASIN!F49627","v":0}]
[{"$f":"ASIN!A49628","v":0},{"$f":"ASIN!B49628","v":0},{"$f":"ASIN!C49628","v":0},{"$f":"ASIN!D49628","v":0},{"$f":"ASIN!E49628","v":0},{"$f":"ASIN!F49628","v":0}]
[{"$f":"ASIN!A49629","v":0},{"$f":"ASIN!B49629","v":0},{"$f":"ASIN!C49629","v":0},{"$f":"ASIN!D49629","v":0},{"$f":"ASIN!E49629","v":0},{"$f":"ASIN!F49629","v":0}]
[{"$f":"ASIN!A49630","v":0},{"$f":"ASIN!B49630","v":0},{"$f":"ASIN!C49630","v":0},{"$f":"ASIN!D49630","v":0},{"$f":"ASIN!E49630","v":0},{"$f":"ASIN!F49630","v":0}]
[{"$f":"ASIN!A49631","v":0},{"$f":"ASIN!B49631","v":0},{"$f":"ASIN!C49631","v":0},{"$f":"ASIN!D49631","v":0},{"$f":"ASIN!E49631","v":0},{"$f":"ASIN!F49631","v":0}]
[{"$f":"ASIN!A49632","v":0},{"$f":"ASIN!B49632","v":0},{"$f":"ASIN!C49632","v":0},{"$f":"ASIN!D49632","v":0},{"$f":"ASIN!E49632","v":0},{"$f":"ASIN!F49632","v":0}]
[{"$f":"ASIN!A49633","v":0},{"$f":"ASIN!B49633","v":0},{"$f":"ASIN!C49633","v":0},{"$f":"ASIN!D49633","v":0},{"$f":"ASIN!E49633","v":0},{"$f":"ASIN!F49633","v":0}]
[{"$f":"ASIN!A49634","v":0},{"$f":"ASIN!B49634","v":0},{"$f":"ASIN!C49634","v":0},{"$f":"ASIN!D49634","v":0},{"$f":"ASIN!E49634","v":0},{"$f":"ASIN!F49634","v":0}]
[{"$f":"ASIN!A49635","v":0},{"$f":"ASIN!B49635","v":0},{"$f":"ASIN!C49635","v":0},{"$f":"ASIN!D49635","v":0},{"$f":"ASIN!E49635","v":0},{"$f":"ASIN!F49635","v":0}]
[{"$f":"ASIN!A49636","v":0},{"$f":"ASIN!B49636","v":0},{"$f":"ASIN!C49636","v":0},{"$f":"ASIN!D49636","v":0},{"$f":"ASIN!E49636","v":0},{"$f":"ASIN!F49636","v":0}]
[{"$f":"ASIN!A49637","v":0},{"$f":"ASIN!B49637","v":0},{"$f":"ASIN!C49637","v":0},{"$f":"ASIN!D49637","v":0},{"$f":"ASIN!E49637","v":0},{"$f":"ASIN!F49637","v":0}]
[{"$f":"ASIN!A49638","v":0},{"$f":"ASIN!B49638","v":0},{"$f":"ASIN!C49638","v":0},{"$f":"ASIN!D49638","v":0},{"$f":"ASIN!E49638","v":0},{"$f":"ASIN!F49638","v":0}]
[{"$f":"ASIN!A49639","v":0},{"$f":"ASIN!B49639","v":0},{"$f":"ASIN!C49639","v":0},{"$f":"ASIN!D49639","v":0},{"$f":"ASIN!E49639","v":0},{"$f":"ASIN!F49639","v":0}]
[{"$f":"ASIN!A49640","v":0},{"$f":"ASIN!B49640","v":0},{"$f":"ASIN!C49640","v":0},{"$f":"ASIN!D49640","v":0},{"$f":"ASIN!E49640","v":0},{"$f":"ASIN!F49640","v":0}]
[{"$f":"ASIN!A49641","v":0},{"$f":"ASIN!B49641","v":0},{"$f":"ASIN!C49641","v":0},{"$f":"ASIN!D49641","v":0},{"$f":"ASIN!E49641","v":0},{"$f":"ASIN!F49641","v":0}]
[{"$f":"ASIN!A49642","v":0},{"$f":"ASIN!B49642","v":0},{"$f":"ASIN!C49642","v":0},{"$f":"ASIN!D49642","v":0},{"$f":"ASIN!E49642","v":0},{"$f":"ASIN!F49642","v":0}]
[{"$f":"ASIN!A49643","v":0},{"$f":"ASIN!B49643","v":0},{"$f":"ASIN!C49643","v":0},{"$f":"ASIN!D49643","v":0},{"$f":"ASIN!E49643","v":0},{"$f":"ASIN!F49643","v":0}]
[{"$f":"ASIN!A49644","v":0},{"$f":"ASIN!B49644","v":0},{"$f":"ASIN!C49644","v":0},{"$f":"ASIN!D49644","v":0},{"$f":"ASIN!E49644","v":0},{"$f":"ASIN!F49644","v":0}]
[{"$f":"ASIN!A49645","v":0},{"$f":"ASIN!B49645","v":0},{"$f":"ASIN!C49645","v":0},{"$f":"ASIN!D49645","v":0},{"$f":"ASIN!E49645","v":0},{"$f":"ASIN!F49645","v":0}]
[{"$f":"ASIN!A49646","v":0},{"$f":"ASIN!B49646","v":0},{"$f":"ASIN!C49646","v":0},{"$f":"ASIN!D49646","v":0},{"$f":"ASIN!E49646","v":0},{"$f":"ASIN!F49646","v":0}]
[{"$f":"ASIN!A49647","v":0},{"$f":"ASIN!B49647","v":0},{"$f":"ASIN!C49647","v":0},{"$f":"ASIN!D49647","v":0},{"$f":"ASIN!E49647","v":0},{"$f":"ASIN!F49647","v":0}]
[{"$f":"ASIN!A49648","v":0},{"$f":"ASIN!B49648","v":0},{"$f":"ASIN!C49648","v":0},{"$f":"ASIN!D49648","v":0},{"$f":"ASIN!E49648","v":0},{"$f":"ASIN!F49648","v":0}]
[{"$f":"ASIN!A49649","v":0},{"$f":"ASIN!B49649","v":0},{"$f":"ASIN!C49649","v":0},{"$f":"ASIN!D49649","v":0},{"$f":"ASIN!E49649","v":0},{"$f":"ASIN!F49649","v":0}]
[{"$f":"ASIN!A49650","v":0},{"$f":"ASIN!B49650","v":0},{"$f":"ASIN!C49650","v":0},{"$f":"ASIN!D49650","v":0},{"$f":"ASIN!E49650","v":0},{"$f":"ASIN!F49650","v":0}]
[{"$f":"ASIN!A49651","v":0},{"$f":"ASIN!B49651","v":0},{"$f":"ASIN!C49651","v":0},{"$f":"ASIN!D49651","v":0},{"$f":"ASIN!E49651","v":0},{"$f":"ASIN!F49651","v":0}]
[{"$f":"ASIN!A49652","v":0},{"$f":"ASIN!B49652","v":0},{"$f":"ASIN!C49652","v":0},{"$f":"ASIN!D49652","v":0},{"$f":"ASIN!E49652","v":0},{"$f":"ASIN!F49652","v":0}]
[{"$f":"ASIN!A49653","v":0},{"$f":"ASIN!B49653","v":0},{"$f":"ASIN!C49653","v":0},{"$f":"ASIN!D49653","v":0},{"$f":"ASIN!E49653","v":0},{"$f":"ASIN!F49653","v":0}]
[{"$f":"ASIN!A49654","v":0},{"$f":"ASIN!B49654","v":0},{"$f":"ASIN!C49654","v":0},{"$f":"ASIN!D49654","v":0},{"$f":"ASIN!E49654","v":0},{"$f":"ASIN!F49654","v":0}]
[{"$f":"ASIN!A49655","v":0},{"$f":"ASIN!B49655","v":0},{"$f":"ASIN!C49655","v":0},{"$f":"ASIN!D49655","v":0},{"$f":"ASIN!E49655","v":0},{"$f":"ASIN!F49655","v":0}]
[{"$f":"ASIN!A49656","v":0},{"$f":"ASIN!B49656","v":0},{"$f":"ASIN!C49656","v":0},{"$f":"ASIN!D49656","v":0},{"$f":"ASIN!E49656","v":0},{"$f":"ASIN!F49656","v":0}]
[{"$f":"ASIN!A49657","v":0},{"$f":"ASIN!B49657","v":0},{"$f":"ASIN!C49657","v":0},{"$f":"ASIN!D49657","v":0},{"$f":"ASIN!E49657","v":0},{"$f":"ASIN!F49657","v":0}]
[{"$f":"ASIN!A49658","v":0},{"$f":"ASIN!B49658","v":0},{"$f":"ASIN!C49658","v":0},{"$f":"ASIN!D49658","v":0},{"$f":"ASIN!E49658","v":0},{"$f":"ASIN!F49658","v":0}]
[{"$f":"ASIN!A49659","v":0},{"$f":"ASIN!B49659","v":0},{"$f":"ASIN!C49659","v":0},{"$f":"ASIN!D49659","v":0},{"$f":"ASIN!E49659","v":0},{"$f":"ASIN!F49659","v":0}]
[{"$f":"ASIN!A49660","v":0},{"$f":"ASIN!B49660","v":0},{"$f":"ASIN!C49660","v":0},{"$f":"ASIN!D49660","v":0},{"$f":"ASIN!E49660","v":0},{"$f":"ASIN!F49660","v":0}]
[{"$f":"ASIN!A49661","v":0},{"$f":"ASIN!B49661","v":0},{"$f":"ASIN!C49661","v":0},{"$f":"ASIN!D49661","v":0},{"$f":"ASIN!E49661","v":0},{"$f":"ASIN!F49661","v":0}]
[{"$f":"ASIN!A49662","v":0},{"$f":"ASIN!B49662","v":0},{"$f":"ASIN!C49662","v":0},{"$f":"ASIN!D49662","v":0},{"$f":"ASIN!E49662","v":0},{"$f":"ASIN!F49662","v":0}]
[{"$f":"ASIN!A49663","v":0},{"$f":"ASIN!B49663","v":0},{"$f":"ASIN!C49663","v":0},{"$f":"ASIN!D49663","v":0},{"$f":"ASIN!E49663","v":0},{"$f":"ASIN!F49663","v":0}]
[{"$f":"ASIN!A49664","v":0},{"$f":"ASIN!B49664","v":0},{"$f":"ASIN!C49664","v":0},{"$f":"ASIN!D49664","v":0},{"$f":"ASIN!E49664","v":0},{"$f":"ASIN!F49664","v":0}]
[{"$f":"ASIN!A49665","v":0},{"$f":"ASIN!B49665","v":0},{"$f":"ASIN!C49665","v":0},{"$f":"ASIN!D49665","v":0},{"$f":"ASIN!E49665","v":0},{"$f":"ASIN!F49665","v":0}]
[{"$f":"ASIN!A49666","v":0},{"$f":"ASIN!B49666","v":0},{"$f":"ASIN!C49666","v":0},{"$f":"ASIN!D49666","v":0},{"$f":"ASIN!E49666","v":0},{"$f":"ASIN!F49666","v":0}]
[{"$f":"ASIN!A49667","v":0},{"$f":"ASIN!B49667","v":0},{"$f":"ASIN!C49667","v":0},{"$f":"ASIN!D49667","v":0},{"$f":"ASIN!E49667","v":0},{"$f":"ASIN!F49667","v":0}]
[{"$f":"ASIN!A49668","v":0},{"$f":"ASIN!B49668","v":0},{"$f":"ASIN!C49668","v":0},{"$f":"ASIN!D49668","v":0},{"$f":"ASIN!E49668","v":0},{"$f":"ASIN!F49668","v":0}]
[{"$f":"ASIN!A49669","v":0},{"$f":"ASIN!B49669","v":0},{"$f":"ASIN!C49669","v":0},{"$f":"ASIN!D49669","v":0},{"$f":"ASIN!E49669","v":0},{"$f":"ASIN!F49669","v":0}]
[{"$f":"ASIN!A49670","v":0},{"$f":"ASIN!B49670","v":0},{"$f":"ASIN!C49670","v":0},{"$f":"ASIN!D49670","v":0},{"$f":"ASIN!E49670","v":0},{"$f":"ASIN!F49670","v":0}]
[{"$f":"ASIN!A49671","v":0},{"$f":"ASIN!B49671","v":0},{"$f":"ASIN!C49671","v":0},{"$f":"ASIN!D49671","v":0},{"$f":"ASIN!E49671","v":0},{"$f":"ASIN!F49671","v":0}]
[{"$f":"ASIN!A49672","v":0},{"$f":"ASIN!B49672","v":0},{"$f":"ASIN!C49672","v":0},{"$f":"ASIN!D49672","v":0},{"$f":"ASIN!E49672","v":0},{"$f":"ASIN!F49672","v":0}]
[{"$f":"ASIN!A49673","v":0},{"$f":"ASIN!B49673","v":0},{"$f":"ASIN!C49673","v":0},{"$f":"ASIN!D49673","v":0},{"$f":"ASIN!E49673","v":0},{"$f":"ASIN!F49673","v":0}]
[{"$f":"ASIN!A49674","v":0},{"$f":"ASIN!B49674","v":0},{"$f":"ASIN!C49674","v":0},{"$f":"ASIN!D49674","v":0},{"$f":"ASIN!E49674","v":0},{"$f":"ASIN!F49674","v":0}]
[{"$f":"ASIN!A49675","v":0},{"$f":"ASIN!B49675","v":0},{"$f":"ASIN!C49675","v":0},{"$f":"ASIN!D49675","v":0},{"$f":"ASIN!E49675","v":0},{"$f":"ASIN!F49675","v":0}]
[{"$f":"ASIN!A49676","v":0},{"$f":"ASIN!B49676","v":0},{"$f":"ASIN!C49676","v":0},{"$f":"ASIN!D49676","v":0},{"$f":"ASIN!E49676","v":0},{"$f":"ASIN!F49676","v":0}]
[{"$f":"ASIN!A49677","v":0},{"$f":"ASIN!B49677","v":0},{"$f":"ASIN!C49677","v":0},{"$f":"ASIN!D49677","v":0},{"$f":"ASIN!E49677","v":0},{"$f":"ASIN!F49677","v":0}]
[{"$f":"ASIN!A49678","v":0},{"$f":"ASIN!B49678","v":0},{"$f":"ASIN!C49678","v":0},{"$f":"ASIN!D49678","v":0},{"$f":"ASIN!E49678","v":0},{"$f":"ASIN!F49678","v":0}]
[{"$f":"ASIN!A49679","v":0},{"$f":"ASIN!B49679","v":0},{"$f":"ASIN!C49679","v":0},{"$f":"ASIN!D49679","v":0},{"$f":"ASIN!E49679","v":0},{"$f":"ASIN!F49679","v":0}]
[{"$f":"ASIN!A49680","v":0},{"$f":"ASIN!B49680","v":0},{"$f":"ASIN!C49680","v":0},{"$f":"ASIN!D49680","v":0},{"$f":"ASIN!E49680","v":0},{"$f":"ASIN!F49680","v":0}]
[{"$f":"ASIN!A49681","v":0},{"$f":"ASIN!B49681","v":0},{"$f":"ASIN!C49681","v":0},{"$f":"ASIN!D49681","v":0},{"$f":"ASIN!E49681","v":0},{"$f":"ASIN!F49681","v":0}]
[{"$f":"ASIN!A49682","v":0},{"$f":"ASIN!B49682","v":0},{"$f":"ASIN!C49682","v":0},{"$f":"ASIN!D49682","v":0},{"$f":"ASIN!E49682","v":0},{"$f":"ASIN!F49682","v":0}]
[{"$f":"ASIN!A49683","v":0},{"$f":"ASIN!B49683","v":0},{"$f":"ASIN!C49683","v":0},{"$f":"ASIN!D49683","v":0},{"$f":"ASIN!E49683","v":0},{"$f":"ASIN!F49683","v":0}]
[{"$f":"ASIN!A49684","v":0},{"$f":"ASIN!B49684","v":0},{"$f":"ASIN!C49684","v":0},{"$f":"ASIN!D49684","v":0},{"$f":"ASIN!E49684","v":0},{"$f":"ASIN!F49684","v":0}]
[{"$f":"ASIN!A49685","v":0},{"$f":"ASIN!B49685","v":0},{"$f":"ASIN!C49685","v":0},{"$f":"ASIN!D49685","v":0},{"$f":"ASIN!E49685","v":0},{"$f":"ASIN!F49685","v":0}]
[{"$f":"ASIN!A49686","v":0},{"$f":"ASIN!B49686","v":0},{"$f":"ASIN!C49686","v":0},{"$f":"ASIN!D49686","v":0},{"$f":"ASIN!E49686","v":0},{"$f":"ASIN!F49686","v":0}]
[{"$f":"ASIN!A49687","v":0},{"$f":"ASIN!B49687","v":0},{"$f":"ASIN!C49687","v":0},{"$f":"ASIN!D49687","v":0},{"$f":"ASIN!E49687","v":0},{"$f":"ASIN!F49687","v":0}]
[{"$f":"ASIN!A49688","v":0},{"$f":"ASIN!B49688","v":0},{"$f":"ASIN!C49688","v":0},{"$f":"ASIN!D49688","v":0},{"$f":"ASIN!E49688","v":0},{"$f":"ASIN!F49688","v":0}]
[{"$f":"ASIN!A49689","v":0},{"$f":"ASIN!B49689","v":0},{"$f":"ASIN!C49689","v":0},{"$f":"ASIN!D49689","v":0},{"$f":"ASIN!E49689","v":0},{"$f":"ASIN!F49689","v":0}]
[{"$f":"ASIN!A49690","v":0},{"$f":"ASIN!B49690","v":0},{"$f":"ASIN!C49690","v":0},{"$f":"ASIN!D49690","v":0},{"$f":"ASIN!E49690","v":0},{"$f":"ASIN!F49690","v":0}]
[{"$f":"ASIN!A49691","v":0},{"$f":"ASIN!B49691","v":0},{"$f":"ASIN!C49691","v":0},{"$f":"ASIN!D49691","v":0},{"$f":"ASIN!E49691","v":0},{"$f":"ASIN!F49691","v":0}]
[{"$f":"ASIN!A49692","v":0},{"$f":"ASIN!B49692","v":0},{"$f":"ASIN!C49692","v":0},{"$f":"ASIN!D49692","v":0},{"$f":"ASIN!E49692","v":0},{"$f":"ASIN!F49692","v":0}]
[{"$f":"ASIN!A49693","v":0},{"$f":"ASIN!B49693","v":0},{"$f":"ASIN!C49693","v":0},{"$f":"ASIN!D49693","v":0},{"$f":"ASIN!E49693","v":0},{"$f":"ASIN!F49693","v":0}]
[{"$f":"ASIN!A49694","v":0},{"$f":"ASIN!B49694","v":0},{"$f":"ASIN!C49694","v":0},{"$f":"ASIN!D49694","v":0},{"$f":"ASIN!E49694","v":0},{"$f":"ASIN!F49694","v":0}]
[{"$f":"ASIN!A49695","v":0},{"$f":"ASIN!B49695","v":0},{"$f":"ASIN!C49695","v":0},{"$f":"ASIN!D49695","v":0},{"$f":"ASIN!E49695","v":0},{"$f":"ASIN!F49695","v":0}]
[{"$f":"ASIN!A49696","v":0},{"$f":"ASIN!B49696","v":0},{"$f":"ASIN!C49696","v":0},{"$f":"ASIN!D49696","v":0},{"$f":"ASIN!E49696","v":0},{"$f":"ASIN!F49696","v":0}]
[{"$f":"ASIN!A49697","v":0},{"$f":"ASIN!B49697","v":0},{"$f":"ASIN!C49697","v":0},{"$f":"ASIN!D49697","v":0},{"$f":"ASIN!E49697","v":0},{"$f":"ASIN!F49697","v":0}]
[{"$f":"ASIN!A49698","v":0},{"$f":"ASIN!B49698","v":0},{"$f":"ASIN!C49698","v":0},{"$f":"ASIN!D49698","v":0},{"$f":"ASIN!E49698","v":0},{"$f":"ASIN!F49698","v":0}]
[{"$f":"ASIN!A49699","v":0},{"$f":"ASIN!B49699","v":0},{"$f":"ASIN!C49699","v":0},{"$f":"ASIN!D49699","v":0},{"$f":"ASIN!E49699","v":0},{"$f":"ASIN!F49699","v":0}]
[{"$f":"ASIN!A49700","v":0},{"$f":"ASIN!B49700","v":0},{"$f":"ASIN!C49700","v":0},{"$f":"ASIN!D49700","v":0},{"$f":"ASIN!E49700","v":0},{"$f":"ASIN!F49700","v":0}]
[{"$f":"ASIN!A49701","v":0},{"$f":"ASIN!B49701","v":0},{"$f":"ASIN!C49701","v":0},{"$f":"ASIN!D49701","v":0},{"$f":"ASIN!E49701","v":0},{"$f":"ASIN!F49701","v":0}]
[{"$f":"ASIN!A49702","v":0},{"$f":"ASIN!B49702","v":0},{"$f":"ASIN!C49702","v":0},{"$f":"ASIN!D49702","v":0},{"$f":"ASIN!E49702","v":0},{"$f":"ASIN!F49702","v":0}]
[{"$f":"ASIN!A49703","v":0},{"$f":"ASIN!B49703","v":0},{"$f":"ASIN!C49703","v":0},{"$f":"ASIN!D49703","v":0},{"$f":"ASIN!E49703","v":0},{"$f":"ASIN!F49703","v":0}]
[{"$f":"ASIN!A49704","v":0},{"$f":"ASIN!B49704","v":0},{"$f":"ASIN!C49704","v":0},{"$f":"ASIN!D49704","v":0},{"$f":"ASIN!E49704","v":0},{"$f":"ASIN!F49704","v":0}]
[{"$f":"ASIN!A49705","v":0},{"$f":"ASIN!B49705","v":0},{"$f":"ASIN!C49705","v":0},{"$f":"ASIN!D49705","v":0},{"$f":"ASIN!E49705","v":0},{"$f":"ASIN!F49705","v":0}]
[{"$f":"ASIN!A49706","v":0},{"$f":"ASIN!B49706","v":0},{"$f":"ASIN!C49706","v":0},{"$f":"ASIN!D49706","v":0},{"$f":"ASIN!E49706","v":0},{"$f":"ASIN!F49706","v":0}]
[{"$f":"ASIN!A49707","v":0},{"$f":"ASIN!B49707","v":0},{"$f":"ASIN!C49707","v":0},{"$f":"ASIN!D49707","v":0},{"$f":"ASIN!E49707","v":0},{"$f":"ASIN!F49707","v":0}]
[{"$f":"ASIN!A49708","v":0},{"$f":"ASIN!B49708","v":0},{"$f":"ASIN!C49708","v":0},{"$f":"ASIN!D49708","v":0},{"$f":"ASIN!E49708","v":0},{"$f":"ASIN!F49708","v":0}]
[{"$f":"ASIN!A49709","v":0},{"$f":"ASIN!B49709","v":0},{"$f":"ASIN!C49709","v":0},{"$f":"ASIN!D49709","v":0},{"$f":"ASIN!E49709","v":0},{"$f":"ASIN!F49709","v":0}]
[{"$f":"ASIN!A49710","v":0},{"$f":"ASIN!B49710","v":0},{"$f":"ASIN!C49710","v":0},{"$f":"ASIN!D49710","v":0},{"$f":"ASIN!E49710","v":0},{"$f":"ASIN!F49710","v":0}]
[{"$f":"ASIN!A49711","v":0},{"$f":"ASIN!B49711","v":0},{"$f":"ASIN!C49711","v":0},{"$f":"ASIN!D49711","v":0},{"$f":"ASIN!E49711","v":0},{"$f":"ASIN!F49711","v":0}]
[{"$f":"ASIN!A49712","v":0},{"$f":"ASIN!B49712","v":0},{"$f":"ASIN!C49712","v":0},{"$f":"ASIN!D49712","v":0},{"$f":"ASIN!E49712","v":0},{"$f":"ASIN!F49712","v":0}]
[{"$f":"ASIN!A49713","v":0},{"$f":"ASIN!B49713","v":0},{"$f":"ASIN!C49713","v":0},{"$f":"ASIN!D49713","v":0},{"$f":"ASIN!E49713","v":0},{"$f":"ASIN!F49713","v":0}]
[{"$f":"ASIN!A49714","v":0},{"$f":"ASIN!B49714","v":0},{"$f":"ASIN!C49714","v":0},{"$f":"ASIN!D49714","v":0},{"$f":"ASIN!E49714","v":0},{"$f":"ASIN!F49714","v":0}]
[{"$f":"ASIN!A49715","v":0},{"$f":"ASIN!B49715","v":0},{"$f":"ASIN!C49715","v":0},{"$f":"ASIN!D49715","v":0},{"$f":"ASIN!E49715","v":0},{"$f":"ASIN!F49715","v":0}]
[{"$f":"ASIN!A49716","v":0},{"$f":"ASIN!B49716","v":0},{"$f":"ASIN!C49716","v":0},{"$f":"ASIN!D49716","v":0},{"$f":"ASIN!E49716","v":0},{"$f":"ASIN!F49716","v":0}]
[{"$f":"ASIN!A49717","v":0},{"$f":"ASIN!B49717","v":0},{"$f":"ASIN!C49717","v":0},{"$f":"ASIN!D49717","v":0},{"$f":"ASIN!E49717","v":0},{"$f":"ASIN!F49717","v":0}]
[{"$f":"ASIN!A49718","v":0},{"$f":"ASIN!B49718","v":0},{"$f":"ASIN!C49718","v":0},{"$f":"ASIN!D49718","v":0},{"$f":"ASIN!E49718","v":0},{"$f":"ASIN!F49718","v":0}]
[{"$f":"ASIN!A49719","v":0},{"$f":"ASIN!B49719","v":0},{"$f":"ASIN!C49719","v":0},{"$f":"ASIN!D49719","v":0},{"$f":"ASIN!E49719","v":0},{"$f":"ASIN!F49719","v":0}]
[{"$f":"ASIN!A49720","v":0},{"$f":"ASIN!B49720","v":0},{"$f":"ASIN!C49720","v":0},{"$f":"ASIN!D49720","v":0},{"$f":"ASIN!E49720","v":0},{"$f":"ASIN!F49720","v":0}]
[{"$f":"ASIN!A49721","v":0},{"$f":"ASIN!B49721","v":0},{"$f":"ASIN!C49721","v":0},{"$f":"ASIN!D49721","v":0},{"$f":"ASIN!E49721","v":0},{"$f":"ASIN!F49721","v":0}]
[{"$f":"ASIN!A49722","v":0},{"$f":"ASIN!B49722","v":0},{"$f":"ASIN!C49722","v":0},{"$f":"ASIN!D49722","v":0},{"$f":"ASIN!E49722","v":0},{"$f":"ASIN!F49722","v":0}]
[{"$f":"ASIN!A49723","v":0},{"$f":"ASIN!B49723","v":0},{"$f":"ASIN!C49723","v":0},{"$f":"ASIN!D49723","v":0},{"$f":"ASIN!E49723","v":0},{"$f":"ASIN!F49723","v":0}]
[{"$f":"ASIN!A49724","v":0},{"$f":"ASIN!B49724","v":0},{"$f":"ASIN!C49724","v":0},{"$f":"ASIN!D49724","v":0},{"$f":"ASIN!E49724","v":0},{"$f":"ASIN!F49724","v":0}]
[{"$f":"ASIN!A49725","v":0},{"$f":"ASIN!B49725","v":0},{"$f":"ASIN!C49725","v":0},{"$f":"ASIN!D49725","v":0},{"$f":"ASIN!E49725","v":0},{"$f":"ASIN!F49725","v":0}]
[{"$f":"ASIN!A49726","v":0},{"$f":"ASIN!B49726","v":0},{"$f":"ASIN!C49726","v":0},{"$f":"ASIN!D49726","v":0},{"$f":"ASIN!E49726","v":0},{"$f":"ASIN!F49726","v":0}]
[{"$f":"ASIN!A49727","v":0},{"$f":"ASIN!B49727","v":0},{"$f":"ASIN!C49727","v":0},{"$f":"ASIN!D49727","v":0},{"$f":"ASIN!E49727","v":0},{"$f":"ASIN!F49727","v":0}]
[{"$f":"ASIN!A49728","v":0},{"$f":"ASIN!B49728","v":0},{"$f":"ASIN!C49728","v":0},{"$f":"ASIN!D49728","v":0},{"$f":"ASIN!E49728","v":0},{"$f":"ASIN!F49728","v":0}]
[{"$f":"ASIN!A49729","v":0},{"$f":"ASIN!B49729","v":0},{"$f":"ASIN!C49729","v":0},{"$f":"ASIN!D49729","v":0},{"$f":"ASIN!E49729","v":0},{"$f":"ASIN!F49729","v":0}]
[{"$f":"ASIN!A49730","v":0},{"$f":"ASIN!B49730","v":0},{"$f":"ASIN!C49730","v":0},{"$f":"ASIN!D49730","v":0},{"$f":"ASIN!E49730","v":0},{"$f":"ASIN!F49730","v":0}]
[{"$f":"ASIN!A49731","v":0},{"$f":"ASIN!B49731","v":0},{"$f":"ASIN!C49731","v":0},{"$f":"ASIN!D49731","v":0},{"$f":"ASIN!E49731","v":0},{"$f":"ASIN!F49731","v":0}]
[{"$f":"ASIN!A49732","v":0},{"$f":"ASIN!B49732","v":0},{"$f":"ASIN!C49732","v":0},{"$f":"ASIN!D49732","v":0},{"$f":"ASIN!E49732","v":0},{"$f":"ASIN!F49732","v":0}]
[{"$f":"ASIN!A49733","v":0},{"$f":"ASIN!B49733","v":0},{"$f":"ASIN!C49733","v":0},{"$f":"ASIN!D49733","v":0},{"$f":"ASIN!E49733","v":0},{"$f":"ASIN!F49733","v":0}]
[{"$f":"ASIN!A49734","v":0},{"$f":"ASIN!B49734","v":0},{"$f":"ASIN!C49734","v":0},{"$f":"ASIN!D49734","v":0},{"$f":"ASIN!E49734","v":0},{"$f":"ASIN!F49734","v":0}]
[{"$f":"ASIN!A49735","v":0},{"$f":"ASIN!B49735","v":0},{"$f":"ASIN!C49735","v":0},{"$f":"ASIN!D49735","v":0},{"$f":"ASIN!E49735","v":0},{"$f":"ASIN!F49735","v":0}]
[{"$f":"ASIN!A49736","v":0},{"$f":"ASIN!B49736","v":0},{"$f":"ASIN!C49736","v":0},{"$f":"ASIN!D49736","v":0},{"$f":"ASIN!E49736","v":0},{"$f":"ASIN!F49736","v":0}]
[{"$f":"ASIN!A49737","v":0},{"$f":"ASIN!B49737","v":0},{"$f":"ASIN!C49737","v":0},{"$f":"ASIN!D49737","v":0},{"$f":"ASIN!E49737","v":0},{"$f":"ASIN!F49737","v":0}]
[{"$f":"ASIN!A49738","v":0},{"$f":"ASIN!B49738","v":0},{"$f":"ASIN!C49738","v":0},{"$f":"ASIN!D49738","v":0},{"$f":"ASIN!E49738","v":0},{"$f":"ASIN!F49738","v":0}]
[{"$f":"ASIN!A49739","v":0},{"$f":"ASIN!B49739","v":0},{"$f":"ASIN!C49739","v":0},{"$f":"ASIN!D49739","v":0},{"$f":"ASIN!E49739","v":0},{"$f":"ASIN!F49739","v":0}]
[{"$f":"ASIN!A49740","v":0},{"$f":"ASIN!B49740","v":0},{"$f":"ASIN!C49740","v":0},{"$f":"ASIN!D49740","v":0},{"$f":"ASIN!E49740","v":0},{"$f":"ASIN!F49740","v":0}]
[{"$f":"ASIN!A49741","v":0},{"$f":"ASIN!B49741","v":0},{"$f":"ASIN!C49741","v":0},{"$f":"ASIN!D49741","v":0},{"$f":"ASIN!E49741","v":0},{"$f":"ASIN!F49741","v":0}]
[{"$f":"ASIN!A49742","v":0},{"$f":"ASIN!B49742","v":0},{"$f":"ASIN!C49742","v":0},{"$f":"ASIN!D49742","v":0},{"$f":"ASIN!E49742","v":0},{"$f":"ASIN!F49742","v":0}]
[{"$f":"ASIN!A49743","v":0},{"$f":"ASIN!B49743","v":0},{"$f":"ASIN!C49743","v":0},{"$f":"ASIN!D49743","v":0},{"$f":"ASIN!E49743","v":0},{"$f":"ASIN!F49743","v":0}]
[{"$f":"ASIN!A49744","v":0},{"$f":"ASIN!B49744","v":0},{"$f":"ASIN!C49744","v":0},{"$f":"ASIN!D49744","v":0},{"$f":"ASIN!E49744","v":0},{"$f":"ASIN!F49744","v":0}]
[{"$f":"ASIN!A49745","v":0},{"$f":"ASIN!B49745","v":0},{"$f":"ASIN!C49745","v":0},{"$f":"ASIN!D49745","v":0},{"$f":"ASIN!E49745","v":0},{"$f":"ASIN!F49745","v":0}]
[{"$f":"ASIN!A49746","v":0},{"$f":"ASIN!B49746","v":0},{"$f":"ASIN!C49746","v":0},{"$f":"ASIN!D49746","v":0},{"$f":"ASIN!E49746","v":0},{"$f":"ASIN!F49746","v":0}]
[{"$f":"ASIN!A49747","v":0},{"$f":"ASIN!B49747","v":0},{"$f":"ASIN!C49747","v":0},{"$f":"ASIN!D49747","v":0},{"$f":"ASIN!E49747","v":0},{"$f":"ASIN!F49747","v":0}]
[{"$f":"ASIN!A49748","v":0},{"$f":"ASIN!B49748","v":0},{"$f":"ASIN!C49748","v":0},{"$f":"ASIN!D49748","v":0},{"$f":"ASIN!E49748","v":0},{"$f":"ASIN!F49748","v":0}]
[{"$f":"ASIN!A49749","v":0},{"$f":"ASIN!B49749","v":0},{"$f":"ASIN!C49749","v":0},{"$f":"ASIN!D49749","v":0},{"$f":"ASIN!E49749","v":0},{"$f":"ASIN!F49749","v":0}]
[{"$f":"ASIN!A49750","v":0},{"$f":"ASIN!B49750","v":0},{"$f":"ASIN!C49750","v":0},{"$f":"ASIN!D49750","v":0},{"$f":"ASIN!E49750","v":0},{"$f":"ASIN!F49750","v":0}]
[{"$f":"ASIN!A49751","v":0},{"$f":"ASIN!B49751","v":0},{"$f":"ASIN!C49751","v":0},{"$f":"ASIN!D49751","v":0},{"$f":"ASIN!E49751","v":0},{"$f":"ASIN!F49751","v":0}]
[{"$f":"ASIN!A49752","v":0},{"$f":"ASIN!B49752","v":0},{"$f":"ASIN!C49752","v":0},{"$f":"ASIN!D49752","v":0},{"$f":"ASIN!E49752","v":0},{"$f":"ASIN!F49752","v":0}]
[{"$f":"ASIN!A49753","v":0},{"$f":"ASIN!B49753","v":0},{"$f":"ASIN!C49753","v":0},{"$f":"ASIN!D49753","v":0},{"$f":"ASIN!E49753","v":0},{"$f":"ASIN!F49753","v":0}]
[{"$f":"ASIN!A49754","v":0},{"$f":"ASIN!B49754","v":0},{"$f":"ASIN!C49754","v":0},{"$f":"ASIN!D49754","v":0},{"$f":"ASIN!E49754","v":0},{"$f":"ASIN!F49754","v":0}]
[{"$f":"ASIN!A49755","v":0},{"$f":"ASIN!B49755","v":0},{"$f":"ASIN!C49755","v":0},{"$f":"ASIN!D49755","v":0},{"$f":"ASIN!E49755","v":0},{"$f":"ASIN!F49755","v":0}]
[{"$f":"ASIN!A49756","v":0},{"$f":"ASIN!B49756","v":0},{"$f":"ASIN!C49756","v":0},{"$f":"ASIN!D49756","v":0},{"$f":"ASIN!E49756","v":0},{"$f":"ASIN!F49756","v":0}]
[{"$f":"ASIN!A49757","v":0},{"$f":"ASIN!B49757","v":0},{"$f":"ASIN!C49757","v":0},{"$f":"ASIN!D49757","v":0},{"$f":"ASIN!E49757","v":0},{"$f":"ASIN!F49757","v":0}]
[{"$f":"ASIN!A49758","v":0},{"$f":"ASIN!B49758","v":0},{"$f":"ASIN!C49758","v":0},{"$f":"ASIN!D49758","v":0},{"$f":"ASIN!E49758","v":0},{"$f":"ASIN!F49758","v":0}]
[{"$f":"ASIN!A49759","v":0},{"$f":"ASIN!B49759","v":0},{"$f":"ASIN!C49759","v":0},{"$f":"ASIN!D49759","v":0},{"$f":"ASIN!E49759","v":0},{"$f":"ASIN!F49759","v":0}]
[{"$f":"ASIN!A49760","v":0},{"$f":"ASIN!B49760","v":0},{"$f":"ASIN!C49760","v":0},{"$f":"ASIN!D49760","v":0},{"$f":"ASIN!E49760","v":0},{"$f":"ASIN!F49760","v":0}]
[{"$f":"ASIN!A49761","v":0},{"$f":"ASIN!B49761","v":0},{"$f":"ASIN!C49761","v":0},{"$f":"ASIN!D49761","v":0},{"$f":"ASIN!E49761","v":0},{"$f":"ASIN!F49761","v":0}]
[{"$f":"ASIN!A49762","v":0},{"$f":"ASIN!B49762","v":0},{"$f":"ASIN!C49762","v":0},{"$f":"ASIN!D49762","v":0},{"$f":"ASIN!E49762","v":0},{"$f":"ASIN!F49762","v":0}]
[{"$f":"ASIN!A49763","v":0},{"$f":"ASIN!B49763","v":0},{"$f":"ASIN!C49763","v":0},{"$f":"ASIN!D49763","v":0},{"$f":"ASIN!E49763","v":0},{"$f":"ASIN!F49763","v":0}]
[{"$f":"ASIN!A49764","v":0},{"$f":"ASIN!B49764","v":0},{"$f":"ASIN!C49764","v":0},{"$f":"ASIN!D49764","v":0},{"$f":"ASIN!E49764","v":0},{"$f":"ASIN!F49764","v":0}]
[{"$f":"ASIN!A49765","v":0},{"$f":"ASIN!B49765","v":0},{"$f":"ASIN!C49765","v":0},{"$f":"ASIN!D49765","v":0},{"$f":"ASIN!E49765","v":0},{"$f":"ASIN!F49765","v":0}]
[{"$f":"ASIN!A49766","v":0},{"$f":"ASIN!B49766","v":0},{"$f":"ASIN!C49766","v":0},{"$f":"ASIN!D49766","v":0},{"$f":"ASIN!E49766","v":0},{"$f":"ASIN!F49766","v":0}]
[{"$f":"ASIN!A49767","v":0},{"$f":"ASIN!B49767","v":0},{"$f":"ASIN!C49767","v":0},{"$f":"ASIN!D49767","v":0},{"$f":"ASIN!E49767","v":0},{"$f":"ASIN!F49767","v":0}]
[{"$f":"ASIN!A49768","v":0},{"$f":"ASIN!B49768","v":0},{"$f":"ASIN!C49768","v":0},{"$f":"ASIN!D49768","v":0},{"$f":"ASIN!E49768","v":0},{"$f":"ASIN!F49768","v":0}]
[{"$f":"ASIN!A49769","v":0},{"$f":"ASIN!B49769","v":0},{"$f":"ASIN!C49769","v":0},{"$f":"ASIN!D49769","v":0},{"$f":"ASIN!E49769","v":0},{"$f":"ASIN!F49769","v":0}]
[{"$f":"ASIN!A49770","v":0},{"$f":"ASIN!B49770","v":0},{"$f":"ASIN!C49770","v":0},{"$f":"ASIN!D49770","v":0},{"$f":"ASIN!E49770","v":0},{"$f":"ASIN!F49770","v":0}]
[{"$f":"ASIN!A49771","v":0},{"$f":"ASIN!B49771","v":0},{"$f":"ASIN!C49771","v":0},{"$f":"ASIN!D49771","v":0},{"$f":"ASIN!E49771","v":0},{"$f":"ASIN!F49771","v":0}]
[{"$f":"ASIN!A49772","v":0},{"$f":"ASIN!B49772","v":0},{"$f":"ASIN!C49772","v":0},{"$f":"ASIN!D49772","v":0},{"$f":"ASIN!E49772","v":0},{"$f":"ASIN!F49772","v":0}]
[{"$f":"ASIN!A49773","v":0},{"$f":"ASIN!B49773","v":0},{"$f":"ASIN!C49773","v":0},{"$f":"ASIN!D49773","v":0},{"$f":"ASIN!E49773","v":0},{"$f":"ASIN!F49773","v":0}]
[{"$f":"ASIN!A49774","v":0},{"$f":"ASIN!B49774","v":0},{"$f":"ASIN!C49774","v":0},{"$f":"ASIN!D49774","v":0},{"$f":"ASIN!E49774","v":0},{"$f":"ASIN!F49774","v":0}]
[{"$f":"ASIN!A49775","v":0},{"$f":"ASIN!B49775","v":0},{"$f":"ASIN!C49775","v":0},{"$f":"ASIN!D49775","v":0},{"$f":"ASIN!E49775","v":0},{"$f":"ASIN!F49775","v":0}]
[{"$f":"ASIN!A49776","v":0},{"$f":"ASIN!B49776","v":0},{"$f":"ASIN!C49776","v":0},{"$f":"ASIN!D49776","v":0},{"$f":"ASIN!E49776","v":0},{"$f":"ASIN!F49776","v":0}]
[{"$f":"ASIN!A49777","v":0},{"$f":"ASIN!B49777","v":0},{"$f":"ASIN!C49777","v":0},{"$f":"ASIN!D49777","v":0},{"$f":"ASIN!E49777","v":0},{"$f":"ASIN!F49777","v":0}]
[{"$f":"ASIN!A49778","v":0},{"$f":"ASIN!B49778","v":0},{"$f":"ASIN!C49778","v":0},{"$f":"ASIN!D49778","v":0},{"$f":"ASIN!E49778","v":0},{"$f":"ASIN!F49778","v":0}]
[{"$f":"ASIN!A49779","v":0},{"$f":"ASIN!B49779","v":0},{"$f":"ASIN!C49779","v":0},{"$f":"ASIN!D49779","v":0},{"$f":"ASIN!E49779","v":0},{"$f":"ASIN!F49779","v":0}]
[{"$f":"ASIN!A49780","v":0},{"$f":"ASIN!B49780","v":0},{"$f":"ASIN!C49780","v":0},{"$f":"ASIN!D49780","v":0},{"$f":"ASIN!E49780","v":0},{"$f":"ASIN!F49780","v":0}]
[{"$f":"ASIN!A49781","v":0},{"$f":"ASIN!B49781","v":0},{"$f":"ASIN!C49781","v":0},{"$f":"ASIN!D49781","v":0},{"$f":"ASIN!E49781","v":0},{"$f":"ASIN!F49781","v":0}]
[{"$f":"ASIN!A49782","v":0},{"$f":"ASIN!B49782","v":0},{"$f":"ASIN!C49782","v":0},{"$f":"ASIN!D49782","v":0},{"$f":"ASIN!E49782","v":0},{"$f":"ASIN!F49782","v":0}]
[{"$f":"ASIN!A49783","v":0},{"$f":"ASIN!B49783","v":0},{"$f":"ASIN!C49783","v":0},{"$f":"ASIN!D49783","v":0},{"$f":"ASIN!E49783","v":0},{"$f":"ASIN!F49783","v":0}]
[{"$f":"ASIN!A49784","v":0},{"$f":"ASIN!B49784","v":0},{"$f":"ASIN!C49784","v":0},{"$f":"ASIN!D49784","v":0},{"$f":"ASIN!E49784","v":0},{"$f":"ASIN!F49784","v":0}]
[{"$f":"ASIN!A49785","v":0},{"$f":"ASIN!B49785","v":0},{"$f":"ASIN!C49785","v":0},{"$f":"ASIN!D49785","v":0},{"$f":"ASIN!E49785","v":0},{"$f":"ASIN!F49785","v":0}]
[{"$f":"ASIN!A49786","v":0},{"$f":"ASIN!B49786","v":0},{"$f":"ASIN!C49786","v":0},{"$f":"ASIN!D49786","v":0},{"$f":"ASIN!E49786","v":0},{"$f":"ASIN!F49786","v":0}]
[{"$f":"ASIN!A49787","v":0},{"$f":"ASIN!B49787","v":0},{"$f":"ASIN!C49787","v":0},{"$f":"ASIN!D49787","v":0},{"$f":"ASIN!E49787","v":0},{"$f":"ASIN!F49787","v":0}]
[{"$f":"ASIN!A49788","v":0},{"$f":"ASIN!B49788","v":0},{"$f":"ASIN!C49788","v":0},{"$f":"ASIN!D49788","v":0},{"$f":"ASIN!E49788","v":0},{"$f":"ASIN!F49788","v":0}]
[{"$f":"ASIN!A49789","v":0},{"$f":"ASIN!B49789","v":0},{"$f":"ASIN!C49789","v":0},{"$f":"ASIN!D49789","v":0},{"$f":"ASIN!E49789","v":0},{"$f":"ASIN!F49789","v":0}]
[{"$f":"ASIN!A49790","v":0},{"$f":"ASIN!B49790","v":0},{"$f":"ASIN!C49790","v":0},{"$f":"ASIN!D49790","v":0},{"$f":"ASIN!E49790","v":0},{"$f":"ASIN!F49790","v":0}]
[{"$f":"ASIN!A49791","v":0},{"$f":"ASIN!B49791","v":0},{"$f":"ASIN!C49791","v":0},{"$f":"ASIN!D49791","v":0},{"$f":"ASIN!E49791","v":0},{"$f":"ASIN!F49791","v":0}]
[{"$f":"ASIN!A49792","v":0},{"$f":"ASIN!B49792","v":0},{"$f":"ASIN!C49792","v":0},{"$f":"ASIN!D49792","v":0},{"$f":"ASIN!E49792","v":0},{"$f":"ASIN!F49792","v":0}]
[{"$f":"ASIN!A49793","v":0},{"$f":"ASIN!B49793","v":0},{"$f":"ASIN!C49793","v":0},{"$f":"ASIN!D49793","v":0},{"$f":"ASIN!E49793","v":0},{"$f":"ASIN!F49793","v":0}]
[{"$f":"ASIN!A49794","v":0},{"$f":"ASIN!B49794","v":0},{"$f":"ASIN!C49794","v":0},{"$f":"ASIN!D49794","v":0},{"$f":"ASIN!E49794","v":0},{"$f":"ASIN!F49794","v":0}]
[{"$f":"ASIN!A49795","v":0},{"$f":"ASIN!B49795","v":0},{"$f":"ASIN!C49795","v":0},{"$f":"ASIN!D49795","v":0},{"$f":"ASIN!E49795","v":0},{"$f":"ASIN!F49795","v":0}]
[{"$f":"ASIN!A49796","v":0},{"$f":"ASIN!B49796","v":0},{"$f":"ASIN!C49796","v":0},{"$f":"ASIN!D49796","v":0},{"$f":"ASIN!E49796","v":0},{"$f":"ASIN!F49796","v":0}]
[{"$f":"ASIN!A49797","v":0},{"$f":"ASIN!B49797","v":0},{"$f":"ASIN!C49797","v":0},{"$f":"ASIN!D49797","v":0},{"$f":"ASIN!E49797","v":0},{"$f":"ASIN!F49797","v":0}]
[{"$f":"ASIN!A49798","v":0},{"$f":"ASIN!B49798","v":0},{"$f":"ASIN!C49798","v":0},{"$f":"ASIN!D49798","v":0},{"$f":"ASIN!E49798","v":0},{"$f":"ASIN!F49798","v":0}]
[{"$f":"ASIN!A49799","v":0},{"$f":"ASIN!B49799","v":0},{"$f":"ASIN!C49799","v":0},{"$f":"ASIN!D49799","v":0},{"$f":"ASIN!E49799","v":0},{"$f":"ASIN!F49799","v":0}]
[{"$f":"ASIN!A49800","v":0},{"$f":"ASIN!B49800","v":0},{"$f":"ASIN!C49800","v":0},{"$f":"ASIN!D49800","v":0},{"$f":"ASIN!E49800","v":0},{"$f":"ASIN!F49800","v":0}]
[{"$f":"ASIN!A49801","v":0},{"$f":"ASIN!B49801","v":0},{"$f":"ASIN!C49801","v":0},{"$f":"ASIN!D49801","v":0},{"$f":"ASIN!E49801","v":0},{"$f":"ASIN!F49801","v":0}]
[{"$f":"ASIN!A49802","v":0},{"$f":"ASIN!B49802","v":0},{"$f":"ASIN!C49802","v":0},{"$f":"ASIN!D49802","v":0},{"$f":"ASIN!E49802","v":0},{"$f":"ASIN!F49802","v":0}]
[{"$f":"ASIN!A49803","v":0},{"$f":"ASIN!B49803","v":0},{"$f":"ASIN!C49803","v":0},{"$f":"ASIN!D49803","v":0},{"$f":"ASIN!E49803","v":0},{"$f":"ASIN!F49803","v":0}]
[{"$f":"ASIN!A49804","v":0},{"$f":"ASIN!B49804","v":0},{"$f":"ASIN!C49804","v":0},{"$f":"ASIN!D49804","v":0},{"$f":"ASIN!E49804","v":0},{"$f":"ASIN!F49804","v":0}]
[{"$f":"ASIN!A49805","v":0},{"$f":"ASIN!B49805","v":0},{"$f":"ASIN!C49805","v":0},{"$f":"ASIN!D49805","v":0},{"$f":"ASIN!E49805","v":0},{"$f":"ASIN!F49805","v":0}]
[{"$f":"ASIN!A49806","v":0},{"$f":"ASIN!B49806","v":0},{"$f":"ASIN!C49806","v":0},{"$f":"ASIN!D49806","v":0},{"$f":"ASIN!E49806","v":0},{"$f":"ASIN!F49806","v":0}]
[{"$f":"ASIN!A49807","v":0},{"$f":"ASIN!B49807","v":0},{"$f":"ASIN!C49807","v":0},{"$f":"ASIN!D49807","v":0},{"$f":"ASIN!E49807","v":0},{"$f":"ASIN!F49807","v":0}]
[{"$f":"ASIN!A49808","v":0},{"$f":"ASIN!B49808","v":0},{"$f":"ASIN!C49808","v":0},{"$f":"ASIN!D49808","v":0},{"$f":"ASIN!E49808","v":0},{"$f":"ASIN!F49808","v":0}]
[{"$f":"ASIN!A49809","v":0},{"$f":"ASIN!B49809","v":0},{"$f":"ASIN!C49809","v":0},{"$f":"ASIN!D49809","v":0},{"$f":"ASIN!E49809","v":0},{"$f":"ASIN!F49809","v":0}]
[{"$f":"ASIN!A49810","v":0},{"$f":"ASIN!B49810","v":0},{"$f":"ASIN!C49810","v":0},{"$f":"ASIN!D49810","v":0},{"$f":"ASIN!E49810","v":0},{"$f":"ASIN!F49810","v":0}]
[{"$f":"ASIN!A49811","v":0},{"$f":"ASIN!B49811","v":0},{"$f":"ASIN!C49811","v":0},{"$f":"ASIN!D49811","v":0},{"$f":"ASIN!E49811","v":0},{"$f":"ASIN!F49811","v":0}]
[{"$f":"ASIN!A49812","v":0},{"$f":"ASIN!B49812","v":0},{"$f":"ASIN!C49812","v":0},{"$f":"ASIN!D49812","v":0},{"$f":"ASIN!E49812","v":0},{"$f":"ASIN!F49812","v":0}]
[{"$f":"ASIN!A49813","v":0},{"$f":"ASIN!B49813","v":0},{"$f":"ASIN!C49813","v":0},{"$f":"ASIN!D49813","v":0},{"$f":"ASIN!E49813","v":0},{"$f":"ASIN!F49813","v":0}]
[{"$f":"ASIN!A49814","v":0},{"$f":"ASIN!B49814","v":0},{"$f":"ASIN!C49814","v":0},{"$f":"ASIN!D49814","v":0},{"$f":"ASIN!E49814","v":0},{"$f":"ASIN!F49814","v":0}]
[{"$f":"ASIN!A49815","v":0},{"$f":"ASIN!B49815","v":0},{"$f":"ASIN!C49815","v":0},{"$f":"ASIN!D49815","v":0},{"$f":"ASIN!E49815","v":0},{"$f":"ASIN!F49815","v":0}]
[{"$f":"ASIN!A49816","v":0},{"$f":"ASIN!B49816","v":0},{"$f":"ASIN!C49816","v":0},{"$f":"ASIN!D49816","v":0},{"$f":"ASIN!E49816","v":0},{"$f":"ASIN!F49816","v":0}]
[{"$f":"ASIN!A49817","v":0},{"$f":"ASIN!B49817","v":0},{"$f":"ASIN!C49817","v":0},{"$f":"ASIN!D49817","v":0},{"$f":"ASIN!E49817","v":0},{"$f":"ASIN!F49817","v":0}]
[{"$f":"ASIN!A49818","v":0},{"$f":"ASIN!B49818","v":0},{"$f":"ASIN!C49818","v":0},{"$f":"ASIN!D49818","v":0},{"$f":"ASIN!E49818","v":0},{"$f":"ASIN!F49818","v":0}]
[{"$f":"ASIN!A49819","v":0},{"$f":"ASIN!B49819","v":0},{"$f":"ASIN!C49819","v":0},{"$f":"ASIN!D49819","v":0},{"$f":"ASIN!E49819","v":0},{"$f":"ASIN!F49819","v":0}]
[{"$f":"ASIN!A49820","v":0},{"$f":"ASIN!B49820","v":0},{"$f":"ASIN!C49820","v":0},{"$f":"ASIN!D49820","v":0},{"$f":"ASIN!E49820","v":0},{"$f":"ASIN!F49820","v":0}]
[{"$f":"ASIN!A49821","v":0},{"$f":"ASIN!B49821","v":0},{"$f":"ASIN!C49821","v":0},{"$f":"ASIN!D49821","v":0},{"$f":"ASIN!E49821","v":0},{"$f":"ASIN!F49821","v":0}]
[{"$f":"ASIN!A49822","v":0},{"$f":"ASIN!B49822","v":0},{"$f":"ASIN!C49822","v":0},{"$f":"ASIN!D49822","v":0},{"$f":"ASIN!E49822","v":0},{"$f":"ASIN!F49822","v":0}]
[{"$f":"ASIN!A49823","v":0},{"$f":"ASIN!B49823","v":0},{"$f":"ASIN!C49823","v":0},{"$f":"ASIN!D49823","v":0},{"$f":"ASIN!E49823","v":0},{"$f":"ASIN!F49823","v":0}]
[{"$f":"ASIN!A49824","v":0},{"$f":"ASIN!B49824","v":0},{"$f":"ASIN!C49824","v":0},{"$f":"ASIN!D49824","v":0},{"$f":"ASIN!E49824","v":0},{"$f":"ASIN!F49824","v":0}]
[{"$f":"ASIN!A49825","v":0},{"$f":"ASIN!B49825","v":0},{"$f":"ASIN!C49825","v":0},{"$f":"ASIN!D49825","v":0},{"$f":"ASIN!E49825","v":0},{"$f":"ASIN!F49825","v":0}]
[{"$f":"ASIN!A49826","v":0},{"$f":"ASIN!B49826","v":0},{"$f":"ASIN!C49826","v":0},{"$f":"ASIN!D49826","v":0},{"$f":"ASIN!E49826","v":0},{"$f":"ASIN!F49826","v":0}]
[{"$f":"ASIN!A49827","v":0},{"$f":"ASIN!B49827","v":0},{"$f":"ASIN!C49827","v":0},{"$f":"ASIN!D49827","v":0},{"$f":"ASIN!E49827","v":0},{"$f":"ASIN!F49827","v":0}]
[{"$f":"ASIN!A49828","v":0},{"$f":"ASIN!B49828","v":0},{"$f":"ASIN!C49828","v":0},{"$f":"ASIN!D49828","v":0},{"$f":"ASIN!E49828","v":0},{"$f":"ASIN!F49828","v":0}]
[{"$f":"ASIN!A49829","v":0},{"$f":"ASIN!B49829","v":0},{"$f":"ASIN!C49829","v":0},{"$f":"ASIN!D49829","v":0},{"$f":"ASIN!E49829","v":0},{"$f":"ASIN!F49829","v":0}]
[{"$f":"ASIN!A49830","v":0},{"$f":"ASIN!B49830","v":0},{"$f":"ASIN!C49830","v":0},{"$f":"ASIN!D49830","v":0},{"$f":"ASIN!E49830","v":0},{"$f":"ASIN!F49830","v":0}]
[{"$f":"ASIN!A49831","v":0},{"$f":"ASIN!B49831","v":0},{"$f":"ASIN!C49831","v":0},{"$f":"ASIN!D49831","v":0},{"$f":"ASIN!E49831","v":0},{"$f":"ASIN!F49831","v":0}]
[{"$f":"ASIN!A49832","v":0},{"$f":"ASIN!B49832","v":0},{"$f":"ASIN!C49832","v":0},{"$f":"ASIN!D49832","v":0},{"$f":"ASIN!E49832","v":0},{"$f":"ASIN!F49832","v":0}]
[{"$f":"ASIN!A49833","v":0},{"$f":"ASIN!B49833","v":0},{"$f":"ASIN!C49833","v":0},{"$f":"ASIN!D49833","v":0},{"$f":"ASIN!E49833","v":0},{"$f":"ASIN!F49833","v":0}]
[{"$f":"ASIN!A49834","v":0},{"$f":"ASIN!B49834","v":0},{"$f":"ASIN!C49834","v":0},{"$f":"ASIN!D49834","v":0},{"$f":"ASIN!E49834","v":0},{"$f":"ASIN!F49834","v":0}]
[{"$f":"ASIN!A49835","v":0},{"$f":"ASIN!B49835","v":0},{"$f":"ASIN!C49835","v":0},{"$f":"ASIN!D49835","v":0},{"$f":"ASIN!E49835","v":0},{"$f":"ASIN!F49835","v":0}]
[{"$f":"ASIN!A49836","v":0},{"$f":"ASIN!B49836","v":0},{"$f":"ASIN!C49836","v":0},{"$f":"ASIN!D49836","v":0},{"$f":"ASIN!E49836","v":0},{"$f":"ASIN!F49836","v":0}]
[{"$f":"ASIN!A49837","v":0},{"$f":"ASIN!B49837","v":0},{"$f":"ASIN!C49837","v":0},{"$f":"ASIN!D49837","v":0},{"$f":"ASIN!E49837","v":0},{"$f":"ASIN!F49837","v":0}]
[{"$f":"ASIN!A49838","v":0},{"$f":"ASIN!B49838","v":0},{"$f":"ASIN!C49838","v":0},{"$f":"ASIN!D49838","v":0},{"$f":"ASIN!E49838","v":0},{"$f":"ASIN!F49838","v":0}]
[{"$f":"ASIN!A49839","v":0},{"$f":"ASIN!B49839","v":0},{"$f":"ASIN!C49839","v":0},{"$f":"ASIN!D49839","v":0},{"$f":"ASIN!E49839","v":0},{"$f":"ASIN!F49839","v":0}]
[{"$f":"ASIN!A49840","v":0},{"$f":"ASIN!B49840","v":0},{"$f":"ASIN!C49840","v":0},{"$f":"ASIN!D49840","v":0},{"$f":"ASIN!E49840","v":0},{"$f":"ASIN!F49840","v":0}]
[{"$f":"ASIN!A49841","v":0},{"$f":"ASIN!B49841","v":0},{"$f":"ASIN!C49841","v":0},{"$f":"ASIN!D49841","v":0},{"$f":"ASIN!E49841","v":0},{"$f":"ASIN!F49841","v":0}]
[{"$f":"ASIN!A49842","v":0},{"$f":"ASIN!B49842","v":0},{"$f":"ASIN!C49842","v":0},{"$f":"ASIN!D49842","v":0},{"$f":"ASIN!E49842","v":0},{"$f":"ASIN!F49842","v":0}]
[{"$f":"ASIN!A49843","v":0},{"$f":"ASIN!B49843","v":0},{"$f":"ASIN!C49843","v":0},{"$f":"ASIN!D49843","v":0},{"$f":"ASIN!E49843","v":0},{"$f":"ASIN!F49843","v":0}]
[{"$f":"ASIN!A49844","v":0},{"$f":"ASIN!B49844","v":0},{"$f":"ASIN!C49844","v":0},{"$f":"ASIN!D49844","v":0},{"$f":"ASIN!E49844","v":0},{"$f":"ASIN!F49844","v":0}]
[{"$f":"ASIN!A49845","v":0},{"$f":"ASIN!B49845","v":0},{"$f":"ASIN!C49845","v":0},{"$f":"ASIN!D49845","v":0},{"$f":"ASIN!E49845","v":0},{"$f":"ASIN!F49845","v":0}]
[{"$f":"ASIN!A49846","v":0},{"$f":"ASIN!B49846","v":0},{"$f":"ASIN!C49846","v":0},{"$f":"ASIN!D49846","v":0},{"$f":"ASIN!E49846","v":0},{"$f":"ASIN!F49846","v":0}]
[{"$f":"ASIN!A49847","v":0},{"$f":"ASIN!B49847","v":0},{"$f":"ASIN!C49847","v":0},{"$f":"ASIN!D49847","v":0},{"$f":"ASIN!E49847","v":0},{"$f":"ASIN!F49847","v":0}]
[{"$f":"ASIN!A49848","v":0},{"$f":"ASIN!B49848","v":0},{"$f":"ASIN!C49848","v":0},{"$f":"ASIN!D49848","v":0},{"$f":"ASIN!E49848","v":0},{"$f":"ASIN!F49848","v":0}]
[{"$f":"ASIN!A49849","v":0},{"$f":"ASIN!B49849","v":0},{"$f":"ASIN!C49849","v":0},{"$f":"ASIN!D49849","v":0},{"$f":"ASIN!E49849","v":0},{"$f":"ASIN!F49849","v":0}]
[{"$f":"ASIN!A49850","v":0},{"$f":"ASIN!B49850","v":0},{"$f":"ASIN!C49850","v":0},{"$f":"ASIN!D49850","v":0},{"$f":"ASIN!E49850","v":0},{"$f":"ASIN!F49850","v":0}]
[{"$f":"ASIN!A49851","v":0},{"$f":"ASIN!B49851","v":0},{"$f":"ASIN!C49851","v":0},{"$f":"ASIN!D49851","v":0},{"$f":"ASIN!E49851","v":0},{"$f":"ASIN!F49851","v":0}]
[{"$f":"ASIN!A49852","v":0},{"$f":"ASIN!B49852","v":0},{"$f":"ASIN!C49852","v":0},{"$f":"ASIN!D49852","v":0},{"$f":"ASIN!E49852","v":0},{"$f":"ASIN!F49852","v":0}]
[{"$f":"ASIN!A49853","v":0},{"$f":"ASIN!B49853","v":0},{"$f":"ASIN!C49853","v":0},{"$f":"ASIN!D49853","v":0},{"$f":"ASIN!E49853","v":0},{"$f":"ASIN!F49853","v":0}]
[{"$f":"ASIN!A49854","v":0},{"$f":"ASIN!B49854","v":0},{"$f":"ASIN!C49854","v":0},{"$f":"ASIN!D49854","v":0},{"$f":"ASIN!E49854","v":0},{"$f":"ASIN!F49854","v":0}]
[{"$f":"ASIN!A49855","v":0},{"$f":"ASIN!B49855","v":0},{"$f":"ASIN!C49855","v":0},{"$f":"ASIN!D49855","v":0},{"$f":"ASIN!E49855","v":0},{"$f":"ASIN!F49855","v":0}]
[{"$f":"ASIN!A49856","v":0},{"$f":"ASIN!B49856","v":0},{"$f":"ASIN!C49856","v":0},{"$f":"ASIN!D49856","v":0},{"$f":"ASIN!E49856","v":0},{"$f":"ASIN!F49856","v":0}]
[{"$f":"ASIN!A49857","v":0},{"$f":"ASIN!B49857","v":0},{"$f":"ASIN!C49857","v":0},{"$f":"ASIN!D49857","v":0},{"$f":"ASIN!E49857","v":0},{"$f":"ASIN!F49857","v":0}]
[{"$f":"ASIN!A49858","v":0},{"$f":"ASIN!B49858","v":0},{"$f":"ASIN!C49858","v":0},{"$f":"ASIN!D49858","v":0},{"$f":"ASIN!E49858","v":0},{"$f":"ASIN!F49858","v":0}]
[{"$f":"ASIN!A49859","v":0},{"$f":"ASIN!B49859","v":0},{"$f":"ASIN!C49859","v":0},{"$f":"ASIN!D49859","v":0},{"$f":"ASIN!E49859","v":0},{"$f":"ASIN!F49859","v":0}]
[{"$f":"ASIN!A49860","v":0},{"$f":"ASIN!B49860","v":0},{"$f":"ASIN!C49860","v":0},{"$f":"ASIN!D49860","v":0},{"$f":"ASIN!E49860","v":0},{"$f":"ASIN!F49860","v":0}]
[{"$f":"ASIN!A49861","v":0},{"$f":"ASIN!B49861","v":0},{"$f":"ASIN!C49861","v":0},{"$f":"ASIN!D49861","v":0},{"$f":"ASIN!E49861","v":0},{"$f":"ASIN!F49861","v":0}]
[{"$f":"ASIN!A49862","v":0},{"$f":"ASIN!B49862","v":0},{"$f":"ASIN!C49862","v":0},{"$f":"ASIN!D49862","v":0},{"$f":"ASIN!E49862","v":0},{"$f":"ASIN!F49862","v":0}]
[{"$f":"ASIN!A49863","v":0},{"$f":"ASIN!B49863","v":0},{"$f":"ASIN!C49863","v":0},{"$f":"ASIN!D49863","v":0},{"$f":"ASIN!E49863","v":0},{"$f":"ASIN!F49863","v":0}]
[{"$f":"ASIN!A49864","v":0},{"$f":"ASIN!B49864","v":0},{"$f":"ASIN!C49864","v":0},{"$f":"ASIN!D49864","v":0},{"$f":"ASIN!E49864","v":0},{"$f":"ASIN!F49864","v":0}]
[{"$f":"ASIN!A49865","v":0},{"$f":"ASIN!B49865","v":0},{"$f":"ASIN!C49865","v":0},{"$f":"ASIN!D49865","v":0},{"$f":"ASIN!E49865","v":0},{"$f":"ASIN!F49865","v":0}]
[{"$f":"ASIN!A49866","v":0},{"$f":"ASIN!B49866","v":0},{"$f":"ASIN!C49866","v":0},{"$f":"ASIN!D49866","v":0},{"$f":"ASIN!E49866","v":0},{"$f":"ASIN!F49866","v":0}]
[{"$f":"ASIN!A49867","v":0},{"$f":"ASIN!B49867","v":0},{"$f":"ASIN!C49867","v":0},{"$f":"ASIN!D49867","v":0},{"$f":"ASIN!E49867","v":0},{"$f":"ASIN!F49867","v":0}]
[{"$f":"ASIN!A49868","v":0},{"$f":"ASIN!B49868","v":0},{"$f":"ASIN!C49868","v":0},{"$f":"ASIN!D49868","v":0},{"$f":"ASIN!E49868","v":0},{"$f":"ASIN!F49868","v":0}]
[{"$f":"ASIN!A49869","v":0},{"$f":"ASIN!B49869","v":0},{"$f":"ASIN!C49869","v":0},{"$f":"ASIN!D49869","v":0},{"$f":"ASIN!E49869","v":0},{"$f":"ASIN!F49869","v":0}]
[{"$f":"ASIN!A49870","v":0},{"$f":"ASIN!B49870","v":0},{"$f":"ASIN!C49870","v":0},{"$f":"ASIN!D49870","v":0},{"$f":"ASIN!E49870","v":0},{"$f":"ASIN!F49870","v":0}]
[{"$f":"ASIN!A49871","v":0},{"$f":"ASIN!B49871","v":0},{"$f":"ASIN!C49871","v":0},{"$f":"ASIN!D49871","v":0},{"$f":"ASIN!E49871","v":0},{"$f":"ASIN!F49871","v":0}]
[{"$f":"ASIN!A49872","v":0},{"$f":"ASIN!B49872","v":0},{"$f":"ASIN!C49872","v":0},{"$f":"ASIN!D49872","v":0},{"$f":"ASIN!E49872","v":0},{"$f":"ASIN!F49872","v":0}]
[{"$f":"ASIN!A49873","v":0},{"$f":"ASIN!B49873","v":0},{"$f":"ASIN!C49873","v":0},{"$f":"ASIN!D49873","v":0},{"$f":"ASIN!E49873","v":0},{"$f":"ASIN!F49873","v":0}]
[{"$f":"ASIN!A49874","v":0},{"$f":"ASIN!B49874","v":0},{"$f":"ASIN!C49874","v":0},{"$f":"ASIN!D49874","v":0},{"$f":"ASIN!E49874","v":0},{"$f":"ASIN!F49874","v":0}]
[{"$f":"ASIN!A49875","v":0},{"$f":"ASIN!B49875","v":0},{"$f":"ASIN!C49875","v":0},{"$f":"ASIN!D49875","v":0},{"$f":"ASIN!E49875","v":0},{"$f":"ASIN!F49875","v":0}]
[{"$f":"ASIN!A49876","v":0},{"$f":"ASIN!B49876","v":0},{"$f":"ASIN!C49876","v":0},{"$f":"ASIN!D49876","v":0},{"$f":"ASIN!E49876","v":0},{"$f":"ASIN!F49876","v":0}]
[{"$f":"ASIN!A49877","v":0},{"$f":"ASIN!B49877","v":0},{"$f":"ASIN!C49877","v":0},{"$f":"ASIN!D49877","v":0},{"$f":"ASIN!E49877","v":0},{"$f":"ASIN!F49877","v":0}]
[{"$f":"ASIN!A49878","v":0},{"$f":"ASIN!B49878","v":0},{"$f":"ASIN!C49878","v":0},{"$f":"ASIN!D49878","v":0},{"$f":"ASIN!E49878","v":0},{"$f":"ASIN!F49878","v":0}]
[{"$f":"ASIN!A49879","v":0},{"$f":"ASIN!B49879","v":0},{"$f":"ASIN!C49879","v":0},{"$f":"ASIN!D49879","v":0},{"$f":"ASIN!E49879","v":0},{"$f":"ASIN!F49879","v":0}]
[{"$f":"ASIN!A49880","v":0},{"$f":"ASIN!B49880","v":0},{"$f":"ASIN!C49880","v":0},{"$f":"ASIN!D49880","v":0},{"$f":"ASIN!E49880","v":0},{"$f":"ASIN!F49880","v":0}]
[{"$f":"ASIN!A49881","v":0},{"$f":"ASIN!B49881","v":0},{"$f":"ASIN!C49881","v":0},{"$f":"ASIN!D49881","v":0},{"$f":"ASIN!E49881","v":0},{"$f":"ASIN!F49881","v":0}]
[{"$f":"ASIN!A49882","v":0},{"$f":"ASIN!B49882","v":0},{"$f":"ASIN!C49882","v":0},{"$f":"ASIN!D49882","v":0},{"$f":"ASIN!E49882","v":0},{"$f":"ASIN!F49882","v":0}]
[{"$f":"ASIN!A49883","v":0},{"$f":"ASIN!B49883","v":0},{"$f":"ASIN!C49883","v":0},{"$f":"ASIN!D49883","v":0},{"$f":"ASIN!E49883","v":0},{"$f":"ASIN!F49883","v":0}]
[{"$f":"ASIN!A49884","v":0},{"$f":"ASIN!B49884","v":0},{"$f":"ASIN!C49884","v":0},{"$f":"ASIN!D49884","v":0},{"$f":"ASIN!E49884","v":0},{"$f":"ASIN!F49884","v":0}]
[{"$f":"ASIN!A49885","v":0},{"$f":"ASIN!B49885","v":0},{"$f":"ASIN!C49885","v":0},{"$f":"ASIN!D49885","v":0},{"$f":"ASIN!E49885","v":0},{"$f":"ASIN!F49885","v":0}]
[{"$f":"ASIN!A49886","v":0},{"$f":"ASIN!B49886","v":0},{"$f":"ASIN!C49886","v":0},{"$f":"ASIN!D49886","v":0},{"$f":"ASIN!E49886","v":0},{"$f":"ASIN!F49886","v":0}]
[{"$f":"ASIN!A49887","v":0},{"$f":"ASIN!B49887","v":0},{"$f":"ASIN!C49887","v":0},{"$f":"ASIN!D49887","v":0},{"$f":"ASIN!E49887","v":0},{"$f":"ASIN!F49887","v":0}]
[{"$f":"ASIN!A49888","v":0},{"$f":"ASIN!B49888","v":0},{"$f":"ASIN!C49888","v":0},{"$f":"ASIN!D49888","v":0},{"$f":"ASIN!E49888","v":0},{"$f":"ASIN!F49888","v":0}]
[{"$f":"ASIN!A49889","v":0},{"$f":"ASIN!B49889","v":0},{"$f":"ASIN!C49889","v":0},{"$f":"ASIN!D49889","v":0},{"$f":"ASIN!E49889","v":0},{"$f":"ASIN!F49889","v":0}]
[{"$f":"ASIN!A49890","v":0},{"$f":"ASIN!B49890","v":0},{"$f":"ASIN!C49890","v":0},{"$f":"ASIN!D49890","v":0},{"$f":"ASIN!E49890","v":0},{"$f":"ASIN!F49890","v":0}]
[{"$f":"ASIN!A49891","v":0},{"$f":"ASIN!B49891","v":0},{"$f":"ASIN!C49891","v":0},{"$f":"ASIN!D49891","v":0},{"$f":"ASIN!E49891","v":0},{"$f":"ASIN!F49891","v":0}]
[{"$f":"ASIN!A49892","v":0},{"$f":"ASIN!B49892","v":0},{"$f":"ASIN!C49892","v":0},{"$f":"ASIN!D49892","v":0},{"$f":"ASIN!E49892","v":0},{"$f":"ASIN!F49892","v":0}]
[{"$f":"ASIN!A49893","v":0},{"$f":"ASIN!B49893","v":0},{"$f":"ASIN!C49893","v":0},{"$f":"ASIN!D49893","v":0},{"$f":"ASIN!E49893","v":0},{"$f":"ASIN!F49893","v":0}]
[{"$f":"ASIN!A49894","v":0},{"$f":"ASIN!B49894","v":0},{"$f":"ASIN!C49894","v":0},{"$f":"ASIN!D49894","v":0},{"$f":"ASIN!E49894","v":0},{"$f":"ASIN!F49894","v":0}]
[{"$f":"ASIN!A49895","v":0},{"$f":"ASIN!B49895","v":0},{"$f":"ASIN!C49895","v":0},{"$f":"ASIN!D49895","v":0},{"$f":"ASIN!E49895","v":0},{"$f":"ASIN!F49895","v":0}]
[{"$f":"ASIN!A49896","v":0},{"$f":"ASIN!B49896","v":0},{"$f":"ASIN!C49896","v":0},{"$f":"ASIN!D49896","v":0},{"$f":"ASIN!E49896","v":0},{"$f":"ASIN!F49896","v":0}]
[{"$f":"ASIN!A49897","v":0},{"$f":"ASIN!B49897","v":0},{"$f":"ASIN!C49897","v":0},{"$f":"ASIN!D49897","v":0},{"$f":"ASIN!E49897","v":0},{"$f":"ASIN!F49897","v":0}]
[{"$f":"ASIN!A49898","v":0},{"$f":"ASIN!B49898","v":0},{"$f":"ASIN!C49898","v":0},{"$f":"ASIN!D49898","v":0},{"$f":"ASIN!E49898","v":0},{"$f":"ASIN!F49898","v":0}]
[{"$f":"ASIN!A49899","v":0},{"$f":"ASIN!B49899","v":0},{"$f":"ASIN!C49899","v":0},{"$f":"ASIN!D49899","v":0},{"$f":"ASIN!E49899","v":0},{"$f":"ASIN!F49899","v":0}]
[{"$f":"ASIN!A49900","v":0},{"$f":"ASIN!B49900","v":0},{"$f":"ASIN!C49900","v":0},{"$f":"ASIN!D49900","v":0},{"$f":"ASIN!E49900","v":0},{"$f":"ASIN!F49900","v":0}]
[{"$f":"ASIN!A49901","v":0},{"$f":"ASIN!B49901","v":0},{"$f":"ASIN!C49901","v":0},{"$f":"ASIN!D49901","v":0},{"$f":"ASIN!E49901","v":0},{"$f":"ASIN!F49901","v":0}]
[{"$f":"ASIN!A49902","v":0},{"$f":"ASIN!B49902","v":0},{"$f":"ASIN!C49902","v":0},{"$f":"ASIN!D49902","v":0},{"$f":"ASIN!E49902","v":0},{"$f":"ASIN!F49902","v":0}]
[{"$f":"ASIN!A49903","v":0},{"$f":"ASIN!B49903","v":0},{"$f":"ASIN!C49903","v":0},{"$f":"ASIN!D49903","v":0},{"$f":"ASIN!E49903","v":0},{"$f":"ASIN!F49903","v":0}]
[{"$f":"ASIN!A49904","v":0},{"$f":"ASIN!B49904","v":0},{"$f":"ASIN!C49904","v":0},{"$f":"ASIN!D49904","v":0},{"$f":"ASIN!E49904","v":0},{"$f":"ASIN!F49904","v":0}]
[{"$f":"ASIN!A49905","v":0},{"$f":"ASIN!B49905","v":0},{"$f":"ASIN!C49905","v":0},{"$f":"ASIN!D49905","v":0},{"$f":"ASIN!E49905","v":0},{"$f":"ASIN!F49905","v":0}]
[{"$f":"ASIN!A49906","v":0},{"$f":"ASIN!B49906","v":0},{"$f":"ASIN!C49906","v":0},{"$f":"ASIN!D49906","v":0},{"$f":"ASIN!E49906","v":0},{"$f":"ASIN!F49906","v":0}]
[{"$f":"ASIN!A49907","v":0},{"$f":"ASIN!B49907","v":0},{"$f":"ASIN!C49907","v":0},{"$f":"ASIN!D49907","v":0},{"$f":"ASIN!E49907","v":0},{"$f":"ASIN!F49907","v":0}]
[{"$f":"ASIN!A49908","v":0},{"$f":"ASIN!B49908","v":0},{"$f":"ASIN!C49908","v":0},{"$f":"ASIN!D49908","v":0},{"$f":"ASIN!E49908","v":0},{"$f":"ASIN!F49908","v":0}]
[{"$f":"ASIN!A49909","v":0},{"$f":"ASIN!B49909","v":0},{"$f":"ASIN!C49909","v":0},{"$f":"ASIN!D49909","v":0},{"$f":"ASIN!E49909","v":0},{"$f":"ASIN!F49909","v":0}]
[{"$f":"ASIN!A49910","v":0},{"$f":"ASIN!B49910","v":0},{"$f":"ASIN!C49910","v":0},{"$f":"ASIN!D49910","v":0},{"$f":"ASIN!E49910","v":0},{"$f":"ASIN!F49910","v":0}]
[{"$f":"ASIN!A49911","v":0},{"$f":"ASIN!B49911","v":0},{"$f":"ASIN!C49911","v":0},{"$f":"ASIN!D49911","v":0},{"$f":"ASIN!E49911","v":0},{"$f":"ASIN!F49911","v":0}]
[{"$f":"ASIN!A49912","v":0},{"$f":"ASIN!B49912","v":0},{"$f":"ASIN!C49912","v":0},{"$f":"ASIN!D49912","v":0},{"$f":"ASIN!E49912","v":0},{"$f":"ASIN!F49912","v":0}]
[{"$f":"ASIN!A49913","v":0},{"$f":"ASIN!B49913","v":0},{"$f":"ASIN!C49913","v":0},{"$f":"ASIN!D49913","v":0},{"$f":"ASIN!E49913","v":0},{"$f":"ASIN!F49913","v":0}]
[{"$f":"ASIN!A49914","v":0},{"$f":"ASIN!B49914","v":0},{"$f":"ASIN!C49914","v":0},{"$f":"ASIN!D49914","v":0},{"$f":"ASIN!E49914","v":0},{"$f":"ASIN!F49914","v":0}]
[{"$f":"ASIN!A49915","v":0},{"$f":"ASIN!B49915","v":0},{"$f":"ASIN!C49915","v":0},{"$f":"ASIN!D49915","v":0},{"$f":"ASIN!E49915","v":0},{"$f":"ASIN!F49915","v":0}]
[{"$f":"ASIN!A49916","v":0},{"$f":"ASIN!B49916","v":0},{"$f":"ASIN!C49916","v":0},{"$f":"ASIN!D49916","v":0},{"$f":"ASIN!E49916","v":0},{"$f":"ASIN!F49916","v":0}]
[{"$f":"ASIN!A49917","v":0},{"$f":"ASIN!B49917","v":0},{"$f":"ASIN!C49917","v":0},{"$f":"ASIN!D49917","v":0},{"$f":"ASIN!E49917","v":0},{"$f":"ASIN!F49917","v":0}]
[{"$f":"ASIN!A49918","v":0},{"$f":"ASIN!B49918","v":0},{"$f":"ASIN!C49918","v":0},{"$f":"ASIN!D49918","v":0},{"$f":"ASIN!E49918","v":0},{"$f":"ASIN!F49918","v":0}]
[{"$f":"ASIN!A49919","v":0},{"$f":"ASIN!B49919","v":0},{"$f":"ASIN!C49919","v":0},{"$f":"ASIN!D49919","v":0},{"$f":"ASIN!E49919","v":0},{"$f":"ASIN!F49919","v":0}]
[{"$f":"ASIN!A49920","v":0},{"$f":"ASIN!B49920","v":0},{"$f":"ASIN!C49920","v":0},{"$f":"ASIN!D49920","v":0},{"$f":"ASIN!E49920","v":0},{"$f":"ASIN!F49920","v":0}]
[{"$f":"ASIN!A49921","v":0},{"$f":"ASIN!B49921","v":0},{"$f":"ASIN!C49921","v":0},{"$f":"ASIN!D49921","v":0},{"$f":"ASIN!E49921","v":0},{"$f":"ASIN!F49921","v":0}]
[{"$f":"ASIN!A49922","v":0},{"$f":"ASIN!B49922","v":0},{"$f":"ASIN!C49922","v":0},{"$f":"ASIN!D49922","v":0},{"$f":"ASIN!E49922","v":0},{"$f":"ASIN!F49922","v":0}]
[{"$f":"ASIN!A49923","v":0},{"$f":"ASIN!B49923","v":0},{"$f":"ASIN!C49923","v":0},{"$f":"ASIN!D49923","v":0},{"$f":"ASIN!E49923","v":0},{"$f":"ASIN!F49923","v":0}]
[{"$f":"ASIN!A49924","v":0},{"$f":"ASIN!B49924","v":0},{"$f":"ASIN!C49924","v":0},{"$f":"ASIN!D49924","v":0},{"$f":"ASIN!E49924","v":0},{"$f":"ASIN!F49924","v":0}]
[{"$f":"ASIN!A49925","v":0},{"$f":"ASIN!B49925","v":0},{"$f":"ASIN!C49925","v":0},{"$f":"ASIN!D49925","v":0},{"$f":"ASIN!E49925","v":0},{"$f":"ASIN!F49925","v":0}]
[{"$f":"ASIN!A49926","v":0},{"$f":"ASIN!B49926","v":0},{"$f":"ASIN!C49926","v":0},{"$f":"ASIN!D49926","v":0},{"$f":"ASIN!E49926","v":0},{"$f":"ASIN!F49926","v":0}]
[{"$f":"ASIN!A49927","v":0},{"$f":"ASIN!B49927","v":0},{"$f":"ASIN!C49927","v":0},{"$f":"ASIN!D49927","v":0},{"$f":"ASIN!E49927","v":0},{"$f":"ASIN!F49927","v":0}]
[{"$f":"ASIN!A49928","v":0},{"$f":"ASIN!B49928","v":0},{"$f":"ASIN!C49928","v":0},{"$f":"ASIN!D49928","v":0},{"$f":"ASIN!E49928","v":0},{"$f":"ASIN!F49928","v":0}]
[{"$f":"ASIN!A49929","v":0},{"$f":"ASIN!B49929","v":0},{"$f":"ASIN!C49929","v":0},{"$f":"ASIN!D49929","v":0},{"$f":"ASIN!E49929","v":0},{"$f":"ASIN!F49929","v":0}]
[{"$f":"ASIN!A49930","v":0},{"$f":"ASIN!B49930","v":0},{"$f":"ASIN!C49930","v":0},{"$f":"ASIN!D49930","v":0},{"$f":"ASIN!E49930","v":0},{"$f":"ASIN!F49930","v":0}]
[{"$f":"ASIN!A49931","v":0},{"$f":"ASIN!B49931","v":0},{"$f":"ASIN!C49931","v":0},{"$f":"ASIN!D49931","v":0},{"$f":"ASIN!E49931","v":0},{"$f":"ASIN!F49931","v":0}]
[{"$f":"ASIN!A49932","v":0},{"$f":"ASIN!B49932","v":0},{"$f":"ASIN!C49932","v":0},{"$f":"ASIN!D49932","v":0},{"$f":"ASIN!E49932","v":0},{"$f":"ASIN!F49932","v":0}]
[{"$f":"ASIN!A49933","v":0},{"$f":"ASIN!B49933","v":0},{"$f":"ASIN!C49933","v":0},{"$f":"ASIN!D49933","v":0},{"$f":"ASIN!E49933","v":0},{"$f":"ASIN!F49933","v":0}]
[{"$f":"ASIN!A49934","v":0},{"$f":"ASIN!B49934","v":0},{"$f":"ASIN!C49934","v":0},{"$f":"ASIN!D49934","v":0},{"$f":"ASIN!E49934","v":0},{"$f":"ASIN!F49934","v":0}]
[{"$f":"ASIN!A49935","v":0},{"$f":"ASIN!B49935","v":0},{"$f":"ASIN!C49935","v":0},{"$f":"ASIN!D49935","v":0},{"$f":"ASIN!E49935","v":0},{"$f":"ASIN!F49935","v":0}]
[{"$f":"ASIN!A49936","v":0},{"$f":"ASIN!B49936","v":0},{"$f":"ASIN!C49936","v":0},{"$f":"ASIN!D49936","v":0},{"$f":"ASIN!E49936","v":0},{"$f":"ASIN!F49936","v":0}]
[{"$f":"ASIN!A49937","v":0},{"$f":"ASIN!B49937","v":0},{"$f":"ASIN!C49937","v":0},{"$f":"ASIN!D49937","v":0},{"$f":"ASIN!E49937","v":0},{"$f":"ASIN!F49937","v":0}]
[{"$f":"ASIN!A49938","v":0},{"$f":"ASIN!B49938","v":0},{"$f":"ASIN!C49938","v":0},{"$f":"ASIN!D49938","v":0},{"$f":"ASIN!E49938","v":0},{"$f":"ASIN!F49938","v":0}]
[{"$f":"ASIN!A49939","v":0},{"$f":"ASIN!B49939","v":0},{"$f":"ASIN!C49939","v":0},{"$f":"ASIN!D49939","v":0},{"$f":"ASIN!E49939","v":0},{"$f":"ASIN!F49939","v":0}]
[{"$f":"ASIN!A49940","v":0},{"$f":"ASIN!B49940","v":0},{"$f":"ASIN!C49940","v":0},{"$f":"ASIN!D49940","v":0},{"$f":"ASIN!E49940","v":0},{"$f":"ASIN!F49940","v":0}]
[{"$f":"ASIN!A49941","v":0},{"$f":"ASIN!B49941","v":0},{"$f":"ASIN!C49941","v":0},{"$f":"ASIN!D49941","v":0},{"$f":"ASIN!E49941","v":0},{"$f":"ASIN!F49941","v":0}]
[{"$f":"ASIN!A49942","v":0},{"$f":"ASIN!B49942","v":0},{"$f":"ASIN!C49942","v":0},{"$f":"ASIN!D49942","v":0},{"$f":"ASIN!E49942","v":0},{"$f":"ASIN!F49942","v":0}]
[{"$f":"ASIN!A49943","v":0},{"$f":"ASIN!B49943","v":0},{"$f":"ASIN!C49943","v":0},{"$f":"ASIN!D49943","v":0},{"$f":"ASIN!E49943","v":0},{"$f":"ASIN!F49943","v":0}]
[{"$f":"ASIN!A49944","v":0},{"$f":"ASIN!B49944","v":0},{"$f":"ASIN!C49944","v":0},{"$f":"ASIN!D49944","v":0},{"$f":"ASIN!E49944","v":0},{"$f":"ASIN!F49944","v":0}]
[{"$f":"ASIN!A49945","v":0},{"$f":"ASIN!B49945","v":0},{"$f":"ASIN!C49945","v":0},{"$f":"ASIN!D49945","v":0},{"$f":"ASIN!E49945","v":0},{"$f":"ASIN!F49945","v":0}]
[{"$f":"ASIN!A49946","v":0},{"$f":"ASIN!B49946","v":0},{"$f":"ASIN!C49946","v":0},{"$f":"ASIN!D49946","v":0},{"$f":"ASIN!E49946","v":0},{"$f":"ASIN!F49946","v":0}]
[{"$f":"ASIN!A49947","v":0},{"$f":"ASIN!B49947","v":0},{"$f":"ASIN!C49947","v":0},{"$f":"ASIN!D49947","v":0},{"$f":"ASIN!E49947","v":0},{"$f":"ASIN!F49947","v":0}]
[{"$f":"ASIN!A49948","v":0},{"$f":"ASIN!B49948","v":0},{"$f":"ASIN!C49948","v":0},{"$f":"ASIN!D49948","v":0},{"$f":"ASIN!E49948","v":0},{"$f":"ASIN!F49948","v":0}]
[{"$f":"ASIN!A49949","v":0},{"$f":"ASIN!B49949","v":0},{"$f":"ASIN!C49949","v":0},{"$f":"ASIN!D49949","v":0},{"$f":"ASIN!E49949","v":0},{"$f":"ASIN!F49949","v":0}]
[{"$f":"ASIN!A49950","v":0},{"$f":"ASIN!B49950","v":0},{"$f":"ASIN!C49950","v":0},{"$f":"ASIN!D49950","v":0},{"$f":"ASIN!E49950","v":0},{"$f":"ASIN!F49950","v":0}]
[{"$f":"ASIN!A49951","v":0},{"$f":"ASIN!B49951","v":0},{"$f":"ASIN!C49951","v":0},{"$f":"ASIN!D49951","v":0},{"$f":"ASIN!E49951","v":0},{"$f":"ASIN!F49951","v":0}]
[{"$f":"ASIN!A49952","v":0},{"$f":"ASIN!B49952","v":0},{"$f":"ASIN!C49952","v":0},{"$f":"ASIN!D49952","v":0},{"$f":"ASIN!E49952","v":0},{"$f":"ASIN!F49952","v":0}]
[{"$f":"ASIN!A49953","v":0},{"$f":"ASIN!B49953","v":0},{"$f":"ASIN!C49953","v":0},{"$f":"ASIN!D49953","v":0},{"$f":"ASIN!E49953","v":0},{"$f":"ASIN!F49953","v":0}]
[{"$f":"ASIN!A49954","v":0},{"$f":"ASIN!B49954","v":0},{"$f":"ASIN!C49954","v":0},{"$f":"ASIN!D49954","v":0},{"$f":"ASIN!E49954","v":0},{"$f":"ASIN!F49954","v":0}]
[{"$f":"ASIN!A49955","v":0},{"$f":"ASIN!B49955","v":0},{"$f":"ASIN!C49955","v":0},{"$f":"ASIN!D49955","v":0},{"$f":"ASIN!E49955","v":0},{"$f":"ASIN!F49955","v":0}]
[{"$f":"ASIN!A49956","v":0},{"$f":"ASIN!B49956","v":0},{"$f":"ASIN!C49956","v":0},{"$f":"ASIN!D49956","v":0},{"$f":"ASIN!E49956","v":0},{"$f":"ASIN!F49956","v":0}]
[{"$f":"ASIN!A49957","v":0},{"$f":"ASIN!B49957","v":0},{"$f":"ASIN!C49957","v":0},{"$f":"ASIN!D49957","v":0},{"$f":"ASIN!E49957","v":0},{"$f":"ASIN!F49957","v":0}]
[{"$f":"ASIN!A49958","v":0},{"$f":"ASIN!B49958","v":0},{"$f":"ASIN!C49958","v":0},{"$f":"ASIN!D49958","v":0},{"$f":"ASIN!E49958","v":0},{"$f":"ASIN!F49958","v":0}]
[{"$f":"ASIN!A49959","v":0},{"$f":"ASIN!B49959","v":0},{"$f":"ASIN!C49959","v":0},{"$f":"ASIN!D49959","v":0},{"$f":"ASIN!E49959","v":0},{"$f":"ASIN!F49959","v":0}]
[{"$f":"ASIN!A49960","v":0},{"$f":"ASIN!B49960","v":0},{"$f":"ASIN!C49960","v":0},{"$f":"ASIN!D49960","v":0},{"$f":"ASIN!E49960","v":0},{"$f":"ASIN!F49960","v":0}]
[{"$f":"ASIN!A49961","v":0},{"$f":"ASIN!B49961","v":0},{"$f":"ASIN!C49961","v":0},{"$f":"ASIN!D49961","v":0},{"$f":"ASIN!E49961","v":0},{"$f":"ASIN!F49961","v":0}]
[{"$f":"ASIN!A49962","v":0},{"$f":"ASIN!B49962","v":0},{"$f":"ASIN!C49962","v":0},{"$f":"ASIN!D49962","v":0},{"$f":"ASIN!E49962","v":0},{"$f":"ASIN!F49962","v":0}]
[{"$f":"ASIN!A49963","v":0},{"$f":"ASIN!B49963","v":0},{"$f":"ASIN!C49963","v":0},{"$f":"ASIN!D49963","v":0},{"$f":"ASIN!E49963","v":0},{"$f":"ASIN!F49963","v":0}]
[{"$f":"ASIN!A49964","v":0},{"$f":"ASIN!B49964","v":0},{"$f":"ASIN!C49964","v":0},{"$f":"ASIN!D49964","v":0},{"$f":"ASIN!E49964","v":0},{"$f":"ASIN!F49964","v":0}]
[{"$f":"ASIN!A49965","v":0},{"$f":"ASIN!B49965","v":0},{"$f":"ASIN!C49965","v":0},{"$f":"ASIN!D49965","v":0},{"$f":"ASIN!E49965","v":0},{"$f":"ASIN!F49965","v":0}]
[{"$f":"ASIN!A49966","v":0},{"$f":"ASIN!B49966","v":0},{"$f":"ASIN!C49966","v":0},{"$f":"ASIN!D49966","v":0},{"$f":"ASIN!E49966","v":0},{"$f":"ASIN!F49966","v":0}]
[{"$f":"ASIN!A49967","v":0},{"$f":"ASIN!B49967","v":0},{"$f":"ASIN!C49967","v":0},{"$f":"ASIN!D49967","v":0},{"$f":"ASIN!E49967","v":0},{"$f":"ASIN!F49967","v":0}]
[{"$f":"ASIN!A49968","v":0},{"$f":"ASIN!B49968","v":0},{"$f":"ASIN!C49968","v":0},{"$f":"ASIN!D49968","v":0},{"$f":"ASIN!E49968","v":0},{"$f":"ASIN!F49968","v":0}]
[{"$f":"ASIN!A49969","v":0},{"$f":"ASIN!B49969","v":0},{"$f":"ASIN!C49969","v":0},{"$f":"ASIN!D49969","v":0},{"$f":"ASIN!E49969","v":0},{"$f":"ASIN!F49969","v":0}]
[{"$f":"ASIN!A49970","v":0},{"$f":"ASIN!B49970","v":0},{"$f":"ASIN!C49970","v":0},{"$f":"ASIN!D49970","v":0},{"$f":"ASIN!E49970","v":0},{"$f":"ASIN!F49970","v":0}]
[{"$f":"ASIN!A49971","v":0},{"$f":"ASIN!B49971","v":0},{"$f":"ASIN!C49971","v":0},{"$f":"ASIN!D49971","v":0},{"$f":"ASIN!E49971","v":0},{"$f":"ASIN!F49971","v":0}]
[{"$f":"ASIN!A49972","v":0},{"$f":"ASIN!B49972","v":0},{"$f":"ASIN!C49972","v":0},{"$f":"ASIN!D49972","v":0},{"$f":"ASIN!E49972","v":0},{"$f":"ASIN!F49972","v":0}]
[{"$f":"ASIN!A49973","v":0},{"$f":"ASIN!B49973","v":0},{"$f":"ASIN!C49973","v":0},{"$f":"ASIN!D49973","v":0},{"$f":"ASIN!E49973","v":0},{"$f":"ASIN!F49973","v":0}]
[{"$f":"ASIN!A49974","v":0},{"$f":"ASIN!B49974","v":0},{"$f":"ASIN!C49974","v":0},{"$f":"ASIN!D49974","v":0},{"$f":"ASIN!E49974","v":0},{"$f":"ASIN!F49974","v":0}]
[{"$f":"ASIN!A49975","v":0},{"$f":"ASIN!B49975","v":0},{"$f":"ASIN!C49975","v":0},{"$f":"ASIN!D49975","v":0},{"$f":"ASIN!E49975","v":0},{"$f":"ASIN!F49975","v":0}]
[{"$f":"ASIN!A49976","v":0},{"$f":"ASIN!B49976","v":0},{"$f":"ASIN!C49976","v":0},{"$f":"ASIN!D49976","v":0},{"$f":"ASIN!E49976","v":0},{"$f":"ASIN!F49976","v":0}]
[{"$f":"ASIN!A49977","v":0},{"$f":"ASIN!B49977","v":0},{"$f":"ASIN!C49977","v":0},{"$f":"ASIN!D49977","v":0},{"$f":"ASIN!E49977","v":0},{"$f":"ASIN!F49977","v":0}]
[{"$f":"ASIN!A49978","v":0},{"$f":"ASIN!B49978","v":0},{"$f":"ASIN!C49978","v":0},{"$f":"ASIN!D49978","v":0},{"$f":"ASIN!E49978","v":0},{"$f":"ASIN!F49978","v":0}]
[{"$f":"ASIN!A49979","v":0},{"$f":"ASIN!B49979","v":0},{"$f":"ASIN!C49979","v":0},{"$f":"ASIN!D49979","v":0},{"$f":"ASIN!E49979","v":0},{"$f":"ASIN!F49979","v":0}]
[{"$f":"ASIN!A49980","v":0},{"$f":"ASIN!B49980","v":0},{"$f":"ASIN!C49980","v":0},{"$f":"ASIN!D49980","v":0},{"$f":"ASIN!E49980","v":0},{"$f":"ASIN!F49980","v":0}]
[{"$f":"ASIN!A49981","v":0},{"$f":"ASIN!B49981","v":0},{"$f":"ASIN!C49981","v":0},{"$f":"ASIN!D49981","v":0},{"$f":"ASIN!E49981","v":0},{"$f":"ASIN!F49981","v":0}]
[{"$f":"ASIN!A49982","v":0},{"$f":"ASIN!B49982","v":0},{"$f":"ASIN!C49982","v":0},{"$f":"ASIN!D49982","v":0},{"$f":"ASIN!E49982","v":0},{"$f":"ASIN!F49982","v":0}]
[{"$f":"ASIN!A49983","v":0},{"$f":"ASIN!B49983","v":0},{"$f":"ASIN!C49983","v":0},{"$f":"ASIN!D49983","v":0},{"$f":"ASIN!E49983","v":0},{"$f":"ASIN!F49983","v":0}]
[{"$f":"ASIN!A49984","v":0},{"$f":"ASIN!B49984","v":0},{"$f":"ASIN!C49984","v":0},{"$f":"ASIN!D49984","v":0},{"$f":"ASIN!E49984","v":0},{"$f":"ASIN!F49984","v":0}]
[{"$f":"ASIN!A49985","v":0},{"$f":"ASIN!B49985","v":0},{"$f":"ASIN!C49985","v":0},{"$f":"ASIN!D49985","v":0},{"$f":"ASIN!E49985","v":0},{"$f":"ASIN!F49985","v":0}]
[{"$f":"ASIN!A49986","v":0},{"$f":"ASIN!B49986","v":0},{"$f":"ASIN!C49986","v":0},{"$f":"ASIN!D49986","v":0},{"$f":"ASIN!E49986","v":0},{"$f":"ASIN!F49986","v":0}]
[{"$f":"ASIN!A49987","v":0},{"$f":"ASIN!B49987","v":0},{"$f":"ASIN!C49987","v":0},{"$f":"ASIN!D49987","v":0},{"$f":"ASIN!E49987","v":0},{"$f":"ASIN!F49987","v":0}]
[{"$f":"ASIN!A49988","v":0},{"$f":"ASIN!B49988","v":0},{"$f":"ASIN!C49988","v":0},{"$f":"ASIN!D49988","v":0},{"$f":"ASIN!E49988","v":0},{"$f":"ASIN!F49988","v":0}]
[{"$f":"ASIN!A49989","v":0},{"$f":"ASIN!B49989","v":0},{"$f":"ASIN!C49989","v":0},{"$f":"ASIN!D49989","v":0},{"$f":"ASIN!E49989","v":0},{"$f":"ASIN!F49989","v":0}]
[{"$f":"ASIN!A49990","v":0},{"$f":"ASIN!B49990","v":0},{"$f":"ASIN!C49990","v":0},{"$f":"ASIN!D49990","v":0},{"$f":"ASIN!E49990","v":0},{"$f":"ASIN!F49990","v":0}]
[{"$f":"ASIN!A49991","v":0},{"$f":"ASIN!B49991","v":0},{"$f":"ASIN!C49991","v":0},{"$f":"ASIN!D49991","v":0},{"$f":"ASIN!E49991","v":0},{"$f":"ASIN!F49991","v":0}]
[{"$f":"ASIN!A49992","v":0},{"$f":"ASIN!B49992","v":0},{"$f":"ASIN!C49992","v":0},{"$f":"ASIN!D49992","v":0},{"$f":"ASIN!E49992","v":0},{"$f":"ASIN!F49992","v":0}]
[{"$f":"ASIN!A49993","v":0},{"$f":"ASIN!B49993","v":0},{"$f":"ASIN!C49993","v":0},{"$f":"ASIN!D49993","v":0},{"$f":"ASIN!E49993","v":0},{"$f":"ASIN!F49993","v":0}]
[{"$f":"ASIN!A49994","v":0},{"$f":"ASIN!B49994","v":0},{"$f":"ASIN!C49994","v":0},{"$f":"ASIN!D49994","v":0},{"$f":"ASIN!E49994","v":0},{"$f":"ASIN!F49994","v":0}]
[{"$f":"ASIN!A49995","v":0},{"$f":"ASIN!B49995","v":0},{"$f":"ASIN!C49995","v":0},{"$f":"ASIN!D49995","v":0},{"$f":"ASIN!E49995","v":0},{"$f":"ASIN!F49995","v":0}]
[{"$f":"ASIN!A49996","v":0},{"$f":"ASIN!B49996","v":0},{"$f":"ASIN!C49996","v":0},{"$f":"ASIN!D49996","v":0},{"$f":"ASIN!E49996","v":0},{"$f":"ASIN!F49996","v":0}]
[{"$f":"ASIN!A49997","v":0},{"$f":"ASIN!B49997","v":0},{"$f":"ASIN!C49997","v":0},{"$f":"ASIN!D49997","v":0},{"$f":"ASIN!E49997","v":0},{"$f":"ASIN!F49997","v":0}]
[{"$f":"ASIN!A49998","v":0},{"$f":"ASIN!B49998","v":0},{"$f":"ASIN!C49998","v":0},{"$f":"ASIN!D49998","v":0},{"$f":"ASIN!E49998","v":0},{"$f":"ASIN!F49998","v":0}]
[{"$f":"ASIN!A49999","v":0},{"$f":"ASIN!B49999","v":0},{"$f":"ASIN!C49999","v":0},{"$f":"ASIN!D49999","v":0},{"$f":"ASIN!E49999","v":0},{"$f":"ASIN!F49999","v":0}]